{"text_format":"1","workbook":"xlsx","n_sheets":6,"sheets":["Заполнить","ГУП","Блок 1","Блок 2,3","Печать","Сводный"],"not_rendered":{"charts":0,"images":1,"macros":1,"external_links":0,"defined_names":17,"comments":0,"pivot_tables":0},"unopened":[],"bounds":{"document_bytes":16777216,"sheet_cells":100000,"rows_first":2000,"rows_last":500,"rows_between":2000,"halvings":0,"cell_chars":16384,"cell_head_chars":4096},"cells_cut":0,"cells_raw":0,"read":"whole","date_system":"1900"}

{"sheet":"Заполнить","index":0,"n_rows":53,"n_cols":28,"rows_kept":53,"cut":false,"hidden":false,"merged":[[48,2,51,3],[14,9,14,20],[19,19,19,20],[19,17,19,18],[19,9,19,10],[19,11,19,12],[19,13,19,14],[19,15,19,16],[48,4,51,4],[15,9,15,20],[16,9,16,20],[17,9,17,20],[22,9,22,20]]}
[null,null,null,null,"пример"]
[null,null,"Проректор по учебной работе","А. И. Сидоров","А. И. Сидоров"]
[null,null,"Факультет (полное название)",null,"Автотракторный"]
[null,null,"Факультет (аббревиатура)",".","АТ",null,null,null,null,null,null,null,null,null,null,null,null,null,null,null,null,null,null,"очная",null,1,".","формирование кол-ва курсов в ГУП"]
[null,null,"Декан факультета","."," Ю.В. Рождественский",null,null,null,null,null,null,null,null,null,null,null,null,null,null,null,null,null,null,"очно-заочная",null,null,".",{"$f":"IF(D35=1,1)+IF(D35=2,1)+IF(D35=3,1)+IF(D35=4,1)+IF(D35=5,1)+IF(D35=6,1)","v":1}]
[null,null,"Филиал (полностью). ",null,"Филиал государственного образовательного учреждения высшего профессионального образования \"Южно-Уральский государственный университет\" в г. Кыштыме",null,null,null,null,null,null,null,null,null,null,null,null,null,null,null,null,null,null,null,null,null,null,{"$f":"IF(D35=2,2,)+IF(D35=3,2,)+IF(D35=4,2,)+IF(D35=5,2,)+IF(D35=6,2,)","v":2}]
[null,null,"Директор филиала",null,"Б. В. Родионов",null,null,null,null,null,null,null,null,null,null,null,null,null,null,null,null,null,null,"академический бакалавриат",null,4,{"$f":"IF(Z7=3,\"по специальность: \",\"по направлению подготовки: \")","v":"по направлению подготовки: "},{"$f":"IF(D35=3,3,)+IF(D35=4,3,)+IF(D35=5,3,)+IF(D35=6,3,)","v":0}]
[null,null,null,null,null,null,null,null,null,null,null,null,null,null,null,null,null,null,null,null,null,null,null,"прикладной бакалавриат",null,null,null,{"$f":"IF(D35=4,4,)+IF(D35=5,4,)+IF(D35=6,4,)","v":0}]
[null,null,"Научно-методический совет по направлению",null,null,null,null,null,null,null,null,null,null,null,null,null,null,null,null,null,null,null,null,"специалитет",null,null,null,{"$f":"IF(D35=5,5,)+IF(D35=6,5,)","v":0}]
[null,null,"Председатель НМСН",null,null,null,null,null,null,null,null,null,null,null,null,null,null,null,null,null,null,null,null,"прикладная магистратура",null,null,null,{"$f":"IF(D35=6,6,)","v":0}]
[null,null,null,null,null,null,null,null,null,null,null,null,null,null,null,null,null,null,null,null,null,null,null,"академическая магистратура"]
[]
[null,null,null,null,null,null,null,null,null,null,null,null,null,null,null,null,null,null,null,null,null,null,null,"Профиль: ","бакалавра",62,{"$f":"INDEX(X13:X17,Z7,1)","v":"Магистерская программа: "}]
[null,null,null,null,null,null,null,null,null,null,null,null,null,null,null,null,null,null,null,null,null,null,null,"Профиль: ","бакалавра",62,{"$f":"INDEX(Y13:Y17,Z7,1)","v":"магистра"}]
[null,null,"Выпускающая кафедра (полное название)",".","Автомобили",null,null,null,null,"Распределение по семестрам, согласно ГУП",null,null,null,null,null,null,null,null,null,null,null,null,null,"Специализация: ","специалиста",65]
[null,null,"Выпускающая кафедра  (аббревиатура)",".","Автомобили",null,null,null,null,null,null,null,null,null,null,null,null,null,null,null,null,null,null,"Магистерская программа: ","магистра",68,"."]
[null,null,"Зав. кафедрой",".","Г.Д. Драгунов",null,null,null,null,"Если распределение недель теоретического обучения по семместрам",null,null,null,null,null,null,null,null,null,null,null,null,null,"Магистерская программа: ","магистра",68]
[null,null,"Базовая кафедра  (аббревиатура)",".",null,null,null,null,null,"выполнено не верно, поставьте нужные значения в \"серых\" полях"]
[null,null,"Руководитель магистерской программы",".",".И. Иванов"]
[null,null,"Квалификация","бакалавр ","бакалавр техники и технологии",null,null,null,null,"I курс",null,"II курс",null,"III курс",null,"IV курс",null,"V курс",null,"VI курс"]
[null,null,"Срок обучения","2 года, 0 мес.","4 года",null,null,null,null,1,2,3,4,5,6,7,8,9,10,9,10,null,null,"среднего общего образования",null,7,"."]
[null,null,"Форма обучения",{"$f":"INDEX(X4:X5,Z4,1)","v":"очная"},"выбрать из списка",null,null,null,null,{"$f":"J24","v":18},{"$f":"K24","v":18},18,12,22,30,22,30,22,30,22,30,null,null,"начального профессионального образования",null,null,"."]
[null,null,"На базе … ",{"$f":"INDEX(X21:X27,Z21,1)","v":"бакалавриата"},"выбрать из списка",null,null,null,null,"Недели, рассчитанные по ГУП",null,null,null,null,null,null,null,null,null,null,null,null,null,"среднего профессинального образования",null,null,"."]
[null,null,"Программа",{"$f":"INDEX(X7:X11,Z7,1)","v":"прикладная магистратура"},"выбрать из списка",null,null,null,null,{"$f":"IF(ГУП!B24<>0,COUNTBLANK(ГУП!C24:X24),0)","v":18},{"$f":"IF(ГУП!B24<>0,COUNTBLANK(ГУП!Y24:BB24),0)","v":18},{"$f":"IF(ГУП!B25<>0,COUNTBLANK(ГУП!C25:X25),0)","v":18},{"$f":"IF(ГУП!B25<>0,COUNTBLANK(ГУП!Y25:BB25),0)","v":12},{"$f":"IF(ГУП!B26<>0,COUNTBLANK(ГУП!C26:X26),0)","v":22},{"$f":"IF(ГУП!B26<>0,COUNTBLANK(ГУП!Y26:BB26),0)","v":30},{"$f":"IF(ГУП!B27<>0,COUNTBLANK(ГУП!C27:X27),0)","v":22},{"$f":"IF(ГУП!B27<>0,COUNTBLANK(ГУП!Y27:BB27),0)","v":30},{"$f":"IF(ГУП!B28<>0,COUNTBLANK(ГУП!C28:X28),0)","v":22},{"$f":"IF(ГУП!B28<>0,COUNTBLANK(ГУП!Y28:BB28),0)","v":30},{"$f":"IF(ГУП!B29<>0,COUNTBLANK(ГУП!C29:X29),0)","v":22},{"$f":"IF(ГУП!B29<>0,COUNTBLANK(ГУП!Y29:BB29),0)","v":30},null,null,"высшего профессионального образования",null,null,"."]
[null,null,null,null,null,null,null,null,null,null,null,null,null,null,null,null,null,null,null,null,null,null,null,"высшего профессионального образования 2-ой ступени",null,null,"."]
[null,null,"Код направления / специальности",null,"190200",null,null,null,null,null,null,null,null,null,null,null,null,null,null,null,null,null,null,"неполного высшего образования",null,null,"."]
[null,null,"Название направления / специальности",null,"Транспортные машины и транспортно-технологические комплексы",null,null,null,null,null,null,null,null,null,null,null,null,null,null,null,null,null,null,"бакалавриата",null,null,"."]
[]
[null,null,"Специализация / Профиль / Маг. программа",null,"Название специализации, профиля или магистерской программ"]
[null,null,"Название специальности",null,"Автомобиле-и тракторостроение"]
[]
[null,null,"Название специализации",null,"Автомобилестроение"]
[]
[null,null,"Прием на … уч. год","2015/16 уч. год","2005/06 уч. год"]
[null,null,"Количество курсов",2,5]
[]
[null,null,"ФГОС ВО утвержден (дата)",".","2000-04-14"]
[null,null,"ФГОС ВО утвержден (№ приказа)",".","5455"]
[null,null,"Решение Ученого Совета (дата)",null,"2006-11-27"]
[null,null,"Решение Ученого Совета (№ протокола)"]
[null,null,"... одобрен на совете факультета (№ протокола)","."]
[null,null,"... одобрен на совете факультета (дата)",".","27.11.2006"]
[]
[null,null,"Исполнитель",null,"А. П. Иванов (267-78-90)"]
[]
[]
[null,null,"версия от 16.01.2015"]
[]
[null,null,"Если необходимо внести изменения в формы учебного плана (в соответствии с ФГОС ВО) обращаться в ОАУУП ауд.236",null,"На листах \"Сводный\" ничего не удалять !!!"]
[]
[]
[]
[null,null,"телефон (351) 267-98-04"]

{"sheet":"ГУП","index":1,"n_rows":46,"n_cols":61,"rows_kept":46,"cut":false,"hidden":false,"merged":[[19,6,21,6],[19,7,19,9],[16,4,16,12],[5,1,5,11],[19,1,22,1],[6,1,6,13],[16,13,16,45],[11,14,14,44],[7,13,7,45],[7,1,7,12],[12,1,15,13],[19,23,21,23],[19,36,21,36],[8,13,8,45],[19,45,21,45],[16,1,16,3],[9,14,10,44],[19,32,21,32],[19,33,19,35],[0,1,0,60],[1,1,1,60],[2,1,2,60],[4,1,4,11],[3,1,3,60],[4,46,4,60],[5,46,5,60],[6,46,6,60],[8,46,8,60],[11,52,11,59],[10,46,10,60],[19,2,19,5],[19,60,22,60],[45,8,45,12],[19,24,19,26],[44,26,44,27],[44,29,44,35],[19,56,22,56],[19,37,19,40],[19,41,19,44],[19,20,19,22],[19,28,19,31],[19,10,21,10],[19,11,19,14],[19,19,21,19],[19,15,19,18],[19,27,21,27],[45,49,45,50],[19,54,22,54],[45,52,45,58],[14,46,16,60],[19,58,22,58],[19,49,21,49],[19,59,22,59],[19,55,22,55],[19,57,22,57],[19,50,19,53],[19,46,19,48]]}
[null,"МИНИСТЕРСТВО ОБРАЗОВАНИЯ И НАУКИ РОССИЙСКОЙ ФЕДЕРАЦИИ"]
[null,"ФЕДЕРАЛЬНОЕ ГОСУДАРСТВЕННОЕ БЮДЖЕТНОЕ ОБРАЗОВАТЕЛЬНОЕ УЧРЕЖДЕНИЕ ВЫСШЕГО ПРОФЕССИОНАЛЬНОГО ОБРАЗОВАНИЯ"]
[null,"\"ЮЖНО-УРАЛЬСКИЙ ГОСУДАРСТВЕННЫЙ УНИВЕРСИТЕТ\" (НАЦИОНАЛЬНЫЙ ИССЛЕДОВАТЕЛЬСКИЙ УНИВЕРСИТЕТ)"]
[null,{"$f":"IF(Заполнить!D6<>0,Заполнить!D6,\"\")","v":""}]
[null,"УТВЕРЖДАЮ:",null,null,null,null,null,null,null,null,null,null,null,null,null,null,null,null,null,null,null,null,null,null,null,null,null,null,null,null,null,null,null,null,null,null,null,null,null,null,null,null,null,null,null,null,"СОГЛАСОВАНО:"]
[null,"Ректор",null,null,null,null,null,null,null,null,null,null,null,null,null,null,null,null,null,null,null,null,null,null,null,null,null,null,null,null,null,null,null,null,null,null,null,null,null,null,null,null,null,null,null,null,"Начальник УМУ"]
[null,"_________________________ А. Л. Шестаков",null,null,null,null,null,null,null,null,null,null,null,null,null,null,null,null,null,null,null,null,null,null,null,null,null,null,null,null,null,null,null,null,null,null,null,null,null,null,null,null,null,null,null,null,"______________________ И. В. Сидоров"]
[null,"\"___\"________________________ 201___г.",null,null,null,null,null,null,null,null,null,null,null,"УЧЕБНЫЙ ПЛАН",null,null,null,null,null,null,null,null,null,null,null,null,null,null,null,null,null,null,null,null,null,null,null,null,null,null,null,null,null,null,null,null,"Факультет:"]
[null,null,null,null,null,null,null,null,null,null,null,null,null,"основной образовательной программы",null,null,null,null,null,null,null,null,null,null,null,null,null,null,null,null,null,null,null,null,null,null,null,null,null,null,null,null,null,null,null,null,{"$f":"IF(Заполнить!D3<>0,Заполнить!D3,\"\")","v":""}]
[null,null,null,null,null,null,null,null,null,null,null,null,null,null,{"$f":"IF(Заполнить!D26<>0,Заполнить!AA7& Заполнить!D26&\" \"&Заполнить!D27,\"\")","v":""},null,null,null,null,null,null,null,null,null,null,null,null,null,null,null,null,null,null,null,null,null,null,null,null,null,null,null,null,null,null,null,"Выпускающая кафедра:"]
[null,null,null,null,null,null,null,null,null,null,null,null,null,null,null,null,null,null,null,null,null,null,null,null,null,null,null,null,null,null,null,null,null,null,null,null,null,null,null,null,null,null,null,null,null,null,{"$f":"Заполнить!D15","v":"."}]
[null,null,null,null,null,null,null,null,null,null,null,null,null,null,{"$f":"IF(Заполнить!D29<>0,Заполнить!AA13& Заполнить!D29&\" \"&Заполнить!D30,\"\")","v":""},null,null,null,null,null,null,null,null,null,null,null,null,null,null,null,null,null,null,null,null,null,null,null,null,null,null,null,null,null,null,null,"Тип программы:",null,null,null,null,null,{"$f":"Заполнить!D24","v":"прикладная магистратура"}]
[null,{"$f":"IF(Заполнить!D32<>0,\"Магистерская программа /  Профиль\"& Заполнить!D32,\"\")","v":""},null,null,null,null,null,null,null,null,null,null,null,null,null,null,null,null,null,null,null,null,null,null,null,null,null,null,null,null,null,null,null,null,null,null,null,null,null,null,null,null,null,null,null,null,"Срок обучения",null,null,null,null,{"$f":"Заполнить!D21","v":"2 года, 0 мес."}]
[null,null,null,null,null,null,null,null,null,null,null,null,null,null,null,null,null,null,null,null,null,null,null,null,null,null,null,null,null,null,null,null,null,null,null,null,null,null,null,null,null,null,null,null,null,null,"Форма обучения",null,null,null,null,{"$f":"Заполнить!D22","v":"очная"}]
[null,null,null,null,null,null,null,null,null,null,null,null,null,null,null,null,null,null,null,null,null,null,null,null,null,null,null,null,null,null,null,null,null,null,null,null,null,null,null,null,null,null,null,null,null,null,{"$f":"\"на базе \"&Заполнить!D23","v":"на базе бакалавриата"}]
[]
[null,"Прием",null,null,{"$f":"Заполнить!D34","v":"2015/16 уч. год"},null,null,null,null,null,null,null,null,"1. ГРАФИК УЧЕБНОГО ПРОЦЕССА"]
[]
[]
[null,"Курс","Сентябрь",null,null,null,"29IX - 5X","Октябрь",null,null,"27X - 2XI","Ноябрь",null,null,null,"Декабрь",null,null,null,"29XII - 4I","Январь",null,null,"26I - 1II","Февраль",null,null,"23II - 1III","Март",null,null,null,"30III - 5II","Апрель",null,null,"27II - 3V","Май",null,null,null,"Июнь",null,null,null,"29VI - 5VII","Июль",null,null,"27VII - 1VIII","Август",null,null,null,"Теор. обучение","Промежуточная аттестация","Практики","Военные сборы","Итоговая аттестация","Каникулы","ВСЕГО"]
[null,null,1,8,15,22,null,6,13,20,null,3,10,17,24,1,8,15,22,null,5,12,19,null,2,9,16,null,2,9,16,23,null,6,13,20,null,4,11,18,25,1,8,15,22,null,6,13,20,null,2,9,16,23]
[null,null,7,14,21,28,null,12,19,26,null,9,16,23,30,7,14,21,28,null,11,18,25,null,8,15,22,null,8,15,22,26,null,12,19,26,null,10,17,24,31,12,14,21,28,null,12,19,26,null,8,15,22,31]
[null,null,1,2,3,4,5,6,7,8,9,10,11,12,13,14,15,16,17,18,19,20,21,22,23,24,25,26,27,28,29,30,31,32,33,34,35,36,37,38,39,40,41,42,43,44,45,46,47,48,49,50,51,52]
[null,{"$f":"IF(Заполнить!AB5=1,\"I\",\"\")","v":"I"},null,null,null,null,null,null,null,null,null,null,null,null,null,null,null,null,null,null,2,2,2,7,7,null,null,null,null,null,null,null,null,null,null,null,null,null,null,null,null,null,null,2,2,3,3,4,4,7,7,7,7,7,{"$f":"COUNTBLANK(C24:BB24)+COUNTIF(C24:BB24,1)","v":36},{"$f":"COUNTIF(C24:BB24,2)","v":5},{"$f":"IF((COUNTIF(C24:BB24,3)+COUNTIF(C24:BB24,4)+COUNTIF(C24:BB24,9)+COUNTIF(C24:BB24,8)+COUNTIF(C24:BB24,10))=0,\"\",COUNTIF(C24:BB24,3)+COUNTIF(C24:BB24,4)+COUNTIF(C24:BB24,9)+COUNTIF(C24:BB24,8)+COUNTIF(C24:BB24,10))","v":4},{"$f":"IF(COUNTIF(C24:BB24,\"с\")=0,\"\",COUNTIF(C24:BB24,\"с\"))","v":""},{"$f":"IF((COUNTIF(C24:BB24,5)+COUNTIF(C24:BB24,6))=0,\"\",COUNTIF(C24:BB24,5)+COUNTIF(C24:BB24,6))","v":""},{"$f":"IF(B24=\"I\",COUNTIF(C24:BB24,7),\"\")","v":7},{"$f":"SUM(BC24:BH24)","v":52}]
[null,{"$f":"IF(Заполнить!AB6=2,\"II\",\"\")","v":"II"},null,null,null,null,null,null,null,null,null,null,null,null,null,null,null,null,null,null,2,2,7,7,9,9,9,9,null,null,null,null,null,null,null,null,null,null,null,null,2,2,6,6,6,6,7,7,7,7,7,7,7,7,{"$f":"COUNTBLANK(C25:BB25)+COUNTIF(C25:BB25,1)","v":30},{"$f":"COUNTIF(C25:BB25,2)","v":4},{"$f":"IF((COUNTIF(C25:BB25,3)+COUNTIF(C25:BB25,4)+COUNTIF(C25:BB25,9)+COUNTIF(C25:BB25,8)+COUNTIF(C25:BB25,10))=0,\"\",COUNTIF(C25:BB25,3)+COUNTIF(C25:BB25,4)+COUNTIF(C25:BB25,9)+COUNTIF(C25:BB25,8)+COUNTIF(C25:BB25,10))","v":4},{"$f":"IF(COUNTIF(C25:BB25,\"с\")=0,\"\",COUNTIF(C25:BB25,\"с\"))","v":""},{"$f":"IF((COUNTIF(C25:BB25,5)+COUNTIF(C25:BB25,6))=0,\"\",COUNTIF(C25:BB25,5)+COUNTIF(C25:BB25,6))","v":4},{"$f":"IF(B25=\"II\",COUNTIF(C25:BB25,7),\"\")","v":10},{"$f":"SUM(BC25:BH25)","v":52}]
[null,{"$f":"IF(Заполнить!AB7=3,\"III\",\"\")","v":""},null,null,null,null,null,null,null,null,null,null,null,null,null,null,null,null,null,null,null,null,null,null,null,null,null,null,null,null,null,null,null,null,null,null,null,null,null,null,null,null,null,null,null,null,null,null,null,null,null,null,null,null,{"$f":"IF(B26=\"V\",COUNTBLANK(C26:BB26)+COUNTIF(C26:BB26,1),\"\")","v":""},{"$f":"IF(B26=\"V\",COUNTIF(C26:BB26,2),\"\")","v":""},{"$f":"IF((COUNTIF(C26:BB26,3)+COUNTIF(C26:BB26,4)+COUNTIF(C26:BB26,9)+COUNTIF(C26:BB26,8)+COUNTIF(C26:BB26,10))=0,\"\",COUNTIF(C26:BB26,3)+COUNTIF(C26:BB26,4)+COUNTIF(C26:BB26,9)+COUNTIF(C26:BB26,8)+COUNTIF(C26:BB26,10))","v":""},{"$f":"IF(COUNTIF(C26:BB26,\"с\")=0,\"\",COUNTIF(C26:BB26,\"с\"))","v":""},{"$f":"IF((COUNTIF(C26:BB26,5)+COUNTIF(C26:BB26,6))=0,\"\",COUNTIF(C26:BB26,5)+COUNTIF(C26:BB26,6))","v":""},{"$f":"IF(B26=\"III\",COUNTIF(C26:BB26,7),\"\")","v":""},{"$f":"IF(B26=\"V\",SUM(BC26:BH26),\"\")","v":""}]
[null,{"$f":"IF(Заполнить!AB8=4,\"IV\",\"\")","v":""},null,null,null,null,null,null,null,null,null,null,null,null,null,null,null,null,null,null,null,null,null,null,null,null,null,null,null,null,null,null,null,null,null,null,null,null,null,null,null,null,null,null,null,null,null,null,null,null,null,null,null,null,{"$f":"IF(B27=\"V\",COUNTBLANK(C27:BB27)+COUNTIF(C27:BB27,1),\"\")","v":""},{"$f":"IF(B27=\"V\",COUNTIF(C27:BB27,2),\"\")","v":""},{"$f":"IF((COUNTIF(C27:BB27,3)+COUNTIF(C27:BB27,4)+COUNTIF(C27:BB27,9)+COUNTIF(C27:BB27,8)+COUNTIF(C27:BB27,10))=0,\"\",COUNTIF(C27:BB27,3)+COUNTIF(C27:BB27,4)+COUNTIF(C27:BB27,9)+COUNTIF(C27:BB27,8)+COUNTIF(C27:BB27,10))","v":""},{"$f":"IF(COUNTIF(C27:BB27,\"с\")=0,\"\",COUNTIF(C27:BB27,\"с\"))","v":""},{"$f":"IF((COUNTIF(C27:BB27,5)+COUNTIF(C27:BB27,6))=0,\"\",COUNTIF(C27:BB27,5)+COUNTIF(C27:BB27,6))","v":""},{"$f":"IF(B27=\"IV\",COUNTIF(C27:BB27,7),\"\")","v":""},""]
[null,{"$f":"IF(Заполнить!AB9=5,\"V\",\"\")","v":""},null,null,null,null,null,null,null,null,null,null,null,null,null,null,null,null,null,null,null,null,null,null,null,null,null,null,null,null,null,null,null,null,null,null,null,null,null,null,null,null,null,null,null,null,null,null,null,null,null,null,null,null,{"$f":"IF(B28=\"V\",COUNTBLANK(C28:BB28)+COUNTIF(C28:BB28,1),\"\")","v":""},{"$f":"IF(B28=\"V\",COUNTIF(C28:BB28,2),\"\")","v":""},{"$f":"IF(B28=\"V\",COUNTIF(C28:BB28,3)+COUNTIF(C28:BB28,4)+COUNTIF(C28:BB28,9)+COUNTIF(C28:BB28,8)+COUNTIF(C28:BB28,10),\"\")","v":""},{"$f":"IF(B28=\"V\",COUNTIF(C28:BB28,\"с\"),\"\")","v":""},{"$f":"IF(B28=\"V\",COUNTIF(C28:BB28,5)+COUNTIF(C28:BB28,6),\"\")","v":""},{"$f":"IF(B28=\"V\",COUNTIF(C28:BB28,7),\"\")","v":""},{"$f":"IF(B28=\"V\",SUM(BC28:BH28),\"\")","v":""}]
[null,{"$f":"IF(Заполнить!AB10=6,\"VI\",\"\")","v":""},null,null,null,null,null,null,null,null,null,null,null,null,null,null,null,null,null,null,null,null,null,null,null,null,null,null,null,null,null,null,null,null,null,null,null,null,null,null,null,null,null,null,null,null,null,null,null,null,null,null,null,null,{"$f":"IF(B29=\"VI\",COUNTBLANK(C29:BB29)+COUNTIF(C29:BB29,1),\"\")","v":""},{"$f":"IF(B29=\"VI\",COUNTIF(C29:BB29,2),\"\")","v":""},{"$f":"IF(B29=\"VI\",COUNTIF(C29:BB29,3)+COUNTIF(C29:BB29,4)+COUNTIF(C29:BB29,9)+COUNTIF(C29:BB29,8)+COUNTIF(C29:BB29,10),\"\")","v":""},{"$f":"IF(B29=\"VI\",COUNTIF(C29:BB29,\"с\"),\"\")","v":""},{"$f":"IF(B29=\"VI\",COUNTIF(C29:BB29,5)+COUNTIF(C29:BB29,6),\"\")","v":""},{"$f":"IF(B29=\"VI\",COUNTIF(C29:BB29,7),\"\")","v":""},{"$f":"IF(B29=\"VI\",SUM(BC29:BH29),\"\")","v":""}]
[null,null,null,null,null,null,null,null,null,null,null,null,null,null,null,null,null,null,null,null,null,null,null,null,null,null,null,null,null,null,null,null,null,null,null,null,null,null,null,null,null,null,null,null,null,null,null,null,null,null,null,null,null,null,{"$f":"IF(SUM(BC24:BC29)=0,\"\",SUM(BC24:BC29))","v":66},9,8,"",4,17,{"$f":"SUM(BC30:BH30)","v":104}]
[]
[null,null,null,null,null,null,null,null,null,null,null,null,null,"ОБОЗНАЧЕНИЯ:",null,null,null,null,null,null,null,"Теоретическое обучение",null,null,null,null,null,null,null,null,null,null,null,6,null,"Итоговая аттестация"]
[]
[null,null,null,null,null,null,null,null,null,null,null,null,null,null,null,null,null,null,null,1,null,"НИР (ПОД)",null,null,null,null,null,null,null,null,null,null,null,7,null,"Каникулы"]
[]
[null,null,null,null,null,null,null,null,null,null,null,null,null,null,null,null,null,null,null,2,null,"Промежуточная аттестация",null,null,null,null,null,null,null,null,null,null,null,8,null,"Педагогическая практика"]
[]
[null,null,null,null,null,null,null,null,null,null,null,null,null,null,null,null,null,null,null,3,null,"Учебная практика",null,null,null,null,null,null,null,null,null,null,null,9,null,"Преддипломная практика"]
[]
[null,null,null,null,null,null,null,null,null,null,null,null,null,null,null,null,null,null,null,4,null,"Производственная практика",null,null,null,null,null,null,null,null,null,null,null,10,null,"Научно-исследовательская практика"]
[]
[null,null,null,null,null,null,null,null,null,null,null,null,null,null,null,null,null,null,null,5,null,"Профессионально-ориентированная практика"]
[]
[null,"Учебный план разработан в соответствии с ФГОС ВО,"]
[null,"утвержденным",null,null,null,null,null,null,{"$f":"Заполнить!D37","v":"."}]
[null,"приказом МОиН РФ №",null,null,null,null,null,null,{"$f":"Заполнить!D38","v":"."}]

{"sheet":"Блок 1","index":2,"n_rows":217,"n_cols":156,"rows_kept":217,"cut":false,"hidden":false,"merged":[[7,42,7,43],[7,40,7,41],[6,52,6,55],[5,28,5,35],[7,46,7,47],[6,44,6,47],[7,29,8,29],[7,30,7,32],[7,44,7,45],[6,40,6,43],[6,48,6,51],[6,29,6,35],[6,36,6,39],[215,30,215,35],[7,33,8,33],[216,30,216,35],[213,30,213,35],[212,30,212,35],[211,30,211,35],[214,30,214,35],[10,3,10,51],[7,38,7,39],[7,36,7,37],[56,2,56,25],[9,3,9,59],[15,36,15,51],[15,2,15,25],[6,4,8,7],[6,14,8,17],[5,2,8,2],[9,1,10,2],[4,1,4,50],[6,28,8,28],[6,18,8,19],[5,26,8,26],[5,1,8,1],[7,50,7,51],[5,36,5,59],[6,56,6,59],[7,56,7,57],[7,58,7,59],[7,54,7,55],[7,48,7,49],[5,27,8,27],[7,52,7,53],[11,18,11,19],[6,22,8,25],[5,3,8,3],[6,8,8,13],[11,8,11,13],[6,20,8,21],[11,4,11,7],[11,20,11,21],[11,22,11,25],[5,4,5,25],[7,82,7,105],[7,107,7,118],[5,62,8,62],[7,68,7,79],[5,63,8,63],[5,64,8,64],[5,65,8,65],[5,66,8,66],[12,2,12,21],[35,36,35,51],[56,36,56,51],[77,2,77,25],[78,2,78,25],[35,2,35,25],[13,2,13,25],[0,1,1,2],[2,1,3,2],[185,2,185,25],[185,36,185,51],[206,2,206,25],[142,2,142,25],[143,2,143,25],[143,36,143,51],[164,2,164,25],[164,36,164,51],[79,2,79,25],[79,36,79,51],[100,2,100,25],[100,36,100,51],[121,2,121,25],[121,36,121,51]]}
[null,"Специалист / Бакалавр",null,"Базовая часть:",null,null,"ГСЭ",null,null,null,null,"Вариативная часть в т.ч. ДВ:"]
[null,null,null,null,null,null,"ЕН",null,null,null,null,null,null,null,null,null,null,null,null,null,null,"Вариативная часть:",null,null,null,null,null,null,"ГСЭ",null,"Дисциплины по выбору:",null,null,null,null,null,"ГСЭ",null,null,"Элективные дисциплины"]
[null,"Полный срок",null,null,null,null,"ОПД",null,null,null,null,null,null,null,null,null,null,null,null,null,null,null,null,null,null,null,null,null,"ЕН",null,null,null,null,null,null,null,"ЕН"]
[null,null,null,null,null,null,null,null,null,null,null,null,null,null,null,null,null,null,null,null,null,null,null,null,null,null,null,null,"ОПД",null,null,null,null,null,null,null,"ОПД"]
[]
[null,"Цикл № п/п","Название дисциплины","Кафедра","Распределение по семестрам",null,null,null,null,null,null,null,null,null,null,null,null,null,null,null,null,null,null,null,null,null,"ГОС, ЗЕ","Всего ЗЕ","Объем работы студентов, час ",null,null,null,null,null,null,null,"Распределение по курсам и семестрам",null,null,null,null,null,null,null,null,null,null,null,null,null,null,null,null,null,null,null,null,null,null,null,null,null,"Ауд. часов (по видам нагрузки)","Всего по семестрам = Всего по видам нагрузки","Сверка с ГОСом","Нет контр. мер-ий или ауд. нагрузки в семестре:","Несоответствие (часы в неделю - ЗЕ в неделю)",null,{"$f":"IF(BL11<>0,\"распределение ауд. нагрузки по видам и по семестрам не совпадает\",\"\")","v":""}]
[null,null,null,null,"экз.",null,null,null,"зач.",null,null,null,null,null,"диф. зач.",null,null,null,"К.П.",null,"К.Р.",null,"РГР",null,null,null,null,null,"Всего","Из них",null,null,null,null,null,null,"I курс",null,null,null,"II курс",null,null,null,"III курс",null,null,null,"IV курс",null,null,null,"V курс",null,null,null,"VI курс",null,null,null,null,null,null,null,null,null,null,null,{"$f":"IF(BM11<>0,\"проверьте правильность указания ГОС\",\"\")","v":""}]
[null,null,null,null,null,null,null,null,null,null,null,null,null,null,null,null,null,null,null,null,null,null,null,null,null,null,null,null,null,"Всего ауд.",null,null,null,"Всего СРС",null,null,1,null,2,null,3,null,4,null,5,null,6,null,7,null,8,null,9,null,10,null,11,null,12,null,null,null,null,null,null,null,null,null,"контр. мероприятия ",null,null,null,null,null,null,null,null,null,null,null,null,null,"ауд. нагрузка ",null,null,null,null,null,null,null,null,null,null,null,null,null,null,null,null,null,null,null,null,null,null,null,null,"ошибки соответствия контр. мероприятия - нагрузка",null,null,null,null,null,null,null,null,null,null,null,null,null,null,null,null,null,null,null,null,null,null,null,null,"ошибки соответствия часы - кредиты"]
[null,null,null,null,null,null,null,null,null,null,null,null,null,null,null,null,null,null,null,null,null,null,null,null,null,null,null,null,null,null,"Лекции","Практика","Лаб. раб.",null,"КСР","СРС",{"$f":"IF(ГУП!B24=\"I\",IF(ISBLANK(Заполнить!J22),,Заполнить!J22),0)","v":18},"ЗЕ",{"$f":"IF(ГУП!B24=\"I\",IF(ISBLANK(Заполнить!K22),,Заполнить!K22),0)","v":18},"ЗЕ",{"$f":"IF(ГУП!B25=\"II\",IF(ISBLANK(Заполнить!L22),,Заполнить!L22),0)","v":18},"ЗЕ",{"$f":"IF(ГУП!B25=\"II\",IF(ISBLANK(Заполнить!M22),,Заполнить!M22),0)","v":12},"ЗЕ",{"$f":"IF(ГУП!B26=\"III\",IF(ISBLANK(Заполнить!N22),,Заполнить!N22),0)","v":0},"ЗЕ",{"$f":"IF(ГУП!B26=\"III\",IF(ISBLANK(Заполнить!O22),,Заполнить!O22),0)","v":0},"ЗЕ",{"$f":"IF(ГУП!B27=\"IV\",IF(ISBLANK(Заполнить!P22),,Заполнить!P22),0)","v":0},"ЗЕ",{"$f":"IF(ГУП!B27=\"IV\",IF(ISBLANK(Заполнить!Q22),,Заполнить!Q22),0)","v":0},"ЗЕ",{"$f":"IF(ГУП!B28=\"V\",IF(ISBLANK(Заполнить!R22),,Заполнить!R22),0)","v":0},"ЗЕ",{"$f":"IF(ГУП!B28=\"V\",IF(ISBLANK(Заполнить!S22),,Заполнить!S22),0)","v":0},"ЗЕ",{"$f":"IF(ГУП!B29=\"VI\",IF(ISBLANK(Заполнить!T22),,Заполнить!T22),0)","v":0},"ЗЕ",{"$f":"IF(ГУП!B29=\"VI\",IF(ISBLANK(Заполнить!U22),,Заполнить!U22),0)","v":0},"ЗЕ",null,null,null,null,null,null,null,null,1,2,3,4,5,6,7,8,9,10,11,12,null,null,"1/ч","1/к","2/ч","2/к","3/ч","3/к","4/ч","4/к","5/ч","5/к","6/ч","6/к","7/ч","7/к","8/ч","8/к","9/ч","9/к","10/ч","10/к","11/ч","11/к","12/ч","12/к",null,1,2,3,4,5,6,7,8,9,10,11,12,1,2,3,4,5,6,7,8,9,10,11,12,null,1,2,3,4,5,6,7,8,9,10,11,12,1,2,3,4,5,6,7,8,9,10,11,12]
[null,"на листе возможно имеются ошибки:",null,{"$f":"DE16&IF(EC16<>0,\"     /     \",\"\")&ED16&\"  ------->\"","v":"  ------->"}]
[null,null,null,{"$f":"BQ6&IF(BM11<>0,\"     /     \",\"\")&BQ7&\"  ------->\"","v":"  ------->"},null,null,null,null,null,null,null,null,null,null,null,null,null,null,null,null,null,null,null,null,null,null,null,null,null,null,null,null,null,null,null,null,null,null,null,null,null,null,null,null,null,null,null,null,null,null,null,null,null,null,null,null,null,null,null,null,null,null,null,{"$f":"COUNTIF(BL17:BL77,\"ошибка\")","v":0},{"$f":"COUNTIF(BM17:BM77,\"ошибка\")","v":0}]
[null,1,2,3,4,null,null,null,5,null,null,null,null,null,null,null,null,null,6,null,7,null,8,null,null,null,8,9,10,11,12,13,14,15,17,18,16,17,18,19,20,21,22,23,24,25,26,27,28,29,30,31,32,33,34,35,36,37,38,39]
[null,"Блок 1","Дисциплины (модули)",null,null,null,null,null,null,null,null,null,null,null,null,null,null,null,null,null,null,null,null,null,null,null,null,{"$f":"AB14+AB78","v":10},{"$f":"AC14+AC78","v":360},180,54,126,0,180]
[null,"Б.1","Базовая часть",null,null,null,null,null,null,null,null,null,null,null,null,null,null,null,null,null,null,null,null,null,null,null,null,{"$f":"AB16+AB36+AB57","v":10},360,180,54,126,0,180,{"$f":"AI16+#REF!","v":{"$error":"#REF!"}},{"$f":"AJ16+#REF!","v":{"$error":"#REF!"}},null,null,null,null,null,null,null,null,null,null,null,null,null,null,null,null,null,null,null,null,null,null,null,null,null,null,null,null,null,null,null,null,null,null,null,null,null,null,null,null,null,null,null,null,null,null,null,null,null,null,null,null,null,null,null,null,null,null,null,null,null,null,null,null,null,null,null,null,null,null,null,"888 - несоответствие",null,null,null,null,null,null,null,null,null,null,null,null,null,null,null,null,null,null,null,null,null,null,null,null,"999 - несоответствие"]
[null,null,null,null,null,null,null,null,null,null,null,null,null,null,null,null,null,null,null,null,null,null,null,null,null,null,null,{"$f":"IF((AL15+AN15+AP15+AR15+AT15+AV15+AX15+AZ15+BB15+BD15+BF15+BH15)=0,\"\",(AL15+AN15+AP15+AR15+AT15+AV15+AX15+AZ15+BB15+BD15+BF15+BH15))","v":""},null,{"$f":"IF((AE15+AF15+AG15)=0,\"\",AE15+AF15+AG15)","v":""},null,null,null,{"$f":"IF(AD15=\"\",\"\",AC15-AD15)","v":""},{"$f":"IF(AD15=\"\",\"\",ROUND((AC15-AD15)*0.1,0))","v":""},{"$f":"IF(AD15=\"\",\"\",AH15-AI15)","v":""},null,null,null,null,null,null,null,null,null,null,null,null,null,null,null,null,null,null,null,null,null,null,null,null,null,null,{"$f":"IF(D15=0,\"\",ROUND($AK$9*AK15+$AM$9*AM15+$AO$9*AO15+$AQ$9*AQ15+$AS$9*AS15+$AU$9*AU15+$AW$9*AW15+$AY$9*AY15+$BA$9*BA15+$BC$9*BC15+$BE$9*BE15+$BG$9*BG15,0))","v":""},{"$f":"IF(AC15=0,\"\",IF(AD15<>BK15,\"Ошибка\",\"\"))","v":""},{"$f":"IF(AA15=0,\"\",IF(AB15<=AA15*1.05,IF(AB15>=AA15*0.95,\"\",\"Ошибка\"),\"Ошибка\"))","v":""},{"$f":"DP15&DQ15&DR15&DS15&DT15&DU15&DV15&DW15&DX15&DY15&DZ15&EA15","v":""},{"$f":"EO15&EP15&EQ15&ER15&ES15&ET15&EU15&EV15&EW15&EX15&EY15&EZ15","v":""},null,{"$f":"IF(COUNTIF($E15:$P15,BQ$9)<>0,\"*\",\"\")","v":""},{"$f":"IF(COUNTIF($E15:$P15,BR$9)<>0,\"*\",\"\")","v":""},"","","","","","","","","","",null,null,{"$f":"IF(AK15=\"\",\"\",\"*\")","v":""},{"$f":"IF(AL15=\"\",\"\",\"*\")","v":""},{"$f":"IF(AM15=\"\",\"\",\"*\")","v":""},{"$f":"IF(AN15=\"\",\"\",\"*\")","v":""},{"$f":"IF(AO15=\"\",\"\",\"*\")","v":""},{"$f":"IF(AP15=\"\",\"\",\"*\")","v":""},{"$f":"IF(AQ15=\"\",\"\",\"*\")","v":""},{"$f":"IF(AR15=\"\",\"\",\"*\")","v":""},{"$f":"IF(AS15=\"\",\"\",\"*\")","v":""},{"$f":"IF(AT15=\"\",\"\",\"*\")","v":""},{"$f":"IF(AU15=\"\",\"\",\"*\")","v":""},{"$f":"IF(AV15=\"\",\"\",\"*\")","v":""},{"$f":"IF(AW15=\"\",\"\",\"*\")","v":""},{"$f":"IF(AX15=\"\",\"\",\"*\")","v":""},{"$f":"IF(AY15=\"\",\"\",\"*\")","v":""},{"$f":"IF(AZ15=\"\",\"\",\"*\")","v":""},{"$f":"IF(BA15=\"\",\"\",\"*\")","v":""},{"$f":"IF(BB15=\"\",\"\",\"*\")","v":""},{"$f":"IF(BC15=\"\",\"\",\"*\")","v":""},{"$f":"IF(BD15=\"\",\"\",\"*\")","v":""},{"$f":"IF(BE15=\"\",\"\",\"*\")","v":""},{"$f":"IF(BF15=\"\",\"\",\"*\")","v":""},{"$f":"IF(BG15=\"\",\"\",\"*\")","v":""},{"$f":"IF(BH15=\"\",\"\",\"*\")","v":""},null,{"$f":"IF(BQ15=CE15,\"\",888)","v":""},{"$f":"IF(BR15=CG15,\"\",888)","v":""},{"$f":"IF(BS15=CI15,\"\",888)","v":""},{"$f":"IF(BT15=CK15,\"\",888)","v":""},{"$f":"IF(BU15=CM15,\"\",888)","v":""},{"$f":"IF(BV15=CO15,\"\",888)","v":""},{"$f":"IF(BW15=CQ15,\"\",888)","v":""},{"$f":"IF(BX15=CT15,\"\",888)","v":""},{"$f":"IF(BY15=CU15,\"\",888)","v":""},{"$f":"IF(BZ15=CW15,\"\",888)","v":""},{"$f":"IF(CA15=CY15,\"\",888)","v":""},{"$f":"IF(CB15=DA15,\"\",888)","v":""},{"$f":"IF(DD15=888,(DD$9&\"; \"),\"\")","v":""},{"$f":"IF(DE15=888,(DE$9&\"; \"),\"\")","v":""},{"$f":"IF(DF15=888,(DF$9&\"; \"),\"\")","v":""},{"$f":"IF(DG15=888,(DG$9&\"; \"),\"\")","v":""},{"$f":"IF(DH15=888,(DH$9&\"; \"),\"\")","v":""},{"$f":"IF(DI15=888,(DI$9&\"; \"),\"\")","v":""},{"$f":"IF(DJ15=888,(DJ$9&\"; \"),\"\")","v":""},{"$f":"IF(DK15=888,(DK$9&\"; \"),\"\")","v":""},{"$f":"IF(DL15=888,(DL$9&\"; \"),\"\")","v":""},{"$f":"IF(DM15=888,(DM$9&\"; \"),\"\")","v":""},{"$f":"IF(DN15=888,(DN$9&\"; \"),\"\")","v":""},{"$f":"IF(DO15=888,(DO$9&\"; \"),\"\")","v":""},null,{"$f":"IF(CE15=CF15,\"\",999)","v":""},{"$f":"IF(CG15=CH15,\"\",999)","v":""},{"$f":"IF(CI15=CJ15,\"\",999)","v":""},{"$f":"IF(CK15=CL15,\"\",999)","v":""},{"$f":"IF(CM15=CN15,\"\",999)","v":""},{"$f":"IF(CO15=CP15,\"\",999)","v":""},{"$f":"IF(CQ15=CR15,\"\",999)","v":""},{"$f":"IF(CS15=CT15,\"\",999)","v":""},{"$f":"IF(CU15=CV15,\"\",999)","v":""},{"$f":"IF(CW15=CX15,\"\",999)","v":""},{"$f":"IF(CY15=CZ15,\"\",999)","v":""},{"$f":"IF(DA15=DB15,\"\",999)","v":""},{"$f":"IF(EC15=999,(EC$9&\"; \"),\"\")","v":""},{"$f":"IF(ED15=999,(ED$9&\"; \"),\"\")","v":""},{"$f":"IF(EE15=999,(EE$9&\"; \"),\"\")","v":""},{"$f":"IF(EF15=999,(EF$9&\"; \"),\"\")","v":""},{"$f":"IF(EG15=999,(EG$9&\"; \"),\"\")","v":""},{"$f":"IF(EH15=999,(EH$9&\"; \"),\"\")","v":""},{"$f":"IF(EI15=999,(EI$9&\"; \"),\"\")","v":""},{"$f":"IF(EJ15=999,(EJ$9&\"; \"),\"\")","v":""},{"$f":"IF(EK15=999,(EK$9&\"; \"),\"\")","v":""},{"$f":"IF(EL15=999,(EL$9&\"; \"),\"\")","v":""},{"$f":"IF(EM15=999,(EM$9&\"; \"),\"\")","v":""},{"$f":"IF(EN15=999,(EN$9&\"; \"),\"\")","v":""}]
["Б.1",null,"Модуль \"Общенаучные дисциплины\"",null,null,null,null,null,null,null,null,null,null,null,null,null,null,null,null,null,null,null,null,null,null,null,null,{"$f":"SUM(AB17:AB35)","v":10},360,180,54,126,0,180,19,161,null,null,null,null,null,null,null,null,null,null,null,null,null,null,null,null,null,null,null,null,null,null,null,null,null,null,null,null,null,null,null,null,null,null,null,null,null,null,null,null,null,null,null,null,null,null,null,null,null,null,null,null,null,null,null,null,null,null,null,null,null,null,null,null,null,null,null,null,null,null,null,{"$f":"COUNTIF(DD17:DO77,888)","v":0},{"$f":"IF(DD16<>0,\"несоответствие: распределение по семестрам --- контр. мер-ия\",\"\")","v":""},null,null,null,null,null,null,null,null,null,null,null,null,null,null,null,null,null,null,null,null,null,null,null,{"$f":"COUNTIF(EC20:EN77,999)","v":0},{"$f":"IF(EC16<>0,\"несоответствие: нагрузка в часах --- нагрузка в кредитах\",\"\")","v":""}]
[null,"Б.1.01","Иностранный язык в профессиональной деятельности","Ан яз/      Ин яз",2,null,null,null,1,null,null,null,null,null,null,null,null,null,null,null,null,null,null,null,null,null,null,{"$f":"IF((AL17+AN17+AP17+AR17+AT17+AV17+AX17+AZ17+BB17+BD17+BF17+BH17)=0,\"\",(AL17+AN17+AP17+AR17+AT17+AV17+AX17+AZ17+BB17+BD17+BF17+BH17))","v":4},144,{"$f":"IF((AE17+AF17+AG17)=0,\"\",AE17+AF17+AG17)","v":72},null,72,null,{"$f":"IF(AD17=\"\",\"\",AC17-AD17)","v":72},{"$f":"IF(AD17=\"\",\"\",ROUND((AC17-AD17)*0.1,0))","v":7},{"$f":"IF(AD17=\"\",\"\",AH17-AI17)","v":65},2,2,2,2,null,null,null,null,null,null,null,null,null,null,null,null,null,null,null,null,null,null,null,null,null,null,{"$f":"IF(D17=0,\"\",ROUND($AK$9*AK17+$AM$9*AM17+$AO$9*AO17+$AQ$9*AQ17+$AS$9*AS17+$AU$9*AU17+$AW$9*AW17+$AY$9*AY17+$BA$9*BA17+$BC$9*BC17+$BE$9*BE17+$BG$9*BG17,0))","v":72},{"$f":"IF(AC17=0,\"\",IF(AD17<>BK17,\"Ошибка\",\"\"))","v":""},{"$f":"IF(AA17=0,\"\",IF(AB17<=AA17*1.05,IF(AB17>=AA17*0.95,\"\",\"Ошибка\"),\"Ошибка\"))","v":""},{"$f":"DP17&DQ17&DR17&DS17&DT17&DU17&DV17&DW17&DX17&DY17&DZ17&EA17","v":""},{"$f":"EO17&EP17&EQ17&ER17&ES17&ET17&EU17&EV17&EW17&EX17&EY17&EZ17","v":""},null,{"$f":"IF(COUNTIF($E17:$P17,BQ$9)<>0,\"*\",\"\")","v":"*"},"*","","","","","","","","","","",null,null,{"$f":"IF(AK17=\"\",\"\",\"*\")","v":"*"},{"$f":"IF(AL17=\"\",\"\",\"*\")","v":"*"},{"$f":"IF(AM17=\"\",\"\",\"*\")","v":"*"},{"$f":"IF(AN17=\"\",\"\",\"*\")","v":"*"},{"$f":"IF(AO17=\"\",\"\",\"*\")","v":""},{"$f":"IF(AP17=\"\",\"\",\"*\")","v":""},{"$f":"IF(AQ17=\"\",\"\",\"*\")","v":""},{"$f":"IF(AR17=\"\",\"\",\"*\")","v":""},{"$f":"IF(AS17=\"\",\"\",\"*\")","v":""},{"$f":"IF(AT17=\"\",\"\",\"*\")","v":""},{"$f":"IF(AU17=\"\",\"\",\"*\")","v":""},{"$f":"IF(AV17=\"\",\"\",\"*\")","v":""},{"$f":"IF(AW17=\"\",\"\",\"*\")","v":""},{"$f":"IF(AX17=\"\",\"\",\"*\")","v":""},{"$f":"IF(AY17=\"\",\"\",\"*\")","v":""},{"$f":"IF(AZ17=\"\",\"\",\"*\")","v":""},{"$f":"IF(BA17=\"\",\"\",\"*\")","v":""},{"$f":"IF(BB17=\"\",\"\",\"*\")","v":""},{"$f":"IF(BC17=\"\",\"\",\"*\")","v":""},{"$f":"IF(BD17=\"\",\"\",\"*\")","v":""},{"$f":"IF(BE17=\"\",\"\",\"*\")","v":""},{"$f":"IF(BF17=\"\",\"\",\"*\")","v":""},{"$f":"IF(BG17=\"\",\"\",\"*\")","v":""},{"$f":"IF(BH17=\"\",\"\",\"*\")","v":""},null,{"$f":"IF(BQ17=CE17,\"\",888)","v":""},{"$f":"IF(BR17=CG17,\"\",888)","v":""},{"$f":"IF(BS17=CI17,\"\",888)","v":""},{"$f":"IF(BT17=CK17,\"\",888)","v":""},{"$f":"IF(BU17=CM17,\"\",888)","v":""},{"$f":"IF(BV17=CO17,\"\",888)","v":""},{"$f":"IF(BW17=CQ17,\"\",888)","v":""},{"$f":"IF(BX17=CT17,\"\",888)","v":""},"",{"$f":"IF(BZ17=CW17,\"\",888)","v":""},{"$f":"IF(CA17=CY17,\"\",888)","v":""},{"$f":"IF(CB17=DA17,\"\",888)","v":""},{"$f":"IF(DD17=888,(DD$9&\"; \"),\"\")","v":""},{"$f":"IF(DE17=888,(DE$9&\"; \"),\"\")","v":""},"","","","","","",{"$f":"IF(DL17=888,(DL$9&\"; \"),\"\")","v":""},"","","",null,{"$f":"IF(CE17=CF17,\"\",999)","v":""},{"$f":"IF(CG17=CH17,\"\",999)","v":""},{"$f":"IF(CI17=CJ17,\"\",999)","v":""},{"$f":"IF(CK17=CL17,\"\",999)","v":""},{"$f":"IF(CM17=CN17,\"\",999)","v":""},{"$f":"IF(CO17=CP17,\"\",999)","v":""},{"$f":"IF(CQ17=CR17,\"\",999)","v":""},{"$f":"IF(CS17=CT17,\"\",999)","v":""},{"$f":"IF(CU17=CV17,\"\",999)","v":""},{"$f":"IF(CW17=CX17,\"\",999)","v":""},{"$f":"IF(CY17=CZ17,\"\",999)","v":""},{"$f":"IF(DA17=DB17,\"\",999)","v":""},{"$f":"IF(EC17=999,(EC$9&\"; \"),\"\")","v":""},"","","","","","","","","","",""]
[null,"Б.1.02","История и методология науки и техники","ВК",null,null,null,null,1,null,null,null,null,null,null,null,null,null,null,null,null,null,null,null,null,null,null,{"$f":"IF((AL18+AN18+AP18+AR18+AT18+AV18+AX18+AZ18+BB18+BD18+BF18+BH18)=0,\"\",(AL18+AN18+AP18+AR18+AT18+AV18+AX18+AZ18+BB18+BD18+BF18+BH18))","v":2},72,{"$f":"IF((AE18+AF18+AG18)=0,\"\",AE18+AF18+AG18)","v":36},18,18,null,{"$f":"IF(AD18=\"\",\"\",AC18-AD18)","v":36},{"$f":"IF(AD18=\"\",\"\",ROUND((AC18-AD18)*0.1,0))","v":4},{"$f":"IF(AD18=\"\",\"\",AH18-AI18)","v":32},2,2,null,null,null,null,null,null,null,null,null,null,null,null,null,null,null,null,null,null,null,null,null,null,null,null,36,"","",{"$f":"DP18&DQ18&DR18&DS18&DT18&DU18&DV18&DW18&DX18&DY18&DZ18&EA18","v":""},{"$f":"EO18&EP18&EQ18&ER18&ES18&ET18&EU18&EV18&EW18&EX18&EY18&EZ18","v":""},null,"*","","","","","","","","","","","",null,null,"*","*","","","","","","","","","","","","","","","","","","","","","","",null,{"$f":"IF(BQ18=CE18,\"\",888)","v":""},{"$f":"IF(BR18=CG18,\"\",888)","v":""},{"$f":"IF(BS18=CI18,\"\",888)","v":""},{"$f":"IF(BT18=CK18,\"\",888)","v":""},{"$f":"IF(BU18=CM18,\"\",888)","v":""},{"$f":"IF(BV18=CO18,\"\",888)","v":""},{"$f":"IF(BW18=CQ18,\"\",888)","v":""},"","",{"$f":"IF(BZ18=CW18,\"\",888)","v":""},{"$f":"IF(CA18=CY18,\"\",888)","v":""},{"$f":"IF(CB18=DA18,\"\",888)","v":""},{"$f":"IF(DD18=888,(DD$9&\"; \"),\"\")","v":""},{"$f":"IF(DE18=888,(DE$9&\"; \"),\"\")","v":""},"","","","","","","","","","",null,{"$f":"IF(CE18=CF18,\"\",999)","v":""},{"$f":"IF(CG18=CH18,\"\",999)","v":""},{"$f":"IF(CI18=CJ18,\"\",999)","v":""},{"$f":"IF(CK18=CL18,\"\",999)","v":""},{"$f":"IF(CM18=CN18,\"\",999)","v":""},{"$f":"IF(CO18=CP18,\"\",999)","v":""},{"$f":"IF(CQ18=CR18,\"\",999)","v":""},{"$f":"IF(CS18=CT18,\"\",999)","v":""},{"$f":"IF(CU18=CV18,\"\",999)","v":""},{"$f":"IF(CW18=CX18,\"\",999)","v":""},{"$f":"IF(CY18=CZ18,\"\",999)","v":""},{"$f":"IF(DA18=DB18,\"\",999)","v":""},"","","","","","","","","","","",""]
[null,"Б.1.03","Философия технических наук","Фил",null,null,null,null,2,null,null,null,null,null,null,null,null,null,null,null,null,null,null,null,null,null,null,{"$f":"IF((AL19+AN19+AP19+AR19+AT19+AV19+AX19+AZ19+BB19+BD19+BF19+BH19)=0,\"\",(AL19+AN19+AP19+AR19+AT19+AV19+AX19+AZ19+BB19+BD19+BF19+BH19))","v":2},72,{"$f":"IF((AE19+AF19+AG19)=0,\"\",AE19+AF19+AG19)","v":36},18,18,null,{"$f":"IF(AD19=\"\",\"\",AC19-AD19)","v":36},{"$f":"IF(AD19=\"\",\"\",ROUND((AC19-AD19)*0.1,0))","v":4},{"$f":"IF(AD19=\"\",\"\",AH19-AI19)","v":32},null,null,2,2,null,null,null,null,null,null,null,null,null,null,null,null,null,null,null,null,null,null,null,null,null,null,36,"","",{"$f":"DP19&DQ19&DR19&DS19&DT19&DU19&DV19&DW19&DX19&DY19&DZ19&EA19","v":""},{"$f":"EO19&EP19&EQ19&ER19&ES19&ET19&EU19&EV19&EW19&EX19&EY19&EZ19","v":""},null,"","*","","","","","","","","","","",null,null,"","","*","*","","","","","","","","","","","","","","","","","","","","",null,{"$f":"IF(BQ19=CE19,\"\",888)","v":""},{"$f":"IF(BR19=CG19,\"\",888)","v":""},{"$f":"IF(BS19=CI19,\"\",888)","v":""},{"$f":"IF(BT19=CK19,\"\",888)","v":""},{"$f":"IF(BU19=CM19,\"\",888)","v":""},{"$f":"IF(BV19=CO19,\"\",888)","v":""},{"$f":"IF(BW19=CQ19,\"\",888)","v":""},"","",{"$f":"IF(BZ19=CW19,\"\",888)","v":""},{"$f":"IF(CA19=CY19,\"\",888)","v":""},{"$f":"IF(CB19=DA19,\"\",888)","v":""},{"$f":"IF(DD19=888,(DD$9&\"; \"),\"\")","v":""},"","","","","","","","","","","",null,{"$f":"IF(CE19=CF19,\"\",999)","v":""},{"$f":"IF(CG19=CH19,\"\",999)","v":""},{"$f":"IF(CI19=CJ19,\"\",999)","v":""},{"$f":"IF(CK19=CL19,\"\",999)","v":""},{"$f":"IF(CM19=CN19,\"\",999)","v":""},{"$f":"IF(CO19=CP19,\"\",999)","v":""},{"$f":"IF(CQ19=CR19,\"\",999)","v":""},{"$f":"IF(CS19=CT19,\"\",999)","v":""},{"$f":"IF(CU19=CV19,\"\",999)","v":""},{"$f":"IF(CW19=CX19,\"\",999)","v":""},{"$f":"IF(CY19=CZ19,\"\",999)","v":""},{"$f":"IF(DA19=DB19,\"\",999)","v":""},"","","","","","","","","","","",""]
[null,"Б.1.04","Суперкомпьютерное моделирование технических устройств и процессов","СП",null,null,null,null,2,null,null,null,null,null,null,null,null,null,null,null,null,null,null,null,null,null,null,{"$f":"IF((AL20+AN20+AP20+AR20+AT20+AV20+AX20+AZ20+BB20+BD20+BF20+BH20)=0,\"\",(AL20+AN20+AP20+AR20+AT20+AV20+AX20+AZ20+BB20+BD20+BF20+BH20))","v":2},72,{"$f":"IF((AE20+AF20+AG20)=0,\"\",AE20+AF20+AG20)","v":36},18,18,null,{"$f":"IF(AD20=\"\",\"\",AC20-AD20)","v":36},{"$f":"IF(AD20=\"\",\"\",ROUND((AC20-AD20)*0.1,0))","v":4},{"$f":"IF(AD20=\"\",\"\",AH20-AI20)","v":32},null,null,2,2,null,null,null,null,null,null,null,null,null,null,null,null,null,null,null,null,null,null,null,null,null,null,36,"","",{"$f":"DP20&DQ20&DR20&DS20&DT20&DU20&DV20&DW20&DX20&DY20&DZ20&EA20","v":""},{"$f":"EO20&EP20&EQ20&ER20&ES20&ET20&EU20&EV20&EW20&EX20&EY20&EZ20","v":""},null,"","*","","","","","","","","","","",null,null,"","","*","*","","","","","","","","","","","","","","","","","","","","",null,{"$f":"IF(BQ20=CE20,\"\",888)","v":""},{"$f":"IF(BR20=CG20,\"\",888)","v":""},{"$f":"IF(BS20=CI20,\"\",888)","v":""},{"$f":"IF(BT20=CK20,\"\",888)","v":""},{"$f":"IF(BU20=CM20,\"\",888)","v":""},{"$f":"IF(BV20=CO20,\"\",888)","v":""},{"$f":"IF(BW20=CQ20,\"\",888)","v":""},{"$f":"IF(BX20=CT20,\"\",888)","v":""},{"$f":"IF(BY20=CU20,\"\",888)","v":""},{"$f":"IF(BZ20=CW20,\"\",888)","v":""},{"$f":"IF(CA20=CY20,\"\",888)","v":""},{"$f":"IF(CB20=DA20,\"\",888)","v":""},{"$f":"IF(DD20=888,(DD$9&\"; \"),\"\")","v":""},{"$f":"IF(DE20=888,(DE$9&\"; \"),\"\")","v":""},{"$f":"IF(DF20=888,(DF$9&\"; \"),\"\")","v":""},{"$f":"IF(DG20=888,(DG$9&\"; \"),\"\")","v":""},{"$f":"IF(DH20=888,(DH$9&\"; \"),\"\")","v":""},{"$f":"IF(DI20=888,(DI$9&\"; \"),\"\")","v":""},{"$f":"IF(DJ20=888,(DJ$9&\"; \"),\"\")","v":""},{"$f":"IF(DK20=888,(DK$9&\"; \"),\"\")","v":""},{"$f":"IF(DL20=888,(DL$9&\"; \"),\"\")","v":""},{"$f":"IF(DM20=888,(DM$9&\"; \"),\"\")","v":""},{"$f":"IF(DN20=888,(DN$9&\"; \"),\"\")","v":""},{"$f":"IF(DO20=888,(DO$9&\"; \"),\"\")","v":""},null,{"$f":"IF(CE20=CF20,\"\",999)","v":""},{"$f":"IF(CG20=CH20,\"\",999)","v":""},{"$f":"IF(CI20=CJ20,\"\",999)","v":""},{"$f":"IF(CK20=CL20,\"\",999)","v":""},{"$f":"IF(CM20=CN20,\"\",999)","v":""},{"$f":"IF(CO20=CP20,\"\",999)","v":""},{"$f":"IF(CQ20=CR20,\"\",999)","v":""},{"$f":"IF(CS20=CT20,\"\",999)","v":""},{"$f":"IF(CU20=CV20,\"\",999)","v":""},{"$f":"IF(CW20=CX20,\"\",999)","v":""},{"$f":"IF(CY20=CZ20,\"\",999)","v":""},{"$f":"IF(DA20=DB20,\"\",999)","v":""},{"$f":"IF(EC20=999,(EC$9&\"; \"),\"\")","v":""},{"$f":"IF(ED20=999,(ED$9&\"; \"),\"\")","v":""},{"$f":"IF(EE20=999,(EE$9&\"; \"),\"\")","v":""},{"$f":"IF(EF20=999,(EF$9&\"; \"),\"\")","v":""},{"$f":"IF(EG20=999,(EG$9&\"; \"),\"\")","v":""},{"$f":"IF(EH20=999,(EH$9&\"; \"),\"\")","v":""},{"$f":"IF(EI20=999,(EI$9&\"; \"),\"\")","v":""},{"$f":"IF(EJ20=999,(EJ$9&\"; \"),\"\")","v":""},{"$f":"IF(EK20=999,(EK$9&\"; \"),\"\")","v":""},{"$f":"IF(EL20=999,(EL$9&\"; \"),\"\")","v":""},{"$f":"IF(EM20=999,(EM$9&\"; \"),\"\")","v":""},{"$f":"IF(EN20=999,(EN$9&\"; \"),\"\")","v":""}]
[null,null,null,null,null,null,null,null,null,null,null,null,null,null,null,null,null,null,null,null,null,null,null,null,null,null,null,"",null,"",null,null,null,"","","",null,null,null,null,null,null,null,null,null,null,null,null,null,null,null,null,null,null,null,null,null,null,null,null,null,null,"","","","","",null,"","","","","","","","","","","","",null,null,"","","","","","","","","","","","","","","","","","","","","","","","",null,"","","","","","","","","","","","","","","","","","","","","","","","",null,"","","","","","","","","","","","","","","","","","","","","","","",""]
[null,null,null,null,null,null,null,null,null,null,null,null,null,null,null,null,null,null,null,null,null,null,null,null,null,null,null,"",null,"",null,null,null,"","","",null,null,null,null,null,null,null,null,null,null,null,null,null,null,null,null,null,null,null,null,null,null,null,null,null,null,"","","","","",null,"","","","","","","","","","","","",null,null,"","","","","","","","","","","","","","","","","","","","","","","","",null,"","","","","","","","","","","","","","","","","","","","","","","","",null,"","","","","","","","","","","","","","","","","","","","","","","",""]
[null,null,null,null,null,null,null,null,null,null,null,null,null,null,null,null,null,null,null,null,null,null,null,null,null,null,null,"",null,"",null,null,null,"","","",null,null,null,null,null,null,null,null,null,null,null,null,null,null,null,null,null,null,null,null,null,null,null,null,null,null,"","","","","",null,"","","","","","","","","","","","",null,null,"","","","","","","","","","","","","","","","","","","","","","","","",null,"","","","","","","","","","","","","","","","","","","","","","","","",null,"","","","","","","","","","","","","","","","","","","","","","","",""]
[null,null,null,null,null,null,null,null,null,null,null,null,null,null,null,null,null,null,null,null,null,null,null,null,null,null,null,"",null,"",null,null,null,"","","",null,null,null,null,null,null,null,null,null,null,null,null,null,null,null,null,null,null,null,null,null,null,null,null,null,null,"","","","","",null,"","","","","","","","","","","","",null,null,"","","","","","","","","","","","","","","","","","","","","","","","",null,"","","","","","","","","","","","","","","","","","","","","","","","",null,"","","","","","","","","","","","","","","","","","","","","","","",""]
[null,null,null,null,null,null,null,null,null,null,null,null,null,null,null,null,null,null,null,null,null,null,null,null,null,null,null,"",null,"",null,null,null,"","","",null,null,null,null,null,null,null,null,null,null,null,null,null,null,null,null,null,null,null,null,null,null,null,null,null,null,"","","","","",null,"","","","","","","","","","","","",null,null,"","","","","","","","","","","","","","","","","","","","","","","","",null,"","","","","","","","","","","","","","","","","","","","","","","","",null,"","","","","","","","","","","","","","","","","","","","","","","",""]
[null,null,null,null,null,null,null,null,null,null,null,null,null,null,null,null,null,null,null,null,null,null,null,null,null,null,null,"",null,"",null,null,null,"","","",null,null,null,null,null,null,null,null,null,null,null,null,null,null,null,null,null,null,null,null,null,null,null,null,null,null,"","","","","",null,"","","","","","","","","","","","",null,null,"","","","","","","","","","","","","","","","","","","","","","","","",null,"","","","","","","","","","","","","","","","","","","","","","","","",null,"","","","","","","","","","","","","","","","","","","","","","","",""]
[null,null,null,null,null,null,null,null,null,null,null,null,null,null,null,null,null,null,null,null,null,null,null,null,null,null,null,"",null,"",null,null,null,"","","",null,null,null,null,null,null,null,null,null,null,null,null,null,null,null,null,null,null,null,null,null,null,null,null,null,null,"","","","","",null,"","","","","","","","","","","","",null,null,"","","","","","","","","","","","","","","","","","","","","","","","",null,"","","","","","","","","","","","","","","","","","","","","","","","",null,"","","","","","","","","","","","","","","","","","","","","","","",""]
[null,null,null,null,null,null,null,null,null,null,null,null,null,null,null,null,null,null,null,null,null,null,null,null,null,null,null,"",null,"",null,null,null,"","","",null,null,null,null,null,null,null,null,null,null,null,null,null,null,null,null,null,null,null,null,null,null,null,null,null,null,"","","","","",null,"","","","","","","","","","","","",null,null,"","","","","","","","","","","","","","","","","","","","","","","","",null,"","","","","","","","","","","","","","","","","","","","","","","","",null,"","","","","","","","","","","","","","","","","","","","","","","",""]
[null,null,null,null,null,null,null,null,null,null,null,null,null,null,null,null,null,null,null,null,null,null,null,null,null,null,null,"",null,"",null,null,null,"","","",null,null,null,null,null,null,null,null,null,null,null,null,null,null,null,null,null,null,null,null,null,null,null,null,null,null,"","","","","",null,"","","","","","","","","","","","",null,null,"","","","","","","","","","","","","","","","","","","","","","","","",null,"","","","","","","","","","","","","","","","","","","","","","","","",null,"","","","","","","","","","","","","","","","","","","","","","","",""]
[null,null,null,null,null,null,null,null,null,null,null,null,null,null,null,null,null,null,null,null,null,null,null,null,null,null,null,"",null,"",null,null,null,"","","",null,null,null,null,null,null,null,null,null,null,null,null,null,null,null,null,null,null,null,null,null,null,null,null,null,null,"","","","","",null,"","","","","","","","","","","","",null,null,"","","","","","","","","","","","","","","","","","","","","","","","",null,"","","","","","","","","","","","","","","","","","","","","","","","",null,"","","","","","","","","","","","","","","","","","","","","","","",""]
[null,null,null,null,null,null,null,null,null,null,null,null,null,null,null,null,null,null,null,null,null,null,null,null,null,null,null,"",null,"",null,null,null,"","","",null,null,null,null,null,null,null,null,null,null,null,null,null,null,null,null,null,null,null,null,null,null,null,null,null,null,"","","","","",null,"","","","","","","","","","","","",null,null,"","","","","","","","","","","","","","","","","","","","","","","","",null,"","","","","","","","","","","","","","","","","","","","","","","","",null,"","","","","","","","","","","","","","","","","","","","","","","",""]
[null,null,null,null,null,null,null,null,null,null,null,null,null,null,null,null,null,null,null,null,null,null,null,null,null,null,null,"",null,"",null,null,null,"","","",null,null,null,null,null,null,null,null,null,null,null,null,null,null,null,null,null,null,null,null,null,null,null,null,null,null,"","","","","",null,"","","","","","","","","","","","",null,null,"","","","","","","","","","","","","","","","","","","","","","","","",null,"","","","","","","","","","","","","","","","","","","","","","","","",null,"","","","","","","","","","","","","","","","","","","","","","","",""]
[null,null,null,null,null,null,null,null,null,null,null,null,null,null,null,null,null,null,null,null,null,null,null,null,null,null,null,"",null,"",null,null,null,"","","",null,null,null,null,null,null,null,null,null,null,null,null,null,null,null,null,null,null,null,null,null,null,null,null,null,null,"","","","","",null,"","","","","","","","","","","","",null,null,"","","","","","","","","","","","","","","","","","","","","","","","",null,"","","","","","","","","","","","","","","","","","","","","","","","",null,"","","","","","","","","","","","","","","","","","","","","","","",""]
[null,null,null,null,null,null,null,null,null,null,null,null,null,null,null,null,null,null,null,null,null,null,null,null,null,null,null,"",null,"",null,null,null,"","","",null,null,null,null,null,null,null,null,null,null,null,null,null,null,null,null,null,null,null,null,null,null,null,null,null,null,"","","","","",null,"","","","","","","","","","","","",null,null,"","","","","","","","","","","","","","","","","","","","","","","","",null,"","","","","","","","","","","","","","","","","","","","","","","","",null,"","","","","","","","","","","","","","","","","","","","","","","",""]
[null,null,null,null,null,null,null,null,null,null,null,null,null,null,null,null,null,null,null,null,null,null,null,null,null,null,null,"",null,"",null,null,null,"","","",null,null,null,null,null,null,null,null,null,null,null,null,null,null,null,null,null,null,null,null,null,null,null,null,null,null,"","","","","",null,"","","","","","","","","","","","",null,null,"","","","","","","","","","","","","","","","","","","","","","","","",null,"","","","","","","","","","","","","","","","","","","","","","","","",null,"","","","","","","","","","","","","","","","","","","","","","","",""]
[null,null,null,null,null,null,null,null,null,null,null,null,null,null,null,null,null,null,null,null,null,null,null,null,null,null,null,{"$f":"SUM(AB37:AB56)","v":0},0,0,0,0,0,0,0,0,null,null,null,null,null,null,null,null,null,null,null,null,null,null,null,null,null,null,null,null,null,null,null,null,null,null,null,null,null,null,null,null,null,null,null,null,null,null,null,null,null,null,null,null,null,null,null,null,null,null,null,null,null,null,null,null,null,null,null,null,null,null,null,null,null,null,null,null,null,null,null,{"$f":"COUNTIF(DD37:DO209,888)","v":0},{"$f":"IF(DD36<>0,\"несоответствие: распределение по семестрам --- контр. мер-ия\",\"\")","v":""},null,null,null,null,null,null,null,null,null,null,null,null,null,null,null,null,null,null,null,null,null,null,null,{"$f":"COUNTIF(EC40:EN209,999)","v":0},{"$f":"IF(EC36<>0,\"несоответствие: нагрузка в часах --- нагрузка в кредитах\",\"\")","v":""}]
[null,null,null,null,null,null,null,null,null,null,null,null,null,null,null,null,null,null,null,null,null,null,1,2,3,4,null,{"$f":"IF((AL37+AN37+AP37+AR37+AT37+AV37+AX37+AZ37+BB37+BD37+BF37+BH37)=0,\"\",(AL37+AN37+AP37+AR37+AT37+AV37+AX37+AZ37+BB37+BD37+BF37+BH37))","v":""},null,{"$f":"IF((AE37+AF37+AG37)=0,\"\",AE37+AF37+AG37)","v":""},null,null,null,{"$f":"IF(AD37=\"\",\"\",AC37-AD37)","v":""},{"$f":"IF(AD37=\"\",\"\",ROUND((AC37-AD37)*0.1,0))","v":""},{"$f":"IF(AD37=\"\",\"\",AH37-AI37)","v":""},null,null,null,null,null,null,null,null,null,null,null,null,null,null,null,null,null,null,null,null,null,null,null,null,null,null,{"$f":"IF(D37=0,\"\",ROUND($AK$9*AK37+$AM$9*AM37+$AO$9*AO37+$AQ$9*AQ37+$AS$9*AS37+$AU$9*AU37+$AW$9*AW37+$AY$9*AY37+$BA$9*BA37+$BC$9*BC37+$BE$9*BE37+$BG$9*BG37,0))","v":""},{"$f":"IF(AC37=0,\"\",IF(AD37<>BK37,\"Ошибка\",\"\"))","v":""},{"$f":"IF(AA37=0,\"\",IF(AB37<=AA37*1.05,IF(AB37>=AA37*0.95,\"\",\"Ошибка\"),\"Ошибка\"))","v":""},{"$f":"DP37&DQ37&DR37&DS37&DT37&DU37&DV37&DW37&DX37&DY37&DZ37&EA37","v":""},{"$f":"EO37&EP37&EQ37&ER37&ES37&ET37&EU37&EV37&EW37&EX37&EY37&EZ37","v":""},null,"","","","","","","","","","","","",null,null,{"$f":"IF(AK37=\"\",\"\",\"*\")","v":""},{"$f":"IF(AL37=\"\",\"\",\"*\")","v":""},{"$f":"IF(AM37=\"\",\"\",\"*\")","v":""},{"$f":"IF(AN37=\"\",\"\",\"*\")","v":""},{"$f":"IF(AO37=\"\",\"\",\"*\")","v":""},{"$f":"IF(AP37=\"\",\"\",\"*\")","v":""},{"$f":"IF(AQ37=\"\",\"\",\"*\")","v":""},{"$f":"IF(AR37=\"\",\"\",\"*\")","v":""},{"$f":"IF(AS37=\"\",\"\",\"*\")","v":""},{"$f":"IF(AT37=\"\",\"\",\"*\")","v":""},{"$f":"IF(AU37=\"\",\"\",\"*\")","v":""},{"$f":"IF(AV37=\"\",\"\",\"*\")","v":""},{"$f":"IF(AW37=\"\",\"\",\"*\")","v":""},{"$f":"IF(AX37=\"\",\"\",\"*\")","v":""},{"$f":"IF(AY37=\"\",\"\",\"*\")","v":""},{"$f":"IF(AZ37=\"\",\"\",\"*\")","v":""},{"$f":"IF(BA37=\"\",\"\",\"*\")","v":""},{"$f":"IF(BB37=\"\",\"\",\"*\")","v":""},{"$f":"IF(BC37=\"\",\"\",\"*\")","v":""},{"$f":"IF(BD37=\"\",\"\",\"*\")","v":""},{"$f":"IF(BE37=\"\",\"\",\"*\")","v":""},{"$f":"IF(BF37=\"\",\"\",\"*\")","v":""},{"$f":"IF(BG37=\"\",\"\",\"*\")","v":""},{"$f":"IF(BH37=\"\",\"\",\"*\")","v":""},null,{"$f":"IF(BQ37=CE37,\"\",888)","v":""},{"$f":"IF(BR37=CG37,\"\",888)","v":""},{"$f":"IF(BS37=CI37,\"\",888)","v":""},{"$f":"IF(BT37=CK37,\"\",888)","v":""},{"$f":"IF(BU37=CM37,\"\",888)","v":""},{"$f":"IF(BV37=CO37,\"\",888)","v":""},{"$f":"IF(BW37=CQ37,\"\",888)","v":""},{"$f":"IF(BX37=CT37,\"\",888)","v":""},{"$f":"IF(BY37=CU37,\"\",888)","v":""},{"$f":"IF(BZ37=CW37,\"\",888)","v":""},{"$f":"IF(CA37=CY37,\"\",888)","v":""},{"$f":"IF(CB37=DA37,\"\",888)","v":""},{"$f":"IF(DD37=888,(DD$9&\"; \"),\"\")","v":""},{"$f":"IF(DE37=888,(DE$9&\"; \"),\"\")","v":""},{"$f":"IF(DF37=888,(DF$9&\"; \"),\"\")","v":""},{"$f":"IF(DG37=888,(DG$9&\"; \"),\"\")","v":""},{"$f":"IF(DH37=888,(DH$9&\"; \"),\"\")","v":""},{"$f":"IF(DI37=888,(DI$9&\"; \"),\"\")","v":""},{"$f":"IF(DJ37=888,(DJ$9&\"; \"),\"\")","v":""},{"$f":"IF(DK37=888,(DK$9&\"; \"),\"\")","v":""},{"$f":"IF(DL37=888,(DL$9&\"; \"),\"\")","v":""},{"$f":"IF(DM37=888,(DM$9&\"; \"),\"\")","v":""},{"$f":"IF(DN37=888,(DN$9&\"; \"),\"\")","v":""},{"$f":"IF(DO37=888,(DO$9&\"; \"),\"\")","v":""},null,{"$f":"IF(CE37=CF37,\"\",999)","v":""},{"$f":"IF(CG37=CH37,\"\",999)","v":""},{"$f":"IF(CI37=CJ37,\"\",999)","v":""},{"$f":"IF(CK37=CL37,\"\",999)","v":""},{"$f":"IF(CM37=CN37,\"\",999)","v":""},{"$f":"IF(CO37=CP37,\"\",999)","v":""},{"$f":"IF(CQ37=CR37,\"\",999)","v":""},{"$f":"IF(CS37=CT37,\"\",999)","v":""},{"$f":"IF(CU37=CV37,\"\",999)","v":""},{"$f":"IF(CW37=CX37,\"\",999)","v":""},{"$f":"IF(CY37=CZ37,\"\",999)","v":""},{"$f":"IF(DA37=DB37,\"\",999)","v":""},{"$f":"IF(EC37=999,(EC$9&\"; \"),\"\")","v":""},{"$f":"IF(ED37=999,(ED$9&\"; \"),\"\")","v":""},{"$f":"IF(EE37=999,(EE$9&\"; \"),\"\")","v":""},{"$f":"IF(EF37=999,(EF$9&\"; \"),\"\")","v":""},{"$f":"IF(EG37=999,(EG$9&\"; \"),\"\")","v":""},{"$f":"IF(EH37=999,(EH$9&\"; \"),\"\")","v":""},{"$f":"IF(EI37=999,(EI$9&\"; \"),\"\")","v":""},{"$f":"IF(EJ37=999,(EJ$9&\"; \"),\"\")","v":""},{"$f":"IF(EK37=999,(EK$9&\"; \"),\"\")","v":""},{"$f":"IF(EL37=999,(EL$9&\"; \"),\"\")","v":""},{"$f":"IF(EM37=999,(EM$9&\"; \"),\"\")","v":""},{"$f":"IF(EN37=999,(EN$9&\"; \"),\"\")","v":""}]
[null,null,null,null,null,null,null,null,null,null,null,null,null,null,null,null,null,null,null,null,null,null,1,2,3,null,null,"",null,"",null,null,null,{"$f":"IF(AD38=\"\",\"\",AC38-AD38)","v":""},{"$f":"IF(AD38=\"\",\"\",ROUND((AC38-AD38)*0.1,0))","v":""},{"$f":"IF(AD38=\"\",\"\",AH38-AI38)","v":""},null,null,null,null,null,null,null,null,null,null,null,null,null,null,null,null,null,null,null,null,null,null,null,null,null,null,"","","",{"$f":"DP38&DQ38&DR38&DS38&DT38&DU38&DV38&DW38&DX38&DY38&DZ38&EA38","v":""},{"$f":"EO38&EP38&EQ38&ER38&ES38&ET38&EU38&EV38&EW38&EX38&EY38&EZ38","v":""},null,{"$f":"IF(COUNTIF($E38:$P38,BQ$9)<>0,\"*\",\"\")","v":""},"","","","","","","","","","","",null,null,"","","","","","","","","","","","","","","","","","","","","","","","",null,{"$f":"IF(BQ38=CE38,\"\",888)","v":""},{"$f":"IF(BR38=CG38,\"\",888)","v":""},{"$f":"IF(BS38=CI38,\"\",888)","v":""},{"$f":"IF(BT38=CK38,\"\",888)","v":""},{"$f":"IF(BU38=CM38,\"\",888)","v":""},{"$f":"IF(BV38=CO38,\"\",888)","v":""},{"$f":"IF(BW38=CQ38,\"\",888)","v":""},{"$f":"IF(BX38=CT38,\"\",888)","v":""},{"$f":"IF(BY38=CU38,\"\",888)","v":""},{"$f":"IF(BZ38=CW38,\"\",888)","v":""},{"$f":"IF(CA38=CY38,\"\",888)","v":""},{"$f":"IF(CB38=DA38,\"\",888)","v":""},{"$f":"IF(DD38=888,(DD$9&\"; \"),\"\")","v":""},"","","","","","","","","","","",null,{"$f":"IF(CE38=CF38,\"\",999)","v":""},{"$f":"IF(CG38=CH38,\"\",999)","v":""},{"$f":"IF(CI38=CJ38,\"\",999)","v":""},{"$f":"IF(CK38=CL38,\"\",999)","v":""},{"$f":"IF(CM38=CN38,\"\",999)","v":""},{"$f":"IF(CO38=CP38,\"\",999)","v":""},{"$f":"IF(CQ38=CR38,\"\",999)","v":""},{"$f":"IF(CS38=CT38,\"\",999)","v":""},{"$f":"IF(CU38=CV38,\"\",999)","v":""},{"$f":"IF(CW38=CX38,\"\",999)","v":""},{"$f":"IF(CY38=CZ38,\"\",999)","v":""},{"$f":"IF(DA38=DB38,\"\",999)","v":""},"","","","","","","","","","","",""]
[null,null,null,null,null,null,null,null,null,null,null,null,null,null,null,null,null,null,null,null,null,null,null,null,null,null,null,{"$f":"IF((AL39+AN39+AP39+AR39+AT39+AV39+AX39+AZ39+BB39+BD39+BF39+BH39)=0,\"\",(AL39+AN39+AP39+AR39+AT39+AV39+AX39+AZ39+BB39+BD39+BF39+BH39))","v":""},null,{"$f":"IF((AE39+AF39+AG39)=0,\"\",AE39+AF39+AG39)","v":""},null,null,null,{"$f":"IF(AD39=\"\",\"\",AC39-AD39)","v":""},{"$f":"IF(AD39=\"\",\"\",ROUND((AC39-AD39)*0.1,0))","v":""},{"$f":"IF(AD39=\"\",\"\",AH39-AI39)","v":""},null,null,null,null,null,null,null,null,null,null,null,null,null,null,null,null,null,null,null,null,null,null,null,null,null,null,"","","",{"$f":"DP39&DQ39&DR39&DS39&DT39&DU39&DV39&DW39&DX39&DY39&DZ39&EA39","v":""},{"$f":"EO39&EP39&EQ39&ER39&ES39&ET39&EU39&EV39&EW39&EX39&EY39&EZ39","v":""},null,"","","","","","","","","","","","",null,null,"","","","","","","","","","","","","","","","","","","","","","","","",null,{"$f":"IF(BQ39=CE39,\"\",888)","v":""},{"$f":"IF(BR39=CG39,\"\",888)","v":""},{"$f":"IF(BS39=CI39,\"\",888)","v":""},{"$f":"IF(BT39=CK39,\"\",888)","v":""},{"$f":"IF(BU39=CM39,\"\",888)","v":""},{"$f":"IF(BV39=CO39,\"\",888)","v":""},{"$f":"IF(BW39=CQ39,\"\",888)","v":""},{"$f":"IF(BX39=CT39,\"\",888)","v":""},{"$f":"IF(BY39=CU39,\"\",888)","v":""},{"$f":"IF(BZ39=CW39,\"\",888)","v":""},{"$f":"IF(CA39=CY39,\"\",888)","v":""},{"$f":"IF(CB39=DA39,\"\",888)","v":""},{"$f":"IF(DD39=888,(DD$9&\"; \"),\"\")","v":""},{"$f":"IF(DE39=888,(DE$9&\"; \"),\"\")","v":""},{"$f":"IF(DF39=888,(DF$9&\"; \"),\"\")","v":""},{"$f":"IF(DG39=888,(DG$9&\"; \"),\"\")","v":""},{"$f":"IF(DH39=888,(DH$9&\"; \"),\"\")","v":""},{"$f":"IF(DI39=888,(DI$9&\"; \"),\"\")","v":""},{"$f":"IF(DJ39=888,(DJ$9&\"; \"),\"\")","v":""},{"$f":"IF(DK39=888,(DK$9&\"; \"),\"\")","v":""},{"$f":"IF(DL39=888,(DL$9&\"; \"),\"\")","v":""},{"$f":"IF(DM39=888,(DM$9&\"; \"),\"\")","v":""},{"$f":"IF(DN39=888,(DN$9&\"; \"),\"\")","v":""},{"$f":"IF(DO39=888,(DO$9&\"; \"),\"\")","v":""},null,{"$f":"IF(CE39=CF39,\"\",999)","v":""},{"$f":"IF(CG39=CH39,\"\",999)","v":""},{"$f":"IF(CI39=CJ39,\"\",999)","v":""},{"$f":"IF(CK39=CL39,\"\",999)","v":""},{"$f":"IF(CM39=CN39,\"\",999)","v":""},{"$f":"IF(CO39=CP39,\"\",999)","v":""},{"$f":"IF(CQ39=CR39,\"\",999)","v":""},{"$f":"IF(CS39=CT39,\"\",999)","v":""},{"$f":"IF(CU39=CV39,\"\",999)","v":""},{"$f":"IF(CW39=CX39,\"\",999)","v":""},{"$f":"IF(CY39=CZ39,\"\",999)","v":""},{"$f":"IF(DA39=DB39,\"\",999)","v":""},{"$f":"IF(EC39=999,(EC$9&\"; \"),\"\")","v":""},{"$f":"IF(ED39=999,(ED$9&\"; \"),\"\")","v":""},{"$f":"IF(EE39=999,(EE$9&\"; \"),\"\")","v":""},{"$f":"IF(EF39=999,(EF$9&\"; \"),\"\")","v":""},{"$f":"IF(EG39=999,(EG$9&\"; \"),\"\")","v":""},{"$f":"IF(EH39=999,(EH$9&\"; \"),\"\")","v":""},{"$f":"IF(EI39=999,(EI$9&\"; \"),\"\")","v":""},{"$f":"IF(EJ39=999,(EJ$9&\"; \"),\"\")","v":""},{"$f":"IF(EK39=999,(EK$9&\"; \"),\"\")","v":""},{"$f":"IF(EL39=999,(EL$9&\"; \"),\"\")","v":""},{"$f":"IF(EM39=999,(EM$9&\"; \"),\"\")","v":""},{"$f":"IF(EN39=999,(EN$9&\"; \"),\"\")","v":""}]
[null,null,null,null,null,null,null,null,null,null,null,null,null,null,null,null,null,null,null,null,null,null,null,null,null,null,null,"",null,"",null,null,null,"","","",null,null,null,null,null,null,null,null,null,null,null,null,null,null,null,null,null,null,null,null,null,null,null,null,null,null,"","","","","",null,"","","","","","","","","","","","",null,null,"","","","","","","","","","","","","","","","","","","","","","","","",null,"","","","","","","","","","","","","","","","","","","","","","","","",null,"","","","","","","","","","","","","","","","","","","","","","","",""]
[null,null,null,null,null,null,null,null,null,null,null,null,null,null,null,null,null,null,null,null,null,null,null,null,null,null,null,"",null,"",null,null,null,"","","",null,null,null,null,null,null,null,null,null,null,null,null,null,null,null,null,null,null,null,null,null,null,null,null,null,null,"","","","","",null,"","","","","","","","","","","","",null,null,"","","","","","","","","","","","","","","","","","","","","","","","",null,"","","","","","","","","","","","","","","","","","","","","","","","",null,"","","","","","","","","","","","","","","","","","","","","","","",""]
[null,null,null,null,null,null,null,null,null,null,null,null,null,null,null,null,null,null,null,null,null,null,2,null,null,null,null,"",null,"",null,null,null,"","","",null,null,null,null,null,null,null,null,null,null,null,null,null,null,null,null,null,null,null,null,null,null,null,null,null,null,"","","","","",null,"","","","","","","","","","","","",null,null,"","","","","","","","","","","","","","","","","","","","","","","","",null,"","","","","","","","","","","","","","","","","","","","","","","","",null,"","","","","","","","","","","","","","","","","","","","","","","",""]
[null,null,null,null,null,null,null,null,null,null,null,null,null,null,null,null,null,null,null,null,null,null,null,null,null,null,null,"",null,"",null,null,null,"","","",null,null,null,null,null,null,null,null,null,null,null,null,null,null,null,null,null,null,null,null,null,null,null,null,null,null,"","","","","",null,"","","","","","","","","","","","",null,null,"","","","","","","","","","","","","","","","","","","","","","","","",null,"","","","","","","","","","","","","","","","","","","","","","","","",null,"","","","","","","","","","","","","","","","","","","","","","","",""]
[null,null,null,null,null,null,null,null,null,null,null,null,null,null,null,null,null,null,null,null,null,null,null,null,null,null,null,"",null,"",null,null,null,"","","",null,null,null,null,null,null,null,null,null,null,null,null,null,null,null,null,null,null,null,null,null,null,null,null,null,null,"","","","","",null,"","","","","","","","","","","","",null,null,"","","","","","","","","","","","","","","","","","","","","","","","",null,"","","","","","","","","","","","","","","","","","","","","","","","",null,"","","","","","","","","","","","","","","","","","","","","","","",""]
[null,null,null,null,null,null,null,null,null,null,null,null,null,null,null,null,null,null,null,null,null,null,null,null,null,null,null,"",null,"",null,null,null,"","","",null,null,null,null,null,null,null,null,null,null,null,null,null,null,null,null,null,null,null,null,null,null,null,null,null,null,"","","","","",null,"","","","","","","","","","","","",null,null,"","","","","","","","","","","","","","","","","","","","","","","","",null,"","","","","","","","","","","","","","","","","","","","","","","","",null,"","","","","","","","","","","","","","","","","","","","","","","",""]
[null,null,null,null,null,null,null,null,null,null,null,null,null,null,null,null,null,null,null,null,null,null,null,null,null,null,null,"",null,"",null,null,null,"","","",null,null,null,null,null,null,null,null,null,null,null,null,null,null,null,null,null,null,null,null,null,null,null,null,null,null,"","","","","",null,"","","","","","","","","","","","",null,null,"","","","","","","","","","","","","","","","","","","","","","","","",null,"","","","","","","","","","","","","","","","","","","","","","","","",null,"","","","","","","","","","","","","","","","","","","","","","","",""]
[null,null,null,null,null,null,null,null,null,null,null,null,null,null,null,null,null,null,null,null,null,null,null,null,null,null,null,"",null,"",null,null,null,"","","",null,null,null,null,null,null,null,null,null,null,null,null,null,null,null,null,null,null,null,null,null,null,null,null,null,null,"","","","","",null,"","","","","","","","","","","","",null,null,"","","","","","","","","","","","","","","","","","","","","","","","",null,"","","","","","","","","","","","","","","","","","","","","","","","",null,"","","","","","","","","","","","","","","","","","","","","","","",""]
[null,null,null,null,null,null,null,null,null,null,null,null,null,null,null,null,null,null,null,null,null,null,null,null,null,null,null,"",null,"",null,null,null,"","","",null,null,null,null,null,null,null,null,null,null,null,null,null,null,null,null,null,null,null,null,null,null,null,null,null,null,"","","","","",null,"","","","","","","","","","","","",null,null,"","","","","","","","","","","","","","","","","","","","","","","","",null,"","","","","","","","","","","","","","","","","","","","","","","","",null,"","","","","","","","","","","","","","","","","","","","","","","",""]
[null,null,null,null,null,null,null,null,null,null,null,null,null,null,null,null,null,null,null,null,null,null,null,null,null,null,null,"",null,"",null,null,null,"","","",null,null,null,null,null,null,null,null,null,null,null,null,null,null,null,null,null,null,null,null,null,null,null,null,null,null,"","","","","",null,"","","","","","","","","","","","",null,null,"","","","","","","","","","","","","","","","","","","","","","","","",null,"","","","","","","","","","","","","","","","","","","","","","","","",null,"","","","","","","","","","","","","","","","","","","","","","","",""]
[null,null,null,null,null,null,null,null,null,null,null,null,null,null,null,null,null,null,null,null,null,null,null,null,null,null,null,"",null,"",null,null,null,{"$f":"IF(AD50=\"\",\"\",AC50-AD50)","v":""},{"$f":"IF(AD50=\"\",\"\",ROUND((AC50-AD50)*0.1,0))","v":""},{"$f":"IF(AD50=\"\",\"\",AH50-AI50)","v":""},null,null,null,null,null,null,null,null,null,null,null,null,null,null,null,null,null,null,null,null,null,null,null,null,null,null,"","","",{"$f":"DP50&DQ50&DR50&DS50&DT50&DU50&DV50&DW50&DX50&DY50&DZ50&EA50","v":""},{"$f":"EO50&EP50&EQ50&ER50&ES50&ET50&EU50&EV50&EW50&EX50&EY50&EZ50","v":""},null,"","","","","","","","","","","","",null,null,"","","","","","","","","","","","","","","","","","","","","","","","",null,"","","","","","","","","","","","","","","","","","","","","","","","",null,"","","","","","","","","","","","","","","","","","","","","","","",""]
[null,null,null,null,null,null,null,null,null,null,null,null,null,null,null,null,null,null,null,null,null,null,null,null,null,null,null,"",null,"",null,null,null,"","","",null,null,null,null,null,null,null,null,null,null,null,null,null,null,null,null,null,null,null,null,null,null,null,null,null,null,"","","","","",null,"","","","","","","","","","","","",null,null,"","","","","","","","","","","","","","","","","","","","","","","","",null,"","","","","","","","","","","","","","","","","","","","","","","","",null,"","","","","","","","","","","","","","","","","","","","","","","",""]
[null,null,null,null,null,null,null,null,null,null,null,null,null,null,null,null,null,null,null,null,null,null,null,null,null,null,null,"",null,"",null,null,null,"","","",null,null,null,null,null,null,null,null,null,null,null,null,null,null,null,null,null,null,null,null,null,null,null,null,null,null,"","","","","",null,"","","","","","","","","","","","",null,null,"","","","","","","","","","","","","","","","","","","","","","","","",null,"","","","","","","","","","","","","","","","","","","","","","","","",null,"","","","","","","","","","","","","","","","","","","","","","","",""]
[null,null,null,null,null,null,null,null,null,null,null,null,null,null,null,null,null,null,null,null,null,null,null,null,null,null,null,"",null,"",null,null,null,"","","",null,null,null,null,null,null,null,null,null,null,null,null,null,null,null,null,null,null,null,null,null,null,null,null,null,null,"","","","","",null,"","","","","","","","","","","","",null,null,"","","","","","","","","","","","","","","","","","","","","","","","",null,"","","","","","","","","","","","","","","","","","","","","","","","",null,"","","","","","","","","","","","","","","","","","","","","","","",""]
[null,null,null,null,null,null,null,null,null,null,null,null,null,null,null,null,null,null,null,null,null,null,null,null,null,null,null,"",null,"",null,null,null,"","","",null,null,null,null,null,null,null,null,null,null,null,null,null,null,null,null,null,null,null,null,null,null,null,null,null,null,"","","","","",null,"","","","","","","","","","","","",null,null,"","","","","","","","","","","","","","","","","","","","","","","","",null,"","","","","","","","","","","","","","","","","","","","","","","","",null,"","","","","","","","","","","","","","","","","","","","","","","",""]
[null,null,null,null,null,null,null,null,null,null,null,null,null,null,null,null,null,null,null,null,null,null,null,null,null,null,null,"",null,"",null,null,null,"","","",null,null,null,null,null,null,null,null,null,null,null,null,null,null,null,null,null,null,null,null,null,null,null,null,null,null,"","","","","",null,"","","","","","","","","","","","",null,null,"","","","","","","","","","","","","","","","","","","","","","","","",null,"","","","","","","","","","","","","","","","","","","","","","","","",null,"","","","","","","","","","","","","","","","","","","","","","","",""]
[null,null,null,null,null,null,null,null,null,null,null,null,null,null,null,null,null,null,null,null,null,null,null,null,null,null,null,"",null,"",null,null,null,"","","",null,null,null,null,null,null,null,null,null,null,null,null,null,null,null,null,null,null,null,null,null,null,null,null,null,null,"","","","","",null,"","","","","","","","","","","","",null,null,"","","","","","","","","","","","","","","","","","","","","","","","",null,"","","","","","","","","","","","","","","","","","","","","","","","",null,"","","","","","","","","","","","","","","","","","","","","","","",""]
["Б.1",null,"Модуль \"Профессиональные дисциплины\"",null,null,null,null,null,null,null,null,null,null,null,null,null,null,null,null,null,null,null,null,null,null,null,null,{"$f":"SUM(AB58:AB77)","v":0},0,0,0,0,0,0,0,0,null,null,null,null,null,null,null,null,null,null,null,null,null,null,null,null,null,null,null,null,null,null,null,null,null,null,null,null,null,null,null,null,null,null,null,null,null,null,null,null,null,null,null,null,null,null,null,null,null,null,null,null,null,null,null,null,null,null,null,null,null,null,null,null,null,null,null,null,null,null,null,{"$f":"COUNTIF(DD58:DO209,888)","v":0},{"$f":"IF(DD57<>0,\"несоответствие: распределение по семестрам --- контр. мер-ия\",\"\")","v":""},null,null,null,null,null,null,null,null,null,null,null,null,null,null,null,null,null,null,null,null,null,null,null,{"$f":"COUNTIF(EC61:EN209,999)","v":0},{"$f":"IF(EC57<>0,\"несоответствие: нагрузка в часах --- нагрузка в кредитах\",\"\")","v":""}]
[null,"Б.1.09",null,null,null,null,null,null,null,null,null,null,null,null,null,null,null,null,null,null,null,null,null,null,null,null,null,{"$f":"IF((AL58+AN58+AP58+AR58+AT58+AV58+AX58+AZ58+BB58+BD58+BF58+BH58)=0,\"\",(AL58+AN58+AP58+AR58+AT58+AV58+AX58+AZ58+BB58+BD58+BF58+BH58))","v":""},null,{"$f":"IF((AE58+AF58+AG58)=0,\"\",AE58+AF58+AG58)","v":""},null,null,null,{"$f":"IF(AD58=\"\",\"\",AC58-AD58)","v":""},{"$f":"IF(AD58=\"\",\"\",ROUND((AC58-AD58)*0.1,0))","v":""},{"$f":"IF(AD58=\"\",\"\",AH58-AI58)","v":""},null,null,null,null,null,null,null,null,null,null,null,null,null,null,null,null,null,null,null,null,null,null,null,null,null,null,{"$f":"IF(D58=0,\"\",ROUND($AK$9*AK58+$AM$9*AM58+$AO$9*AO58+$AQ$9*AQ58+$AS$9*AS58+$AU$9*AU58+$AW$9*AW58+$AY$9*AY58+$BA$9*BA58+$BC$9*BC58+$BE$9*BE58+$BG$9*BG58,0))","v":""},{"$f":"IF(AC58=0,\"\",IF(AD58<>BK58,\"Ошибка\",\"\"))","v":""},{"$f":"IF(AA58=0,\"\",IF(AB58<=AA58*1.05,IF(AB58>=AA58*0.95,\"\",\"Ошибка\"),\"Ошибка\"))","v":""},"","",null,{"$f":"IF(COUNTIF($E58:$P58,BQ$9)<>0,\"*\",\"\")","v":""},"","","","","","","","","","","",null,null,{"$f":"IF(AK58=\"\",\"\",\"*\")","v":""},{"$f":"IF(AL58=\"\",\"\",\"*\")","v":""},{"$f":"IF(AM58=\"\",\"\",\"*\")","v":""},{"$f":"IF(AN58=\"\",\"\",\"*\")","v":""},{"$f":"IF(AO58=\"\",\"\",\"*\")","v":""},{"$f":"IF(AP58=\"\",\"\",\"*\")","v":""},{"$f":"IF(AQ58=\"\",\"\",\"*\")","v":""},{"$f":"IF(AR58=\"\",\"\",\"*\")","v":""},{"$f":"IF(AS58=\"\",\"\",\"*\")","v":""},{"$f":"IF(AT58=\"\",\"\",\"*\")","v":""},{"$f":"IF(AU58=\"\",\"\",\"*\")","v":""},{"$f":"IF(AV58=\"\",\"\",\"*\")","v":""},{"$f":"IF(AW58=\"\",\"\",\"*\")","v":""},{"$f":"IF(AX58=\"\",\"\",\"*\")","v":""},{"$f":"IF(AY58=\"\",\"\",\"*\")","v":""},{"$f":"IF(AZ58=\"\",\"\",\"*\")","v":""},{"$f":"IF(BA58=\"\",\"\",\"*\")","v":""},{"$f":"IF(BB58=\"\",\"\",\"*\")","v":""},{"$f":"IF(BC58=\"\",\"\",\"*\")","v":""},{"$f":"IF(BD58=\"\",\"\",\"*\")","v":""},{"$f":"IF(BE58=\"\",\"\",\"*\")","v":""},{"$f":"IF(BF58=\"\",\"\",\"*\")","v":""},{"$f":"IF(BG58=\"\",\"\",\"*\")","v":""},{"$f":"IF(BH58=\"\",\"\",\"*\")","v":""},null,{"$f":"IF(BQ58=CE58,\"\",888)","v":""},{"$f":"IF(BR58=CG58,\"\",888)","v":""},{"$f":"IF(BS58=CI58,\"\",888)","v":""},{"$f":"IF(BT58=CK58,\"\",888)","v":""},{"$f":"IF(BU58=CM58,\"\",888)","v":""},{"$f":"IF(BV58=CO58,\"\",888)","v":""},{"$f":"IF(BW58=CQ58,\"\",888)","v":""},{"$f":"IF(BX58=CT58,\"\",888)","v":""},{"$f":"IF(BY58=CU58,\"\",888)","v":""},{"$f":"IF(BZ58=CW58,\"\",888)","v":""},{"$f":"IF(CA58=CY58,\"\",888)","v":""},{"$f":"IF(CB58=DA58,\"\",888)","v":""},{"$f":"IF(DD58=888,(DD$9&\"; \"),\"\")","v":""},"","","","","","","","","","","",null,{"$f":"IF(CE58=CF58,\"\",999)","v":""},{"$f":"IF(CG58=CH58,\"\",999)","v":""},{"$f":"IF(CI58=CJ58,\"\",999)","v":""},{"$f":"IF(CK58=CL58,\"\",999)","v":""},{"$f":"IF(CM58=CN58,\"\",999)","v":""},{"$f":"IF(CO58=CP58,\"\",999)","v":""},{"$f":"IF(CQ58=CR58,\"\",999)","v":""},{"$f":"IF(CS58=CT58,\"\",999)","v":""},{"$f":"IF(CU58=CV58,\"\",999)","v":""},{"$f":"IF(CW58=CX58,\"\",999)","v":""},{"$f":"IF(CY58=CZ58,\"\",999)","v":""},{"$f":"IF(DA58=DB58,\"\",999)","v":""},{"$f":"IF(EC58=999,(EC$9&\"; \"),\"\")","v":""},"","","","","","","","","","",""]
[null,"Б.1.10",null,null,null,null,null,null,null,null,null,null,null,null,null,null,null,null,null,null,null,null,1,null,null,null,null,{"$f":"IF((AL59+AN59+AP59+AR59+AT59+AV59+AX59+AZ59+BB59+BD59+BF59+BH59)=0,\"\",(AL59+AN59+AP59+AR59+AT59+AV59+AX59+AZ59+BB59+BD59+BF59+BH59))","v":""},null,{"$f":"IF((AE59+AF59+AG59)=0,\"\",AE59+AF59+AG59)","v":""},null,null,null,{"$f":"IF(AD59=\"\",\"\",AC59-AD59)","v":""},{"$f":"IF(AD59=\"\",\"\",ROUND((AC59-AD59)*0.1,0))","v":""},{"$f":"IF(AD59=\"\",\"\",AH59-AI59)","v":""},null,null,null,null,null,null,null,null,null,null,null,null,null,null,null,null,null,null,null,null,null,null,null,null,null,null,"","","",{"$f":"DP59&DQ59&DR59&DS59&DT59&DU59&DV59&DW59&DX59&DY59&DZ59&EA59","v":""},{"$f":"EO59&EP59&EQ59&ER59&ES59&ET59&EU59&EV59&EW59&EX59&EY59&EZ59","v":""},null,"","","","","","","","","","","","",null,null,"","","","","","","","","","","","","","","","","","","","","","","","",null,{"$f":"IF(BQ59=CE59,\"\",888)","v":""},{"$f":"IF(BR59=CG59,\"\",888)","v":""},{"$f":"IF(BS59=CI59,\"\",888)","v":""},{"$f":"IF(BT59=CK59,\"\",888)","v":""},{"$f":"IF(BU59=CM59,\"\",888)","v":""},{"$f":"IF(BV59=CO59,\"\",888)","v":""},{"$f":"IF(BW59=CQ59,\"\",888)","v":""},{"$f":"IF(BX59=CT59,\"\",888)","v":""},{"$f":"IF(BY59=CU59,\"\",888)","v":""},{"$f":"IF(BZ59=CW59,\"\",888)","v":""},{"$f":"IF(CA59=CY59,\"\",888)","v":""},{"$f":"IF(CB59=DA59,\"\",888)","v":""},{"$f":"IF(DD59=888,(DD$9&\"; \"),\"\")","v":""},{"$f":"IF(DE59=888,(DE$9&\"; \"),\"\")","v":""},{"$f":"IF(DF59=888,(DF$9&\"; \"),\"\")","v":""},{"$f":"IF(DG59=888,(DG$9&\"; \"),\"\")","v":""},{"$f":"IF(DH59=888,(DH$9&\"; \"),\"\")","v":""},{"$f":"IF(DI59=888,(DI$9&\"; \"),\"\")","v":""},{"$f":"IF(DJ59=888,(DJ$9&\"; \"),\"\")","v":""},{"$f":"IF(DK59=888,(DK$9&\"; \"),\"\")","v":""},{"$f":"IF(DL59=888,(DL$9&\"; \"),\"\")","v":""},{"$f":"IF(DM59=888,(DM$9&\"; \"),\"\")","v":""},{"$f":"IF(DN59=888,(DN$9&\"; \"),\"\")","v":""},{"$f":"IF(DO59=888,(DO$9&\"; \"),\"\")","v":""},null,{"$f":"IF(CE59=CF59,\"\",999)","v":""},{"$f":"IF(CG59=CH59,\"\",999)","v":""},{"$f":"IF(CI59=CJ59,\"\",999)","v":""},{"$f":"IF(CK59=CL59,\"\",999)","v":""},{"$f":"IF(CM59=CN59,\"\",999)","v":""},{"$f":"IF(CO59=CP59,\"\",999)","v":""},{"$f":"IF(CQ59=CR59,\"\",999)","v":""},{"$f":"IF(CS59=CT59,\"\",999)","v":""},{"$f":"IF(CU59=CV59,\"\",999)","v":""},{"$f":"IF(CW59=CX59,\"\",999)","v":""},{"$f":"IF(CY59=CZ59,\"\",999)","v":""},{"$f":"IF(DA59=DB59,\"\",999)","v":""},{"$f":"IF(EC59=999,(EC$9&\"; \"),\"\")","v":""},{"$f":"IF(ED59=999,(ED$9&\"; \"),\"\")","v":""},{"$f":"IF(EE59=999,(EE$9&\"; \"),\"\")","v":""},{"$f":"IF(EF59=999,(EF$9&\"; \"),\"\")","v":""},{"$f":"IF(EG59=999,(EG$9&\"; \"),\"\")","v":""},{"$f":"IF(EH59=999,(EH$9&\"; \"),\"\")","v":""},{"$f":"IF(EI59=999,(EI$9&\"; \"),\"\")","v":""},{"$f":"IF(EJ59=999,(EJ$9&\"; \"),\"\")","v":""},{"$f":"IF(EK59=999,(EK$9&\"; \"),\"\")","v":""},{"$f":"IF(EL59=999,(EL$9&\"; \"),\"\")","v":""},{"$f":"IF(EM59=999,(EM$9&\"; \"),\"\")","v":""},{"$f":"IF(EN59=999,(EN$9&\"; \"),\"\")","v":""}]
[null,"Б.1.11",null,null,null,null,null,null,null,null,null,null,null,null,null,null,null,null,null,null,null,null,2,null,null,null,null,"",null,"",null,null,null,"","","",null,null,null,null,null,null,null,null,null,null,null,null,null,null,null,null,null,null,null,null,null,null,null,null,null,null,"","","","","",null,"","","","","","","","","","","","",null,null,"","","","","","","","","","","","","","","","","","","","","","","","",null,"","","","","","","","","","","","","","","","","","","","","","","","",null,"","","","","","","","","","","","","","","","","","","","","","","",""]
[null,"Б.1.12",null,null,null,null,null,null,null,null,null,null,null,null,null,null,null,null,null,null,null,null,3,null,null,null,null,"",null,"",null,null,null,"","","",null,null,null,null,null,null,null,null,null,null,null,null,null,null,null,null,null,null,null,null,null,null,null,null,null,null,"","","","","",null,"","","","","","","","","","","","",null,null,"","","","","","","","","","","","","","","","","","","","","","","","",null,"","","","","","","","","","","","","","","","","","","","","","","","",null,"","","","","","","","","","","","","","","","","","","","","","","",""]
[null,"Б.1.13",null,null,null,null,null,null,null,null,null,null,null,null,null,null,null,null,null,null,null,null,3,null,null,null,null,"",null,"",null,null,null,"","","",null,null,null,null,null,null,null,null,null,null,null,null,null,null,null,null,null,null,null,null,null,null,null,null,null,null,"","","","","",null,"","","","","","","","","","","","",null,null,"","","","","","","","","","","","","","","","","","","","","","","","",null,"","","","","","","","","","","","","","","","","","","","","","","","",null,"","","","","","","","","","","","","","","","","","","","","","","",""]
[null,"Б.1.14",null,null,null,null,null,null,null,null,null,null,null,null,null,null,null,null,null,null,null,null,3,4,5,null,null,"",null,"",null,null,null,"","","",null,null,null,null,null,null,null,null,null,null,null,null,null,null,null,null,null,null,null,null,null,null,null,null,null,null,"","","","","",null,"","","","","","","","","","","","",null,null,"","","","","","","","","","","","","","","","","","","","","","","","",null,"","","","","","","","","","","","","","","","","","","","","","","","",null,"","","","","","","","","","","","","","","","","","","","","","","",""]
[null,"Б.1.15",null,null,null,null,null,null,null,null,null,null,null,null,null,null,null,null,null,null,null,null,null,null,null,null,null,"",null,"",null,null,null,"","","",null,null,null,null,null,null,null,null,null,null,null,null,null,null,null,null,null,null,null,null,null,null,null,null,null,null,"","","","","",null,"","","","","","","","","","","","",null,null,"","","","","","","","","","","","","","","","","","","","","","","","",null,"","","","","","","","","","","","","","","","","","","","","","","","",null,"","","","","","","","","","","","","","","","","","","","","","","",""]
[null,"Б.1.16",null,null,null,null,null,null,null,null,null,null,null,null,null,null,null,null,null,null,null,null,null,null,null,null,null,"",null,"",null,null,null,"","","",null,null,null,null,null,null,null,null,null,null,null,null,null,null,null,null,null,null,null,null,null,null,null,null,null,null,"","","","","",null,"","","","","","","","","","","","",null,null,"","","","","","","","","","","","","","","","","","","","","","","","",null,"","","","","","","","","","","","","","","","","","","","","","","","",null,"","","","","","","","","","","","","","","","","","","","","","","",""]
[null,"Б.1.17",null,null,null,null,null,null,null,null,null,null,null,null,null,null,null,null,null,null,null,null,null,null,null,null,null,"",null,"",null,null,null,"","","",null,null,null,null,null,null,null,null,null,null,null,null,null,null,null,null,null,null,null,null,null,null,null,null,null,null,{"$f":"IF(D66=0,\"\",ROUND($AK$9*AK66+$AM$9*AM66+$AO$9*AO66+$AQ$9*AQ66+$AS$9*AS66+$AU$9*AU66+$AW$9*AW66+$AY$9*AY66+$BA$9*BA66+$BC$9*BC66+$BE$9*BE66+$BG$9*BG66,0))","v":""},"","","","",null,"","","","","","","","","","","","",null,null,"","","","","","","","","","","","","","","","","","","","","","","","",null,"","","","","","","","","","","","","","","","","","","","","","","","",null,"","","","","","","","","","","","","","","","","","","","","","","",""]
[null,"Б.1.18",null,null,null,null,null,null,null,null,null,null,null,null,null,null,null,null,null,null,null,null,null,null,null,null,null,"",null,"",null,null,null,"","","",null,null,null,null,null,null,null,null,null,null,null,null,null,null,null,null,null,null,null,null,null,null,null,null,null,null,"","","","","",null,"","","","","","","","","","","","",null,null,"","","","","","","","","","","","","","","","","","","","","","","","",null,"","","","","","","","","","","","","","","","","","","","","","","","",null,"","","","","","","","","","","","","","","","","","","","","","","",""]
[null,"Б.1.17",null,null,null,null,null,null,null,null,null,null,null,null,null,null,null,null,null,null,null,null,null,null,null,null,null,"",null,"",null,null,null,"","","",null,null,null,null,null,null,null,null,null,null,null,null,null,null,null,null,null,null,null,null,null,null,null,null,null,null,"","","","","",null,"","","","","","","","","","","","",null,null,"","","","","","","","","","","","","","","","","","","","","","","","",null,"","","","","","","","","","","","","","","","","","","","","","","","",null,"","","","","","","","","","","","","","","","","","","","","","","",""]
[null,"Б.1.18",null,null,null,null,null,null,null,null,null,null,null,null,null,null,null,null,null,null,null,null,null,null,null,null,null,"",null,"",null,null,null,"","","",null,null,null,null,null,null,null,null,null,null,null,null,null,null,null,null,null,null,null,null,null,null,null,null,null,null,"","","","","",null,"","","","","","","","","","","","",null,null,"","","","","","","","","","","","","","","","","","","","","","","","",null,"","","","","","","","","","","","","","","","","","","","","","","","",null,"","","","","","","","","","","","","","","","","","","","","","","",""]
[null,"Б.1.19",null,null,null,null,null,null,null,null,null,null,null,null,null,null,null,null,null,null,null,null,null,null,null,null,null,"",null,"",null,null,null,"","","",null,null,null,null,null,null,null,null,null,null,null,null,null,null,null,null,null,null,null,null,null,null,null,null,null,null,"","","","","",null,"","","","","","","","","","","","",null,null,"","","","","","","","","","","","","","","","","","","","","","","","",null,"","","","","","","","","","","","","","","","","","","","","","","","",null,"","","","","","","","","","","","","","","","","","","","","","","",""]
[null,"Б.1.20",null,null,null,null,null,null,null,null,null,null,null,null,null,null,null,null,null,null,null,null,null,null,null,null,null,"",null,"",null,null,null,"","","",null,null,null,null,null,null,null,null,null,null,null,null,null,null,null,null,null,null,null,null,null,null,null,null,null,null,"","","","","",null,"","","","","","","","","","","","",null,null,"","","","","","","","","","","","","","","","","","","","","","","","",null,"","","","","","","","","","","","","","","","","","","","","","","","",null,"","","","","","","","","","","","","","","","","","","","","","","",""]
[null,null,null,null,null,null,null,null,null,null,null,null,null,null,null,null,null,null,null,null,null,null,null,null,null,null,null,"",null,"",null,null,null,"","","",null,null,null,null,null,null,null,null,null,null,null,null,null,null,null,null,null,null,null,null,null,null,null,null,null,null,"","","","","",null,"","","","","","","","","","","","",null,null,"","","","","","","","","","","","","","","","","","","","","","","","",null,"","","","","","","","","","","","","","","","","","","","","","","","",null,"","","","","","","","","","","","","","","","","","","","","","","",""]
[null,null,null,null,null,null,null,null,null,null,null,null,null,null,null,null,null,null,null,null,null,null,null,null,null,null,null,"",null,"",null,null,null,"","","",null,null,null,null,null,null,null,null,null,null,null,null,null,null,null,null,null,null,null,null,null,null,null,null,null,null,"","","","","",null,"","","","","","","","","","","","",null,null,"","","","","","","","","","","","","","","","","","","","","","","","",null,"","","","","","","","","","","","","","","","","","","","","","","","",null,"","","","","","","","","","","","","","","","","","","","","","","",""]
[null,null,null,null,null,null,null,null,null,null,null,null,null,null,null,null,null,null,null,null,null,null,null,null,null,null,null,"",null,"",null,null,null,"","","",null,null,null,null,null,null,null,null,null,null,null,null,null,null,null,null,null,null,null,null,null,null,null,null,null,null,"","","","","",null,"","","","","","","","","","","","",null,null,"","","","","","","","","","","","","","","","","","","","","","","","",null,"","","","","","","","","","","","","","","","","","","","","","","","",null,"","","","","","","","","","","","","","","","","","","","","","","",""]
[null,null,null,null,null,null,null,null,null,null,null,null,null,null,null,null,null,null,null,null,null,null,null,null,null,null,null,"",null,"",null,null,null,"","","",null,null,null,null,null,null,null,null,null,null,null,null,null,null,null,null,null,null,null,null,null,null,null,null,null,null,"","","","","",null,"","","","","","","","","","","","",null,null,"","","","","","","","","","","","","","","","","","","","","","","","",null,"","","","","","","","","","","","","","","","","","","","","","","","",null,"","","","","","","","","","","","","","","","","","","","","","","",""]
[null,null,null,null,null,null,null,null,null,null,null,null,null,null,null,null,null,null,null,null,null,null,null,null,null,null,null,"",null,"",null,null,null,"","","",null,null,null,null,null,null,null,null,null,null,null,null,null,null,null,null,null,null,null,null,null,null,null,null,null,null,"","","","","",null,"","","","","","","","","","","","",null,null,"","","","","","","","","","","","","","","","","","","","","","","","",null,"","","","","","","","","","","","","","","","","","","","","","","","",null,"","","","","","","","","","","","","","","","","","","","","","","",""]
[null,null,null,null,null,null,null,null,null,null,null,null,null,null,null,null,null,null,null,null,null,null,null,null,null,null,null,"",null,"",null,null,null,"","","",null,null,null,null,null,null,null,null,null,null,null,null,null,null,null,null,null,null,null,null,null,null,null,null,null,null,"","","","","",null,"","","","","","","","","","","","",null,null,"","","","","","","","","","","","","","","","","","","","","","","","",null,"","","","","","","","","","","","","","","","","","","","","","","","",null,"","","","","","","","","","","","","","","","","","","","","","","",""]
[null,"В.1","Вариативная часть, в т.ч. дисциплины по выбору",null,null,null,null,null,null,null,null,null,null,null,null,null,null,null,null,null,null,null,null,null,null,null,null,{"$f":"AB79+AB143","v":0},0,0,0,0,0,0,{"$f":"AI80+#REF!","v":{"$error":"#REF!"}},{"$f":"AJ80+#REF!","v":{"$error":"#REF!"}},null,null,null,null,null,null,null,null,null,null,null,null,null,null,null,null,null,null,null,null,null,null,null,null,null,null,null,null,null,null,null,null,null,null,null,null,null,null,null,null,null,null,null,null,null,null,null,null,null,null,null,null,null,null,null,null,null,null,null,null,null,null,null,null,null,null,null,null,null,null,null,"888 - несоответствие",null,null,null,null,null,null,null,null,null,null,null,null,null,null,null,null,null,null,null,null,null,null,null,null,"999 - несоответствие"]
[null,"В.1.00","Вариативная часть",null,null,null,null,null,null,null,null,null,null,null,null,null,null,null,null,null,null,null,null,null,null,null,null,{"$f":"AB80+AB101+AB122","v":0},{"$f":"AC80+AC101+AC122","v":0},0,0,0,0,0,{"$f":"AI81+#REF!","v":{"$error":"#VALUE!"}},{"$f":"AJ81+#REF!","v":{"$error":"#VALUE!"}},null,null,null,null,null,null,null,null,null,null,null,null,null,null,null,null,null,null,null,null,null,null,null,null,null,null,null,null,null,null,null,null,null,null,null,null,null,null,null,null,null,null,null,null,null,null,null,null,null,null,null,null,null,null,null,null,null,null,null,null,null,null,null,null,null,null,null,null,null,null,null,"888 - несоответствие",null,null,null,null,null,null,null,null,null,null,null,null,null,null,null,null,null,null,null,null,null,null,null,null,"999 - несоответствие"]
["В.1 / ВЧ",null,"Модуль \"Общенаучные дисциплины\"",null,null,null,null,null,null,null,null,null,null,null,null,null,null,null,null,null,null,null,null,null,null,null,null,{"$f":"SUM(AB81:AB100)","v":0},0,0,0,0,0,0,0,0,null,null,null,null,null,null,null,null,null,null,null,null,null,null,null,null,null,null,null,null,null,null,null,null,null,null,null,null,null,null,null,null,null,null,null,null,null,null,null,null,null,null,null,null,null,null,null,null,null,null,null,null,null,null,null,null,null,null,null,null,null,null,null,null,null,null,null,null,null,null,null,{"$f":"COUNTIF(DD81:DO146,888)","v":0},{"$f":"IF(DD80<>0,\"несоответствие: распределение по семестрам --- контр. мер-ия\",\"\")","v":""},null,null,null,null,null,null,null,null,null,null,null,null,null,null,null,null,null,null,null,null,null,null,null,{"$f":"COUNTIF(EC84:EN146,999)","v":0},{"$f":"IF(EC80<>0,\"несоответствие: нагрузка в часах --- нагрузка в кредитах\",\"\")","v":""}]
[null,"В.1.01",null,null,null,null,null,null,null,null,null,null,null,null,null,null,null,null,null,null,null,null,null,null,null,null,null,{"$f":"IF((AL81+AN81+AP81+AR81+AT81+AV81+AX81+AZ81+BB81+BD81+BF81+BH81)=0,\"\",(AL81+AN81+AP81+AR81+AT81+AV81+AX81+AZ81+BB81+BD81+BF81+BH81))","v":""},null,{"$f":"IF((AE81+AF81+AG81)=0,\"\",AE81+AF81+AG81)","v":""},null,null,null,{"$f":"IF(AD81=\"\",\"\",AC81-AD81)","v":""},{"$f":"IF(AD81=\"\",\"\",ROUND((AC81-AD81)*0.1,0))","v":""},{"$f":"IF(AD81=\"\",\"\",AH81-AI81)","v":""},null,null,null,null,null,null,null,null,null,null,null,null,null,null,null,null,null,null,null,null,null,null,null,null,null,null,{"$f":"IF(D81=0,\"\",ROUND($AK$9*AK81+$AM$9*AM81+$AO$9*AO81+$AQ$9*AQ81+$AS$9*AS81+$AU$9*AU81+$AW$9*AW81+$AY$9*AY81+$BA$9*BA81+$BC$9*BC81+$BE$9*BE81+$BG$9*BG81,0))","v":""},{"$f":"IF(AC81=0,\"\",IF(AD81<>BK81,\"Ошибка\",\"\"))","v":""},{"$f":"IF(AA81=0,\"\",IF(AB81<=AA81*1.05,IF(AB81>=AA81*0.95,\"\",\"Ошибка\"),\"Ошибка\"))","v":""},{"$f":"DP81&DQ81&DR81&DS81&DT81&DU81&DV81&DW81&DX81&DY81&DZ81&EA81","v":""},{"$f":"EO81&EP81&EQ81&ER81&ES81&ET81&EU81&EV81&EW81&EX81&EY81&EZ81","v":""},null,{"$f":"IF(COUNTIF($E81:$P81,BQ$9)<>0,\"*\",\"\")","v":""},"","","","","","","","","","","",null,null,{"$f":"IF(AK81=\"\",\"\",\"*\")","v":""},{"$f":"IF(AL81=\"\",\"\",\"*\")","v":""},{"$f":"IF(AM81=\"\",\"\",\"*\")","v":""},{"$f":"IF(AN81=\"\",\"\",\"*\")","v":""},{"$f":"IF(AO81=\"\",\"\",\"*\")","v":""},{"$f":"IF(AP81=\"\",\"\",\"*\")","v":""},{"$f":"IF(AQ81=\"\",\"\",\"*\")","v":""},{"$f":"IF(AR81=\"\",\"\",\"*\")","v":""},{"$f":"IF(AS81=\"\",\"\",\"*\")","v":""},{"$f":"IF(AT81=\"\",\"\",\"*\")","v":""},{"$f":"IF(AU81=\"\",\"\",\"*\")","v":""},{"$f":"IF(AV81=\"\",\"\",\"*\")","v":""},{"$f":"IF(AW81=\"\",\"\",\"*\")","v":""},{"$f":"IF(AX81=\"\",\"\",\"*\")","v":""},{"$f":"IF(AY81=\"\",\"\",\"*\")","v":""},{"$f":"IF(AZ81=\"\",\"\",\"*\")","v":""},{"$f":"IF(BA81=\"\",\"\",\"*\")","v":""},{"$f":"IF(BB81=\"\",\"\",\"*\")","v":""},{"$f":"IF(BC81=\"\",\"\",\"*\")","v":""},{"$f":"IF(BD81=\"\",\"\",\"*\")","v":""},{"$f":"IF(BE81=\"\",\"\",\"*\")","v":""},{"$f":"IF(BF81=\"\",\"\",\"*\")","v":""},{"$f":"IF(BG81=\"\",\"\",\"*\")","v":""},{"$f":"IF(BH81=\"\",\"\",\"*\")","v":""},null,{"$f":"IF(BQ81=CE81,\"\",888)","v":""},{"$f":"IF(BR81=CG81,\"\",888)","v":""},{"$f":"IF(BS81=CI81,\"\",888)","v":""},{"$f":"IF(BT81=CK81,\"\",888)","v":""},{"$f":"IF(BU81=CM81,\"\",888)","v":""},{"$f":"IF(BV81=CO81,\"\",888)","v":""},{"$f":"IF(BW81=CQ81,\"\",888)","v":""},{"$f":"IF(BX81=CT81,\"\",888)","v":""},{"$f":"IF(BY81=CU81,\"\",888)","v":""},{"$f":"IF(BZ81=CW81,\"\",888)","v":""},{"$f":"IF(CA81=CY81,\"\",888)","v":""},{"$f":"IF(CB81=DA81,\"\",888)","v":""},{"$f":"IF(DD81=888,(DD$9&\"; \"),\"\")","v":""},{"$f":"IF(DE81=888,(DE$9&\"; \"),\"\")","v":""},{"$f":"IF(DF81=888,(DF$9&\"; \"),\"\")","v":""},{"$f":"IF(DG81=888,(DG$9&\"; \"),\"\")","v":""},{"$f":"IF(DH81=888,(DH$9&\"; \"),\"\")","v":""},{"$f":"IF(DI81=888,(DI$9&\"; \"),\"\")","v":""},{"$f":"IF(DJ81=888,(DJ$9&\"; \"),\"\")","v":""},{"$f":"IF(DK81=888,(DK$9&\"; \"),\"\")","v":""},{"$f":"IF(DL81=888,(DL$9&\"; \"),\"\")","v":""},{"$f":"IF(DM81=888,(DM$9&\"; \"),\"\")","v":""},{"$f":"IF(DN81=888,(DN$9&\"; \"),\"\")","v":""},{"$f":"IF(DO81=888,(DO$9&\"; \"),\"\")","v":""},null,{"$f":"IF(CE81=CF81,\"\",999)","v":""},{"$f":"IF(CG81=CH81,\"\",999)","v":""},{"$f":"IF(CI81=CJ81,\"\",999)","v":""},{"$f":"IF(CK81=CL81,\"\",999)","v":""},{"$f":"IF(CM81=CN81,\"\",999)","v":""},{"$f":"IF(CO81=CP81,\"\",999)","v":""},{"$f":"IF(CQ81=CR81,\"\",999)","v":""},{"$f":"IF(CS81=CT81,\"\",999)","v":""},{"$f":"IF(CU81=CV81,\"\",999)","v":""},{"$f":"IF(CW81=CX81,\"\",999)","v":""},{"$f":"IF(CY81=CZ81,\"\",999)","v":""},{"$f":"IF(DA81=DB81,\"\",999)","v":""},{"$f":"IF(EC81=999,(EC$9&\"; \"),\"\")","v":""},{"$f":"IF(ED81=999,(ED$9&\"; \"),\"\")","v":""},{"$f":"IF(EE81=999,(EE$9&\"; \"),\"\")","v":""},{"$f":"IF(EF81=999,(EF$9&\"; \"),\"\")","v":""},{"$f":"IF(EG81=999,(EG$9&\"; \"),\"\")","v":""},{"$f":"IF(EH81=999,(EH$9&\"; \"),\"\")","v":""},{"$f":"IF(EI81=999,(EI$9&\"; \"),\"\")","v":""},{"$f":"IF(EJ81=999,(EJ$9&\"; \"),\"\")","v":""},{"$f":"IF(EK81=999,(EK$9&\"; \"),\"\")","v":""},{"$f":"IF(EL81=999,(EL$9&\"; \"),\"\")","v":""},{"$f":"IF(EM81=999,(EM$9&\"; \"),\"\")","v":""},{"$f":"IF(EN81=999,(EN$9&\"; \"),\"\")","v":""}]
[null,"В.1.02",null,null,null,null,null,null,null,null,null,null,null,null,null,null,null,null,null,null,null,null,null,null,null,null,null,"",null,"",null,null,null,{"$f":"IF(AD82=\"\",\"\",AC82-AD82)","v":""},{"$f":"IF(AD82=\"\",\"\",ROUND((AC82-AD82)*0.1,0))","v":""},{"$f":"IF(AD82=\"\",\"\",AH82-AI82)","v":""},null,null,null,null,null,null,null,null,null,null,null,null,null,null,null,null,null,null,null,null,null,null,null,null,null,null,"","","",{"$f":"DP82&DQ82&DR82&DS82&DT82&DU82&DV82&DW82&DX82&DY82&DZ82&EA82","v":""},{"$f":"EO82&EP82&EQ82&ER82&ES82&ET82&EU82&EV82&EW82&EX82&EY82&EZ82","v":""},null,"","","","","","","","","","","","",null,null,"","","","","","","","","","","","","","","","","","","","","","","","",null,{"$f":"IF(BQ82=CE82,\"\",888)","v":""},{"$f":"IF(BR82=CG82,\"\",888)","v":""},{"$f":"IF(BS82=CI82,\"\",888)","v":""},{"$f":"IF(BT82=CK82,\"\",888)","v":""},{"$f":"IF(BU82=CM82,\"\",888)","v":""},{"$f":"IF(BV82=CO82,\"\",888)","v":""},{"$f":"IF(BW82=CQ82,\"\",888)","v":""},{"$f":"IF(BX82=CT82,\"\",888)","v":""},{"$f":"IF(BY82=CU82,\"\",888)","v":""},{"$f":"IF(BZ82=CW82,\"\",888)","v":""},{"$f":"IF(CA82=CY82,\"\",888)","v":""},{"$f":"IF(CB82=DA82,\"\",888)","v":""},{"$f":"IF(DD82=888,(DD$9&\"; \"),\"\")","v":""},"","","","","","","","","","","",null,{"$f":"IF(CE82=CF82,\"\",999)","v":""},{"$f":"IF(CG82=CH82,\"\",999)","v":""},{"$f":"IF(CI82=CJ82,\"\",999)","v":""},{"$f":"IF(CK82=CL82,\"\",999)","v":""},{"$f":"IF(CM82=CN82,\"\",999)","v":""},{"$f":"IF(CO82=CP82,\"\",999)","v":""},{"$f":"IF(CQ82=CR82,\"\",999)","v":""},{"$f":"IF(CS82=CT82,\"\",999)","v":""},{"$f":"IF(CU82=CV82,\"\",999)","v":""},{"$f":"IF(CW82=CX82,\"\",999)","v":""},{"$f":"IF(CY82=CZ82,\"\",999)","v":""},{"$f":"IF(DA82=DB82,\"\",999)","v":""},"","","","","","","","","","","",""]
[null,"В.1.03",null,null,null,null,null,null,null,null,null,null,null,null,null,null,null,null,null,null,null,null,null,null,null,null,null,"",null,"",null,null,null,{"$f":"IF(AD83=\"\",\"\",AC83-AD83)","v":""},{"$f":"IF(AD83=\"\",\"\",ROUND((AC83-AD83)*0.1,0))","v":""},{"$f":"IF(AD83=\"\",\"\",AH83-AI83)","v":""},null,null,null,null,null,null,null,null,null,null,null,null,null,null,null,null,null,null,null,null,null,null,null,null,null,null,"","","",{"$f":"DP83&DQ83&DR83&DS83&DT83&DU83&DV83&DW83&DX83&DY83&DZ83&EA83","v":""},{"$f":"EO83&EP83&EQ83&ER83&ES83&ET83&EU83&EV83&EW83&EX83&EY83&EZ83","v":""},null,"","","","","","","","","","","","",null,null,"","","","","","","","","","","","","","","","","","","","","","","","",null,"","","","","","","","","","","","","","","","","","","","","","","","",null,"","","","","","","","","","","","","","","","","","","","","","","",""]
[null,"В.1.04",null,null,null,null,null,null,null,null,null,null,null,null,null,null,null,null,null,null,null,null,null,null,null,null,null,"",null,"",null,null,null,"","","",null,null,null,null,null,null,null,null,null,null,null,null,null,null,null,null,null,null,null,null,null,null,null,null,null,null,"","","","","",null,"","","","","","","","","","","","",null,null,"","","","","","","","","","","","","","","","","","","","","","","","",null,"","","","","","","","","","","","","","","","","","","","","","","","",null,"","","","","","","","","","","","","","","","","","","","","","","",""]
[null,"В.1.05",null,null,null,null,null,null,null,null,null,null,null,null,null,null,null,null,null,null,null,null,null,null,null,null,null,"",null,"",null,null,null,"","","",null,null,null,null,null,null,null,null,null,null,null,null,null,null,null,null,null,null,null,null,null,null,null,null,null,null,"","","","","",null,"","","","","","","","","","","","",null,null,"","","","","","","","","","","","","","","","","","","","","","","","",null,"","","","","","","","","","","","","","","","","","","","","","","","",null,"","","","","","","","","","","","","","","","","","","","","","","",""]
[null,"В.1.06",null,null,null,null,null,null,null,null,null,null,null,null,null,null,null,null,null,null,null,null,null,null,null,null,null,"",null,"",null,null,null,"","","",null,null,null,null,null,null,null,null,null,null,null,null,null,null,null,null,null,null,null,null,null,null,null,null,null,null,"","","","","",null,"","","","","","","","","","","","",null,null,"","","","","","","","","","","","","","","","","","","","","","","","",null,"","","","","","","","","","","","","","","","","","","","","","","","",null,"","","","","","","","","","","","","","","","","","","","","","","",""]
[null,null,null,null,null,null,null,null,null,null,null,null,null,null,null,null,null,null,null,null,null,null,null,null,null,null,null,"",null,"",null,null,null,"","","",null,null,null,null,null,null,null,null,null,null,null,null,null,null,null,null,null,null,null,null,null,null,null,null,null,null,"","","","","",null,"","","","","","","","","","","","",null,null,"","","","","","","","","","","","","","","","","","","","","","","","",null,"","","","","","","","","","","","","","","","","","","","","","","","",null,"","","","","","","","","","","","","","","","","","","","","","","",""]
[null,null,null,null,null,null,null,null,null,null,null,null,null,null,null,null,null,null,null,null,null,null,null,null,null,null,null,"",null,"",null,null,null,"","","",null,null,null,null,null,null,null,null,null,null,null,null,null,null,null,null,null,null,null,null,null,null,null,null,null,null,"","","","","",null,"","","","","","","","","","","","",null,null,"","","","","","","","","","","","","","","","","","","","","","","","",null,"","","","","","","","","","","","","","","","","","","","","","","","",null,"","","","","","","","","","","","","","","","","","","","","","","",""]
[null,null,null,null,null,null,null,null,null,null,null,null,null,null,null,null,null,null,null,null,null,null,null,null,null,null,null,"",null,"",null,null,null,"","","",null,null,null,null,null,null,null,null,null,null,null,null,null,null,null,null,null,null,null,null,null,null,null,null,null,null,"","","","","",null,"","","","","","","","","","","","",null,null,"","","","","","","","","","","","","","","","","","","","","","","","",null,"","","","","","","","","","","","","","","","","","","","","","","","",null,"","","","","","","","","","","","","","","","","","","","","","","",""]
[null,null,null,null,null,null,null,null,null,null,null,null,null,null,null,null,null,null,null,null,null,null,null,null,null,null,null,"",null,"",null,null,null,"","","",null,null,null,null,null,null,null,null,null,null,null,null,null,null,null,null,null,null,null,null,null,null,null,null,null,null,"","","","","",null,"","","","","","","","","","","","",null,null,"","","","","","","","","","","","","","","","","","","","","","","","",null,"","","","","","","","","","","","","","","","","","","","","","","","",null,"","","","","","","","","","","","","","","","","","","","","","","",""]
[null,null,null,null,null,null,null,null,null,null,null,null,null,null,null,null,null,null,null,null,null,null,null,null,null,null,null,"",null,"",null,null,null,"","","",null,null,null,null,null,null,null,null,null,null,null,null,null,null,null,null,null,null,null,null,null,null,null,null,null,null,"","","","","",null,"","","","","","","","","","","","",null,null,"","","","","","","","","","","","","","","","","","","","","","","","",null,"","","","","","","","","","","","","","","","","","","","","","","","",null,"","","","","","","","","","","","","","","","","","","","","","","",""]
[null,null,null,null,null,null,null,null,null,null,null,null,null,null,null,null,null,null,null,null,null,null,null,null,null,null,null,"",null,"",null,null,null,"","","",null,null,null,null,null,null,null,null,null,null,null,null,null,null,null,null,null,null,null,null,null,null,null,null,null,null,"","","","","",null,"","","","","","","","","","","","",null,null,"","","","","","","","","","","","","","","","","","","","","","","","",null,"","","","","","","","","","","","","","","","","","","","","","","","",null,"","","","","","","","","","","","","","","","","","","","","","","",""]
[null,null,null,null,null,null,null,null,null,null,null,null,null,null,null,null,null,null,null,null,null,null,null,null,null,null,null,"",null,"",null,null,null,"","","",null,null,null,null,null,null,null,null,null,null,null,null,null,null,null,null,null,null,null,null,null,null,null,null,null,null,"","","","","",null,"","","","","","","","","","","","",null,null,"","","","","","","","","","","","","","","","","","","","","","","","",null,"","","","","","","","","","","","","","","","","","","","","","","","",null,"","","","","","","","","","","","","","","","","","","","","","","",""]
[null,null,null,null,null,null,null,null,null,null,null,null,null,null,null,null,null,null,null,null,null,null,null,null,null,null,null,"",null,"",null,null,null,"","","",null,null,null,null,null,null,null,null,null,null,null,null,null,null,null,null,null,null,null,null,null,null,null,null,null,null,"","","","","",null,"","","","","","","","","","","","",null,null,"","","","","","","","","","","","","","","","","","","","","","","","",null,"","","","","","","","","","","","","","","","","","","","","","","","",null,"","","","","","","","","","","","","","","","","","","","","","","",""]
[null,null,null,null,null,null,null,null,null,null,null,null,null,null,null,null,null,null,null,null,null,null,null,null,null,null,null,"",null,"",null,null,null,"","","",null,null,null,null,null,null,null,null,null,null,null,null,null,null,null,null,null,null,null,null,null,null,null,null,null,null,"","","","","",null,"","","","","","","","","","","","",null,null,"","","","","","","","","","","","","","","","","","","","","","","","",null,"","","","","","","","","","","","","","","","","","","","","","","","",null,"","","","","","","","","","","","","","","","","","","","","","","",""]
[null,null,null,null,null,null,null,null,null,null,null,null,null,null,null,null,null,null,null,null,null,null,null,null,null,null,null,"",null,"",null,null,null,"","","",null,null,null,null,null,null,null,null,null,null,null,null,null,null,null,null,null,null,null,null,null,null,null,null,null,null,"","","","","",null,"","","","","","","","","","","","",null,null,"","","","","","","","","","","","","","","","","","","","","","","","",null,"","","","","","","","","","","","","","","","","","","","","","","","",null,"","","","","","","","","","","","","","","","","","","","","","","",""]
[null,null,null,null,null,null,null,null,null,null,null,null,null,null,null,null,null,null,null,null,null,null,null,null,null,null,null,"",null,"",null,null,null,"","","",null,null,null,null,null,null,null,null,null,null,null,null,null,null,null,null,null,null,null,null,null,null,null,null,null,null,"","","","","",null,"","","","","","","","","","","","",null,null,"","","","","","","","","","","","","","","","","","","","","","","","",null,"","","","","","","","","","","","","","","","","","","","","","","","",null,"","","","","","","","","","","","","","","","","","","","","","","",""]
[null,null,null,null,null,null,null,null,null,null,null,null,null,null,null,null,null,null,null,null,null,null,null,null,null,null,null,"",null,"",null,null,null,"","","",null,null,null,null,null,null,null,null,null,null,null,null,null,null,null,null,null,null,null,null,null,null,null,null,null,null,"","","","","",null,"","","","","","","","","","","","",null,null,"","","","","","","","","","","","","","","","","","","","","","","","",null,"","","","","","","","","","","","","","","","","","","","","","","","",null,"","","","","","","","","","","","","","","","","","","","","","","",""]
[null,null,null,null,null,null,null,null,null,null,null,null,null,null,null,null,null,null,null,null,null,null,null,null,null,null,null,"",null,"",null,null,null,"","","",null,null,null,null,null,null,null,null,null,null,null,null,null,null,null,null,null,null,null,null,null,null,null,null,null,null,"","","","","",null,"","","","","","","","","","","","",null,null,"","","","","","","","","","","","","","","","","","","","","","","","",null,"","","","","","","","","","","","","","","","","","","","","","","","",null,"","","","","","","","","","","","","","","","","","","","","","","",""]
[null,null,null,null,null,null,null,null,null,null,null,null,null,null,null,null,null,null,null,null,null,null,null,null,null,null,null,"",null,"",null,null,null,"","","",null,null,null,null,null,null,null,null,null,null,null,null,null,null,null,null,null,null,null,null,null,null,null,null,null,null,"","","","","",null,"","","","","","","","","","","","",null,null,"","","","","","","","","","","","","","","","","","","","","","","","",null,"","","","","","","","","","","","","","","","","","","","","","","","",null,"","","","","","","","","","","","","","","","","","","","","","","",""]
[null,null,null,null,null,null,null,null,null,null,null,null,null,null,null,null,null,null,null,null,null,null,null,null,null,null,null,{"$f":"SUM(AB102:AB121)","v":0},0,0,0,0,0,0,0,0,null,null,null,null,null,null,null,null,null,null,null,null,null,null,null,null,null,null,null,null,null,null,null,null,null,null,null,null,null,null,null,null,null,null,null,null,null,null,null,null,null,null,null,null,null,null,null,null,null,null,null,null,null,null,null,null,null,null,null,null,null,null,null,null,null,null,null,null,null,null,null,{"$f":"COUNTIF(DD102:DO172,888)","v":0},{"$f":"IF(DD101<>0,\"несоответствие: распределение по семестрам --- контр. мер-ия\",\"\")","v":""},null,null,null,null,null,null,null,null,null,null,null,null,null,null,null,null,null,null,null,null,null,null,null,{"$f":"COUNTIF(EC105:EN172,999)","v":0},{"$f":"IF(EC101<>0,\"несоответствие: нагрузка в часах --- нагрузка в кредитах\",\"\")","v":""}]
[null,null,null,null,null,null,null,null,null,null,null,null,null,null,null,null,null,null,null,null,null,null,null,null,null,null,null,{"$f":"IF((AL102+AN102+AP102+AR102+AT102+AV102+AX102+AZ102+BB102+BD102+BF102+BH102)=0,\"\",(AL102+AN102+AP102+AR102+AT102+AV102+AX102+AZ102+BB102+BD102+BF102+BH102))","v":""},null,{"$f":"IF((AE102+AF102+AG102)=0,\"\",AE102+AF102+AG102)","v":""},null,null,null,{"$f":"IF(AD102=\"\",\"\",AC102-AD102)","v":""},{"$f":"IF(AD102=\"\",\"\",ROUND((AC102-AD102)*0.1,0))","v":""},{"$f":"IF(AD102=\"\",\"\",AH102-AI102)","v":""},null,null,null,null,null,null,null,null,null,null,null,null,null,null,null,null,null,null,null,null,null,null,null,null,null,null,{"$f":"IF(D102=0,\"\",ROUND($AK$9*AK102+$AM$9*AM102+$AO$9*AO102+$AQ$9*AQ102+$AS$9*AS102+$AU$9*AU102+$AW$9*AW102+$AY$9*AY102+$BA$9*BA102+$BC$9*BC102+$BE$9*BE102+$BG$9*BG102,0))","v":""},{"$f":"IF(AC102=0,\"\",IF(AD102<>BK102,\"Ошибка\",\"\"))","v":""},{"$f":"IF(AA102=0,\"\",IF(AB102<=AA102*1.05,IF(AB102>=AA102*0.95,\"\",\"Ошибка\"),\"Ошибка\"))","v":""},{"$f":"DP102&DQ102&DR102&DS102&DT102&DU102&DV102&DW102&DX102&DY102&DZ102&EA102","v":""},{"$f":"EO102&EP102&EQ102&ER102&ES102&ET102&EU102&EV102&EW102&EX102&EY102&EZ102","v":""},null,{"$f":"IF(COUNTIF($E102:$P102,BQ$9)<>0,\"*\",\"\")","v":""},"","","","","","","","","","","",null,null,{"$f":"IF(AK102=\"\",\"\",\"*\")","v":""},{"$f":"IF(AL102=\"\",\"\",\"*\")","v":""},{"$f":"IF(AM102=\"\",\"\",\"*\")","v":""},{"$f":"IF(AN102=\"\",\"\",\"*\")","v":""},{"$f":"IF(AO102=\"\",\"\",\"*\")","v":""},{"$f":"IF(AP102=\"\",\"\",\"*\")","v":""},{"$f":"IF(AQ102=\"\",\"\",\"*\")","v":""},{"$f":"IF(AR102=\"\",\"\",\"*\")","v":""},{"$f":"IF(AS102=\"\",\"\",\"*\")","v":""},{"$f":"IF(AT102=\"\",\"\",\"*\")","v":""},{"$f":"IF(AU102=\"\",\"\",\"*\")","v":""},{"$f":"IF(AV102=\"\",\"\",\"*\")","v":""},{"$f":"IF(AW102=\"\",\"\",\"*\")","v":""},{"$f":"IF(AX102=\"\",\"\",\"*\")","v":""},{"$f":"IF(AY102=\"\",\"\",\"*\")","v":""},{"$f":"IF(AZ102=\"\",\"\",\"*\")","v":""},{"$f":"IF(BA102=\"\",\"\",\"*\")","v":""},{"$f":"IF(BB102=\"\",\"\",\"*\")","v":""},{"$f":"IF(BC102=\"\",\"\",\"*\")","v":""},{"$f":"IF(BD102=\"\",\"\",\"*\")","v":""},{"$f":"IF(BE102=\"\",\"\",\"*\")","v":""},{"$f":"IF(BF102=\"\",\"\",\"*\")","v":""},{"$f":"IF(BG102=\"\",\"\",\"*\")","v":""},{"$f":"IF(BH102=\"\",\"\",\"*\")","v":""},null,{"$f":"IF(BQ102=CE102,\"\",888)","v":""},{"$f":"IF(BR102=CG102,\"\",888)","v":""},{"$f":"IF(BS102=CI102,\"\",888)","v":""},{"$f":"IF(BT102=CK102,\"\",888)","v":""},{"$f":"IF(BU102=CM102,\"\",888)","v":""},{"$f":"IF(BV102=CO102,\"\",888)","v":""},{"$f":"IF(BW102=CQ102,\"\",888)","v":""},{"$f":"IF(BX102=CT102,\"\",888)","v":""},{"$f":"IF(BY102=CU102,\"\",888)","v":""},{"$f":"IF(BZ102=CW102,\"\",888)","v":""},{"$f":"IF(CA102=CY102,\"\",888)","v":""},{"$f":"IF(CB102=DA102,\"\",888)","v":""},{"$f":"IF(DD102=888,(DD$9&\"; \"),\"\")","v":""},{"$f":"IF(DE102=888,(DE$9&\"; \"),\"\")","v":""},{"$f":"IF(DF102=888,(DF$9&\"; \"),\"\")","v":""},{"$f":"IF(DG102=888,(DG$9&\"; \"),\"\")","v":""},{"$f":"IF(DH102=888,(DH$9&\"; \"),\"\")","v":""},{"$f":"IF(DI102=888,(DI$9&\"; \"),\"\")","v":""},{"$f":"IF(DJ102=888,(DJ$9&\"; \"),\"\")","v":""},{"$f":"IF(DK102=888,(DK$9&\"; \"),\"\")","v":""},{"$f":"IF(DL102=888,(DL$9&\"; \"),\"\")","v":""},{"$f":"IF(DM102=888,(DM$9&\"; \"),\"\")","v":""},{"$f":"IF(DN102=888,(DN$9&\"; \"),\"\")","v":""},{"$f":"IF(DO102=888,(DO$9&\"; \"),\"\")","v":""},null,{"$f":"IF(CE102=CF102,\"\",999)","v":""},{"$f":"IF(CG102=CH102,\"\",999)","v":""},{"$f":"IF(CI102=CJ102,\"\",999)","v":""},{"$f":"IF(CK102=CL102,\"\",999)","v":""},{"$f":"IF(CM102=CN102,\"\",999)","v":""},{"$f":"IF(CO102=CP102,\"\",999)","v":""},{"$f":"IF(CQ102=CR102,\"\",999)","v":""},{"$f":"IF(CS102=CT102,\"\",999)","v":""},{"$f":"IF(CU102=CV102,\"\",999)","v":""},{"$f":"IF(CW102=CX102,\"\",999)","v":""},{"$f":"IF(CY102=CZ102,\"\",999)","v":""},{"$f":"IF(DA102=DB102,\"\",999)","v":""},{"$f":"IF(EC102=999,(EC$9&\"; \"),\"\")","v":""},{"$f":"IF(ED102=999,(ED$9&\"; \"),\"\")","v":""},{"$f":"IF(EE102=999,(EE$9&\"; \"),\"\")","v":""},{"$f":"IF(EF102=999,(EF$9&\"; \"),\"\")","v":""},{"$f":"IF(EG102=999,(EG$9&\"; \"),\"\")","v":""},{"$f":"IF(EH102=999,(EH$9&\"; \"),\"\")","v":""},{"$f":"IF(EI102=999,(EI$9&\"; \"),\"\")","v":""},{"$f":"IF(EJ102=999,(EJ$9&\"; \"),\"\")","v":""},{"$f":"IF(EK102=999,(EK$9&\"; \"),\"\")","v":""},{"$f":"IF(EL102=999,(EL$9&\"; \"),\"\")","v":""},{"$f":"IF(EM102=999,(EM$9&\"; \"),\"\")","v":""},{"$f":"IF(EN102=999,(EN$9&\"; \"),\"\")","v":""}]
[null,null,null,null,null,null,null,null,null,null,null,null,null,null,null,null,null,null,null,null,null,null,null,null,null,null,null,"",null,"",null,null,null,{"$f":"IF(AD103=\"\",\"\",AC103-AD103)","v":""},{"$f":"IF(AD103=\"\",\"\",ROUND((AC103-AD103)*0.1,0))","v":""},{"$f":"IF(AD103=\"\",\"\",AH103-AI103)","v":""},null,null,null,null,null,null,null,null,null,null,null,null,null,null,null,null,null,null,null,null,null,null,null,null,null,null,"","","",{"$f":"DP103&DQ103&DR103&DS103&DT103&DU103&DV103&DW103&DX103&DY103&DZ103&EA103","v":""},{"$f":"EO103&EP103&EQ103&ER103&ES103&ET103&EU103&EV103&EW103&EX103&EY103&EZ103","v":""},null,"","","","","","","","","","","","",null,null,"","","","","","","","","","","","","","","","","","","","","","","","",null,{"$f":"IF(BQ103=CE103,\"\",888)","v":""},{"$f":"IF(BR103=CG103,\"\",888)","v":""},{"$f":"IF(BS103=CI103,\"\",888)","v":""},{"$f":"IF(BT103=CK103,\"\",888)","v":""},{"$f":"IF(BU103=CM103,\"\",888)","v":""},{"$f":"IF(BV103=CO103,\"\",888)","v":""},{"$f":"IF(BW103=CQ103,\"\",888)","v":""},{"$f":"IF(BX103=CT103,\"\",888)","v":""},{"$f":"IF(BY103=CU103,\"\",888)","v":""},{"$f":"IF(BZ103=CW103,\"\",888)","v":""},{"$f":"IF(CA103=CY103,\"\",888)","v":""},{"$f":"IF(CB103=DA103,\"\",888)","v":""},{"$f":"IF(DD103=888,(DD$9&\"; \"),\"\")","v":""},"","","","","","","","","","","",null,{"$f":"IF(CE103=CF103,\"\",999)","v":""},{"$f":"IF(CG103=CH103,\"\",999)","v":""},{"$f":"IF(CI103=CJ103,\"\",999)","v":""},{"$f":"IF(CK103=CL103,\"\",999)","v":""},{"$f":"IF(CM103=CN103,\"\",999)","v":""},{"$f":"IF(CO103=CP103,\"\",999)","v":""},{"$f":"IF(CQ103=CR103,\"\",999)","v":""},{"$f":"IF(CS103=CT103,\"\",999)","v":""},{"$f":"IF(CU103=CV103,\"\",999)","v":""},{"$f":"IF(CW103=CX103,\"\",999)","v":""},{"$f":"IF(CY103=CZ103,\"\",999)","v":""},{"$f":"IF(DA103=DB103,\"\",999)","v":""},"","","","","","","","","","","",""]
[null,null,null,null,null,null,null,null,null,null,null,null,null,null,null,null,null,null,null,null,null,null,null,null,null,null,null,"",null,"",null,null,null,{"$f":"IF(AD104=\"\",\"\",AC104-AD104)","v":""},{"$f":"IF(AD104=\"\",\"\",ROUND((AC104-AD104)*0.1,0))","v":""},{"$f":"IF(AD104=\"\",\"\",AH104-AI104)","v":""},null,null,null,null,null,null,null,null,null,null,null,null,null,null,null,null,null,null,null,null,null,null,null,null,null,null,"","","",{"$f":"DP104&DQ104&DR104&DS104&DT104&DU104&DV104&DW104&DX104&DY104&DZ104&EA104","v":""},{"$f":"EO104&EP104&EQ104&ER104&ES104&ET104&EU104&EV104&EW104&EX104&EY104&EZ104","v":""},null,"","","","","","","","","","","","",null,null,"","","","","","","","","","","","","","","","","","","","","","","","",null,"","","","","","","","","","","","","","","","","","","","","","","","",null,"","","","","","","","","","","","","","","","","","","","","","","",""]
[null,null,null,null,null,null,null,null,null,null,null,null,null,null,null,null,null,null,null,null,null,null,null,null,null,null,null,"",null,"",null,null,null,"","","",null,null,null,null,null,null,null,null,null,null,null,null,null,null,null,null,null,null,null,null,null,null,null,null,null,null,"","","","","",null,"","","","","","","","","","","","",null,null,"","","","","","","","","","","","","","","","","","","","","","","","",null,"","","","","","","","","","","","","","","","","","","","","","","","",null,"","","","","","","","","","","","","","","","","","","","","","","",""]
[null,null,null,null,null,null,null,null,null,null,null,null,null,null,null,null,null,null,null,null,null,null,null,null,null,null,null,"",null,"",null,null,null,"","","",null,null,null,null,null,null,null,null,null,null,null,null,null,null,null,null,null,null,null,null,null,null,null,null,null,null,"","","","","",null,"","","","","","","","","","","","",null,null,"","","","","","","","","","","","","","","","","","","","","","","","",null,"","","","","","","","","","","","","","","","","","","","","","","","",null,"","","","","","","","","","","","","","","","","","","","","","","",""]
[null,null,null,null,null,null,null,null,null,null,null,null,null,null,null,null,null,null,null,null,null,null,null,null,null,null,null,"",null,"",null,null,null,"","","",null,null,null,null,null,null,null,null,null,null,null,null,null,null,null,null,null,null,null,null,null,null,null,null,null,null,"","","","","",null,"","","","","","","","","","","","",null,null,"","","","","","","","","","","","","","","","","","","","","","","","",null,"","","","","","","","","","","","","","","","","","","","","","","","",null,"","","","","","","","","","","","","","","","","","","","","","","",""]
[null,null,null,null,null,null,null,null,null,null,null,null,null,null,null,null,null,null,null,null,null,null,null,null,null,null,null,"",null,"",null,null,null,"","","",null,null,null,null,null,null,null,null,null,null,null,null,null,null,null,null,null,null,null,null,null,null,null,null,null,null,"","","","","",null,"","","","","","","","","","","","",null,null,"","","","","","","","","","","","","","","","","","","","","","","","",null,"","","","","","","","","","","","","","","","","","","","","","","","",null,"","","","","","","","","","","","","","","","","","","","","","","",""]
[null,null,null,null,null,null,null,null,null,null,null,null,null,null,null,null,null,null,null,null,null,null,null,null,null,null,null,"",null,"",null,null,null,"","","",null,null,null,null,null,null,null,null,null,null,null,null,null,null,null,null,null,null,null,null,null,null,null,null,null,null,"","","","","",null,"","","","","","","","","","","","",null,null,"","","","","","","","","","","","","","","","","","","","","","","","",null,"","","","","","","","","","","","","","","","","","","","","","","","",null,"","","","","","","","","","","","","","","","","","","","","","","",""]
[null,null,null,null,null,null,null,null,null,null,null,null,null,null,null,null,null,null,null,null,null,null,null,null,null,null,null,"",null,"",null,null,null,"","","",null,null,null,null,null,null,null,null,null,null,null,null,null,null,null,null,null,null,null,null,null,null,null,null,null,null,"","","","","",null,"","","","","","","","","","","","",null,null,"","","","","","","","","","","","","","","","","","","","","","","","",null,"","","","","","","","","","","","","","","","","","","","","","","","",null,"","","","","","","","","","","","","","","","","","","","","","","",""]
[null,null,null,null,null,null,null,null,null,null,null,null,null,null,null,null,null,null,null,null,null,null,null,null,null,null,null,"",null,"",null,null,null,"","","",null,null,null,null,null,null,null,null,null,null,null,null,null,null,null,null,null,null,null,null,null,null,null,null,null,null,"","","","","",null,"","","","","","","","","","","","",null,null,"","","","","","","","","","","","","","","","","","","","","","","","",null,"","","","","","","","","","","","","","","","","","","","","","","","",null,"","","","","","","","","","","","","","","","","","","","","","","",""]
[null,null,null,null,null,null,null,null,null,null,null,null,null,null,null,null,null,null,null,null,null,null,null,null,null,null,null,"",null,"",null,null,null,"","","",null,null,null,null,null,null,null,null,null,null,null,null,null,null,null,null,null,null,null,null,null,null,null,null,null,null,"","","","","",null,"","","","","","","","","","","","",null,null,"","","","","","","","","","","","","","","","","","","","","","","","",null,"","","","","","","","","","","","","","","","","","","","","","","","",null,"","","","","","","","","","","","","","","","","","","","","","","",""]
[null,null,null,null,null,null,null,null,null,null,null,null,null,null,null,null,null,null,null,null,null,null,null,null,null,null,null,"",null,"",null,null,null,"","","",null,null,null,null,null,null,null,null,null,null,null,null,null,null,null,null,null,null,null,null,null,null,null,null,null,null,"","","","","",null,"","","","","","","","","","","","",null,null,"","","","","","","","","","","","","","","","","","","","","","","","",null,"","","","","","","","","","","","","","","","","","","","","","","","",null,"","","","","","","","","","","","","","","","","","","","","","","",""]
[null,null,null,null,null,null,null,null,null,null,null,null,null,null,null,null,null,null,null,null,null,null,null,null,null,null,null,"",null,"",null,null,null,"","","",null,null,null,null,null,null,null,null,null,null,null,null,null,null,null,null,null,null,null,null,null,null,null,null,null,null,"","","","","",null,"","","","","","","","","","","","",null,null,"","","","","","","","","","","","","","","","","","","","","","","","",null,"","","","","","","","","","","","","","","","","","","","","","","","",null,"","","","","","","","","","","","","","","","","","","","","","","",""]
[null,null,null,null,null,null,null,null,null,null,null,null,null,null,null,null,null,null,null,null,null,null,null,null,null,null,null,"",null,"",null,null,null,"","","",null,null,null,null,null,null,null,null,null,null,null,null,null,null,null,null,null,null,null,null,null,null,null,null,null,null,"","","","","",null,"","","","","","","","","","","","",null,null,"","","","","","","","","","","","","","","","","","","","","","","","",null,"","","","","","","","","","","","","","","","","","","","","","","","",null,"","","","","","","","","","","","","","","","","","","","","","","",""]
[null,null,null,null,null,null,null,null,null,null,null,null,null,null,null,null,null,null,null,null,null,null,null,null,null,null,null,"",null,"",null,null,null,"","","",null,null,null,null,null,null,null,null,null,null,null,null,null,null,null,null,null,null,null,null,null,null,null,null,null,null,"","","","","",null,"","","","","","","","","","","","",null,null,"","","","","","","","","","","","","","","","","","","","","","","","",null,"","","","","","","","","","","","","","","","","","","","","","","","",null,"","","","","","","","","","","","","","","","","","","","","","","",""]
[null,null,null,null,null,null,null,null,null,null,null,null,null,null,null,null,null,null,null,null,null,null,null,null,null,null,null,"",null,"",null,null,null,"","","",null,null,null,null,null,null,null,null,null,null,null,null,null,null,null,null,null,null,null,null,null,null,null,null,null,null,"","","","","",null,"","","","","","","","","","","","",null,null,"","","","","","","","","","","","","","","","","","","","","","","","",null,"","","","","","","","","","","","","","","","","","","","","","","","",null,"","","","","","","","","","","","","","","","","","","","","","","",""]
[null,null,null,null,null,null,null,null,null,null,null,null,null,null,null,null,null,null,null,null,null,null,null,null,null,null,null,"",null,"",null,null,null,"","","",null,null,null,null,null,null,null,null,null,null,null,null,null,null,null,null,null,null,null,null,null,null,null,null,null,null,"","","","","",null,"","","","","","","","","","","","",null,null,"","","","","","","","","","","","","","","","","","","","","","","","",null,"","","","","","","","","","","","","","","","","","","","","","","","",null,"","","","","","","","","","","","","","","","","","","","","","","",""]
[null,null,null,null,null,null,null,null,null,null,null,null,null,null,null,null,null,null,null,null,null,null,null,null,null,null,null,"",null,"",null,null,null,"","","",null,null,null,null,null,null,null,null,null,null,null,null,null,null,null,null,null,null,null,null,null,null,null,null,null,null,"","","","","",null,"","","","","","","","","","","","",null,null,"","","","","","","","","","","","","","","","","","","","","","","","",null,"","","","","","","","","","","","","","","","","","","","","","","","",null,"","","","","","","","","","","","","","","","","","","","","","","",""]
[null,null,null,null,null,null,null,null,null,null,null,null,null,null,null,null,null,null,null,null,null,null,null,null,null,null,null,"",null,"",null,null,null,"","","",null,null,null,null,null,null,null,null,null,null,null,null,null,null,null,null,null,null,null,null,null,null,null,null,null,null,"","","","","",null,"","","","","","","","","","","","",null,null,"","","","","","","","","","","","","","","","","","","","","","","","",null,"","","","","","","","","","","","","","","","","","","","","","","","",null,"","","","","","","","","","","","","","","","","","","","","","","",""]
[null,null,null,null,null,null,null,null,null,null,null,null,null,null,null,null,null,null,null,null,null,null,null,null,null,null,null,"",null,"",null,null,null,"","","",null,null,null,null,null,null,null,null,null,null,null,null,null,null,null,null,null,null,null,null,null,null,null,null,null,null,"","","","","",null,"","","","","","","","","","","","",null,null,"","","","","","","","","","","","","","","","","","","","","","","","",null,"","","","","","","","","","","","","","","","","","","","","","","","",null,"","","","","","","","","","","","","","","","","","","","","","","",""]
["В.1 / ВЧ",null,"Модуль \"Профессиональные дисциплины\"",null,null,null,null,null,null,null,null,null,null,null,null,null,null,null,null,null,null,null,null,null,null,null,null,{"$f":"SUM(AB123:AB142)","v":0},0,0,0,0,0,0,0,0,null,null,null,null,null,null,null,null,null,null,null,null,null,null,null,null,null,null,null,null,null,null,null,null,null,null,null,null,null,null,null,null,null,null,null,null,null,null,null,null,null,null,null,null,null,null,null,null,null,null,null,null,null,null,null,null,null,null,null,null,null,null,null,null,null,null,null,null,null,null,null,{"$f":"COUNTIF(DD123:DO193,888)","v":0},{"$f":"IF(DD122<>0,\"несоответствие: распределение по семестрам --- контр. мер-ия\",\"\")","v":""},null,null,null,null,null,null,null,null,null,null,null,null,null,null,null,null,null,null,null,null,null,null,null,{"$f":"COUNTIF(EC126:EN193,999)","v":0},{"$f":"IF(EC122<>0,\"несоответствие: нагрузка в часах --- нагрузка в кредитах\",\"\")","v":""}]
[null,"В.1.09",null,null,null,null,null,null,null,null,null,null,null,null,null,null,null,null,null,null,null,null,null,null,null,null,null,{"$f":"IF((AL123+AN123+AP123+AR123+AT123+AV123+AX123+AZ123+BB123+BD123+BF123+BH123)=0,\"\",(AL123+AN123+AP123+AR123+AT123+AV123+AX123+AZ123+BB123+BD123+BF123+BH123))","v":""},null,{"$f":"IF((AE123+AF123+AG123)=0,\"\",AE123+AF123+AG123)","v":""},null,null,null,{"$f":"IF(AD123=\"\",\"\",AC123-AD123)","v":""},{"$f":"IF(AD123=\"\",\"\",ROUND((AC123-AD123)*0.1,0))","v":""},{"$f":"IF(AD123=\"\",\"\",AH123-AI123)","v":""},null,null,null,null,null,null,null,null,null,null,null,null,null,null,null,null,null,null,null,null,null,null,null,null,null,null,{"$f":"IF(D123=0,\"\",ROUND($AK$9*AK123+$AM$9*AM123+$AO$9*AO123+$AQ$9*AQ123+$AS$9*AS123+$AU$9*AU123+$AW$9*AW123+$AY$9*AY123+$BA$9*BA123+$BC$9*BC123+$BE$9*BE123+$BG$9*BG123,0))","v":""},{"$f":"IF(AC123=0,\"\",IF(AD123<>BK123,\"Ошибка\",\"\"))","v":""},{"$f":"IF(AA123=0,\"\",IF(AB123<=AA123*1.05,IF(AB123>=AA123*0.95,\"\",\"Ошибка\"),\"Ошибка\"))","v":""},{"$f":"DP123&DQ123&DR123&DS123&DT123&DU123&DV123&DW123&DX123&DY123&DZ123&EA123","v":""},{"$f":"EO123&EP123&EQ123&ER123&ES123&ET123&EU123&EV123&EW123&EX123&EY123&EZ123","v":""},null,{"$f":"IF(COUNTIF($E123:$P123,BQ$9)<>0,\"*\",\"\")","v":""},"","","","","","","","","","","",null,null,{"$f":"IF(AK123=\"\",\"\",\"*\")","v":""},{"$f":"IF(AL123=\"\",\"\",\"*\")","v":""},{"$f":"IF(AM123=\"\",\"\",\"*\")","v":""},{"$f":"IF(AN123=\"\",\"\",\"*\")","v":""},{"$f":"IF(AO123=\"\",\"\",\"*\")","v":""},{"$f":"IF(AP123=\"\",\"\",\"*\")","v":""},{"$f":"IF(AQ123=\"\",\"\",\"*\")","v":""},{"$f":"IF(AR123=\"\",\"\",\"*\")","v":""},{"$f":"IF(AS123=\"\",\"\",\"*\")","v":""},{"$f":"IF(AT123=\"\",\"\",\"*\")","v":""},{"$f":"IF(AU123=\"\",\"\",\"*\")","v":""},{"$f":"IF(AV123=\"\",\"\",\"*\")","v":""},{"$f":"IF(AW123=\"\",\"\",\"*\")","v":""},{"$f":"IF(AX123=\"\",\"\",\"*\")","v":""},{"$f":"IF(AY123=\"\",\"\",\"*\")","v":""},{"$f":"IF(AZ123=\"\",\"\",\"*\")","v":""},{"$f":"IF(BA123=\"\",\"\",\"*\")","v":""},{"$f":"IF(BB123=\"\",\"\",\"*\")","v":""},{"$f":"IF(BC123=\"\",\"\",\"*\")","v":""},{"$f":"IF(BD123=\"\",\"\",\"*\")","v":""},{"$f":"IF(BE123=\"\",\"\",\"*\")","v":""},{"$f":"IF(BF123=\"\",\"\",\"*\")","v":""},{"$f":"IF(BG123=\"\",\"\",\"*\")","v":""},{"$f":"IF(BH123=\"\",\"\",\"*\")","v":""},null,{"$f":"IF(BQ123=CE123,\"\",888)","v":""},{"$f":"IF(BR123=CG123,\"\",888)","v":""},{"$f":"IF(BS123=CI123,\"\",888)","v":""},{"$f":"IF(BT123=CK123,\"\",888)","v":""},{"$f":"IF(BU123=CM123,\"\",888)","v":""},{"$f":"IF(BV123=CO123,\"\",888)","v":""},{"$f":"IF(BW123=CQ123,\"\",888)","v":""},{"$f":"IF(BX123=CT123,\"\",888)","v":""},{"$f":"IF(BY123=CU123,\"\",888)","v":""},{"$f":"IF(BZ123=CW123,\"\",888)","v":""},{"$f":"IF(CA123=CY123,\"\",888)","v":""},{"$f":"IF(CB123=DA123,\"\",888)","v":""},{"$f":"IF(DD123=888,(DD$9&\"; \"),\"\")","v":""},{"$f":"IF(DE123=888,(DE$9&\"; \"),\"\")","v":""},{"$f":"IF(DF123=888,(DF$9&\"; \"),\"\")","v":""},{"$f":"IF(DG123=888,(DG$9&\"; \"),\"\")","v":""},{"$f":"IF(DH123=888,(DH$9&\"; \"),\"\")","v":""},{"$f":"IF(DI123=888,(DI$9&\"; \"),\"\")","v":""},{"$f":"IF(DJ123=888,(DJ$9&\"; \"),\"\")","v":""},{"$f":"IF(DK123=888,(DK$9&\"; \"),\"\")","v":""},{"$f":"IF(DL123=888,(DL$9&\"; \"),\"\")","v":""},{"$f":"IF(DM123=888,(DM$9&\"; \"),\"\")","v":""},{"$f":"IF(DN123=888,(DN$9&\"; \"),\"\")","v":""},{"$f":"IF(DO123=888,(DO$9&\"; \"),\"\")","v":""},null,{"$f":"IF(CE123=CF123,\"\",999)","v":""},{"$f":"IF(CG123=CH123,\"\",999)","v":""},{"$f":"IF(CI123=CJ123,\"\",999)","v":""},{"$f":"IF(CK123=CL123,\"\",999)","v":""},{"$f":"IF(CM123=CN123,\"\",999)","v":""},{"$f":"IF(CO123=CP123,\"\",999)","v":""},{"$f":"IF(CQ123=CR123,\"\",999)","v":""},{"$f":"IF(CS123=CT123,\"\",999)","v":""},{"$f":"IF(CU123=CV123,\"\",999)","v":""},{"$f":"IF(CW123=CX123,\"\",999)","v":""},{"$f":"IF(CY123=CZ123,\"\",999)","v":""},{"$f":"IF(DA123=DB123,\"\",999)","v":""},{"$f":"IF(EC123=999,(EC$9&\"; \"),\"\")","v":""},{"$f":"IF(ED123=999,(ED$9&\"; \"),\"\")","v":""},{"$f":"IF(EE123=999,(EE$9&\"; \"),\"\")","v":""},{"$f":"IF(EF123=999,(EF$9&\"; \"),\"\")","v":""},{"$f":"IF(EG123=999,(EG$9&\"; \"),\"\")","v":""},{"$f":"IF(EH123=999,(EH$9&\"; \"),\"\")","v":""},{"$f":"IF(EI123=999,(EI$9&\"; \"),\"\")","v":""},{"$f":"IF(EJ123=999,(EJ$9&\"; \"),\"\")","v":""},{"$f":"IF(EK123=999,(EK$9&\"; \"),\"\")","v":""},{"$f":"IF(EL123=999,(EL$9&\"; \"),\"\")","v":""},{"$f":"IF(EM123=999,(EM$9&\"; \"),\"\")","v":""},{"$f":"IF(EN123=999,(EN$9&\"; \"),\"\")","v":""}]
[null,"В.1.10",null,null,null,null,null,null,null,null,null,null,null,null,null,null,null,null,null,null,null,null,null,null,null,null,null,"",null,"",null,null,null,{"$f":"IF(AD124=\"\",\"\",AC124-AD124)","v":""},{"$f":"IF(AD124=\"\",\"\",ROUND((AC124-AD124)*0.1,0))","v":""},{"$f":"IF(AD124=\"\",\"\",AH124-AI124)","v":""},null,null,null,null,null,null,null,null,null,null,null,null,null,null,null,null,null,null,null,null,null,null,null,null,null,null,"","","",{"$f":"DP124&DQ124&DR124&DS124&DT124&DU124&DV124&DW124&DX124&DY124&DZ124&EA124","v":""},{"$f":"EO124&EP124&EQ124&ER124&ES124&ET124&EU124&EV124&EW124&EX124&EY124&EZ124","v":""},null,"","","","","","","","","","","","",null,null,"","","","","","","","","","","","","","","","","","","","","","","","",null,{"$f":"IF(BQ124=CE124,\"\",888)","v":""},{"$f":"IF(BR124=CG124,\"\",888)","v":""},{"$f":"IF(BS124=CI124,\"\",888)","v":""},{"$f":"IF(BT124=CK124,\"\",888)","v":""},{"$f":"IF(BU124=CM124,\"\",888)","v":""},{"$f":"IF(BV124=CO124,\"\",888)","v":""},{"$f":"IF(BW124=CQ124,\"\",888)","v":""},{"$f":"IF(BX124=CT124,\"\",888)","v":""},{"$f":"IF(BY124=CU124,\"\",888)","v":""},{"$f":"IF(BZ124=CW124,\"\",888)","v":""},{"$f":"IF(CA124=CY124,\"\",888)","v":""},{"$f":"IF(CB124=DA124,\"\",888)","v":""},{"$f":"IF(DD124=888,(DD$9&\"; \"),\"\")","v":""},"","","","","","","","","","","",null,{"$f":"IF(CE124=CF124,\"\",999)","v":""},{"$f":"IF(CG124=CH124,\"\",999)","v":""},{"$f":"IF(CI124=CJ124,\"\",999)","v":""},{"$f":"IF(CK124=CL124,\"\",999)","v":""},{"$f":"IF(CM124=CN124,\"\",999)","v":""},{"$f":"IF(CO124=CP124,\"\",999)","v":""},{"$f":"IF(CQ124=CR124,\"\",999)","v":""},{"$f":"IF(CS124=CT124,\"\",999)","v":""},{"$f":"IF(CU124=CV124,\"\",999)","v":""},{"$f":"IF(CW124=CX124,\"\",999)","v":""},{"$f":"IF(CY124=CZ124,\"\",999)","v":""},{"$f":"IF(DA124=DB124,\"\",999)","v":""},"","","","","","","","","","","",""]
[null,"В.1.11",null,null,null,null,null,null,null,null,null,null,null,null,null,null,null,null,null,null,null,null,null,null,null,null,null,"",null,"",null,null,null,{"$f":"IF(AD125=\"\",\"\",AC125-AD125)","v":""},{"$f":"IF(AD125=\"\",\"\",ROUND((AC125-AD125)*0.1,0))","v":""},{"$f":"IF(AD125=\"\",\"\",AH125-AI125)","v":""},null,null,null,null,null,null,null,null,null,null,null,null,null,null,null,null,null,null,null,null,null,null,null,null,null,null,"","","",{"$f":"DP125&DQ125&DR125&DS125&DT125&DU125&DV125&DW125&DX125&DY125&DZ125&EA125","v":""},{"$f":"EO125&EP125&EQ125&ER125&ES125&ET125&EU125&EV125&EW125&EX125&EY125&EZ125","v":""},null,"","","","","","","","","","","","",null,null,"","","","","","","","","","","","","","","","","","","","","","","","",null,"","","","","","","","","","","","","","","","","","","","","","","","",null,"","","","","","","","","","","","","","","","","","","","","","","",""]
[null,"В.1.12",null,null,null,null,null,null,null,null,null,null,null,null,null,null,null,null,null,null,null,null,null,null,null,null,null,"",null,"",null,null,null,"","","",null,null,null,null,null,null,null,null,null,null,null,null,null,null,null,null,null,null,null,null,null,null,null,null,null,null,"","","","","",null,"","","","","","","","","","","","",null,null,"","","","","","","","","","","","","","","","","","","","","","","","",null,"","","","","","","","","","","","","","","","","","","","","","","","",null,"","","","","","","","","","","","","","","","","","","","","","","",""]
[null,"В.1.13",null,null,null,null,null,null,null,null,null,null,null,null,null,null,null,null,null,null,null,null,null,null,null,null,null,"",null,"",null,null,null,"","","",null,null,null,null,null,null,null,null,null,null,null,null,null,null,null,null,null,null,null,null,null,null,null,null,null,null,"","","","","",null,"","","","","","","","","","","","",null,null,"","","","","","","","","","","","","","","","","","","","","","","","",null,"","","","","","","","","","","","","","","","","","","","","","","","",null,"","","","","","","","","","","","","","","","","","","","","","","",""]
[null,"В.1.14",null,null,null,null,null,null,null,null,null,null,null,null,null,null,null,null,null,null,null,null,null,null,null,null,null,"",null,"",null,null,null,"","","",null,null,null,null,null,null,null,null,null,null,null,null,null,null,null,null,null,null,null,null,null,null,null,null,null,null,"","","","","",null,"","","","","","","","","","","","",null,null,"","","","","","","","","","","","","","","","","","","","","","","","",null,"","","","","","","","","","","","","","","","","","","","","","","","",null,"","","","","","","","","","","","","","","","","","","","","","","",""]
[null,"В.1.15",null,null,null,null,null,null,null,null,null,null,null,null,null,null,null,null,null,null,null,null,null,null,null,null,null,"",null,"",null,null,null,"","","",null,null,null,null,null,null,null,null,null,null,null,null,null,null,null,null,null,null,null,null,null,null,null,null,null,null,"","","","","",null,"","","","","","","","","","","","",null,null,"","","","","","","","","","","","","","","","","","","","","","","","",null,"","","","","","","","","","","","","","","","","","","","","","","","",null,"","","","","","","","","","","","","","","","","","","","","","","",""]
[null,null,null,null,null,null,null,null,null,null,null,null,null,null,null,null,null,null,null,null,null,null,null,null,null,null,null,"",null,"",null,null,null,"","","",null,null,null,null,null,null,null,null,null,null,null,null,null,null,null,null,null,null,null,null,null,null,null,null,null,null,"","","","","",null,"","","","","","","","","","","","",null,null,"","","","","","","","","","","","","","","","","","","","","","","","",null,"","","","","","","","","","","","","","","","","","","","","","","","",null,"","","","","","","","","","","","","","","","","","","","","","","",""]
[null,null,null,null,null,null,null,null,null,null,null,null,null,null,null,null,null,null,null,null,null,null,null,null,null,null,null,"",null,"",null,null,null,"","","",null,null,null,null,null,null,null,null,null,null,null,null,null,null,null,null,null,null,null,null,null,null,null,null,null,null,"","","","","",null,"","","","","","","","","","","","",null,null,"","","","","","","","","","","","","","","","","","","","","","","","",null,"","","","","","","","","","","","","","","","","","","","","","","","",null,"","","","","","","","","","","","","","","","","","","","","","","",""]
[null,null,null,null,null,null,null,null,null,null,null,null,null,null,null,null,null,null,null,null,null,null,null,null,null,null,null,"",null,"",null,null,null,"","","",null,null,null,null,null,null,null,null,null,null,null,null,null,null,null,null,null,null,null,null,null,null,null,null,null,null,"","","","","",null,"","","","","","","","","","","","",null,null,"","","","","","","","","","","","","","","","","","","","","","","","",null,"","","","","","","","","","","","","","","","","","","","","","","","",null,"","","","","","","","","","","","","","","","","","","","","","","",""]
[null,null,null,null,null,null,null,null,null,null,null,null,null,null,null,null,null,null,null,null,null,null,null,null,null,null,null,"",null,"",null,null,null,"","","",null,null,null,null,null,null,null,null,null,null,null,null,null,null,null,null,null,null,null,null,null,null,null,null,null,null,"","","","","",null,"","","","","","","","","","","","",null,null,"","","","","","","","","","","","","","","","","","","","","","","","",null,"","","","","","","","","","","","","","","","","","","","","","","","",null,"","","","","","","","","","","","","","","","","","","","","","","",""]
[null,null,null,null,null,null,null,null,null,null,null,null,null,null,null,null,null,null,null,null,null,null,null,null,null,null,null,"",null,"",null,null,null,"","","",null,null,null,null,null,null,null,null,null,null,null,null,null,null,null,null,null,null,null,null,null,null,null,null,null,null,{"$f":"IF(D134=0,\"\",ROUND($AK$9*AK134+$AM$9*AM134+$AO$9*AO134+$AQ$9*AQ134+$AS$9*AS134+$AU$9*AU134+$AW$9*AW134+$AY$9*AY134+$BA$9*BA134+$BC$9*BC134+$BE$9*BE134+$BG$9*BG134,0))","v":""},"","","","",null,"","","","","","","","","","","","",null,null,"","","","","","","","","","","","","","","","","","","","","","","","",null,"","","","","","","","","","","","","","","","","","","","","","","","",null,"","","","","","","","","","","","","","","","","","","","","","","",""]
[null,null,null,null,null,null,null,null,null,null,null,null,null,null,null,null,null,null,null,null,null,null,null,null,null,null,null,"",null,"",null,null,null,"","","",null,null,null,null,null,null,null,null,null,null,null,null,null,null,null,null,null,null,null,null,null,null,null,null,null,null,"","","","","",null,"","","","","","","","","","","","",null,null,"","","","","","","","","","","","","","","","","","","","","","","","",null,"","","","","","","","","","","","","","","","","","","","","","","","",null,"","","","","","","","","","","","","","","","","","","","","","","",""]
[null,null,null,null,null,null,null,null,null,null,null,null,null,null,null,null,null,null,null,null,null,null,null,null,null,null,null,"",null,"",null,null,null,"","","",null,null,null,null,null,null,null,null,null,null,null,null,null,null,null,null,null,null,null,null,null,null,null,null,null,null,"","","","","",null,"","","","","","","","","","","","",null,null,"","","","","","","","","","","","","","","","","","","","","","","","",null,"","","","","","","","","","","","","","","","","","","","","","","","",null,"","","","","","","","","","","","","","","","","","","","","","","",""]
[null,null,null,null,null,null,null,null,null,null,null,null,null,null,null,null,null,null,null,null,null,null,null,null,null,null,null,"",null,"",null,null,null,"","","",null,null,null,null,null,null,null,null,null,null,null,null,null,null,null,null,null,null,null,null,null,null,null,null,null,null,"","","","","",null,"","","","","","","","","","","","",null,null,"","","","","","","","","","","","","","","","","","","","","","","","",null,"","","","","","","","","","","","","","","","","","","","","","","","",null,"","","","","","","","","","","","","","","","","","","","","","","",""]
[null,null,null,null,null,null,null,null,null,null,null,null,null,null,null,null,null,null,null,null,null,null,null,null,null,null,null,"",null,"",null,null,null,"","","",null,null,null,null,null,null,null,null,null,null,null,null,null,null,null,null,null,null,null,null,null,null,null,null,null,null,"","","","","",null,"","","","","","","","","","","","",null,null,"","","","","","","","","","","","","","","","","","","","","","","","",null,"","","","","","","","","","","","","","","","","","","","","","","","",null,"","","","","","","","","","","","","","","","","","","","","","","",""]
[null,null,null,null,null,null,null,null,null,null,null,null,null,null,null,null,null,null,null,null,null,null,null,null,null,null,null,"",null,"",null,null,null,"","","",null,null,null,null,null,null,null,null,null,null,null,null,null,null,null,null,null,null,null,null,null,null,null,null,null,null,"","","","","",null,"","","","","","","","","","","","",null,null,"","","","","","","","","","","","","","","","","","","","","","","","",null,"","","","","","","","","","","","","","","","","","","","","","","","",null,"","","","","","","","","","","","","","","","","","","","","","","",""]
[null,null,null,null,null,null,null,null,null,null,null,null,null,null,null,null,null,null,null,null,null,null,null,null,null,null,null,"",null,"",null,null,null,"","","",null,null,null,null,null,null,null,null,null,null,null,null,null,null,null,null,null,null,null,null,null,null,null,null,null,null,"","","","","",null,"","","","","","","","","","","","",null,null,"","","","","","","","","","","","","","","","","","","","","","","","",null,"","","","","","","","","","","","","","","","","","","","","","","","",null,"","","","","","","","","","","","","","","","","","","","","","","",""]
[null,null,null,null,null,null,null,null,null,null,null,null,null,null,null,null,null,null,null,null,null,null,null,null,null,null,null,"",null,0,null,null,null,0,0,0,null,null,null,null,null,null,null,null,null,null,null,null,null,null,null,null,null,null,null,null,null,null,null,null,null,null,"","","","","",null,"","","","","","","","","","","","",null,null,"","","","","","","","","","","","","","","","","","","","","","","","",null,"","","","","","","","","","","","","","","","","","","","","","","","",null,"","","","","","","","","","","","","","","","","","","","","","","",""]
[null,null,null,null,null,null,null,null,null,null,null,null,null,null,null,null,null,null,null,null,null,null,null,null,null,null,null,"",null,"",null,null,null,"","","",null,null,null,null,null,null,null,null,null,null,null,null,null,null,null,null,null,null,null,null,null,null,null,null,null,null,"","","","","",null,"","","","","","","","","","","","",null,null,"","","","","","","","","","","","","","","","","","","","","","","","",null,"","","","","","","","","","","","","","","","","","","","","","","","",null,"","","","","","","","","","","","","","","","","","","","","","","",""]
[null,"ДВ.1.00","Дисциплины по выбору",null,null,null,null,null,null,null,null,null,null,null,null,null,null,null,null,null,null,null,null,null,null,null,null,{"$f":"AB144+AB165+AB186","v":0},{"$f":"AC144+AC165+AC186","v":0},{"$f":"AD144+AD165+AD186","v":0},{"$f":"AE144+AE165+AE186","v":0},{"$f":"AF144+AF165+AF186","v":0},{"$f":"AG144+AG165+AG186","v":0},{"$f":"AH144+AH165+AH186","v":0},{"$f":"AI145+#REF!","v":{"$error":"#VALUE!"}},{"$f":"AJ145+#REF!","v":{"$error":"#VALUE!"}},null,null,null,null,null,null,null,null,null,null,null,null,null,null,null,null,null,null,null,null,null,null,null,null,null,null,null,null,null,null,null,null,null,null,null,null,null,null,null,null,null,null,null,null,null,null,null,null,null,null,null,null,null,null,null,null,null,null,null,null,null,null,null,null,null,null,null,null,null,null,null,"888 - несоответствие",null,null,null,null,null,null,null,null,null,null,null,null,null,null,null,null,null,null,null,null,null,null,null,null,"999 - несоответствие"]
["В.1 / ДВ",null,"Модуль \"Общенаучный дисциплины\"",null,null,null,null,null,null,null,null,null,null,null,null,null,null,null,null,null,null,null,null,null,null,null,null,{"$f":"SUM(AB145:AB164)","v":0},0,0,0,0,0,0,0,0,null,null,null,null,null,null,null,null,null,null,null,null,null,null,null,null,null,null,null,null,null,null,null,null,null,null,null,null,null,null,null,null,null,null,null,null,null,null,null,null,null,null,null,null,null,null,null,null,null,null,null,null,null,null,null,null,null,null,null,null,null,null,null,null,null,null,null,null,null,null,null,{"$f":"COUNTIF(DD145:DO209,888)","v":0},{"$f":"IF(DD144<>0,\"несоответствие: распределение по семестрам --- контр. мер-ия\",\"\")","v":""},null,null,null,null,null,null,null,null,null,null,null,null,null,null,null,null,null,null,null,null,null,null,null,{"$f":"COUNTIF(EC148:EN209,999)","v":0},{"$f":"IF(EC144<>0,\"несоответствие: нагрузка в часах --- нагрузка в кредитах\",\"\")","v":""}]
[null,"ДВ.1.01.01",null,null,null,null,null,null,null,null,null,null,null,null,null,null,null,null,null,null,null,null,null,null,null,null,null,{"$f":"IF((AL145+AN145+AP145+AR145+AT145+AV145+AX145+AZ145+BB145+BD145+BF145+BH145)=0,\"\",(AL145+AN145+AP145+AR145+AT145+AV145+AX145+AZ145+BB145+BD145+BF145+BH145))","v":""},null,{"$f":"IF((AE145+AF145+AG145)=0,\"\",AE145+AF145+AG145)","v":""},null,null,null,{"$f":"IF(AD145=\"\",\"\",AC145-AD145)","v":""},{"$f":"IF(AD145=\"\",\"\",ROUND((AC145-AD145)*0.1,0))","v":""},{"$f":"IF(AD145=\"\",\"\",AH145-AI145)","v":""},null,null,null,null,null,null,null,null,null,null,null,null,null,null,null,null,null,null,null,null,null,null,null,null,null,null,{"$f":"IF(D145=0,\"\",ROUND($AK$9*AK145+$AM$9*AM145+$AO$9*AO145+$AQ$9*AQ145+$AS$9*AS145+$AU$9*AU145+$AW$9*AW145+$AY$9*AY145+$BA$9*BA145+$BC$9*BC145+$BE$9*BE145+$BG$9*BG145,0))","v":""},{"$f":"IF(AC145=0,\"\",IF(AD145<>BK145,\"Ошибка\",\"\"))","v":""},{"$f":"IF(AA145=0,\"\",IF(AB145<=AA145*1.05,IF(AB145>=AA145*0.95,\"\",\"Ошибка\"),\"Ошибка\"))","v":""},{"$f":"DP145&DQ145&DR145&DS145&DT145&DU145&DV145&DW145&DX145&DY145&DZ145&EA145","v":""},{"$f":"EO145&EP145&EQ145&ER145&ES145&ET145&EU145&EV145&EW145&EX145&EY145&EZ145","v":""},null,{"$f":"IF(COUNTIF($E145:$P145,BQ$9)<>0,\"*\",\"\")","v":""},"","","","","","","","","","","",null,null,{"$f":"IF(AK145=\"\",\"\",\"*\")","v":""},{"$f":"IF(AL145=\"\",\"\",\"*\")","v":""},{"$f":"IF(AM145=\"\",\"\",\"*\")","v":""},{"$f":"IF(AN145=\"\",\"\",\"*\")","v":""},{"$f":"IF(AO145=\"\",\"\",\"*\")","v":""},{"$f":"IF(AP145=\"\",\"\",\"*\")","v":""},{"$f":"IF(AQ145=\"\",\"\",\"*\")","v":""},{"$f":"IF(AR145=\"\",\"\",\"*\")","v":""},{"$f":"IF(AS145=\"\",\"\",\"*\")","v":""},{"$f":"IF(AT145=\"\",\"\",\"*\")","v":""},{"$f":"IF(AU145=\"\",\"\",\"*\")","v":""},{"$f":"IF(AV145=\"\",\"\",\"*\")","v":""},{"$f":"IF(AW145=\"\",\"\",\"*\")","v":""},{"$f":"IF(AX145=\"\",\"\",\"*\")","v":""},{"$f":"IF(AY145=\"\",\"\",\"*\")","v":""},{"$f":"IF(AZ145=\"\",\"\",\"*\")","v":""},{"$f":"IF(BA145=\"\",\"\",\"*\")","v":""},{"$f":"IF(BB145=\"\",\"\",\"*\")","v":""},{"$f":"IF(BC145=\"\",\"\",\"*\")","v":""},{"$f":"IF(BD145=\"\",\"\",\"*\")","v":""},{"$f":"IF(BE145=\"\",\"\",\"*\")","v":""},{"$f":"IF(BF145=\"\",\"\",\"*\")","v":""},{"$f":"IF(BG145=\"\",\"\",\"*\")","v":""},{"$f":"IF(BH145=\"\",\"\",\"*\")","v":""},null,{"$f":"IF(BQ145=CE145,\"\",888)","v":""},{"$f":"IF(BR145=CG145,\"\",888)","v":""},{"$f":"IF(BS145=CI145,\"\",888)","v":""},{"$f":"IF(BT145=CK145,\"\",888)","v":""},{"$f":"IF(BU145=CM145,\"\",888)","v":""},{"$f":"IF(BV145=CO145,\"\",888)","v":""},{"$f":"IF(BW145=CQ145,\"\",888)","v":""},{"$f":"IF(BX145=CT145,\"\",888)","v":""},{"$f":"IF(BY145=CU145,\"\",888)","v":""},{"$f":"IF(BZ145=CW145,\"\",888)","v":""},{"$f":"IF(CA145=CY145,\"\",888)","v":""},{"$f":"IF(CB145=DA145,\"\",888)","v":""},{"$f":"IF(DD145=888,(DD$9&\"; \"),\"\")","v":""},{"$f":"IF(DE145=888,(DE$9&\"; \"),\"\")","v":""},{"$f":"IF(DF145=888,(DF$9&\"; \"),\"\")","v":""},{"$f":"IF(DG145=888,(DG$9&\"; \"),\"\")","v":""},{"$f":"IF(DH145=888,(DH$9&\"; \"),\"\")","v":""},{"$f":"IF(DI145=888,(DI$9&\"; \"),\"\")","v":""},{"$f":"IF(DJ145=888,(DJ$9&\"; \"),\"\")","v":""},{"$f":"IF(DK145=888,(DK$9&\"; \"),\"\")","v":""},{"$f":"IF(DL145=888,(DL$9&\"; \"),\"\")","v":""},{"$f":"IF(DM145=888,(DM$9&\"; \"),\"\")","v":""},{"$f":"IF(DN145=888,(DN$9&\"; \"),\"\")","v":""},{"$f":"IF(DO145=888,(DO$9&\"; \"),\"\")","v":""},null,{"$f":"IF(CE145=CF145,\"\",999)","v":""},{"$f":"IF(CG145=CH145,\"\",999)","v":""},{"$f":"IF(CI145=CJ145,\"\",999)","v":""},{"$f":"IF(CK145=CL145,\"\",999)","v":""},{"$f":"IF(CM145=CN145,\"\",999)","v":""},{"$f":"IF(CO145=CP145,\"\",999)","v":""},{"$f":"IF(CQ145=CR145,\"\",999)","v":""},{"$f":"IF(CS145=CT145,\"\",999)","v":""},{"$f":"IF(CU145=CV145,\"\",999)","v":""},{"$f":"IF(CW145=CX145,\"\",999)","v":""},{"$f":"IF(CY145=CZ145,\"\",999)","v":""},{"$f":"IF(DA145=DB145,\"\",999)","v":""},{"$f":"IF(EC145=999,(EC$9&\"; \"),\"\")","v":""},{"$f":"IF(ED145=999,(ED$9&\"; \"),\"\")","v":""},{"$f":"IF(EE145=999,(EE$9&\"; \"),\"\")","v":""},{"$f":"IF(EF145=999,(EF$9&\"; \"),\"\")","v":""},{"$f":"IF(EG145=999,(EG$9&\"; \"),\"\")","v":""},{"$f":"IF(EH145=999,(EH$9&\"; \"),\"\")","v":""},{"$f":"IF(EI145=999,(EI$9&\"; \"),\"\")","v":""},{"$f":"IF(EJ145=999,(EJ$9&\"; \"),\"\")","v":""},{"$f":"IF(EK145=999,(EK$9&\"; \"),\"\")","v":""},{"$f":"IF(EL145=999,(EL$9&\"; \"),\"\")","v":""},{"$f":"IF(EM145=999,(EM$9&\"; \"),\"\")","v":""},{"$f":"IF(EN145=999,(EN$9&\"; \"),\"\")","v":""}]
[null,"ДВ.1.01.02",null,null,null,null,null,null,null,null,null,null,null,null,null,null,null,null,null,null,null,null,null,null,null,null,null,"",null,"",null,null,null,{"$f":"IF(AD146=\"\",\"\",AC146-AD146)","v":""},{"$f":"IF(AD146=\"\",\"\",ROUND((AC146-AD146)*0.1,0))","v":""},{"$f":"IF(AD146=\"\",\"\",AH146-AI146)","v":""},null,null,null,null,null,null,null,null,null,null,null,null,null,null,null,null,null,null,null,null,null,null,null,null,null,null,"","","",{"$f":"DP146&DQ146&DR146&DS146&DT146&DU146&DV146&DW146&DX146&DY146&DZ146&EA146","v":""},{"$f":"EO146&EP146&EQ146&ER146&ES146&ET146&EU146&EV146&EW146&EX146&EY146&EZ146","v":""},null,"","","","","","","","","","","","",null,null,"","","","","","","","","","","","","","","","","","","","","","","","",null,{"$f":"IF(BQ146=CE146,\"\",888)","v":""},{"$f":"IF(BR146=CG146,\"\",888)","v":""},{"$f":"IF(BS146=CI146,\"\",888)","v":""},{"$f":"IF(BT146=CK146,\"\",888)","v":""},{"$f":"IF(BU146=CM146,\"\",888)","v":""},{"$f":"IF(BV146=CO146,\"\",888)","v":""},{"$f":"IF(BW146=CQ146,\"\",888)","v":""},{"$f":"IF(BX146=CT146,\"\",888)","v":""},{"$f":"IF(BY146=CU146,\"\",888)","v":""},{"$f":"IF(BZ146=CW146,\"\",888)","v":""},{"$f":"IF(CA146=CY146,\"\",888)","v":""},{"$f":"IF(CB146=DA146,\"\",888)","v":""},{"$f":"IF(DD146=888,(DD$9&\"; \"),\"\")","v":""},"","","","","","","","","","","",null,{"$f":"IF(CE146=CF146,\"\",999)","v":""},{"$f":"IF(CG146=CH146,\"\",999)","v":""},{"$f":"IF(CI146=CJ146,\"\",999)","v":""},{"$f":"IF(CK146=CL146,\"\",999)","v":""},{"$f":"IF(CM146=CN146,\"\",999)","v":""},{"$f":"IF(CO146=CP146,\"\",999)","v":""},{"$f":"IF(CQ146=CR146,\"\",999)","v":""},{"$f":"IF(CS146=CT146,\"\",999)","v":""},{"$f":"IF(CU146=CV146,\"\",999)","v":""},{"$f":"IF(CW146=CX146,\"\",999)","v":""},{"$f":"IF(CY146=CZ146,\"\",999)","v":""},{"$f":"IF(DA146=DB146,\"\",999)","v":""},"","","","","","","","","","","",""]
[null,"ДВ.1.02.01",null,null,null,null,null,null,null,null,null,null,null,null,null,null,null,null,null,null,null,null,null,null,null,null,null,"",null,"",null,null,null,{"$f":"IF(AD147=\"\",\"\",AC147-AD147)","v":""},{"$f":"IF(AD147=\"\",\"\",ROUND((AC147-AD147)*0.1,0))","v":""},{"$f":"IF(AD147=\"\",\"\",AH147-AI147)","v":""},null,null,null,null,null,null,null,null,null,null,null,null,null,null,null,null,null,null,null,null,null,null,null,null,null,null,"","","",{"$f":"DP147&DQ147&DR147&DS147&DT147&DU147&DV147&DW147&DX147&DY147&DZ147&EA147","v":""},{"$f":"EO147&EP147&EQ147&ER147&ES147&ET147&EU147&EV147&EW147&EX147&EY147&EZ147","v":""},null,"","","","","","","","","","","","",null,null,"","","","","","","","","","","","","","","","","","","","","","","","",null,"","","","","","","","","","","","","","","","","","","","","","","","",null,"","","","","","","","","","","","","","","","","","","","","","","",""]
[null,"ДВ.1.02.02",null,null,null,null,null,null,null,null,null,null,null,null,null,null,null,null,null,null,null,null,null,null,null,null,null,"",null,"",null,null,null,"","","",null,null,null,null,null,null,null,null,null,null,null,null,null,null,null,null,null,null,null,null,null,null,null,null,null,null,"","","","","",null,"","","","","","","","","","","","",null,null,"","","","","","","","","","","","","","","","","","","","","","","","",null,"","","","","","","","","","","","","","","","","","","","","","","","",null,"","","","","","","","","","","","","","","","","","","","","","","",""]
[null,"ДВ.1.03.01",null,null,null,null,null,null,null,null,null,null,null,null,null,null,null,null,null,null,null,null,null,null,null,null,null,"",null,"",null,null,null,"","","",null,null,null,null,null,null,null,null,null,null,null,null,null,null,null,null,null,null,null,null,null,null,null,null,null,null,"","","","","",null,"","","","","","","","","","","","",null,null,"","","","","","","","","","","","","","","","","","","","","","","","",null,"","","","","","","","","","","","","","","","","","","","","","","","",null,"","","","","","","","","","","","","","","","","","","","","","","",""]
[null,"ДВ.1.03.02",null,null,null,null,null,null,null,null,null,null,null,null,null,null,null,null,null,null,null,null,null,null,null,null,null,"",null,"",null,null,null,"","","",null,null,null,null,null,null,null,null,null,null,null,null,null,null,null,null,null,null,null,null,null,null,null,null,null,null,"","","","","",null,"","","","","","","","","","","","",null,null,"","","","","","","","","","","","","","","","","","","","","","","","",null,"","","","","","","","","","","","","","","","","","","","","","","","",null,"","","","","","","","","","","","","","","","","","","","","","","",""]
[null,null,null,null,null,null,null,null,null,null,null,null,null,null,null,null,null,null,null,null,null,null,null,null,null,null,null,"",null,"",null,null,null,"","","",null,null,null,null,null,null,null,null,null,null,null,null,null,null,null,null,null,null,null,null,null,null,null,null,null,null,"","","","","",null,"","","","","","","","","","","","",null,null,"","","","","","","","","","","","","","","","","","","","","","","","",null,"","","","","","","","","","","","","","","","","","","","","","","","",null,"","","","","","","","","","","","","","","","","","","","","","","",""]
[null,null,null,null,null,null,null,null,null,null,null,null,null,null,null,null,null,null,null,null,null,null,null,null,null,null,null,"",null,"",null,null,null,"","","",null,null,null,null,null,null,null,null,null,null,null,null,null,null,null,null,null,null,null,null,null,null,null,null,null,null,"","","","","",null,"","","","","","","","","","","","",null,null,"","","","","","","","","","","","","","","","","","","","","","","","",null,"","","","","","","","","","","","","","","","","","","","","","","","",null,"","","","","","","","","","","","","","","","","","","","","","","",""]
[null,null,null,null,null,null,null,null,null,null,null,null,null,null,null,null,null,null,null,null,null,null,null,null,null,null,null,"",null,"",null,null,null,"","","",null,null,null,null,null,null,null,null,null,null,null,null,null,null,null,null,null,null,null,null,null,null,null,null,null,null,"","","","","",null,"","","","","","","","","","","","",null,null,"","","","","","","","","","","","","","","","","","","","","","","","",null,"","","","","","","","","","","","","","","","","","","","","","","","",null,"","","","","","","","","","","","","","","","","","","","","","","",""]
[null,null,null,null,null,null,null,null,null,null,null,null,null,null,null,null,null,null,null,null,null,null,null,null,null,null,null,"",null,"",null,null,null,"","","",null,null,null,null,null,null,null,null,null,null,null,null,null,null,null,null,null,null,null,null,null,null,null,null,null,null,"","","","","",null,"","","","","","","","","","","","",null,null,"","","","","","","","","","","","","","","","","","","","","","","","",null,"","","","","","","","","","","","","","","","","","","","","","","","",null,"","","","","","","","","","","","","","","","","","","","","","","",""]
[null,null,null,null,null,null,null,null,null,null,null,null,null,null,null,null,null,null,null,null,null,null,null,null,null,null,null,"",null,"",null,null,null,"","","",null,null,null,null,null,null,null,null,null,null,null,null,null,null,null,null,null,null,null,null,null,null,null,null,null,null,"","","","","",null,"","","","","","","","","","","","",null,null,"","","","","","","","","","","","","","","","","","","","","","","","",null,"","","","","","","","","","","","","","","","","","","","","","","","",null,"","","","","","","","","","","","","","","","","","","","","","","",""]
[null,null,null,null,null,null,null,null,null,null,null,null,null,null,null,null,null,null,null,null,null,null,null,null,null,null,null,"",null,"",null,null,null,"","","",null,null,null,null,null,null,null,null,null,null,null,null,null,null,null,null,null,null,null,null,null,null,null,null,null,null,"","","","","",null,"","","","","","","","","","","","",null,null,"","","","","","","","","","","","","","","","","","","","","","","","",null,"","","","","","","","","","","","","","","","","","","","","","","","",null,"","","","","","","","","","","","","","","","","","","","","","","",""]
[null,null,null,null,null,null,null,null,null,null,null,null,null,null,null,null,null,null,null,null,null,null,null,null,null,null,null,"",null,"",null,null,null,"","","",null,null,null,null,null,null,null,null,null,null,null,null,null,null,null,null,null,null,null,null,null,null,null,null,null,null,"","","","","",null,"","","","","","","","","","","","",null,null,"","","","","","","","","","","","","","","","","","","","","","","","",null,"","","","","","","","","","","","","","","","","","","","","","","","",null,"","","","","","","","","","","","","","","","","","","","","","","",""]
[null,null,null,null,null,null,null,null,null,null,null,null,null,null,null,null,null,null,null,null,null,null,null,null,null,null,null,"",null,"",null,null,null,"","","",null,null,null,null,null,null,null,null,null,null,null,null,null,null,null,null,null,null,null,null,null,null,null,null,null,null,"","","","","",null,"","","","","","","","","","","","",null,null,"","","","","","","","","","","","","","","","","","","","","","","","",null,"","","","","","","","","","","","","","","","","","","","","","","","",null,"","","","","","","","","","","","","","","","","","","","","","","",""]
[null,null,null,null,null,null,null,null,null,null,null,null,null,null,null,null,null,null,null,null,null,null,null,null,null,null,null,"",null,"",null,null,null,"","","",null,null,null,null,null,null,null,null,null,null,null,null,null,null,null,null,null,null,null,null,null,null,null,null,null,null,"","","","","",null,"","","","","","","","","","","","",null,null,"","","","","","","","","","","","","","","","","","","","","","","","",null,"","","","","","","","","","","","","","","","","","","","","","","","",null,"","","","","","","","","","","","","","","","","","","","","","","",""]
[null,null,null,null,null,null,null,null,null,null,null,null,null,null,null,null,null,null,null,null,null,null,null,null,null,null,null,"",null,"",null,null,null,"","","",null,null,null,null,null,null,null,null,null,null,null,null,null,null,null,null,null,null,null,null,null,null,null,null,null,null,"","","","","",null,"","","","","","","","","","","","",null,null,"","","","","","","","","","","","","","","","","","","","","","","","",null,"","","","","","","","","","","","","","","","","","","","","","","","",null,"","","","","","","","","","","","","","","","","","","","","","","",""]
[null,null,null,null,null,null,null,null,null,null,null,null,null,null,null,null,null,null,null,null,null,null,null,null,null,null,null,"",null,"",null,null,null,"","","",null,null,null,null,null,null,null,null,null,null,null,null,null,null,null,null,null,null,null,null,null,null,null,null,null,null,"","","","","",null,"","","","","","","","","","","","",null,null,"","","","","","","","","","","","","","","","","","","","","","","","",null,"","","","","","","","","","","","","","","","","","","","","","","","",null,"","","","","","","","","","","","","","","","","","","","","","","",""]
[null,null,null,null,null,null,null,null,null,null,null,null,null,null,null,null,null,null,null,null,null,null,null,null,null,null,null,"",null,"",null,null,null,"","","",null,null,null,null,null,null,null,null,null,null,null,null,null,null,null,null,null,null,null,null,null,null,null,null,null,null,"","","","","",null,"","","","","","","","","","","","",null,null,"","","","","","","","","","","","","","","","","","","","","","","","",null,"","","","","","","","","","","","","","","","","","","","","","","","",null,"","","","","","","","","","","","","","","","","","","","","","","",""]
[null,null,null,null,null,null,null,null,null,null,null,null,null,null,null,null,null,null,null,null,null,null,null,null,null,null,null,"",null,"",null,null,null,"","","",null,null,null,null,null,null,null,null,null,null,null,null,null,null,null,null,null,null,null,null,null,null,null,null,null,null,"","","","","",null,"","","","","","","","","","","","",null,null,"","","","","","","","","","","","","","","","","","","","","","","","",null,"","","","","","","","","","","","","","","","","","","","","","","","",null,"","","","","","","","","","","","","","","","","","","","","","","",""]
[null,null,null,null,null,null,null,null,null,null,null,null,null,null,null,null,null,null,null,null,null,null,null,null,null,null,null,"",null,"",null,null,null,"","","",null,null,null,null,null,null,null,null,null,null,null,null,null,null,null,null,null,null,null,null,null,null,null,null,null,null,"","","","","",null,"","","","","","","","","","","","",null,null,"","","","","","","","","","","","","","","","","","","","","","","","",null,"","","","","","","","","","","","","","","","","","","","","","","","",null,"","","","","","","","","","","","","","","","","","","","","","","",""]
[null,null,null,null,null,null,null,null,null,null,null,null,null,null,null,null,null,null,null,null,null,null,null,null,null,null,null,{"$f":"SUM(AB166:AB185)","v":0},0,0,0,0,0,0,0,0,null,null,null,null,null,null,null,null,null,null,null,null,null,null,null,null,null,null,null,null,null,null,null,null,null,null,null,null,null,null,null,null,null,null,null,null,null,null,null,null,null,null,null,null,null,null,null,null,null,null,null,null,null,null,null,null,null,null,null,null,null,null,null,null,null,null,null,null,null,null,null,{"$f":"COUNTIF(DD166:DO209,888)","v":0},{"$f":"IF(DD165<>0,\"несоответствие: распределение по семестрам --- контр. мер-ия\",\"\")","v":""},null,null,null,null,null,null,null,null,null,null,null,null,null,null,null,null,null,null,null,null,null,null,null,{"$f":"COUNTIF(EC169:EN209,999)","v":0},{"$f":"IF(EC165<>0,\"несоответствие: нагрузка в часах --- нагрузка в кредитах\",\"\")","v":""}]
[null,null,null,null,null,null,null,null,null,null,null,null,null,null,null,null,null,null,null,null,null,null,null,null,null,null,null,{"$f":"IF((AL166+AN166+AP166+AR166+AT166+AV166+AX166+AZ166+BB166+BD166+BF166+BH166)=0,\"\",(AL166+AN166+AP166+AR166+AT166+AV166+AX166+AZ166+BB166+BD166+BF166+BH166))","v":""},null,{"$f":"IF((AE166+AF166+AG166)=0,\"\",AE166+AF166+AG166)","v":""},null,null,null,{"$f":"IF(AD166=\"\",\"\",AC166-AD166)","v":""},{"$f":"IF(AD166=\"\",\"\",ROUND((AC166-AD166)*0.1,0))","v":""},{"$f":"IF(AD166=\"\",\"\",AH166-AI166)","v":""},null,null,null,null,null,null,null,null,null,null,null,null,null,null,null,null,null,null,null,null,null,null,null,null,null,null,{"$f":"IF(D166=0,\"\",ROUND($AK$9*AK166+$AM$9*AM166+$AO$9*AO166+$AQ$9*AQ166+$AS$9*AS166+$AU$9*AU166+$AW$9*AW166+$AY$9*AY166+$BA$9*BA166+$BC$9*BC166+$BE$9*BE166+$BG$9*BG166,0))","v":""},{"$f":"IF(AC166=0,\"\",IF(AD166<>BK166,\"Ошибка\",\"\"))","v":""},{"$f":"IF(AA166=0,\"\",IF(AB166<=AA166*1.05,IF(AB166>=AA166*0.95,\"\",\"Ошибка\"),\"Ошибка\"))","v":""},{"$f":"DP166&DQ166&DR166&DS166&DT166&DU166&DV166&DW166&DX166&DY166&DZ166&EA166","v":""},{"$f":"EO166&EP166&EQ166&ER166&ES166&ET166&EU166&EV166&EW166&EX166&EY166&EZ166","v":""},null,{"$f":"IF(COUNTIF($E166:$P166,BQ$9)<>0,\"*\",\"\")","v":""},"","","","","","","","","","","",null,null,{"$f":"IF(AK166=\"\",\"\",\"*\")","v":""},{"$f":"IF(AL166=\"\",\"\",\"*\")","v":""},{"$f":"IF(AM166=\"\",\"\",\"*\")","v":""},{"$f":"IF(AN166=\"\",\"\",\"*\")","v":""},{"$f":"IF(AO166=\"\",\"\",\"*\")","v":""},{"$f":"IF(AP166=\"\",\"\",\"*\")","v":""},{"$f":"IF(AQ166=\"\",\"\",\"*\")","v":""},{"$f":"IF(AR166=\"\",\"\",\"*\")","v":""},{"$f":"IF(AS166=\"\",\"\",\"*\")","v":""},{"$f":"IF(AT166=\"\",\"\",\"*\")","v":""},{"$f":"IF(AU166=\"\",\"\",\"*\")","v":""},{"$f":"IF(AV166=\"\",\"\",\"*\")","v":""},{"$f":"IF(AW166=\"\",\"\",\"*\")","v":""},{"$f":"IF(AX166=\"\",\"\",\"*\")","v":""},{"$f":"IF(AY166=\"\",\"\",\"*\")","v":""},{"$f":"IF(AZ166=\"\",\"\",\"*\")","v":""},{"$f":"IF(BA166=\"\",\"\",\"*\")","v":""},{"$f":"IF(BB166=\"\",\"\",\"*\")","v":""},{"$f":"IF(BC166=\"\",\"\",\"*\")","v":""},{"$f":"IF(BD166=\"\",\"\",\"*\")","v":""},{"$f":"IF(BE166=\"\",\"\",\"*\")","v":""},{"$f":"IF(BF166=\"\",\"\",\"*\")","v":""},{"$f":"IF(BG166=\"\",\"\",\"*\")","v":""},{"$f":"IF(BH166=\"\",\"\",\"*\")","v":""},null,{"$f":"IF(BQ166=CE166,\"\",888)","v":""},{"$f":"IF(BR166=CG166,\"\",888)","v":""},{"$f":"IF(BS166=CI166,\"\",888)","v":""},{"$f":"IF(BT166=CK166,\"\",888)","v":""},{"$f":"IF(BU166=CM166,\"\",888)","v":""},{"$f":"IF(BV166=CO166,\"\",888)","v":""},{"$f":"IF(BW166=CQ166,\"\",888)","v":""},{"$f":"IF(BX166=CT166,\"\",888)","v":""},{"$f":"IF(BY166=CU166,\"\",888)","v":""},{"$f":"IF(BZ166=CW166,\"\",888)","v":""},{"$f":"IF(CA166=CY166,\"\",888)","v":""},{"$f":"IF(CB166=DA166,\"\",888)","v":""},{"$f":"IF(DD166=888,(DD$9&\"; \"),\"\")","v":""},{"$f":"IF(DE166=888,(DE$9&\"; \"),\"\")","v":""},{"$f":"IF(DF166=888,(DF$9&\"; \"),\"\")","v":""},{"$f":"IF(DG166=888,(DG$9&\"; \"),\"\")","v":""},{"$f":"IF(DH166=888,(DH$9&\"; \"),\"\")","v":""},{"$f":"IF(DI166=888,(DI$9&\"; \"),\"\")","v":""},{"$f":"IF(DJ166=888,(DJ$9&\"; \"),\"\")","v":""},{"$f":"IF(DK166=888,(DK$9&\"; \"),\"\")","v":""},{"$f":"IF(DL166=888,(DL$9&\"; \"),\"\")","v":""},{"$f":"IF(DM166=888,(DM$9&\"; \"),\"\")","v":""},{"$f":"IF(DN166=888,(DN$9&\"; \"),\"\")","v":""},{"$f":"IF(DO166=888,(DO$9&\"; \"),\"\")","v":""},null,{"$f":"IF(CE166=CF166,\"\",999)","v":""},{"$f":"IF(CG166=CH166,\"\",999)","v":""},{"$f":"IF(CI166=CJ166,\"\",999)","v":""},{"$f":"IF(CK166=CL166,\"\",999)","v":""},{"$f":"IF(CM166=CN166,\"\",999)","v":""},{"$f":"IF(CO166=CP166,\"\",999)","v":""},{"$f":"IF(CQ166=CR166,\"\",999)","v":""},{"$f":"IF(CS166=CT166,\"\",999)","v":""},{"$f":"IF(CU166=CV166,\"\",999)","v":""},{"$f":"IF(CW166=CX166,\"\",999)","v":""},{"$f":"IF(CY166=CZ166,\"\",999)","v":""},{"$f":"IF(DA166=DB166,\"\",999)","v":""},{"$f":"IF(EC166=999,(EC$9&\"; \"),\"\")","v":""},{"$f":"IF(ED166=999,(ED$9&\"; \"),\"\")","v":""},{"$f":"IF(EE166=999,(EE$9&\"; \"),\"\")","v":""},{"$f":"IF(EF166=999,(EF$9&\"; \"),\"\")","v":""},{"$f":"IF(EG166=999,(EG$9&\"; \"),\"\")","v":""},{"$f":"IF(EH166=999,(EH$9&\"; \"),\"\")","v":""},{"$f":"IF(EI166=999,(EI$9&\"; \"),\"\")","v":""},{"$f":"IF(EJ166=999,(EJ$9&\"; \"),\"\")","v":""},{"$f":"IF(EK166=999,(EK$9&\"; \"),\"\")","v":""},{"$f":"IF(EL166=999,(EL$9&\"; \"),\"\")","v":""},{"$f":"IF(EM166=999,(EM$9&\"; \"),\"\")","v":""},{"$f":"IF(EN166=999,(EN$9&\"; \"),\"\")","v":""}]
[null,null,null,null,null,null,null,null,null,null,null,null,null,null,null,null,null,null,null,null,null,null,null,null,null,null,null,"",null,"",null,null,null,{"$f":"IF(AD167=\"\",\"\",AC167-AD167)","v":""},{"$f":"IF(AD167=\"\",\"\",ROUND((AC167-AD167)*0.1,0))","v":""},{"$f":"IF(AD167=\"\",\"\",AH167-AI167)","v":""},null,null,null,null,null,null,null,null,null,null,null,null,null,null,null,null,null,null,null,null,null,null,null,null,null,null,"","","",{"$f":"DP167&DQ167&DR167&DS167&DT167&DU167&DV167&DW167&DX167&DY167&DZ167&EA167","v":""},{"$f":"EO167&EP167&EQ167&ER167&ES167&ET167&EU167&EV167&EW167&EX167&EY167&EZ167","v":""},null,"","","","","","","","","","","","",null,null,"","","","","","","","","","","","","","","","","","","","","","","","",null,{"$f":"IF(BQ167=CE167,\"\",888)","v":""},{"$f":"IF(BR167=CG167,\"\",888)","v":""},{"$f":"IF(BS167=CI167,\"\",888)","v":""},{"$f":"IF(BT167=CK167,\"\",888)","v":""},{"$f":"IF(BU167=CM167,\"\",888)","v":""},{"$f":"IF(BV167=CO167,\"\",888)","v":""},{"$f":"IF(BW167=CQ167,\"\",888)","v":""},{"$f":"IF(BX167=CT167,\"\",888)","v":""},{"$f":"IF(BY167=CU167,\"\",888)","v":""},{"$f":"IF(BZ167=CW167,\"\",888)","v":""},{"$f":"IF(CA167=CY167,\"\",888)","v":""},{"$f":"IF(CB167=DA167,\"\",888)","v":""},{"$f":"IF(DD167=888,(DD$9&\"; \"),\"\")","v":""},"","","","","","","","","","","",null,{"$f":"IF(CE167=CF167,\"\",999)","v":""},{"$f":"IF(CG167=CH167,\"\",999)","v":""},{"$f":"IF(CI167=CJ167,\"\",999)","v":""},{"$f":"IF(CK167=CL167,\"\",999)","v":""},{"$f":"IF(CM167=CN167,\"\",999)","v":""},{"$f":"IF(CO167=CP167,\"\",999)","v":""},{"$f":"IF(CQ167=CR167,\"\",999)","v":""},{"$f":"IF(CS167=CT167,\"\",999)","v":""},{"$f":"IF(CU167=CV167,\"\",999)","v":""},{"$f":"IF(CW167=CX167,\"\",999)","v":""},{"$f":"IF(CY167=CZ167,\"\",999)","v":""},{"$f":"IF(DA167=DB167,\"\",999)","v":""},"","","","","","","","","","","",""]
[null,null,null,null,null,null,null,null,null,null,null,null,null,null,null,null,null,null,null,null,null,null,null,null,null,null,null,"",null,"",null,null,null,{"$f":"IF(AD168=\"\",\"\",AC168-AD168)","v":""},{"$f":"IF(AD168=\"\",\"\",ROUND((AC168-AD168)*0.1,0))","v":""},{"$f":"IF(AD168=\"\",\"\",AH168-AI168)","v":""},null,null,null,null,null,null,null,null,null,null,null,null,null,null,null,null,null,null,null,null,null,null,null,null,null,null,"","","",{"$f":"DP168&DQ168&DR168&DS168&DT168&DU168&DV168&DW168&DX168&DY168&DZ168&EA168","v":""},{"$f":"EO168&EP168&EQ168&ER168&ES168&ET168&EU168&EV168&EW168&EX168&EY168&EZ168","v":""},null,"","","","","","","","","","","","",null,null,"","","","","","","","","","","","","","","","","","","","","","","","",null,"","","","","","","","","","","","","","","","","","","","","","","","",null,"","","","","","","","","","","","","","","","","","","","","","","",""]
[null,null,null,null,null,null,null,null,null,null,null,null,null,null,null,null,null,null,null,null,null,null,null,null,null,null,null,"",null,"",null,null,null,"","","",null,null,null,null,null,null,null,null,null,null,null,null,null,null,null,null,null,null,null,null,null,null,null,null,null,null,"","","","","",null,"","","","","","","","","","","","",null,null,"","","","","","","","","","","","","","","","","","","","","","","","",null,"","","","","","","","","","","","","","","","","","","","","","","","",null,"","","","","","","","","","","","","","","","","","","","","","","",""]
[null,null,null,null,null,null,null,null,null,null,null,null,null,null,null,null,null,null,null,null,null,null,null,null,null,null,null,"",null,"",null,null,null,"","","",null,null,null,null,null,null,null,null,null,null,null,null,null,null,null,null,null,null,null,null,null,null,null,null,null,null,"","","","","",null,"","","","","","","","","","","","",null,null,"","","","","","","","","","","","","","","","","","","","","","","","",null,"","","","","","","","","","","","","","","","","","","","","","","","",null,"","","","","","","","","","","","","","","","","","","","","","","",""]
[null,null,null,null,null,null,null,null,null,null,null,null,null,null,null,null,null,null,null,null,null,null,null,null,null,null,null,"",null,"",null,null,null,"","","",null,null,null,null,null,null,null,null,null,null,null,null,null,null,null,null,null,null,null,null,null,null,null,null,null,null,"","","","","",null,"","","","","","","","","","","","",null,null,"","","","","","","","","","","","","","","","","","","","","","","","",null,"","","","","","","","","","","","","","","","","","","","","","","","",null,"","","","","","","","","","","","","","","","","","","","","","","",""]
[null,null,null,null,null,null,null,null,null,null,null,null,null,null,null,null,null,null,null,null,null,null,null,null,null,null,null,"",null,"",null,null,null,"","","",null,null,null,null,null,null,null,null,null,null,null,null,null,null,null,null,null,null,null,null,null,null,null,null,null,null,"","","","","",null,"","","","","","","","","","","","",null,null,"","","","","","","","","","","","","","","","","","","","","","","","",null,"","","","","","","","","","","","","","","","","","","","","","","","",null,"","","","","","","","","","","","","","","","","","","","","","","",""]
[null,null,null,null,null,null,null,null,null,null,null,null,null,null,null,null,null,null,null,null,null,null,null,null,null,null,null,"",null,"",null,null,null,"","","",null,null,null,null,null,null,null,null,null,null,null,null,null,null,null,null,null,null,null,null,null,null,null,null,null,null,"","","","","",null,"","","","","","","","","","","","",null,null,"","","","","","","","","","","","","","","","","","","","","","","","",null,"","","","","","","","","","","","","","","","","","","","","","","","",null,"","","","","","","","","","","","","","","","","","","","","","","",""]
[null,null,null,null,null,null,null,null,null,null,null,null,null,null,null,null,null,null,null,null,null,null,null,null,null,null,null,"",null,"",null,null,null,"","","",null,null,null,null,null,null,null,null,null,null,null,null,null,null,null,null,null,null,null,null,null,null,null,null,null,null,"","","","","",null,"","","","","","","","","","","","",null,null,"","","","","","","","","","","","","","","","","","","","","","","","",null,"","","","","","","","","","","","","","","","","","","","","","","","",null,"","","","","","","","","","","","","","","","","","","","","","","",""]
[null,null,null,null,null,null,null,null,null,null,null,null,null,null,null,null,null,null,null,null,null,null,null,null,null,null,null,"",null,"",null,null,null,"","","",null,null,null,null,null,null,null,null,null,null,null,null,null,null,null,null,null,null,null,null,null,null,null,null,null,null,"","","","","",null,"","","","","","","","","","","","",null,null,"","","","","","","","","","","","","","","","","","","","","","","","",null,"","","","","","","","","","","","","","","","","","","","","","","","",null,"","","","","","","","","","","","","","","","","","","","","","","",""]
[null,null,null,null,null,null,null,null,null,null,null,null,null,null,null,null,null,null,null,null,null,null,null,null,null,null,null,"",null,"",null,null,null,"","","",null,null,null,null,null,null,null,null,null,null,null,null,null,null,null,null,null,null,null,null,null,null,null,null,null,null,"","","","","",null,"","","","","","","","","","","","",null,null,"","","","","","","","","","","","","","","","","","","","","","","","",null,"","","","","","","","","","","","","","","","","","","","","","","","",null,"","","","","","","","","","","","","","","","","","","","","","","",""]
[null,null,null,null,null,null,null,null,null,null,null,null,null,null,null,null,null,null,null,null,null,null,null,null,null,null,null,"",null,"",null,null,null,"","","",null,null,null,null,null,null,null,null,null,null,null,null,null,null,null,null,null,null,null,null,null,null,null,null,null,null,"","","","","",null,"","","","","","","","","","","","",null,null,"","","","","","","","","","","","","","","","","","","","","","","","",null,"","","","","","","","","","","","","","","","","","","","","","","","",null,"","","","","","","","","","","","","","","","","","","","","","","",""]
[null,null,null,null,null,null,null,null,null,null,null,null,null,null,null,null,null,null,null,null,null,null,null,null,null,null,null,"",null,"",null,null,null,"","","",null,null,null,null,null,null,null,null,null,null,null,null,null,null,null,null,null,null,null,null,null,null,null,null,null,null,"","","","","",null,"","","","","","","","","","","","",null,null,"","","","","","","","","","","","","","","","","","","","","","","","",null,"","","","","","","","","","","","","","","","","","","","","","","","",null,"","","","","","","","","","","","","","","","","","","","","","","",""]
[null,null,null,null,null,null,null,null,null,null,null,null,null,null,null,null,null,null,null,null,null,null,null,null,null,null,null,"",null,"",null,null,null,"","","",null,null,null,null,null,null,null,null,null,null,null,null,null,null,null,null,null,null,null,null,null,null,null,null,null,null,"","","","","",null,"","","","","","","","","","","","",null,null,"","","","","","","","","","","","","","","","","","","","","","","","",null,"","","","","","","","","","","","","","","","","","","","","","","","",null,"","","","","","","","","","","","","","","","","","","","","","","",""]
[null,null,null,null,null,null,null,null,null,null,null,null,null,null,null,null,null,null,null,null,null,null,null,null,null,null,null,"",null,"",null,null,null,"","","",null,null,null,null,null,null,null,null,null,null,null,null,null,null,null,null,null,null,null,null,null,null,null,null,null,null,"","","","","",null,"","","","","","","","","","","","",null,null,"","","","","","","","","","","","","","","","","","","","","","","","",null,"","","","","","","","","","","","","","","","","","","","","","","","",null,"","","","","","","","","","","","","","","","","","","","","","","",""]
[null,null,null,null,null,null,null,null,null,null,null,null,null,null,null,null,null,null,null,null,null,null,null,null,null,null,null,"",null,"",null,null,null,"","","",null,null,null,null,null,null,null,null,null,null,null,null,null,null,null,null,null,null,null,null,null,null,null,null,null,null,"","","","","",null,"","","","","","","","","","","","",null,null,"","","","","","","","","","","","","","","","","","","","","","","","",null,"","","","","","","","","","","","","","","","","","","","","","","","",null,"","","","","","","","","","","","","","","","","","","","","","","",""]
[null,null,null,null,null,null,null,null,null,null,null,null,null,null,null,null,null,null,null,null,null,null,null,null,null,null,null,"",null,"",null,null,null,"","","",null,null,null,null,null,null,null,null,null,null,null,null,null,null,null,null,null,null,null,null,null,null,null,null,null,null,"","","","","",null,"","","","","","","","","","","","",null,null,"","","","","","","","","","","","","","","","","","","","","","","","",null,"","","","","","","","","","","","","","","","","","","","","","","","",null,"","","","","","","","","","","","","","","","","","","","","","","",""]
[null,null,null,null,null,null,null,null,null,null,null,null,null,null,null,null,null,null,null,null,null,null,null,null,null,null,null,"",null,"",null,null,null,"","","",null,null,null,null,null,null,null,null,null,null,null,null,null,null,null,null,null,null,null,null,null,null,null,null,null,null,"","","","","",null,"","","","","","","","","","","","",null,null,"","","","","","","","","","","","","","","","","","","","","","","","",null,"","","","","","","","","","","","","","","","","","","","","","","","",null,"","","","","","","","","","","","","","","","","","","","","","","",""]
[null,null,null,null,null,null,null,null,null,null,null,null,null,null,null,null,null,null,null,null,null,null,null,null,null,null,null,"",null,"",null,null,null,"","","",null,null,null,null,null,null,null,null,null,null,null,null,null,null,null,null,null,null,null,null,null,null,null,null,null,null,"","","","","",null,"","","","","","","","","","","","",null,null,"","","","","","","","","","","","","","","","","","","","","","","","",null,"","","","","","","","","","","","","","","","","","","","","","","","",null,"","","","","","","","","","","","","","","","","","","","","","","",""]
[null,null,null,null,null,null,null,null,null,null,null,null,null,null,null,null,null,null,null,null,null,null,null,null,null,null,null,"",null,"",null,null,null,"","","",null,null,null,null,null,null,null,null,null,null,null,null,null,null,null,null,null,null,null,null,null,null,null,null,null,null,"","","","","",null,"","","","","","","","","","","","",null,null,"","","","","","","","","","","","","","","","","","","","","","","","",null,"","","","","","","","","","","","","","","","","","","","","","","","",null,"","","","","","","","","","","","","","","","","","","","","","","",""]
["В.1 / ДВ",null,"Модуль \"Профессиональные дисциплины\"",null,null,null,null,null,null,null,null,null,null,null,null,null,null,null,null,null,null,null,null,null,null,null,null,{"$f":"SUM(AB187:AB206)","v":0},0,0,0,0,0,0,0,0,null,null,null,null,null,null,null,null,null,null,null,null,null,null,null,null,null,null,null,null,null,null,null,null,null,null,null,null,null,null,null,null,null,null,null,null,null,null,null,null,null,null,null,null,null,null,null,null,null,null,null,null,null,null,null,null,null,null,null,null,null,null,null,null,null,null,null,null,null,null,null,{"$f":"COUNTIF(DD187:DO209,888)","v":0},{"$f":"IF(DD186<>0,\"несоответствие: распределение по семестрам --- контр. мер-ия\",\"\")","v":""},null,null,null,null,null,null,null,null,null,null,null,null,null,null,null,null,null,null,null,null,null,null,null,{"$f":"COUNTIF(EC190:EN209,999)","v":0},{"$f":"IF(EC186<>0,\"несоответствие: нагрузка в часах --- нагрузка в кредитах\",\"\")","v":""}]
[null,null,null,null,null,null,null,null,null,null,null,null,null,null,null,null,null,null,null,null,null,null,null,null,null,null,null,{"$f":"IF((AL187+AN187+AP187+AR187+AT187+AV187+AX187+AZ187+BB187+BD187+BF187+BH187)=0,\"\",(AL187+AN187+AP187+AR187+AT187+AV187+AX187+AZ187+BB187+BD187+BF187+BH187))","v":""},null,{"$f":"IF((AE187+AF187+AG187)=0,\"\",AE187+AF187+AG187)","v":""},null,null,null,{"$f":"IF(AD187=\"\",\"\",AC187-AD187)","v":""},{"$f":"IF(AD187=\"\",\"\",ROUND((AC187-AD187)*0.1,0))","v":""},{"$f":"IF(AD187=\"\",\"\",AH187-AI187)","v":""},null,null,null,null,null,null,null,null,null,null,null,null,null,null,null,null,null,null,null,null,null,null,null,null,null,null,{"$f":"IF(D187=0,\"\",ROUND($AK$9*AK187+$AM$9*AM187+$AO$9*AO187+$AQ$9*AQ187+$AS$9*AS187+$AU$9*AU187+$AW$9*AW187+$AY$9*AY187+$BA$9*BA187+$BC$9*BC187+$BE$9*BE187+$BG$9*BG187,0))","v":""},{"$f":"IF(AC187=0,\"\",IF(AD187<>BK187,\"Ошибка\",\"\"))","v":""},{"$f":"IF(AA187=0,\"\",IF(AB187<=AA187*1.05,IF(AB187>=AA187*0.95,\"\",\"Ошибка\"),\"Ошибка\"))","v":""},{"$f":"DP187&DQ187&DR187&DS187&DT187&DU187&DV187&DW187&DX187&DY187&DZ187&EA187","v":""},{"$f":"EO187&EP187&EQ187&ER187&ES187&ET187&EU187&EV187&EW187&EX187&EY187&EZ187","v":""},null,{"$f":"IF(COUNTIF($E187:$P187,BQ$9)<>0,\"*\",\"\")","v":""},"","","","","","","","","","","",null,null,{"$f":"IF(AK187=\"\",\"\",\"*\")","v":""},{"$f":"IF(AL187=\"\",\"\",\"*\")","v":""},{"$f":"IF(AM187=\"\",\"\",\"*\")","v":""},{"$f":"IF(AN187=\"\",\"\",\"*\")","v":""},{"$f":"IF(AO187=\"\",\"\",\"*\")","v":""},{"$f":"IF(AP187=\"\",\"\",\"*\")","v":""},{"$f":"IF(AQ187=\"\",\"\",\"*\")","v":""},{"$f":"IF(AR187=\"\",\"\",\"*\")","v":""},{"$f":"IF(AS187=\"\",\"\",\"*\")","v":""},{"$f":"IF(AT187=\"\",\"\",\"*\")","v":""},{"$f":"IF(AU187=\"\",\"\",\"*\")","v":""},{"$f":"IF(AV187=\"\",\"\",\"*\")","v":""},{"$f":"IF(AW187=\"\",\"\",\"*\")","v":""},{"$f":"IF(AX187=\"\",\"\",\"*\")","v":""},{"$f":"IF(AY187=\"\",\"\",\"*\")","v":""},{"$f":"IF(AZ187=\"\",\"\",\"*\")","v":""},{"$f":"IF(BA187=\"\",\"\",\"*\")","v":""},{"$f":"IF(BB187=\"\",\"\",\"*\")","v":""},{"$f":"IF(BC187=\"\",\"\",\"*\")","v":""},{"$f":"IF(BD187=\"\",\"\",\"*\")","v":""},{"$f":"IF(BE187=\"\",\"\",\"*\")","v":""},{"$f":"IF(BF187=\"\",\"\",\"*\")","v":""},{"$f":"IF(BG187=\"\",\"\",\"*\")","v":""},{"$f":"IF(BH187=\"\",\"\",\"*\")","v":""},null,{"$f":"IF(BQ187=CE187,\"\",888)","v":""},{"$f":"IF(BR187=CG187,\"\",888)","v":""},{"$f":"IF(BS187=CI187,\"\",888)","v":""},{"$f":"IF(BT187=CK187,\"\",888)","v":""},{"$f":"IF(BU187=CM187,\"\",888)","v":""},{"$f":"IF(BV187=CO187,\"\",888)","v":""},{"$f":"IF(BW187=CQ187,\"\",888)","v":""},{"$f":"IF(BX187=CT187,\"\",888)","v":""},{"$f":"IF(BY187=CU187,\"\",888)","v":""},{"$f":"IF(BZ187=CW187,\"\",888)","v":""},{"$f":"IF(CA187=CY187,\"\",888)","v":""},{"$f":"IF(CB187=DA187,\"\",888)","v":""},{"$f":"IF(DD187=888,(DD$9&\"; \"),\"\")","v":""},{"$f":"IF(DE187=888,(DE$9&\"; \"),\"\")","v":""},{"$f":"IF(DF187=888,(DF$9&\"; \"),\"\")","v":""},{"$f":"IF(DG187=888,(DG$9&\"; \"),\"\")","v":""},{"$f":"IF(DH187=888,(DH$9&\"; \"),\"\")","v":""},{"$f":"IF(DI187=888,(DI$9&\"; \"),\"\")","v":""},{"$f":"IF(DJ187=888,(DJ$9&\"; \"),\"\")","v":""},{"$f":"IF(DK187=888,(DK$9&\"; \"),\"\")","v":""},{"$f":"IF(DL187=888,(DL$9&\"; \"),\"\")","v":""},{"$f":"IF(DM187=888,(DM$9&\"; \"),\"\")","v":""},{"$f":"IF(DN187=888,(DN$9&\"; \"),\"\")","v":""},{"$f":"IF(DO187=888,(DO$9&\"; \"),\"\")","v":""},null,{"$f":"IF(CE187=CF187,\"\",999)","v":""},{"$f":"IF(CG187=CH187,\"\",999)","v":""},{"$f":"IF(CI187=CJ187,\"\",999)","v":""},{"$f":"IF(CK187=CL187,\"\",999)","v":""},{"$f":"IF(CM187=CN187,\"\",999)","v":""},{"$f":"IF(CO187=CP187,\"\",999)","v":""},{"$f":"IF(CQ187=CR187,\"\",999)","v":""},{"$f":"IF(CS187=CT187,\"\",999)","v":""},{"$f":"IF(CU187=CV187,\"\",999)","v":""},{"$f":"IF(CW187=CX187,\"\",999)","v":""},{"$f":"IF(CY187=CZ187,\"\",999)","v":""},{"$f":"IF(DA187=DB187,\"\",999)","v":""},{"$f":"IF(EC187=999,(EC$9&\"; \"),\"\")","v":""},{"$f":"IF(ED187=999,(ED$9&\"; \"),\"\")","v":""},{"$f":"IF(EE187=999,(EE$9&\"; \"),\"\")","v":""},{"$f":"IF(EF187=999,(EF$9&\"; \"),\"\")","v":""},{"$f":"IF(EG187=999,(EG$9&\"; \"),\"\")","v":""},{"$f":"IF(EH187=999,(EH$9&\"; \"),\"\")","v":""},{"$f":"IF(EI187=999,(EI$9&\"; \"),\"\")","v":""},{"$f":"IF(EJ187=999,(EJ$9&\"; \"),\"\")","v":""},{"$f":"IF(EK187=999,(EK$9&\"; \"),\"\")","v":""},{"$f":"IF(EL187=999,(EL$9&\"; \"),\"\")","v":""},{"$f":"IF(EM187=999,(EM$9&\"; \"),\"\")","v":""},{"$f":"IF(EN187=999,(EN$9&\"; \"),\"\")","v":""}]
[null,null,null,null,null,null,null,null,null,null,null,null,null,null,null,null,null,null,null,null,null,null,null,null,null,null,null,"",null,"",null,null,null,{"$f":"IF(AD188=\"\",\"\",AC188-AD188)","v":""},{"$f":"IF(AD188=\"\",\"\",ROUND((AC188-AD188)*0.1,0))","v":""},{"$f":"IF(AD188=\"\",\"\",AH188-AI188)","v":""},null,null,null,null,null,null,null,null,null,null,null,null,null,null,null,null,null,null,null,null,null,null,null,null,null,null,"","","",{"$f":"DP188&DQ188&DR188&DS188&DT188&DU188&DV188&DW188&DX188&DY188&DZ188&EA188","v":""},{"$f":"EO188&EP188&EQ188&ER188&ES188&ET188&EU188&EV188&EW188&EX188&EY188&EZ188","v":""},null,"","","","","","","","","","","","",null,null,"","","","","","","","","","","","","","","","","","","","","","","","",null,{"$f":"IF(BQ188=CE188,\"\",888)","v":""},{"$f":"IF(BR188=CG188,\"\",888)","v":""},{"$f":"IF(BS188=CI188,\"\",888)","v":""},{"$f":"IF(BT188=CK188,\"\",888)","v":""},{"$f":"IF(BU188=CM188,\"\",888)","v":""},{"$f":"IF(BV188=CO188,\"\",888)","v":""},{"$f":"IF(BW188=CQ188,\"\",888)","v":""},{"$f":"IF(BX188=CT188,\"\",888)","v":""},{"$f":"IF(BY188=CU188,\"\",888)","v":""},{"$f":"IF(BZ188=CW188,\"\",888)","v":""},{"$f":"IF(CA188=CY188,\"\",888)","v":""},{"$f":"IF(CB188=DA188,\"\",888)","v":""},{"$f":"IF(DD188=888,(DD$9&\"; \"),\"\")","v":""},"","","","","","","","","","","",null,{"$f":"IF(CE188=CF188,\"\",999)","v":""},{"$f":"IF(CG188=CH188,\"\",999)","v":""},{"$f":"IF(CI188=CJ188,\"\",999)","v":""},{"$f":"IF(CK188=CL188,\"\",999)","v":""},{"$f":"IF(CM188=CN188,\"\",999)","v":""},{"$f":"IF(CO188=CP188,\"\",999)","v":""},{"$f":"IF(CQ188=CR188,\"\",999)","v":""},{"$f":"IF(CS188=CT188,\"\",999)","v":""},{"$f":"IF(CU188=CV188,\"\",999)","v":""},{"$f":"IF(CW188=CX188,\"\",999)","v":""},{"$f":"IF(CY188=CZ188,\"\",999)","v":""},{"$f":"IF(DA188=DB188,\"\",999)","v":""},"","","","","","","","","","","",""]
[null,null,null,null,null,null,null,null,null,null,null,null,null,null,null,null,null,null,null,null,null,null,null,null,null,null,null,"",null,"",null,null,null,{"$f":"IF(AD189=\"\",\"\",AC189-AD189)","v":""},{"$f":"IF(AD189=\"\",\"\",ROUND((AC189-AD189)*0.1,0))","v":""},{"$f":"IF(AD189=\"\",\"\",AH189-AI189)","v":""},null,null,null,null,null,null,null,null,null,null,null,null,null,null,null,null,null,null,null,null,null,null,null,null,null,null,"","","",{"$f":"DP189&DQ189&DR189&DS189&DT189&DU189&DV189&DW189&DX189&DY189&DZ189&EA189","v":""},{"$f":"EO189&EP189&EQ189&ER189&ES189&ET189&EU189&EV189&EW189&EX189&EY189&EZ189","v":""},null,"","","","","","","","","","","","",null,null,"","","","","","","","","","","","","","","","","","","","","","","","",null,"","","","","","","","","","","","","","","","","","","","","","","","",null,"","","","","","","","","","","","","","","","","","","","","","","",""]
[null,null,null,null,null,null,null,null,null,null,null,null,null,null,null,null,null,null,null,null,null,null,null,null,null,null,null,"",null,"",null,null,null,"","","",null,null,null,null,null,null,null,null,null,null,null,null,null,null,null,null,null,null,null,null,null,null,null,null,null,null,"","","","","",null,"","","","","","","","","","","","",null,null,"","","","","","","","","","","","","","","","","","","","","","","","",null,"","","","","","","","","","","","","","","","","","","","","","","","",null,"","","","","","","","","","","","","","","","","","","","","","","",""]
[null,null,null,null,null,null,null,null,null,null,null,null,null,null,null,null,null,null,null,null,null,null,null,null,null,null,null,"",null,"",null,null,null,"","","",null,null,null,null,null,null,null,null,null,null,null,null,null,null,null,null,null,null,null,null,null,null,null,null,null,null,"","","","","",null,"","","","","","","","","","","","",null,null,"","","","","","","","","","","","","","","","","","","","","","","","",null,"","","","","","","","","","","","","","","","","","","","","","","","",null,"","","","","","","","","","","","","","","","","","","","","","","",""]
[null,null,null,null,null,null,null,null,null,null,null,null,null,null,null,null,null,null,null,null,null,null,null,null,null,null,null,"",null,"",null,null,null,"","","",null,null,null,null,null,null,null,null,null,null,null,null,null,null,null,null,null,null,null,null,null,null,null,null,null,null,"","","","","",null,"","","","","","","","","","","","",null,null,"","","","","","","","","","","","","","","","","","","","","","","","",null,"","","","","","","","","","","","","","","","","","","","","","","","",null,"","","","","","","","","","","","","","","","","","","","","","","",""]
[null,null,null,null,null,null,null,null,null,null,null,null,null,null,null,null,null,null,null,null,null,null,null,null,null,null,null,"",null,"",null,null,null,"","","",null,null,null,null,null,null,null,null,null,null,null,null,null,null,null,null,null,null,null,null,null,null,null,null,null,null,"","","","","",null,"","","","","","","","","","","","",null,null,"","","","","","","","","","","","","","","","","","","","","","","","",null,"","","","","","","","","","","","","","","","","","","","","","","","",null,"","","","","","","","","","","","","","","","","","","","","","","",""]
[null,null,null,null,null,null,null,null,null,null,null,null,null,null,null,null,null,null,null,null,null,null,null,null,null,null,null,"",null,"",null,null,null,"","","",null,null,null,null,null,null,null,null,null,null,null,null,null,null,null,null,null,null,null,null,null,null,null,null,null,null,"","","","","",null,"","","","","","","","","","","","",null,null,"","","","","","","","","","","","","","","","","","","","","","","","",null,"","","","","","","","","","","","","","","","","","","","","","","","",null,"","","","","","","","","","","","","","","","","","","","","","","",""]
[null,null,null,null,null,null,null,null,null,null,null,null,null,null,null,null,null,null,null,null,null,null,null,null,null,null,null,"",null,"",null,null,null,"","","",null,null,null,null,null,null,null,null,null,null,null,null,null,null,null,null,null,null,null,null,null,null,null,null,null,null,"","","","","",null,"","","","","","","","","","","","",null,null,"","","","","","","","","","","","","","","","","","","","","","","","",null,"","","","","","","","","","","","","","","","","","","","","","","","",null,"","","","","","","","","","","","","","","","","","","","","","","",""]
[null,null,null,null,null,null,null,null,null,null,null,null,null,null,null,null,null,null,null,null,null,null,null,null,null,null,null,"",null,"",null,null,null,"","","",null,null,null,null,null,null,null,null,null,null,null,null,null,null,null,null,null,null,null,null,null,null,null,null,null,null,"","","","","",null,"","","","","","","","","","","","",null,null,"","","","","","","","","","","","","","","","","","","","","","","","",null,"","","","","","","","","","","","","","","","","","","","","","","","",null,"","","","","","","","","","","","","","","","","","","","","","","",""]
[null,null,null,null,null,null,null,null,null,null,null,null,null,null,null,null,null,null,null,null,null,null,null,null,null,null,null,"",null,"",null,null,null,"","","",null,null,null,null,null,null,null,null,null,null,null,null,null,null,null,null,null,null,null,null,null,null,null,null,null,null,"","","","","",null,"","","","","","","","","","","","",null,null,"","","","","","","","","","","","","","","","","","","","","","","","",null,"","","","","","","","","","","","","","","","","","","","","","","","",null,"","","","","","","","","","","","","","","","","","","","","","","",""]
[null,null,null,null,null,null,null,null,null,null,null,null,null,null,null,null,null,null,null,null,null,null,null,null,null,null,null,"",null,"",null,null,null,"","","",null,null,null,null,null,null,null,null,null,null,null,null,null,null,null,null,null,null,null,null,null,null,null,null,null,null,"","","","","",null,"","","","","","","","","","","","",null,null,"","","","","","","","","","","","","","","","","","","","","","","","",null,"","","","","","","","","","","","","","","","","","","","","","","","",null,"","","","","","","","","","","","","","","","","","","","","","","",""]
[null,null,null,null,null,null,null,null,null,null,null,null,null,null,null,null,null,null,null,null,null,null,null,null,null,null,null,"",null,"",null,null,null,"","","",null,null,null,null,null,null,null,null,null,null,null,null,null,null,null,null,null,null,null,null,null,null,null,null,null,null,"","","","","",null,"","","","","","","","","","","","",null,null,"","","","","","","","","","","","","","","","","","","","","","","","",null,"","","","","","","","","","","","","","","","","","","","","","","","",null,"","","","","","","","","","","","","","","","","","","","","","","",""]
[null,null,null,null,null,null,null,null,null,null,null,null,null,null,null,null,null,null,null,null,null,null,null,null,null,null,null,"",null,"",null,null,null,"","","",null,null,null,null,null,null,null,null,null,null,null,null,null,null,null,null,null,null,null,null,null,null,null,null,null,null,"","","","","",null,"","","","","","","","","","","","",null,null,"","","","","","","","","","","","","","","","","","","","","","","","",null,"","","","","","","","","","","","","","","","","","","","","","","","",null,"","","","","","","","","","","","","","","","","","","","","","","",""]
[null,null,null,null,null,null,null,null,null,null,null,null,null,null,null,null,null,null,null,null,null,null,null,null,null,null,null,"",null,"",null,null,null,"","","",null,null,null,null,null,null,null,null,null,null,null,null,null,null,null,null,null,null,null,null,null,null,null,null,null,null,"","","","","",null,"","","","","","","","","","","","",null,null,"","","","","","","","","","","","","","","","","","","","","","","","",null,"","","","","","","","","","","","","","","","","","","","","","","","",null,"","","","","","","","","","","","","","","","","","","","","","","",""]
[null,null,null,null,null,null,null,null,null,null,null,null,null,null,null,null,null,null,null,null,null,null,null,null,null,null,null,"",null,"",null,null,null,"","","",null,null,null,null,null,null,null,null,null,null,null,null,null,null,null,null,null,null,null,null,null,null,null,null,null,null,"","","","","",null,"","","","","","","","","","","","",null,null,"","","","","","","","","","","","","","","","","","","","","","","","",null,"","","","","","","","","","","","","","","","","","","","","","","","",null,"","","","","","","","","","","","","","","","","","","","","","","",""]
[null,null,null,null,null,null,null,null,null,null,null,null,null,null,null,null,null,null,null,null,null,null,null,null,null,null,null,"",null,"",null,null,null,"","","",null,null,null,null,null,null,null,null,null,null,null,null,null,null,null,null,null,null,null,null,null,null,null,null,null,null,"","","","","",null,"","","","","","","","","","","","",null,null,"","","","","","","","","","","","","","","","","","","","","","","","",null,"","","","","","","","","","","","","","","","","","","","","","","","",null,"","","","","","","","","","","","","","","","","","","","","","","",""]
[null,null,null,null,null,null,null,null,null,null,null,null,null,null,null,null,null,null,null,null,null,null,null,null,null,null,null,"",null,"",null,null,null,"","","",null,null,null,null,null,null,null,null,null,null,null,null,null,null,null,null,null,null,null,null,null,null,null,null,null,null,"","","","","",null,"","","","","","","","","","","","",null,null,"","","","","","","","","","","","","","","","","","","","","","","","",null,"","","","","","","","","","","","","","","","","","","","","","","","",null,"","","","","","","","","","","","","","","","","","","","","","","",""]
[null,null,null,null,null,null,null,null,null,null,null,null,null,null,null,null,null,null,null,null,null,null,null,null,null,null,null,"",null,"",null,null,null,"","","",null,null,null,null,null,null,null,null,null,null,null,null,null,null,null,null,null,null,null,null,null,null,null,null,null,null,"","","","","",null,"","","","","","","","","","","","",null,null,"","","","","","","","","","","","","","","","","","","","","","","","",null,"","","","","","","","","","","","","","","","","","","","","","","","",null,"","","","","","","","","","","","","","","","","","","","","","","",""]
[null,null,null,null,null,null,null,null,null,null,null,null,null,null,null,null,null,null,null,null,null,null,null,null,null,null,null,"",null,"",null,null,null,"","","",null,null,null,null,null,null,null,null,null,null,null,null,null,null,null,null,null,null,null,null,null,null,null,null,null,null,"","","","","",null,"","","","","","","","","","","","",null,null,"","","","","","","","","","","","","","","","","","","","","","","","",null,"","","","","","","","","","","","","","","","","","","","","","","","",null,"","","","","","","","","","","","","","","","","","","","","","","",""]
[null,null,null,null,null,null,null,null,null,null,null,null,null,null,null,null,null,null,null,null,null,null,null,null,null,null,null,{"$f":"AB208","v":0},{"$f":"AC208","v":0},"",0,0,0,"",{"$f":"AI209+#REF!","v":{"$error":"#REF!"}},{"$f":"AJ209+#REF!","v":{"$error":"#REF!"}},null,null,null,null,null,null,null,null,null,null,null,null,null,null,null,null,null,null,null,null,null,null,null,null,null,null,null,null,null,null,null,null,null,null,null,null,null,null,null,null,null,null,null,null,null,null,null,null,null,null,null,null,null,null,null,null,null,null,null,null,null,null,null,null,null,null,null,null,null,null,null,"888 - несоответствие",null,null,null,null,null,null,null,null,null,null,null,null,null,null,null,null,null,null,null,null,null,null,null,null,"999 - несоответствие"]
[null,null,null,null,null,null,null,null,null,null,null,null,null,null,null,null,null,null,null,null,null,null,null,null,null,null,null,0,null,{"$f":"IF((AE208+AF208+AG208)=0,\"\",AE208+AF208+AG208)","v":""},null,null,null,{"$f":"IF(AD208=\"\",\"\",AC208-AD208)","v":""},{"$f":"IF(AD208=\"\",\"\",ROUND((AC208-AD208)*0.1,0))","v":""},{"$f":"IF(AD208=\"\",\"\",AH208-AI208)","v":""},null,null,null,null,null,null,null,null,null,null,null,null,null,null,null,null,null,null,null,null,null,null,null,null,null,null,{"$f":"IF(D208=0,\"\",ROUND($AK$9*AK208+$AM$9*AM208+$AO$9*AO208+$AQ$9*AQ208+$AS$9*AS208+$AU$9*AU208+$AW$9*AW208+$AY$9*AY208+$BA$9*BA208+$BC$9*BC208+$BE$9*BE208+$BG$9*BG208,0))","v":""},{"$f":"IF(AC208=0,\"\",IF(AD208<>BK208,\"Ошибка\",\"\"))","v":""},{"$f":"IF(AA208=0,\"\",IF(AB208<=AA208*1.05,IF(AB208>=AA208*0.95,\"\",\"Ошибка\"),\"Ошибка\"))","v":""},{"$f":"DP208&DQ208&DR208&DS208&DT208&DU208&DV208&DW208&DX208&DY208&DZ208&EA208","v":""},{"$f":"EO208&EP208&EQ208&ER208&ES208&ET208&EU208&EV208&EW208&EX208&EY208&EZ208","v":""},null,{"$f":"IF(COUNTIF($E208:$P208,BQ$9)<>0,\"*\",\"\")","v":""},"","","","","","","","","","","",null,null,{"$f":"IF(AK208=\"\",\"\",\"*\")","v":""},{"$f":"IF(AL208=\"\",\"\",\"*\")","v":""},{"$f":"IF(AM208=\"\",\"\",\"*\")","v":""},{"$f":"IF(AN208=\"\",\"\",\"*\")","v":""},{"$f":"IF(AO208=\"\",\"\",\"*\")","v":""},{"$f":"IF(AP208=\"\",\"\",\"*\")","v":""},{"$f":"IF(AQ208=\"\",\"\",\"*\")","v":""},{"$f":"IF(AR208=\"\",\"\",\"*\")","v":""},{"$f":"IF(AS208=\"\",\"\",\"*\")","v":""},{"$f":"IF(AT208=\"\",\"\",\"*\")","v":""},{"$f":"IF(AU208=\"\",\"\",\"*\")","v":""},{"$f":"IF(AV208=\"\",\"\",\"*\")","v":""},{"$f":"IF(AW208=\"\",\"\",\"*\")","v":""},{"$f":"IF(AX208=\"\",\"\",\"*\")","v":""},{"$f":"IF(AY208=\"\",\"\",\"*\")","v":""},{"$f":"IF(AZ208=\"\",\"\",\"*\")","v":""},{"$f":"IF(BA208=\"\",\"\",\"*\")","v":""},{"$f":"IF(BB208=\"\",\"\",\"*\")","v":""},{"$f":"IF(BC208=\"\",\"\",\"*\")","v":""},{"$f":"IF(BD208=\"\",\"\",\"*\")","v":""},{"$f":"IF(BE208=\"\",\"\",\"*\")","v":""},{"$f":"IF(BF208=\"\",\"\",\"*\")","v":""},{"$f":"IF(BG208=\"\",\"\",\"*\")","v":""},{"$f":"IF(BH208=\"\",\"\",\"*\")","v":""},null,{"$f":"IF(BQ208=CE208,\"\",888)","v":""},{"$f":"IF(BR208=CG208,\"\",888)","v":""},{"$f":"IF(BS208=CI208,\"\",888)","v":""},{"$f":"IF(BT208=CK208,\"\",888)","v":""},{"$f":"IF(BU208=CM208,\"\",888)","v":""},{"$f":"IF(BV208=CO208,\"\",888)","v":""},{"$f":"IF(BW208=CQ208,\"\",888)","v":""},{"$f":"IF(BX208=CT208,\"\",888)","v":""},{"$f":"IF(BY208=CU208,\"\",888)","v":""},{"$f":"IF(BZ208=CW208,\"\",888)","v":""},{"$f":"IF(CA208=CY208,\"\",888)","v":""},{"$f":"IF(CB208=DA208,\"\",888)","v":""},{"$f":"IF(DD208=888,(DD$9&\"; \"),\"\")","v":""},{"$f":"IF(DE208=888,(DE$9&\"; \"),\"\")","v":""},{"$f":"IF(DF208=888,(DF$9&\"; \"),\"\")","v":""},{"$f":"IF(DG208=888,(DG$9&\"; \"),\"\")","v":""},{"$f":"IF(DH208=888,(DH$9&\"; \"),\"\")","v":""},{"$f":"IF(DI208=888,(DI$9&\"; \"),\"\")","v":""},{"$f":"IF(DJ208=888,(DJ$9&\"; \"),\"\")","v":""},{"$f":"IF(DK208=888,(DK$9&\"; \"),\"\")","v":""},{"$f":"IF(DL208=888,(DL$9&\"; \"),\"\")","v":""},{"$f":"IF(DM208=888,(DM$9&\"; \"),\"\")","v":""},{"$f":"IF(DN208=888,(DN$9&\"; \"),\"\")","v":""},{"$f":"IF(DO208=888,(DO$9&\"; \"),\"\")","v":""},null,{"$f":"IF(CE208=CF208,\"\",999)","v":""},{"$f":"IF(CG208=CH208,\"\",999)","v":""},{"$f":"IF(CI208=CJ208,\"\",999)","v":""},{"$f":"IF(CK208=CL208,\"\",999)","v":""},{"$f":"IF(CM208=CN208,\"\",999)","v":""},{"$f":"IF(CO208=CP208,\"\",999)","v":""},{"$f":"IF(CQ208=CR208,\"\",999)","v":""},{"$f":"IF(CS208=CT208,\"\",999)","v":""},{"$f":"IF(CU208=CV208,\"\",999)","v":""},{"$f":"IF(CW208=CX208,\"\",999)","v":""},{"$f":"IF(CY208=CZ208,\"\",999)","v":""},{"$f":"IF(DA208=DB208,\"\",999)","v":""},{"$f":"IF(EC208=999,(EC$9&\"; \"),\"\")","v":""},{"$f":"IF(ED208=999,(ED$9&\"; \"),\"\")","v":""},{"$f":"IF(EE208=999,(EE$9&\"; \"),\"\")","v":""},{"$f":"IF(EF208=999,(EF$9&\"; \"),\"\")","v":""},{"$f":"IF(EG208=999,(EG$9&\"; \"),\"\")","v":""},{"$f":"IF(EH208=999,(EH$9&\"; \"),\"\")","v":""},{"$f":"IF(EI208=999,(EI$9&\"; \"),\"\")","v":""},{"$f":"IF(EJ208=999,(EJ$9&\"; \"),\"\")","v":""},{"$f":"IF(EK208=999,(EK$9&\"; \"),\"\")","v":""},{"$f":"IF(EL208=999,(EL$9&\"; \"),\"\")","v":""},{"$f":"IF(EM208=999,(EM$9&\"; \"),\"\")","v":""},{"$f":"IF(EN208=999,(EN$9&\"; \"),\"\")","v":""}]
[]
[]
[null,null,"суммарные данные по циклу"]
[null,null,null,null,null,null,null,null,null,null,null,null,null,null,null,null,null,null,null,null,null,null,null,null,null,null,null,null,null,null,"Всего аудиторных часов / ЗЕ",null,null,null,null,null,{"$f":"SUM(AK15:AK208)","v":4},{"$f":"SUM(AL15:AL208)","v":4},6,6,0,0,0,0,0,0,0,0,0,0,0,0,0,0,0,0,0,0,0,0]
[null,null,null,null,null,null,null,null,null,null,null,null,null,null,null,null,null,null,null,null,null,null,null,null,null,null,null,null,null,null,"Число курсовых проектов",null,null,null,null,null,{"$f":"COUNTIF($S$15:$T$208,AK8)","v":0},null,{"$f":"COUNTIF($S$15:$T$208,AM8)","v":0},null,{"$f":"COUNTIF($S$15:$T$208,AO8)","v":0},null,{"$f":"COUNTIF($S$15:$T$208,AQ8)","v":0},null,{"$f":"COUNTIF($S$15:$T$208,AS8)","v":0},null,{"$f":"COUNTIF($S$15:$T$208,AU8)","v":0},null,{"$f":"COUNTIF($S$15:$T$208,AW8)","v":0},null,{"$f":"COUNTIF($S$15:$T$208,AY8)","v":0},null,{"$f":"COUNTIF($S$15:$T$208,BA8)","v":0},null,{"$f":"COUNTIF($S$15:$T$208,BC8)","v":0},null,{"$f":"COUNTIF($S$15:$T$208,BE8)","v":0},null,{"$f":"COUNTIF($S$15:$T$208,BG8)","v":0}]
[null,null,null,null,null,null,null,null,null,null,null,null,null,null,null,null,null,null,null,null,null,null,null,null,null,null,null,null,null,null,"Число курсовых работ",null,null,null,null,null,{"$f":"COUNTIF($U$15:$V$208,AK8)","v":0},null,{"$f":"COUNTIF($U$15:$V$208,AM8)","v":0},null,{"$f":"COUNTIF($U$15:$V$208,AO8)","v":0},null,{"$f":"COUNTIF($U$15:$V$208,AQ8)","v":0},null,{"$f":"COUNTIF($U$15:$V$208,AS8)","v":0},null,{"$f":"COUNTIF($U$15:$V$208,AU8)","v":0},null,{"$f":"COUNTIF($U$15:$V$208,AW8)","v":0},null,{"$f":"COUNTIF($U$15:$V$208,AY8)","v":0},null,{"$f":"COUNTIF($U$15:$V$208,BA8)","v":0},null,{"$f":"COUNTIF($U$15:$V$208,BC8)","v":0},null,{"$f":"COUNTIF($U$15:$V$208,BE8)","v":0},null,{"$f":"COUNTIF($U$15:$V$208,BG8)","v":0}]
[null,null,null,null,null,null,null,null,null,null,null,null,null,null,null,null,null,null,null,null,null,null,null,null,null,null,null,null,null,null,"Число экзаменов *",null,null,null,null,null,{"$f":"COUNTIF($E$16:$H$206,AK8)","v":0},null,{"$f":"COUNTIF($E$16:$H$206,AM8)","v":1},null,{"$f":"COUNTIF($E$16:$H$206,AO8)","v":0},null,{"$f":"COUNTIF($E$16:$H$206,AQ8)","v":0},null,{"$f":"COUNTIF($E$16:$H$206,AS8)","v":0},null,{"$f":"COUNTIF($E$16:$H$206,AU8)","v":0},null,{"$f":"COUNTIF($E$16:$H$206,AW8)","v":0},null,{"$f":"COUNTIF($E$16:$H$206,AY8)","v":0},null,{"$f":"COUNTIF($E$16:$H$206,BA8)","v":0},null,{"$f":"COUNTIF($E$16:$H$206,BC8)","v":0},null,{"$f":"COUNTIF($E$16:$H$206,BE8)","v":0},null,{"$f":"COUNTIF($E$16:$H$206,BG8)","v":0}]
[null,null,null,null,null,null,null,null,null,null,null,null,null,null,null,null,null,null,null,null,null,null,null,null,null,null,null,null,null,null,"Число зачетов *",null,null,null,null,null,{"$f":"COUNTIF($I$16:$N$206,AK8)","v":2},null,{"$f":"COUNTIF($I$16:$N$206,AM8)","v":2},null,{"$f":"COUNTIF($I$16:$N$206,AO8)","v":0},null,{"$f":"COUNTIF($I$16:$N$206,AQ8)","v":0},null,{"$f":"COUNTIF($I$16:$N$206,AS8)","v":0},null,{"$f":"COUNTIF($I$16:$N$206,AU8)","v":0},null,{"$f":"COUNTIF($I$16:$N$206,AW8)","v":0},null,{"$f":"COUNTIF($I$16:$N$206,AY8)","v":0},null,{"$f":"COUNTIF($I$16:$N$206,BA8)","v":0},null,{"$f":"COUNTIF($I$16:$N$206,BC8)","v":0},null,{"$f":"COUNTIF($I$16:$N$206,BE8)","v":0},null,{"$f":"COUNTIF($I$16:$N$206,BG8)","v":0}]
[null,null,null,null,null,null,null,null,null,null,null,null,null,null,null,null,null,null,null,null,null,null,null,null,null,null,null,null,null,null,"Число диф. Зачетов",null,null,null,null,null,{"$f":"COUNTIF($O$16:$R$206,AK8)","v":0},null,{"$f":"COUNTIF($O$16:$R$206,AM8)","v":0},null,{"$f":"COUNTIF($O$16:$R$206,AO8)","v":0},null,{"$f":"COUNTIF($O$16:$R$206,AQ8)","v":0},null,{"$f":"COUNTIF($O$16:$R$206,AS8)","v":0},null,{"$f":"COUNTIF($O$16:$R$206,AU8)","v":0},null,{"$f":"COUNTIF($O$16:$R$206,AW8)","v":0},null,{"$f":"COUNTIF($O$16:$R$206,AY8)","v":0},null,{"$f":"COUNTIF($O$16:$R$206,BA8)","v":0},null,{"$f":"COUNTIF($O$16:$R$206,BC8)","v":0},null,{"$f":"COUNTIF($O$16:$R$206,BE8)","v":0},null,{"$f":"COUNTIF($O$16:$R$206,BG8)","v":0}]

{"sheet":"Блок 2,3","index":3,"n_rows":62,"n_cols":151,"rows_kept":62,"cut":false,"hidden":false,"merged":[[3,104,3,105],[3,106,3,107],[3,108,3,109],[3,92,3,93],[3,94,3,95],[3,96,3,97],[3,98,3,99],[3,100,3,101],[3,102,3,103],[3,90,3,91],[1,62,4,62],[1,32,1,55],[1,58,4,58],[1,59,4,59],[1,60,4,60],[1,61,4,61],[2,32,2,35],[2,36,2,39],[2,40,2,43],[2,52,2,55],[3,32,3,33],[3,34,3,35],[3,36,3,37],[3,38,3,39],[3,40,3,41],[3,42,3,43],[2,44,2,47],[2,48,2,51],[3,64,3,75],[47,6,47,7],[47,8,47,9],[47,32,47,33],[46,32,46,33],[45,32,45,33],[46,4,46,5],[46,6,46,7],[46,8,46,9],[46,10,46,28],[45,4,45,5],[45,6,45,7],[45,8,45,9],[45,10,45,28],[44,32,44,33],[43,4,43,5],[43,6,43,7],[43,8,43,9],[43,10,43,28],[43,32,43,33],[44,4,44,5],[44,6,44,7],[44,8,44,9],[44,10,44,28],[42,32,42,33],[0,1,0,46],[1,1,4,1],[1,2,4,2],[1,3,4,3],[1,4,1,21],[42,4,42,5],[42,6,42,7],[42,8,42,9],[42,10,42,28],[2,4,4,7],[2,25,2,31],[3,25,4,25],[3,26,3,28],[3,29,4,29],[2,8,4,13],[2,14,4,15],[2,16,4,17],[2,18,4,21],[2,24,4,24],[1,22,4,22],[1,23,4,23],[1,24,1,31],[3,30,3,31],[5,1,6,2],[5,3,5,55],[6,3,6,47],[3,44,3,45],[3,46,3,47],[3,48,3,49],[3,50,3,51],[3,52,3,53],[3,54,3,55],[41,4,41,5],[41,6,41,7],[41,8,41,9],[41,10,41,28],[41,32,41,33],[7,18,7,21],[40,4,40,5],[40,6,40,7],[40,8,40,9],[7,4,7,7],[7,8,7,13],[7,14,7,15],[7,16,7,17],[40,30,40,31],[8,2,8,17],[9,2,9,21],[16,2,16,17],[17,2,17,21],[40,32,40,33]]}
[{"$f":"ГУП!AY12","v":0}]
[null,"Цикл № п/п","Название дисциплины","Кафедра","Распределение по семестрам",null,null,null,null,null,null,null,null,null,null,null,null,null,null,null,null,null,"ГОС, ЗЕ","Всего ЗЕ","Объем работы студентов, час",null,null,null,null,null,null,null,"Распределение по курсам и семестрам",null,null,null,null,null,null,null,null,null,null,null,null,null,null,null,null,null,null,null,null,null,null,null,null,null,"Всего аудиторных часов (сумма по видам нагрузки)","Всего по семестрам = Всего по видам нагрузки","Сверка с ГОСом","Несоответствие (контр. мер-ия и ауд. нагрузка ) в семестрах:","Несоответствие (часы в неделю - кредиты в неделю)"]
[null,null,null,null,"экз",null,null,null,"зач.",null,null,null,null,null,"К.П.",null,"К.Р.",null,"РГР",null,null,null,null,null,"Всего","Из них",null,null,null,null,null,null,"I курс",null,null,null,"II курс",null,null,null,"III курс",null,null,null,"IV курс",null,null,null,"V курс",null,null,null,"VI курс"]
[null,null,null,null,null,null,null,null,null,null,null,null,null,null,null,null,null,null,null,null,null,null,null,null,null,"Всего ауд.",null,null,null,"Всего СРС",null,null,1,null,2,null,3,null,4,null,5,null,6,null,7,null,8,null,9,null,10,null,11,null,12,null,null,null,null,null,null,null,null,null,null,null,null,null,null,null,null,null,null,null,null,null,null,null,null,null,null,null,null,null,null,null,null,null,null,null,1,null,2,null,3,null,4,null,5,null,6,null,7,null,8,null,9,null,10]
[null,null,null,null,null,null,null,null,null,null,null,null,null,null,null,null,null,null,null,null,null,null,null,null,null,null,"Лекции","Практика","Лаб. раб.",null,"КСР","СРС",{"$f":"IF(ГУП!B24=\"I\",IF(ISBLANK(Заполнить!J22),,Заполнить!J22),0)","v":18},"ЗЕ",{"$f":"IF(ГУП!B24=\"I\",IF(ISBLANK(Заполнить!K22),,Заполнить!K22),0)","v":18},"ЗЕ",{"$f":"IF(ГУП!B25=\"II\",IF(ISBLANK(Заполнить!L22),,Заполнить!L22),0)","v":18},"ЗЕ",{"$f":"IF(ГУП!B25=\"II\",IF(ISBLANK(Заполнить!M22),,Заполнить!M22),0)","v":12},"ЗЕ",{"$f":"IF(ГУП!B26=\"III\",IF(ISBLANK(Заполнить!N22),,Заполнить!N22),0)","v":0},"ЗЕ",{"$f":"IF(ГУП!B26=\"III\",IF(ISBLANK(Заполнить!O22),,Заполнить!O22),0)","v":0},"ЗЕ",{"$f":"IF(ГУП!B27=\"IV\",IF(ISBLANK(Заполнить!P22),,Заполнить!P22),0)","v":0},"ЗЕ",{"$f":"IF(ГУП!B27=\"IV\",IF(ISBLANK(Заполнить!Q22),,Заполнить!Q22),0)","v":0},"ЗЕ",{"$f":"IF(ГУП!B28=\"V\",IF(ISBLANK(Заполнить!R22),,Заполнить!R22),0)","v":0},"ЗЕ",{"$f":"IF(ГУП!B28=\"V\",IF(ISBLANK(Заполнить!S22),,Заполнить!S22),0)","v":0},"ЗЕ",{"$f":"IF(ГУП!B29=\"VI\",IF(ISBLANK(Заполнить!T22),,Заполнить!T22),0)","v":0},"ЗЕ",{"$f":"IF(ГУП!B29=\"VI\",IF(ISBLANK(Заполнить!U22),,Заполнить!U22),0)","v":0},"ЗЕ"]
[null,"на листе возможно имеются ошибки:",null,{"$f":"#REF!&IF(#REF!<>0,\"     /     \",\"\")&#REF!&\"  ------->\"","v":{"$error":"#REF!"}}]
[null,null,null,{"$f":"BM2&IF(BI7<>0,\"     /     \",\"\")&BM3&\"  ------->\"","v":"  ------->"},null,null,null,null,null,null,null,null,null,null,null,null,null,null,null,null,null,null,null,null,null,null,null,null,null,null,null,null,null,null,null,null,null,null,null,null,null,null,null,null,null,null,null,null,null,null,null,null,null,null,null,null,null,null,null,{"$f":"COUNTIF(BH25:BH53,\"ошибка\")","v":0},{"$f":"COUNTIF(BI25:BI53,\"ошибка\")","v":0},null,null,null,null,null,null,null,null,null,null,null,null,null,null,null,null,null,null,null,null,null,null,null,null,null,null,null,null,null,"Итоговая государственная аттестация"]
[null,1,2,3,4,null,null,null,5,null,null,null,null,null,6,null,7,null,8,null,null,null,8,9,10,11,12,13,14,15,17,18,16,17,18,19,20,21,22,23,24,25,26,27,28,29,30,31,32,33,34,35,36,37,38,39]
[null,"Блок 2","Практики, в том числе научно-исследовательская работа (НИР)",null,null,null,null,null,null,null,null,null,null,null,null,null,null,null,null,null,null,null,null,{"$f":"X10","v":12},{"$f":"Y10","v":0},0,0,0,0,0]
[null,"В.2","Вариативная часть",null,null,null,null,null,null,null,null,null,null,null,null,null,null,null,null,null,null,null,null,{"$f":"SUM(X11:X16)","v":12},0,0,0,0,0,0,null,null,{"$f":"SUM(AG11:AG16)","v":0},{"$f":"SUM(AH11:AH16)","v":0},0,6,0,0,0,6,0,0,0,0,0,0,0,0,0,0,0,0,0,0,0,0,null,null,null,null,null,null,null,null,null,null,null,null,null,null,null,null,null,null,null,null,null,null,null,null,null,null,null,null,null,null,null,null,null,null,null,null,null,null,null,null,null,null,null,null,null,null,"888 - несоответствие",null,null,null,null,null,null,null,null,null,null,null,null,null,null,null,null,null,null,null,null,null,null,null,null,"999 - несоответствие"]
[null,"В.2.01","Учебная","ВК",null,null,null,null,null,null,null,null,null,null,null,null,null,null,null,null,null,null,null,{"$f":"IF((AH11+AJ11+AL11+AN11+AP11+AR11+AT11+AV11+AX11+AZ11+BB11+BD11)=0,\"\",(AH11+AJ11+AL11+AN11+AP11+AR11+AT11+AV11+AX11+AZ11+BB11+BD11))","v":3},null,{"$f":"IF((AA11+AB11+AC11)=0,\"\",AA11+AB11+AC11)","v":""},null,null,null,{"$f":"IF(Z11=\"\",\"\",Y11-Z11)","v":""},{"$f":"IF(Z11=\"\",\"\",ROUND((Y11-Z11)*0.1,0))","v":""},{"$f":"IF(Z11=\"\",\"\",AD11-AE11)","v":""},null,null,null,3,null,null,null,null,null,null,null,null,null,null,null,null,null,null,null,null,null,null,null,null,null,{"$f":"IF(D11=0,\"\",ROUND(#REF!*AG11+#REF!*AI11+#REF!*AK11+#REF!*AM11+#REF!*AO11+#REF!*AQ11+#REF!*AS11+#REF!*AU11+#REF!*AW11+#REF!*AY11+#REF!*BA11+#REF!*BC11,0))","v":{"$error":"#REF!"}},{"$f":"IF(Y11=0,\"\",IF(Z11<>BF11,\"Ошибка\",\"\"))","v":""},{"$f":"IF(W11=0,\"\",IF(X11<=W11*1.05,IF(X11>=W11*0.95,\"\",\"Ошибка\"),\"Ошибка\"))","v":""},{"$f":"DK11&DL11&DM11&DN11&DO11&DP11&DQ11&DR11&DS11&DT11&DU11&DV11","v":""},{"$f":"EJ11&EK11&EL11&EM11&EN11&EO11&EP11&EQ11&ER11&ES11&ET11&EU11","v":{"$error":"#REF!"}},null,{"$f":"IF(COUNTIF($E11:$N11,#REF!)<>0,\"*\",\"\")","v":""},{"$f":"IF(COUNTIF($E11:$N11,#REF!)<>0,\"*\",\"\")","v":""},{"$f":"IF(COUNTIF($E11:$N11,#REF!)<>0,\"*\",\"\")","v":""},{"$f":"IF(COUNTIF($E11:$N11,#REF!)<>0,\"*\",\"\")","v":""},{"$f":"IF(COUNTIF($E11:$N11,#REF!)<>0,\"*\",\"\")","v":""},{"$f":"IF(COUNTIF($E11:$N11,#REF!)<>0,\"*\",\"\")","v":""},{"$f":"IF(COUNTIF($E11:$N11,#REF!)<>0,\"*\",\"\")","v":""},{"$f":"IF(COUNTIF($E11:$N11,#REF!)<>0,\"*\",\"\")","v":""},{"$f":"IF(COUNTIF($E11:$N11,#REF!)<>0,\"*\",\"\")","v":""},{"$f":"IF(COUNTIF($E11:$N11,#REF!)<>0,\"*\",\"\")","v":""},{"$f":"IF(COUNTIF($E11:$N11,#REF!)<>0,\"*\",\"\")","v":""},{"$f":"IF(COUNTIF($E11:$N11,#REF!)<>0,\"*\",\"\")","v":""},null,null,{"$f":"IF(AG11=\"\",\"\",\"*\")","v":""},"","","*","","","","","","",{"$f":"IF(AQ11=\"\",\"\",\"*\")","v":""},"","","","","","","","","",{"$f":"IF(BA11=\"\",\"\",\"*\")","v":""},"","","",null,{"$f":"IF(BL11=BZ11,\"\",888)","v":""},{"$f":"IF(BM11=CB11,\"\",888)","v":""},{"$f":"IF(BN11=CD11,\"\",888)","v":""},{"$f":"IF(BO11=CF11,\"\",888)","v":""},{"$f":"IF(BP11=CH11,\"\",888)","v":""},{"$f":"IF(BQ11=CJ11,\"\",888)","v":""},{"$f":"IF(BR11=CL11,\"\",888)","v":""},{"$f":"IF(BS11=CO11,\"\",888)","v":""},{"$f":"IF(BT11=CP11,\"\",888)","v":""},{"$f":"IF(BU11=CR11,\"\",888)","v":""},{"$f":"IF(BV11=CT11,\"\",888)","v":""},{"$f":"IF(BW11=CV11,\"\",888)","v":""},{"$f":"IF(CY11=888,(#REF!&\"; \"),\"\")","v":""},{"$f":"IF(CZ11=888,(#REF!&\"; \"),\"\")","v":""},{"$f":"IF(DA11=888,(#REF!&\"; \"),\"\")","v":""},{"$f":"IF(DB11=888,(#REF!&\"; \"),\"\")","v":""},{"$f":"IF(DC11=888,(#REF!&\"; \"),\"\")","v":""},{"$f":"IF(DD11=888,(#REF!&\"; \"),\"\")","v":""},{"$f":"IF(DE11=888,(#REF!&\"; \"),\"\")","v":""},{"$f":"IF(DF11=888,(#REF!&\"; \"),\"\")","v":""},{"$f":"IF(DG11=888,(#REF!&\"; \"),\"\")","v":""},{"$f":"IF(DH11=888,(#REF!&\"; \"),\"\")","v":""},{"$f":"IF(DI11=888,(#REF!&\"; \"),\"\")","v":""},{"$f":"IF(DJ11=888,(#REF!&\"; \"),\"\")","v":""},null,{"$f":"IF(BZ11=CA11,\"\",999)","v":""},{"$f":"IF(CB11=CC11,\"\",999)","v":999},{"$f":"IF(CD11=CE11,\"\",999)","v":""},{"$f":"IF(CF11=CG11,\"\",999)","v":""},{"$f":"IF(CH11=CI11,\"\",999)","v":""},{"$f":"IF(CJ11=CK11,\"\",999)","v":""},{"$f":"IF(CL11=CM11,\"\",999)","v":""},{"$f":"IF(CN11=CO11,\"\",999)","v":""},{"$f":"IF(CP11=CQ11,\"\",999)","v":""},{"$f":"IF(CR11=CS11,\"\",999)","v":""},{"$f":"IF(CT11=CU11,\"\",999)","v":""},{"$f":"IF(CV11=CW11,\"\",999)","v":""},{"$f":"IF(DX11=999,(#REF!&\"; \"),\"\")","v":""},{"$f":"IF(DY11=999,(#REF!&\"; \"),\"\")","v":{"$error":"#REF!"}},{"$f":"IF(DZ11=999,(#REF!&\"; \"),\"\")","v":""},{"$f":"IF(EA11=999,(#REF!&\"; \"),\"\")","v":""},{"$f":"IF(EB11=999,(#REF!&\"; \"),\"\")","v":""},{"$f":"IF(EC11=999,(#REF!&\"; \"),\"\")","v":""},{"$f":"IF(ED11=999,(#REF!&\"; \"),\"\")","v":""},{"$f":"IF(EE11=999,(#REF!&\"; \"),\"\")","v":""},{"$f":"IF(EF11=999,(#REF!&\"; \"),\"\")","v":""},{"$f":"IF(EG11=999,(#REF!&\"; \"),\"\")","v":""},{"$f":"IF(EH11=999,(#REF!&\"; \"),\"\")","v":""},{"$f":"IF(EI11=999,(#REF!&\"; \"),\"\")","v":""}]
[null,"В.2.02","Производственная","ВК",null,null,null,null,null,null,null,null,null,null,null,null,null,null,null,null,null,null,null,3,null,"",null,null,null,{"$f":"IF(Z12=\"\",\"\",Y12-Z12)","v":""},{"$f":"IF(Z12=\"\",\"\",ROUND((Y12-Z12)*0.1,0))","v":""},{"$f":"IF(Z12=\"\",\"\",AD12-AE12)","v":""},null,null,null,3,null,null,null,null,null,null,null,null,null,null,null,null,null,null,null,null,null,null,null,null,null,{"$f":"IF(D12=0,\"\",ROUND(#REF!*AG12+#REF!*AI12+#REF!*AK12+#REF!*AM12+#REF!*AO12+#REF!*AQ12+#REF!*AS12+#REF!*AU12+#REF!*AW12+#REF!*AY12+#REF!*BA12+#REF!*BC12,0))","v":{"$error":"#REF!"}},"","",{"$f":"DK12&DL12&DM12&DN12&DO12&DP12&DQ12&DR12&DS12&DT12&DU12&DV12","v":""},{"$f":"EJ12&EK12&EL12&EM12&EN12&EO12&EP12&EQ12&ER12&ES12&ET12&EU12","v":{"$error":"#REF!"}},null,{"$f":"IF(COUNTIF($E12:$N12,#REF!)<>0,\"*\",\"\")","v":""},{"$f":"IF(COUNTIF($E12:$N12,#REF!)<>0,\"*\",\"\")","v":""},{"$f":"IF(COUNTIF($E12:$N12,#REF!)<>0,\"*\",\"\")","v":""},{"$f":"IF(COUNTIF($E12:$N12,#REF!)<>0,\"*\",\"\")","v":""},{"$f":"IF(COUNTIF($E12:$N12,#REF!)<>0,\"*\",\"\")","v":""},{"$f":"IF(COUNTIF($E12:$N12,#REF!)<>0,\"*\",\"\")","v":""},{"$f":"IF(COUNTIF($E12:$N12,#REF!)<>0,\"*\",\"\")","v":""},{"$f":"IF(COUNTIF($E12:$N12,#REF!)<>0,\"*\",\"\")","v":""},{"$f":"IF(COUNTIF($E12:$N12,#REF!)<>0,\"*\",\"\")","v":""},{"$f":"IF(COUNTIF($E12:$N12,#REF!)<>0,\"*\",\"\")","v":""},{"$f":"IF(COUNTIF($E12:$N12,#REF!)<>0,\"*\",\"\")","v":""},{"$f":"IF(COUNTIF($E12:$N12,#REF!)<>0,\"*\",\"\")","v":""},null,null,"","","","*","","","","","","","","","","","","","","","","","","","","",null,{"$f":"IF(BL12=BZ12,\"\",888)","v":""},{"$f":"IF(BM12=CB12,\"\",888)","v":""},{"$f":"IF(BN12=CD12,\"\",888)","v":""},{"$f":"IF(BO12=CF12,\"\",888)","v":""},{"$f":"IF(BP12=CH12,\"\",888)","v":""},{"$f":"IF(BQ12=CJ12,\"\",888)","v":""},{"$f":"IF(BR12=CL12,\"\",888)","v":""},{"$f":"IF(BS12=CO12,\"\",888)","v":""},"",{"$f":"IF(BU12=CR12,\"\",888)","v":""},{"$f":"IF(BV12=CT12,\"\",888)","v":""},{"$f":"IF(BW12=CV12,\"\",888)","v":""},{"$f":"IF(CY12=888,(#REF!&\"; \"),\"\")","v":""},{"$f":"IF(CZ12=888,(#REF!&\"; \"),\"\")","v":""},{"$f":"IF(DA12=888,(#REF!&\"; \"),\"\")","v":""},{"$f":"IF(DB12=888,(#REF!&\"; \"),\"\")","v":""},{"$f":"IF(DC12=888,(#REF!&\"; \"),\"\")","v":""},{"$f":"IF(DD12=888,(#REF!&\"; \"),\"\")","v":""},{"$f":"IF(DE12=888,(#REF!&\"; \"),\"\")","v":""},{"$f":"IF(DF12=888,(#REF!&\"; \"),\"\")","v":""},{"$f":"IF(DG12=888,(#REF!&\"; \"),\"\")","v":""},{"$f":"IF(DH12=888,(#REF!&\"; \"),\"\")","v":""},{"$f":"IF(DI12=888,(#REF!&\"; \"),\"\")","v":""},{"$f":"IF(DJ12=888,(#REF!&\"; \"),\"\")","v":""},null,{"$f":"IF(BZ12=CA12,\"\",999)","v":""},{"$f":"IF(CB12=CC12,\"\",999)","v":999},{"$f":"IF(CD12=CE12,\"\",999)","v":""},{"$f":"IF(CF12=CG12,\"\",999)","v":""},{"$f":"IF(CH12=CI12,\"\",999)","v":""},{"$f":"IF(CJ12=CK12,\"\",999)","v":""},{"$f":"IF(CL12=CM12,\"\",999)","v":""},{"$f":"IF(CN12=CO12,\"\",999)","v":""},{"$f":"IF(CP12=CQ12,\"\",999)","v":""},{"$f":"IF(CR12=CS12,\"\",999)","v":""},{"$f":"IF(CT12=CU12,\"\",999)","v":""},{"$f":"IF(CV12=CW12,\"\",999)","v":""},{"$f":"IF(DX12=999,(#REF!&\"; \"),\"\")","v":""},{"$f":"IF(DY12=999,(#REF!&\"; \"),\"\")","v":{"$error":"#REF!"}},{"$f":"IF(DZ12=999,(#REF!&\"; \"),\"\")","v":""},{"$f":"IF(EA12=999,(#REF!&\"; \"),\"\")","v":""},{"$f":"IF(EB12=999,(#REF!&\"; \"),\"\")","v":""},{"$f":"IF(EC12=999,(#REF!&\"; \"),\"\")","v":""},{"$f":"IF(ED12=999,(#REF!&\"; \"),\"\")","v":""},{"$f":"IF(EE12=999,(#REF!&\"; \"),\"\")","v":""},{"$f":"IF(EF12=999,(#REF!&\"; \"),\"\")","v":""},{"$f":"IF(EG12=999,(#REF!&\"; \"),\"\")","v":""},{"$f":"IF(EH12=999,(#REF!&\"; \"),\"\")","v":""},{"$f":"IF(EI12=999,(#REF!&\"; \"),\"\")","v":""}]
[null,"В.2.03","Преддипломная","ВК",null,null,null,null,null,null,null,null,null,null,null,null,null,null,null,null,null,null,null,6,null,"",null,null,null,{"$f":"IF(Z13=\"\",\"\",Y13-Z13)","v":""},{"$f":"IF(Z13=\"\",\"\",ROUND((Y13-Z13)*0.1,0))","v":""},{"$f":"IF(Z13=\"\",\"\",AD13-AE13)","v":""},null,null,null,null,null,null,null,6,null,null,null,null,null,null,null,null,null,null,null,null,null,null,null,null,null,{"$f":"IF(D13=0,\"\",ROUND(#REF!*AG13+#REF!*AI13+#REF!*AK13+#REF!*AM13+#REF!*AO13+#REF!*AQ13+#REF!*AS13+#REF!*AU13+#REF!*AW13+#REF!*AY13+#REF!*BA13+#REF!*BC13,0))","v":{"$error":"#REF!"}},"","",{"$f":"DK13&DL13&DM13&DN13&DO13&DP13&DQ13&DR13&DS13&DT13&DU13&DV13","v":""},{"$f":"EJ13&EK13&EL13&EM13&EN13&EO13&EP13&EQ13&ER13&ES13&ET13&EU13","v":{"$error":"#REF!"}},null,{"$f":"IF(COUNTIF($E13:$N13,#REF!)<>0,\"*\",\"\")","v":""},{"$f":"IF(COUNTIF($E13:$N13,#REF!)<>0,\"*\",\"\")","v":""},{"$f":"IF(COUNTIF($E13:$N13,#REF!)<>0,\"*\",\"\")","v":""},{"$f":"IF(COUNTIF($E13:$N13,#REF!)<>0,\"*\",\"\")","v":""},{"$f":"IF(COUNTIF($E13:$N13,#REF!)<>0,\"*\",\"\")","v":""},{"$f":"IF(COUNTIF($E13:$N13,#REF!)<>0,\"*\",\"\")","v":""},{"$f":"IF(COUNTIF($E13:$N13,#REF!)<>0,\"*\",\"\")","v":""},{"$f":"IF(COUNTIF($E13:$N13,#REF!)<>0,\"*\",\"\")","v":""},{"$f":"IF(COUNTIF($E13:$N13,#REF!)<>0,\"*\",\"\")","v":""},{"$f":"IF(COUNTIF($E13:$N13,#REF!)<>0,\"*\",\"\")","v":""},{"$f":"IF(COUNTIF($E13:$N13,#REF!)<>0,\"*\",\"\")","v":""},{"$f":"IF(COUNTIF($E13:$N13,#REF!)<>0,\"*\",\"\")","v":""},null,null,"","","","","","","","*","","","","","","","","","","","","","","","","",null,"","","","","","","","","","","","",{"$f":"IF(CY13=888,(#REF!&\"; \"),\"\")","v":""},{"$f":"IF(CZ13=888,(#REF!&\"; \"),\"\")","v":""},{"$f":"IF(DA13=888,(#REF!&\"; \"),\"\")","v":""},{"$f":"IF(DB13=888,(#REF!&\"; \"),\"\")","v":""},{"$f":"IF(DC13=888,(#REF!&\"; \"),\"\")","v":""},{"$f":"IF(DD13=888,(#REF!&\"; \"),\"\")","v":""},{"$f":"IF(DE13=888,(#REF!&\"; \"),\"\")","v":""},{"$f":"IF(DF13=888,(#REF!&\"; \"),\"\")","v":""},{"$f":"IF(DG13=888,(#REF!&\"; \"),\"\")","v":""},{"$f":"IF(DH13=888,(#REF!&\"; \"),\"\")","v":""},{"$f":"IF(DI13=888,(#REF!&\"; \"),\"\")","v":""},{"$f":"IF(DJ13=888,(#REF!&\"; \"),\"\")","v":""},null,"","","",999,"","","","","","","","",{"$f":"IF(DX13=999,(#REF!&\"; \"),\"\")","v":""},{"$f":"IF(DY13=999,(#REF!&\"; \"),\"\")","v":""},{"$f":"IF(DZ13=999,(#REF!&\"; \"),\"\")","v":""},{"$f":"IF(EA13=999,(#REF!&\"; \"),\"\")","v":{"$error":"#REF!"}},{"$f":"IF(EB13=999,(#REF!&\"; \"),\"\")","v":""},{"$f":"IF(EC13=999,(#REF!&\"; \"),\"\")","v":""},{"$f":"IF(ED13=999,(#REF!&\"; \"),\"\")","v":""},{"$f":"IF(EE13=999,(#REF!&\"; \"),\"\")","v":""},{"$f":"IF(EF13=999,(#REF!&\"; \"),\"\")","v":""},{"$f":"IF(EG13=999,(#REF!&\"; \"),\"\")","v":""},{"$f":"IF(EH13=999,(#REF!&\"; \"),\"\")","v":""},{"$f":"IF(EI13=999,(#REF!&\"; \"),\"\")","v":""}]
[null,"В.2.04","Научно-исследовательская работа","ВК",null,null,null,null,null,null,null,null,null,null,null,null,null,null,null,null,null,null,null,"",null,"",null,null,null,"","","",null,null,null,null,null,null,null,null,null,null,null,null,null,null,null,null,null,null,null,null,null,null,null,null,null,{"$f":"IF(D14=0,\"\",ROUND(#REF!*AG14+#REF!*AI14+#REF!*AK14+#REF!*AM14+#REF!*AO14+#REF!*AQ14+#REF!*AS14+#REF!*AU14+#REF!*AW14+#REF!*AY14+#REF!*BA14+#REF!*BC14,0))","v":{"$error":"#REF!"}},"","","","",null,{"$f":"IF(COUNTIF($E14:$N14,#REF!)<>0,\"*\",\"\")","v":""},{"$f":"IF(COUNTIF($E14:$N14,#REF!)<>0,\"*\",\"\")","v":""},{"$f":"IF(COUNTIF($E14:$N14,#REF!)<>0,\"*\",\"\")","v":""},{"$f":"IF(COUNTIF($E14:$N14,#REF!)<>0,\"*\",\"\")","v":""},{"$f":"IF(COUNTIF($E14:$N14,#REF!)<>0,\"*\",\"\")","v":""},{"$f":"IF(COUNTIF($E14:$N14,#REF!)<>0,\"*\",\"\")","v":""},{"$f":"IF(COUNTIF($E14:$N14,#REF!)<>0,\"*\",\"\")","v":""},{"$f":"IF(COUNTIF($E14:$N14,#REF!)<>0,\"*\",\"\")","v":""},{"$f":"IF(COUNTIF($E14:$N14,#REF!)<>0,\"*\",\"\")","v":""},{"$f":"IF(COUNTIF($E14:$N14,#REF!)<>0,\"*\",\"\")","v":""},{"$f":"IF(COUNTIF($E14:$N14,#REF!)<>0,\"*\",\"\")","v":""},{"$f":"IF(COUNTIF($E14:$N14,#REF!)<>0,\"*\",\"\")","v":""},null,null,"","","","","","","","","","","","","","","","","","","","","","","","",null,"","","","","","","","","","","","",{"$f":"IF(CY14=888,(#REF!&\"; \"),\"\")","v":""},{"$f":"IF(CZ14=888,(#REF!&\"; \"),\"\")","v":""},{"$f":"IF(DA14=888,(#REF!&\"; \"),\"\")","v":""},{"$f":"IF(DB14=888,(#REF!&\"; \"),\"\")","v":""},{"$f":"IF(DC14=888,(#REF!&\"; \"),\"\")","v":""},{"$f":"IF(DD14=888,(#REF!&\"; \"),\"\")","v":""},{"$f":"IF(DE14=888,(#REF!&\"; \"),\"\")","v":""},{"$f":"IF(DF14=888,(#REF!&\"; \"),\"\")","v":""},{"$f":"IF(DG14=888,(#REF!&\"; \"),\"\")","v":""},{"$f":"IF(DH14=888,(#REF!&\"; \"),\"\")","v":""},{"$f":"IF(DI14=888,(#REF!&\"; \"),\"\")","v":""},{"$f":"IF(DJ14=888,(#REF!&\"; \"),\"\")","v":""},null,"","","","","","","","","","","","",{"$f":"IF(DX14=999,(#REF!&\"; \"),\"\")","v":""},{"$f":"IF(DY14=999,(#REF!&\"; \"),\"\")","v":""},{"$f":"IF(DZ14=999,(#REF!&\"; \"),\"\")","v":""},{"$f":"IF(EA14=999,(#REF!&\"; \"),\"\")","v":""},{"$f":"IF(EB14=999,(#REF!&\"; \"),\"\")","v":""},{"$f":"IF(EC14=999,(#REF!&\"; \"),\"\")","v":""},{"$f":"IF(ED14=999,(#REF!&\"; \"),\"\")","v":""},{"$f":"IF(EE14=999,(#REF!&\"; \"),\"\")","v":""},{"$f":"IF(EF14=999,(#REF!&\"; \"),\"\")","v":""},{"$f":"IF(EG14=999,(#REF!&\"; \"),\"\")","v":""},{"$f":"IF(EH14=999,(#REF!&\"; \"),\"\")","v":""},{"$f":"IF(EI14=999,(#REF!&\"; \"),\"\")","v":""}]
[null,null,null,null,null,null,null,null,null,null,null,null,null,null,null,null,null,null,null,null,null,null,null,"",null,"",null,null,null,"","","",null,null,null,null,null,null,null,null,null,null,null,null,null,null,null,null,null,null,null,null,null,null,null,null,null,{"$f":"IF(D15=0,\"\",ROUND(#REF!*AG15+#REF!*AI15+#REF!*AK15+#REF!*AM15+#REF!*AO15+#REF!*AQ15+#REF!*AS15+#REF!*AU15+#REF!*AW15+#REF!*AY15+#REF!*BA15+#REF!*BC15,0))","v":""},"","","","",null,{"$f":"IF(COUNTIF($E15:$N15,#REF!)<>0,\"*\",\"\")","v":""},{"$f":"IF(COUNTIF($E15:$N15,#REF!)<>0,\"*\",\"\")","v":""},{"$f":"IF(COUNTIF($E15:$N15,#REF!)<>0,\"*\",\"\")","v":""},{"$f":"IF(COUNTIF($E15:$N15,#REF!)<>0,\"*\",\"\")","v":""},{"$f":"IF(COUNTIF($E15:$N15,#REF!)<>0,\"*\",\"\")","v":""},{"$f":"IF(COUNTIF($E15:$N15,#REF!)<>0,\"*\",\"\")","v":""},{"$f":"IF(COUNTIF($E15:$N15,#REF!)<>0,\"*\",\"\")","v":""},{"$f":"IF(COUNTIF($E15:$N15,#REF!)<>0,\"*\",\"\")","v":""},{"$f":"IF(COUNTIF($E15:$N15,#REF!)<>0,\"*\",\"\")","v":""},{"$f":"IF(COUNTIF($E15:$N15,#REF!)<>0,\"*\",\"\")","v":""},{"$f":"IF(COUNTIF($E15:$N15,#REF!)<>0,\"*\",\"\")","v":""},{"$f":"IF(COUNTIF($E15:$N15,#REF!)<>0,\"*\",\"\")","v":""},null,null,"","","","","","","","","","","","","","","","","","","","","","","","",null,"","","","","","","","","","","","",{"$f":"IF(CY15=888,(#REF!&\"; \"),\"\")","v":""},{"$f":"IF(CZ15=888,(#REF!&\"; \"),\"\")","v":""},{"$f":"IF(DA15=888,(#REF!&\"; \"),\"\")","v":""},{"$f":"IF(DB15=888,(#REF!&\"; \"),\"\")","v":""},{"$f":"IF(DC15=888,(#REF!&\"; \"),\"\")","v":""},{"$f":"IF(DD15=888,(#REF!&\"; \"),\"\")","v":""},{"$f":"IF(DE15=888,(#REF!&\"; \"),\"\")","v":""},{"$f":"IF(DF15=888,(#REF!&\"; \"),\"\")","v":""},{"$f":"IF(DG15=888,(#REF!&\"; \"),\"\")","v":""},{"$f":"IF(DH15=888,(#REF!&\"; \"),\"\")","v":""},{"$f":"IF(DI15=888,(#REF!&\"; \"),\"\")","v":""},{"$f":"IF(DJ15=888,(#REF!&\"; \"),\"\")","v":""},null,"","","","","","","","","","","","",{"$f":"IF(DX15=999,(#REF!&\"; \"),\"\")","v":""},{"$f":"IF(DY15=999,(#REF!&\"; \"),\"\")","v":""},{"$f":"IF(DZ15=999,(#REF!&\"; \"),\"\")","v":""},{"$f":"IF(EA15=999,(#REF!&\"; \"),\"\")","v":""},{"$f":"IF(EB15=999,(#REF!&\"; \"),\"\")","v":""},{"$f":"IF(EC15=999,(#REF!&\"; \"),\"\")","v":""},{"$f":"IF(ED15=999,(#REF!&\"; \"),\"\")","v":""},{"$f":"IF(EE15=999,(#REF!&\"; \"),\"\")","v":""},{"$f":"IF(EF15=999,(#REF!&\"; \"),\"\")","v":""},{"$f":"IF(EG15=999,(#REF!&\"; \"),\"\")","v":""},{"$f":"IF(EH15=999,(#REF!&\"; \"),\"\")","v":""},{"$f":"IF(EI15=999,(#REF!&\"; \"),\"\")","v":""}]
[null,null,null,null,null,null,null,null,null,null,null,null,null,null,null,null,null,null,null,null,null,null,null,"",null,"",null,null,null,"","","",null,null,null,null,null,null,null,null,null,null,null,null,null,null,null,null,null,null,null,null,null,null,null,null,null,{"$f":"IF(D16=0,\"\",ROUND(#REF!*AG16+#REF!*AI16+#REF!*AK16+#REF!*AM16+#REF!*AO16+#REF!*AQ16+#REF!*AS16+#REF!*AU16+#REF!*AW16+#REF!*AY16+#REF!*BA16+#REF!*BC16,0))","v":""},"","","","",null,{"$f":"IF(COUNTIF($E16:$N16,#REF!)<>0,\"*\",\"\")","v":""},{"$f":"IF(COUNTIF($E16:$N16,#REF!)<>0,\"*\",\"\")","v":""},{"$f":"IF(COUNTIF($E16:$N16,#REF!)<>0,\"*\",\"\")","v":""},{"$f":"IF(COUNTIF($E16:$N16,#REF!)<>0,\"*\",\"\")","v":""},{"$f":"IF(COUNTIF($E16:$N16,#REF!)<>0,\"*\",\"\")","v":""},{"$f":"IF(COUNTIF($E16:$N16,#REF!)<>0,\"*\",\"\")","v":""},{"$f":"IF(COUNTIF($E16:$N16,#REF!)<>0,\"*\",\"\")","v":""},{"$f":"IF(COUNTIF($E16:$N16,#REF!)<>0,\"*\",\"\")","v":""},{"$f":"IF(COUNTIF($E16:$N16,#REF!)<>0,\"*\",\"\")","v":""},{"$f":"IF(COUNTIF($E16:$N16,#REF!)<>0,\"*\",\"\")","v":""},{"$f":"IF(COUNTIF($E16:$N16,#REF!)<>0,\"*\",\"\")","v":""},{"$f":"IF(COUNTIF($E16:$N16,#REF!)<>0,\"*\",\"\")","v":""},null,null,"","","","","","","","","","","","","","","","","","","","","","","","",null,"","","","","","","","","","","","",{"$f":"IF(CY16=888,(#REF!&\"; \"),\"\")","v":""},{"$f":"IF(CZ16=888,(#REF!&\"; \"),\"\")","v":""},{"$f":"IF(DA16=888,(#REF!&\"; \"),\"\")","v":""},{"$f":"IF(DB16=888,(#REF!&\"; \"),\"\")","v":""},{"$f":"IF(DC16=888,(#REF!&\"; \"),\"\")","v":""},{"$f":"IF(DD16=888,(#REF!&\"; \"),\"\")","v":""},{"$f":"IF(DE16=888,(#REF!&\"; \"),\"\")","v":""},{"$f":"IF(DF16=888,(#REF!&\"; \"),\"\")","v":""},{"$f":"IF(DG16=888,(#REF!&\"; \"),\"\")","v":""},{"$f":"IF(DH16=888,(#REF!&\"; \"),\"\")","v":""},{"$f":"IF(DI16=888,(#REF!&\"; \"),\"\")","v":""},{"$f":"IF(DJ16=888,(#REF!&\"; \"),\"\")","v":""},null,"","","","","","","","","","","","",{"$f":"IF(DX16=999,(#REF!&\"; \"),\"\")","v":""},{"$f":"IF(DY16=999,(#REF!&\"; \"),\"\")","v":""},{"$f":"IF(DZ16=999,(#REF!&\"; \"),\"\")","v":""},{"$f":"IF(EA16=999,(#REF!&\"; \"),\"\")","v":""},{"$f":"IF(EB16=999,(#REF!&\"; \"),\"\")","v":""},{"$f":"IF(EC16=999,(#REF!&\"; \"),\"\")","v":""},{"$f":"IF(ED16=999,(#REF!&\"; \"),\"\")","v":""},{"$f":"IF(EE16=999,(#REF!&\"; \"),\"\")","v":""},{"$f":"IF(EF16=999,(#REF!&\"; \"),\"\")","v":""},{"$f":"IF(EG16=999,(#REF!&\"; \"),\"\")","v":""},{"$f":"IF(EH16=999,(#REF!&\"; \"),\"\")","v":""},{"$f":"IF(EI16=999,(#REF!&\"; \"),\"\")","v":""}]
[null,"Блок 3","Итоговая аттестация",null,null,null,null,null,null,null,null,null,null,null,null,null,null,null,null,null,null,null,"6-9",{"$f":"X18","v":9},{"$f":"Y18","v":0},0,0,0,0,0]
[null,"Б.3","Базовая часть",null,null,null,null,null,null,null,null,null,null,null,null,null,null,null,null,null,null,null,"6-9",{"$f":"SUM(X19:X23)","v":9},0,0,0,0,0,0,null,null,{"$f":"SUM(AG19:AG23)","v":0},{"$f":"SUM(AH19:AH23)","v":0},0,0,0,0,0,9,0,0,0,0,0,0,0,0,0,0,0,0,0,0,0,0,null,null,null,null,null,null,null,null,null,null,null,null,null,null,null,null,null,null,null,null,null,null,null,null,null,null,null,null,null,null,null,null,null,null,null,null,null,null,null,null,null,null,null,null,null,null,"888 - несоответствие",null,null,null,null,null,null,null,null,null,null,null,null,null,null,null,null,null,null,null,null,null,null,null,null,"999 - несоответствие"]
[null,"Б.3.01","Государственный экзамен","ВК",null,null,null,null,null,null,null,null,null,null,null,null,null,null,null,null,null,null,null,{"$f":"IF((AH19+AJ19+AL19+AN19+AP19+AR19+AT19+AV19+AX19+AZ19+BB19+BD19)=0,\"\",(AH19+AJ19+AL19+AN19+AP19+AR19+AT19+AV19+AX19+AZ19+BB19+BD19))","v":3},null,{"$f":"IF((AA19+AB19+AC19)=0,\"\",AA19+AB19+AC19)","v":""},null,null,null,{"$f":"IF(Z19=\"\",\"\",Y19-Z19)","v":""},{"$f":"IF(Z19=\"\",\"\",ROUND((Y19-Z19)*0.1,0))","v":""},{"$f":"IF(Z19=\"\",\"\",AD19-AE19)","v":""},null,null,null,null,null,null,null,3,null,null,null,null,null,null,null,null,null,null,null,null,null,null,null,null,null,{"$f":"IF(D19=0,\"\",ROUND(#REF!*AG19+#REF!*AI19+#REF!*AK19+#REF!*AM19+#REF!*AO19+#REF!*AQ19+#REF!*AS19+#REF!*AU19+#REF!*AW19+#REF!*AY19+#REF!*BA19+#REF!*BC19,0))","v":{"$error":"#REF!"}},{"$f":"IF(Y19=0,\"\",IF(Z19<>BF19,\"Ошибка\",\"\"))","v":""},{"$f":"IF(W19=0,\"\",IF(X19<=W19*1.05,IF(X19>=W19*0.95,\"\",\"Ошибка\"),\"Ошибка\"))","v":""},{"$f":"DK19&DL19&DM19&DN19&DO19&DP19&DQ19&DR19&DS19&DT19&DU19&DV19","v":""},{"$f":"EJ19&EK19&EL19&EM19&EN19&EO19&EP19&EQ19&ER19&ES19&ET19&EU19","v":{"$error":"#REF!"}},null,{"$f":"IF(COUNTIF($E19:$N19,#REF!)<>0,\"*\",\"\")","v":""},{"$f":"IF(COUNTIF($E19:$N19,#REF!)<>0,\"*\",\"\")","v":""},{"$f":"IF(COUNTIF($E19:$N19,#REF!)<>0,\"*\",\"\")","v":""},{"$f":"IF(COUNTIF($E19:$N19,#REF!)<>0,\"*\",\"\")","v":""},{"$f":"IF(COUNTIF($E19:$N19,#REF!)<>0,\"*\",\"\")","v":""},{"$f":"IF(COUNTIF($E19:$N19,#REF!)<>0,\"*\",\"\")","v":""},{"$f":"IF(COUNTIF($E19:$N19,#REF!)<>0,\"*\",\"\")","v":""},{"$f":"IF(COUNTIF($E19:$N19,#REF!)<>0,\"*\",\"\")","v":""},{"$f":"IF(COUNTIF($E19:$N19,#REF!)<>0,\"*\",\"\")","v":""},{"$f":"IF(COUNTIF($E19:$N19,#REF!)<>0,\"*\",\"\")","v":""},{"$f":"IF(COUNTIF($E19:$N19,#REF!)<>0,\"*\",\"\")","v":""},{"$f":"IF(COUNTIF($E19:$N19,#REF!)<>0,\"*\",\"\")","v":""},null,null,{"$f":"IF(AG19=\"\",\"\",\"*\")","v":""},"","","","","","","*","","",{"$f":"IF(AQ19=\"\",\"\",\"*\")","v":""},"","","","","","","","","",{"$f":"IF(BA19=\"\",\"\",\"*\")","v":""},"","","",null,{"$f":"IF(BL19=BZ19,\"\",888)","v":""},{"$f":"IF(BM19=CB19,\"\",888)","v":""},{"$f":"IF(BN19=CD19,\"\",888)","v":""},{"$f":"IF(BO19=CF19,\"\",888)","v":""},{"$f":"IF(BP19=CH19,\"\",888)","v":""},{"$f":"IF(BQ19=CJ19,\"\",888)","v":""},{"$f":"IF(BR19=CL19,\"\",888)","v":""},{"$f":"IF(BS19=CO19,\"\",888)","v":""},{"$f":"IF(BT19=CP19,\"\",888)","v":""},{"$f":"IF(BU19=CR19,\"\",888)","v":""},{"$f":"IF(BV19=CT19,\"\",888)","v":""},{"$f":"IF(BW19=CV19,\"\",888)","v":""},{"$f":"IF(CY19=888,(#REF!&\"; \"),\"\")","v":""},{"$f":"IF(CZ19=888,(#REF!&\"; \"),\"\")","v":""},{"$f":"IF(DA19=888,(#REF!&\"; \"),\"\")","v":""},{"$f":"IF(DB19=888,(#REF!&\"; \"),\"\")","v":""},{"$f":"IF(DC19=888,(#REF!&\"; \"),\"\")","v":""},{"$f":"IF(DD19=888,(#REF!&\"; \"),\"\")","v":""},{"$f":"IF(DE19=888,(#REF!&\"; \"),\"\")","v":""},{"$f":"IF(DF19=888,(#REF!&\"; \"),\"\")","v":""},{"$f":"IF(DG19=888,(#REF!&\"; \"),\"\")","v":""},{"$f":"IF(DH19=888,(#REF!&\"; \"),\"\")","v":""},{"$f":"IF(DI19=888,(#REF!&\"; \"),\"\")","v":""},{"$f":"IF(DJ19=888,(#REF!&\"; \"),\"\")","v":""},null,{"$f":"IF(BZ19=CA19,\"\",999)","v":""},{"$f":"IF(CB19=CC19,\"\",999)","v":""},{"$f":"IF(CD19=CE19,\"\",999)","v":""},{"$f":"IF(CF19=CG19,\"\",999)","v":999},{"$f":"IF(CH19=CI19,\"\",999)","v":""},{"$f":"IF(CJ19=CK19,\"\",999)","v":""},{"$f":"IF(CL19=CM19,\"\",999)","v":""},{"$f":"IF(CN19=CO19,\"\",999)","v":""},{"$f":"IF(CP19=CQ19,\"\",999)","v":""},{"$f":"IF(CR19=CS19,\"\",999)","v":""},{"$f":"IF(CT19=CU19,\"\",999)","v":""},{"$f":"IF(CV19=CW19,\"\",999)","v":""},{"$f":"IF(DX19=999,(#REF!&\"; \"),\"\")","v":""},{"$f":"IF(DY19=999,(#REF!&\"; \"),\"\")","v":""},{"$f":"IF(DZ19=999,(#REF!&\"; \"),\"\")","v":""},{"$f":"IF(EA19=999,(#REF!&\"; \"),\"\")","v":{"$error":"#REF!"}},{"$f":"IF(EB19=999,(#REF!&\"; \"),\"\")","v":""},{"$f":"IF(EC19=999,(#REF!&\"; \"),\"\")","v":""},{"$f":"IF(ED19=999,(#REF!&\"; \"),\"\")","v":""},{"$f":"IF(EE19=999,(#REF!&\"; \"),\"\")","v":""},{"$f":"IF(EF19=999,(#REF!&\"; \"),\"\")","v":""},{"$f":"IF(EG19=999,(#REF!&\"; \"),\"\")","v":""},{"$f":"IF(EH19=999,(#REF!&\"; \"),\"\")","v":""},{"$f":"IF(EI19=999,(#REF!&\"; \"),\"\")","v":""}]
[null,"Б.3.02","Защита выпускной квалификационной работы","ВК",null,null,null,null,null,null,null,null,null,null,null,null,null,null,null,null,null,null,null,6,null,"",null,null,null,{"$f":"IF(Z20=\"\",\"\",Y20-Z20)","v":""},{"$f":"IF(Z20=\"\",\"\",ROUND((Y20-Z20)*0.1,0))","v":""},{"$f":"IF(Z20=\"\",\"\",AD20-AE20)","v":""},null,null,null,null,null,null,null,6,null,null,null,null,null,null,null,null,null,null,null,null,null,null,null,null,null,{"$f":"IF(D20=0,\"\",ROUND(#REF!*AG20+#REF!*AI20+#REF!*AK20+#REF!*AM20+#REF!*AO20+#REF!*AQ20+#REF!*AS20+#REF!*AU20+#REF!*AW20+#REF!*AY20+#REF!*BA20+#REF!*BC20,0))","v":{"$error":"#REF!"}},{"$f":"IF(Y20=0,\"\",IF(Z20<>BF20,\"Ошибка\",\"\"))","v":""},{"$f":"IF(W20=0,\"\",IF(X20<=W20*1.05,IF(X20>=W20*0.95,\"\",\"Ошибка\"),\"Ошибка\"))","v":""},{"$f":"DK20&DL20&DM20&DN20&DO20&DP20&DQ20&DR20&DS20&DT20&DU20&DV20","v":""},{"$f":"EJ20&EK20&EL20&EM20&EN20&EO20&EP20&EQ20&ER20&ES20&ET20&EU20","v":{"$error":"#REF!"}},null,{"$f":"IF(COUNTIF($E20:$N20,#REF!)<>0,\"*\",\"\")","v":""},{"$f":"IF(COUNTIF($E20:$N20,#REF!)<>0,\"*\",\"\")","v":""},{"$f":"IF(COUNTIF($E20:$N20,#REF!)<>0,\"*\",\"\")","v":""},{"$f":"IF(COUNTIF($E20:$N20,#REF!)<>0,\"*\",\"\")","v":""},{"$f":"IF(COUNTIF($E20:$N20,#REF!)<>0,\"*\",\"\")","v":""},{"$f":"IF(COUNTIF($E20:$N20,#REF!)<>0,\"*\",\"\")","v":""},{"$f":"IF(COUNTIF($E20:$N20,#REF!)<>0,\"*\",\"\")","v":""},{"$f":"IF(COUNTIF($E20:$N20,#REF!)<>0,\"*\",\"\")","v":""},{"$f":"IF(COUNTIF($E20:$N20,#REF!)<>0,\"*\",\"\")","v":""},{"$f":"IF(COUNTIF($E20:$N20,#REF!)<>0,\"*\",\"\")","v":""},{"$f":"IF(COUNTIF($E20:$N20,#REF!)<>0,\"*\",\"\")","v":""},{"$f":"IF(COUNTIF($E20:$N20,#REF!)<>0,\"*\",\"\")","v":""},null,null,"","","","","","","","*","","","","","","","","","","","","","","","","",null,{"$f":"IF(BL20=BZ20,\"\",888)","v":""},{"$f":"IF(BM20=CB20,\"\",888)","v":""},{"$f":"IF(BN20=CD20,\"\",888)","v":""},{"$f":"IF(BO20=CF20,\"\",888)","v":""},{"$f":"IF(BP20=CH20,\"\",888)","v":""},{"$f":"IF(BQ20=CJ20,\"\",888)","v":""},{"$f":"IF(BR20=CL20,\"\",888)","v":""},{"$f":"IF(BS20=CO20,\"\",888)","v":""},{"$f":"IF(BT20=CP20,\"\",888)","v":""},{"$f":"IF(BU20=CR20,\"\",888)","v":""},{"$f":"IF(BV20=CT20,\"\",888)","v":""},{"$f":"IF(BW20=CV20,\"\",888)","v":""},{"$f":"IF(CY20=888,(#REF!&\"; \"),\"\")","v":""},{"$f":"IF(CZ20=888,(#REF!&\"; \"),\"\")","v":""},{"$f":"IF(DA20=888,(#REF!&\"; \"),\"\")","v":""},{"$f":"IF(DB20=888,(#REF!&\"; \"),\"\")","v":""},{"$f":"IF(DC20=888,(#REF!&\"; \"),\"\")","v":""},{"$f":"IF(DD20=888,(#REF!&\"; \"),\"\")","v":""},{"$f":"IF(DE20=888,(#REF!&\"; \"),\"\")","v":""},{"$f":"IF(DF20=888,(#REF!&\"; \"),\"\")","v":""},{"$f":"IF(DG20=888,(#REF!&\"; \"),\"\")","v":""},{"$f":"IF(DH20=888,(#REF!&\"; \"),\"\")","v":""},{"$f":"IF(DI20=888,(#REF!&\"; \"),\"\")","v":""},{"$f":"IF(DJ20=888,(#REF!&\"; \"),\"\")","v":""},null,{"$f":"IF(BZ20=CA20,\"\",999)","v":""},{"$f":"IF(CB20=CC20,\"\",999)","v":""},{"$f":"IF(CD20=CE20,\"\",999)","v":""},{"$f":"IF(CF20=CG20,\"\",999)","v":999},{"$f":"IF(CH20=CI20,\"\",999)","v":""},{"$f":"IF(CJ20=CK20,\"\",999)","v":""},{"$f":"IF(CL20=CM20,\"\",999)","v":""},{"$f":"IF(CN20=CO20,\"\",999)","v":""},{"$f":"IF(CP20=CQ20,\"\",999)","v":""},{"$f":"IF(CR20=CS20,\"\",999)","v":""},{"$f":"IF(CT20=CU20,\"\",999)","v":""},{"$f":"IF(CV20=CW20,\"\",999)","v":""},{"$f":"IF(DX20=999,(#REF!&\"; \"),\"\")","v":""},{"$f":"IF(DY20=999,(#REF!&\"; \"),\"\")","v":""},{"$f":"IF(DZ20=999,(#REF!&\"; \"),\"\")","v":""},{"$f":"IF(EA20=999,(#REF!&\"; \"),\"\")","v":{"$error":"#REF!"}},{"$f":"IF(EB20=999,(#REF!&\"; \"),\"\")","v":""},{"$f":"IF(EC20=999,(#REF!&\"; \"),\"\")","v":""},{"$f":"IF(ED20=999,(#REF!&\"; \"),\"\")","v":""},{"$f":"IF(EE20=999,(#REF!&\"; \"),\"\")","v":""},{"$f":"IF(EF20=999,(#REF!&\"; \"),\"\")","v":""},{"$f":"IF(EG20=999,(#REF!&\"; \"),\"\")","v":""},{"$f":"IF(EH20=999,(#REF!&\"; \"),\"\")","v":""},{"$f":"IF(EI20=999,(#REF!&\"; \"),\"\")","v":""}]
[null,null,null,null,null,null,null,null,null,null,null,null,null,null,null,null,null,null,null,null,null,null,null,"",null,"",null,null,null,{"$f":"IF(Z21=\"\",\"\",Y21-Z21)","v":""},{"$f":"IF(Z21=\"\",\"\",ROUND((Y21-Z21)*0.1,0))","v":""},{"$f":"IF(Z21=\"\",\"\",AD21-AE21)","v":""},null,null,null,null,null,null,null,null,null,null,null,null,null,null,null,null,null,null,null,null,null,null,null,null,null,{"$f":"IF(D21=0,\"\",ROUND(#REF!*AG21+#REF!*AI21+#REF!*AK21+#REF!*AM21+#REF!*AO21+#REF!*AQ21+#REF!*AS21+#REF!*AU21+#REF!*AW21+#REF!*AY21+#REF!*BA21+#REF!*BC21,0))","v":""},{"$f":"IF(Y21=0,\"\",IF(Z21<>BF21,\"Ошибка\",\"\"))","v":""},{"$f":"IF(W21=0,\"\",IF(X21<=W21*1.05,IF(X21>=W21*0.95,\"\",\"Ошибка\"),\"Ошибка\"))","v":""},{"$f":"DK21&DL21&DM21&DN21&DO21&DP21&DQ21&DR21&DS21&DT21&DU21&DV21","v":""},{"$f":"EJ21&EK21&EL21&EM21&EN21&EO21&EP21&EQ21&ER21&ES21&ET21&EU21","v":""},null,{"$f":"IF(COUNTIF($E21:$N21,#REF!)<>0,\"*\",\"\")","v":""},{"$f":"IF(COUNTIF($E21:$N21,#REF!)<>0,\"*\",\"\")","v":""},{"$f":"IF(COUNTIF($E21:$N21,#REF!)<>0,\"*\",\"\")","v":""},{"$f":"IF(COUNTIF($E21:$N21,#REF!)<>0,\"*\",\"\")","v":""},{"$f":"IF(COUNTIF($E21:$N21,#REF!)<>0,\"*\",\"\")","v":""},{"$f":"IF(COUNTIF($E21:$N21,#REF!)<>0,\"*\",\"\")","v":""},{"$f":"IF(COUNTIF($E21:$N21,#REF!)<>0,\"*\",\"\")","v":""},{"$f":"IF(COUNTIF($E21:$N21,#REF!)<>0,\"*\",\"\")","v":""},{"$f":"IF(COUNTIF($E21:$N21,#REF!)<>0,\"*\",\"\")","v":""},{"$f":"IF(COUNTIF($E21:$N21,#REF!)<>0,\"*\",\"\")","v":""},{"$f":"IF(COUNTIF($E21:$N21,#REF!)<>0,\"*\",\"\")","v":""},{"$f":"IF(COUNTIF($E21:$N21,#REF!)<>0,\"*\",\"\")","v":""},null,null,"","","","","","","","","","","","","","","","","","","","","","","","",null,"","","","","","","","","","","","",{"$f":"IF(CY21=888,(#REF!&\"; \"),\"\")","v":""},{"$f":"IF(CZ21=888,(#REF!&\"; \"),\"\")","v":""},{"$f":"IF(DA21=888,(#REF!&\"; \"),\"\")","v":""},{"$f":"IF(DB21=888,(#REF!&\"; \"),\"\")","v":""},{"$f":"IF(DC21=888,(#REF!&\"; \"),\"\")","v":""},{"$f":"IF(DD21=888,(#REF!&\"; \"),\"\")","v":""},{"$f":"IF(DE21=888,(#REF!&\"; \"),\"\")","v":""},{"$f":"IF(DF21=888,(#REF!&\"; \"),\"\")","v":""},{"$f":"IF(DG21=888,(#REF!&\"; \"),\"\")","v":""},{"$f":"IF(DH21=888,(#REF!&\"; \"),\"\")","v":""},{"$f":"IF(DI21=888,(#REF!&\"; \"),\"\")","v":""},{"$f":"IF(DJ21=888,(#REF!&\"; \"),\"\")","v":""},null,"","","","","","","","","","","","",{"$f":"IF(DX21=999,(#REF!&\"; \"),\"\")","v":""},{"$f":"IF(DY21=999,(#REF!&\"; \"),\"\")","v":""},{"$f":"IF(DZ21=999,(#REF!&\"; \"),\"\")","v":""},{"$f":"IF(EA21=999,(#REF!&\"; \"),\"\")","v":""},{"$f":"IF(EB21=999,(#REF!&\"; \"),\"\")","v":""},{"$f":"IF(EC21=999,(#REF!&\"; \"),\"\")","v":""},{"$f":"IF(ED21=999,(#REF!&\"; \"),\"\")","v":""},{"$f":"IF(EE21=999,(#REF!&\"; \"),\"\")","v":""},{"$f":"IF(EF21=999,(#REF!&\"; \"),\"\")","v":""},{"$f":"IF(EG21=999,(#REF!&\"; \"),\"\")","v":""},{"$f":"IF(EH21=999,(#REF!&\"; \"),\"\")","v":""},{"$f":"IF(EI21=999,(#REF!&\"; \"),\"\")","v":""}]
[null,null,null,null,null,null,null,null,null,null,null,null,null,null,null,null,null,null,null,null,null,null,null,"",null,"",null,null,null,"","","",null,null,null,null,null,null,null,null,null,null,null,null,null,null,null,null,null,null,null,null,null,null,null,null,null,{"$f":"IF(D22=0,\"\",ROUND(#REF!*AG22+#REF!*AI22+#REF!*AK22+#REF!*AM22+#REF!*AO22+#REF!*AQ22+#REF!*AS22+#REF!*AU22+#REF!*AW22+#REF!*AY22+#REF!*BA22+#REF!*BC22,0))","v":""},{"$f":"IF(Y22=0,\"\",IF(Z22<>BF22,\"Ошибка\",\"\"))","v":""},{"$f":"IF(W22=0,\"\",IF(X22<=W22*1.05,IF(X22>=W22*0.95,\"\",\"Ошибка\"),\"Ошибка\"))","v":""},"","",null,{"$f":"IF(COUNTIF($E22:$N22,#REF!)<>0,\"*\",\"\")","v":""},{"$f":"IF(COUNTIF($E22:$N22,#REF!)<>0,\"*\",\"\")","v":""},{"$f":"IF(COUNTIF($E22:$N22,#REF!)<>0,\"*\",\"\")","v":""},{"$f":"IF(COUNTIF($E22:$N22,#REF!)<>0,\"*\",\"\")","v":""},{"$f":"IF(COUNTIF($E22:$N22,#REF!)<>0,\"*\",\"\")","v":""},{"$f":"IF(COUNTIF($E22:$N22,#REF!)<>0,\"*\",\"\")","v":""},{"$f":"IF(COUNTIF($E22:$N22,#REF!)<>0,\"*\",\"\")","v":""},{"$f":"IF(COUNTIF($E22:$N22,#REF!)<>0,\"*\",\"\")","v":""},{"$f":"IF(COUNTIF($E22:$N22,#REF!)<>0,\"*\",\"\")","v":""},{"$f":"IF(COUNTIF($E22:$N22,#REF!)<>0,\"*\",\"\")","v":""},{"$f":"IF(COUNTIF($E22:$N22,#REF!)<>0,\"*\",\"\")","v":""},{"$f":"IF(COUNTIF($E22:$N22,#REF!)<>0,\"*\",\"\")","v":""},null,null,"","","","","","","","","","","","","","","","","","","","","","","","",null,"","","","","","","","","","","","",{"$f":"IF(CY22=888,(#REF!&\"; \"),\"\")","v":""},{"$f":"IF(CZ22=888,(#REF!&\"; \"),\"\")","v":""},{"$f":"IF(DA22=888,(#REF!&\"; \"),\"\")","v":""},{"$f":"IF(DB22=888,(#REF!&\"; \"),\"\")","v":""},{"$f":"IF(DC22=888,(#REF!&\"; \"),\"\")","v":""},{"$f":"IF(DD22=888,(#REF!&\"; \"),\"\")","v":""},{"$f":"IF(DE22=888,(#REF!&\"; \"),\"\")","v":""},{"$f":"IF(DF22=888,(#REF!&\"; \"),\"\")","v":""},{"$f":"IF(DG22=888,(#REF!&\"; \"),\"\")","v":""},{"$f":"IF(DH22=888,(#REF!&\"; \"),\"\")","v":""},{"$f":"IF(DI22=888,(#REF!&\"; \"),\"\")","v":""},{"$f":"IF(DJ22=888,(#REF!&\"; \"),\"\")","v":""},null,"","","","","","","","","","","","",{"$f":"IF(DX22=999,(#REF!&\"; \"),\"\")","v":""},{"$f":"IF(DY22=999,(#REF!&\"; \"),\"\")","v":""},{"$f":"IF(DZ22=999,(#REF!&\"; \"),\"\")","v":""},{"$f":"IF(EA22=999,(#REF!&\"; \"),\"\")","v":""},{"$f":"IF(EB22=999,(#REF!&\"; \"),\"\")","v":""},{"$f":"IF(EC22=999,(#REF!&\"; \"),\"\")","v":""},{"$f":"IF(ED22=999,(#REF!&\"; \"),\"\")","v":""},{"$f":"IF(EE22=999,(#REF!&\"; \"),\"\")","v":""},{"$f":"IF(EF22=999,(#REF!&\"; \"),\"\")","v":""},{"$f":"IF(EG22=999,(#REF!&\"; \"),\"\")","v":""},{"$f":"IF(EH22=999,(#REF!&\"; \"),\"\")","v":""},{"$f":"IF(EI22=999,(#REF!&\"; \"),\"\")","v":""}]
[null,null,null,null,null,null,null,null,null,null,null,null,null,null,null,null,null,null,null,null,null,null,null,"",null,"",null,null,null,"","","",null,null,null,null,null,null,null,null,null,null,null,null,null,null,null,null,null,null,null,null,null,null,null,null,null,{"$f":"IF(D23=0,\"\",ROUND(#REF!*AG23+#REF!*AI23+#REF!*AK23+#REF!*AM23+#REF!*AO23+#REF!*AQ23+#REF!*AS23+#REF!*AU23+#REF!*AW23+#REF!*AY23+#REF!*BA23+#REF!*BC23,0))","v":""},{"$f":"IF(Y23=0,\"\",IF(Z23<>BF23,\"Ошибка\",\"\"))","v":""},{"$f":"IF(W23=0,\"\",IF(X23<=W23*1.05,IF(X23>=W23*0.95,\"\",\"Ошибка\"),\"Ошибка\"))","v":""},"","",null,{"$f":"IF(COUNTIF($E23:$N23,#REF!)<>0,\"*\",\"\")","v":""},{"$f":"IF(COUNTIF($E23:$N23,#REF!)<>0,\"*\",\"\")","v":""},{"$f":"IF(COUNTIF($E23:$N23,#REF!)<>0,\"*\",\"\")","v":""},{"$f":"IF(COUNTIF($E23:$N23,#REF!)<>0,\"*\",\"\")","v":""},{"$f":"IF(COUNTIF($E23:$N23,#REF!)<>0,\"*\",\"\")","v":""},{"$f":"IF(COUNTIF($E23:$N23,#REF!)<>0,\"*\",\"\")","v":""},{"$f":"IF(COUNTIF($E23:$N23,#REF!)<>0,\"*\",\"\")","v":""},{"$f":"IF(COUNTIF($E23:$N23,#REF!)<>0,\"*\",\"\")","v":""},{"$f":"IF(COUNTIF($E23:$N23,#REF!)<>0,\"*\",\"\")","v":""},{"$f":"IF(COUNTIF($E23:$N23,#REF!)<>0,\"*\",\"\")","v":""},{"$f":"IF(COUNTIF($E23:$N23,#REF!)<>0,\"*\",\"\")","v":""},{"$f":"IF(COUNTIF($E23:$N23,#REF!)<>0,\"*\",\"\")","v":""},null,null,"","","","","","","","","","","","","","","","","","","","","","","","",null,"","","","","","","","","","","","",{"$f":"IF(CY23=888,(#REF!&\"; \"),\"\")","v":""},{"$f":"IF(CZ23=888,(#REF!&\"; \"),\"\")","v":""},{"$f":"IF(DA23=888,(#REF!&\"; \"),\"\")","v":""},{"$f":"IF(DB23=888,(#REF!&\"; \"),\"\")","v":""},{"$f":"IF(DC23=888,(#REF!&\"; \"),\"\")","v":""},{"$f":"IF(DD23=888,(#REF!&\"; \"),\"\")","v":""},{"$f":"IF(DE23=888,(#REF!&\"; \"),\"\")","v":""},{"$f":"IF(DF23=888,(#REF!&\"; \"),\"\")","v":""},{"$f":"IF(DG23=888,(#REF!&\"; \"),\"\")","v":""},{"$f":"IF(DH23=888,(#REF!&\"; \"),\"\")","v":""},{"$f":"IF(DI23=888,(#REF!&\"; \"),\"\")","v":""},{"$f":"IF(DJ23=888,(#REF!&\"; \"),\"\")","v":""},null,"","","","","","","","","","","","",{"$f":"IF(DX23=999,(#REF!&\"; \"),\"\")","v":""},{"$f":"IF(DY23=999,(#REF!&\"; \"),\"\")","v":""},{"$f":"IF(DZ23=999,(#REF!&\"; \"),\"\")","v":""},{"$f":"IF(EA23=999,(#REF!&\"; \"),\"\")","v":""},{"$f":"IF(EB23=999,(#REF!&\"; \"),\"\")","v":""},{"$f":"IF(EC23=999,(#REF!&\"; \"),\"\")","v":""},{"$f":"IF(ED23=999,(#REF!&\"; \"),\"\")","v":""},{"$f":"IF(EE23=999,(#REF!&\"; \"),\"\")","v":""},{"$f":"IF(EF23=999,(#REF!&\"; \"),\"\")","v":""},{"$f":"IF(EG23=999,(#REF!&\"; \"),\"\")","v":""},{"$f":"IF(EH23=999,(#REF!&\"; \"),\"\")","v":""},{"$f":"IF(EI23=999,(#REF!&\"; \"),\"\")","v":""}]
[null,null,null,null,null,null,null,null,null,null,null,null,null,null,null,null,null,null,null,null,null,null,null,null,null,null,null,null,null,null,null,null,null,null,null,null,null,null,null,null,null,null,null,null,null,null,null,null,null,null,null,null,null,null,null,null,null,null,null,null,null,null,null,null,null,null,null,null,null,null,null,null,null,null,null,null,null,null,null,null,null,null,null,null,null,null,null,null,null,null,{"$f":"IF(AD42=$CM$4,AI42,0)","v":0},null,{"$f":"IF(AD42=$CO$4,AI42,0)","v":0},null,{"$f":"IF(AD42=$CQ$4,AI42,0)","v":0},null,{"$f":"IF(AD42=$CS$4,AI42,0)","v":3},null,{"$f":"IF(AD42=$CU$4,AI42,0)","v":0},null,{"$f":"IF(AD42=$CW$4,AI42,0)","v":0},null,{"$f":"IF(AD42=$CY$4,AI42,0)","v":0},null,{"$f":"IF(AD42=$DA$4,AI42,0)","v":0},null,{"$f":"IF(AD42=$DC$4,AI42,0)","v":0},null,{"$f":"IF(AD42=$DE$4,AI42,0)","v":0}]
[null,null,"Всего часов, ЗЕ",null,null,null,null,null,null,null,null,null,null,null,null,null,null,null,null,null,null,null,120,{"$f":"'Блок 1'!AB13","v":10},{"$f":"'Блок 1'!AC13","v":360},{"$f":"'Блок 1'!AD13","v":180},{"$f":"'Блок 1'!AE13","v":54},{"$f":"'Блок 1'!AF13","v":126},{"$f":"'Блок 1'!AG13","v":0},{"$f":"'Блок 1'!AH13","v":180},null,null,{"$f":"'Блок 1'!AK212","v":4},{"$f":"'Блок 1'!AL212","v":4},{"$f":"'Блок 1'!AM212","v":6},{"$f":"'Блок 1'!AN212","v":6},{"$f":"'Блок 1'!AO212","v":0},{"$f":"'Блок 1'!AP212","v":0},{"$f":"'Блок 1'!AQ212","v":0},{"$f":"'Блок 1'!AR212","v":0},{"$f":"'Блок 1'!AS212","v":0},{"$f":"'Блок 1'!AT212","v":0},{"$f":"'Блок 1'!AU212","v":0},{"$f":"'Блок 1'!AV212","v":0},{"$f":"'Блок 1'!AW212","v":0},{"$f":"'Блок 1'!AX212","v":0},{"$f":"'Блок 1'!AY212","v":0},{"$f":"'Блок 1'!AZ212","v":0},{"$f":"'Блок 1'!BA212","v":0},{"$f":"'Блок 1'!BB212","v":0},{"$f":"'Блок 1'!BC212","v":0},{"$f":"'Блок 1'!BD212","v":0},{"$f":"'Блок 1'!BE212","v":0},{"$f":"'Блок 1'!BF212","v":0},{"$f":"'Блок 1'!BG212","v":0},{"$f":"'Блок 1'!BH212","v":0},null,null,null,null,null,null,null,null,null,null,null,null,null,null,null,null,null,null,null,null,null,null,null,null,null,null,null,null,null,null,null,null,null,null,0,null,0,null,0,null,6,null,0,null,0,null,0,null,0,null,0,null,0]
[null,null,"Всего часов учебных занятий (без физической культуры)",null,null,null,null,null,null,null,null,null,null,null,null,null,null,null,null,null,null,null,null,null,{"$f":"Y25-'Блок 1'!AC15-'Блок 1'!AC208","v":360},{"$f":"Z25-'Блок 1'!AD15-'Блок 1'!AD208","v":{"$error":"#VALUE!"}},null,null,null,null,null,null,{"$f":"AG25-'Блок 1'!AK15-'Блок 1'!AK208-AG10-AG18","v":4},null,{"$f":"AI25-'Блок 1'!AM15-'Блок 1'!AM208-AI10-AI18","v":6},null,{"$f":"AK25-'Блок 1'!AO15-'Блок 1'!AO208-AK10-AK18","v":0},null,{"$f":"AM25-'Блок 1'!AQ15-'Блок 1'!AQ208-AM10-AM18","v":0},null,{"$f":"AO25-'Блок 1'!AS15-'Блок 1'!AS208-AO10-AO18","v":0},null,{"$f":"AQ25-'Блок 1'!AU15-'Блок 1'!AU208-AQ10-AQ18","v":0},null,{"$f":"AS25-'Блок 1'!AW15-'Блок 1'!AW208-AS10-AS18","v":0},null,{"$f":"AU25-'Блок 1'!AY15-'Блок 1'!AY208-AU10-AU18","v":0},null,{"$f":"AW25-'Блок 1'!BA15-'Блок 1'!BA208-AW10-AW18","v":0},null,{"$f":"AY25-'Блок 1'!BC15-'Блок 1'!BC208-AY10-AY18","v":0},null,{"$f":"BA25-'Блок 1'!BE15-'Блок 1'!BE208-BA10-BA18","v":0},null,{"$f":"BC25-'Блок 1'!BG15-'Блок 1'!BG208-BC10-BC18","v":0},null,null,null,null,null,null,null,null,null,null,null,null,null,null,null,null,null,null,null,null,null,null,null,null,null,null,null,null,null,null,null,null,null,null,null,0,null,0,null,0,null,0,null,0,null,0,null,0,null,0,null,0,null,0]
[null,null,"Всего ЗЕ, включая практики и гос. аттестацию",null,null,null,null,null,null,null,null,null,null,null,null,null,null,null,null,null,null,null,120,{"$f":"X25+X9+X17","v":31},null,null,null,null,null,null,null,null,null,{"$f":"'Блок 1'!AL212+AH10+AH18","v":4},null,{"$f":"'Блок 1'!AN212+AJ10+AJ18","v":12},null,{"$f":"'Блок 1'!AP212+AL10+AL18","v":0},null,{"$f":"'Блок 1'!AR212+AN10+AN18","v":15},null,{"$f":"'Блок 1'!AT212+AP10+AP18","v":0},null,{"$f":"'Блок 1'!AV212+AR10+AR18","v":0},null,{"$f":"'Блок 1'!AX212+AT10+AT18","v":0},null,{"$f":"'Блок 1'!AZ212+AV10+AV18","v":0},null,{"$f":"'Блок 1'!BB212+AX10+AX18","v":0},null,{"$f":"'Блок 1'!BD212+AZ10+AZ18","v":0},null,{"$f":"'Блок 1'!BF212+BB10+BB18","v":0},null,{"$f":"'Блок 1'!BH212+BD10+BD18","v":0},null,null,null,null,null,null,null,null,null,null,null,null,null,null,null,null,null,null,null,null,null,null,null,null,null,null,null,null,null,null,null,null,null,null,0,null,0,null,0,null,0,null,0,null,0,null,0,null,0,null,0,null,0]
[null,null,"Число курсовых проектов",null,null,null,null,null,null,null,null,null,null,null,null,null,null,null,null,null,null,null,null,null,null,null,null,null,null,null,null,null,{"$f":"IF('Блок 1'!AK213=0,\"\",'Блок 1'!AK213)","v":""},null,{"$f":"IF('Блок 1'!AM213=0,\"\",'Блок 1'!AM213)","v":""},null,{"$f":"IF('Блок 1'!AO213=0,\"\",'Блок 1'!AO213)","v":""},null,{"$f":"IF('Блок 1'!AQ213=0,\"\",'Блок 1'!AQ213)","v":""},null,{"$f":"IF('Блок 1'!AS213=0,\"\",'Блок 1'!AS213)","v":""},null,{"$f":"IF('Блок 1'!AU213=0,\"\",'Блок 1'!AU213)","v":""},null,{"$f":"IF('Блок 1'!AW213=0,\"\",'Блок 1'!AW213)","v":""},null,{"$f":"IF('Блок 1'!AY213=0,\"\",'Блок 1'!AY213)","v":""},null,{"$f":"IF('Блок 1'!BA213=0,\"\",'Блок 1'!BA213)","v":""},null,{"$f":"IF('Блок 1'!BC213=0,\"\",'Блок 1'!BC213)","v":""},null,{"$f":"IF('Блок 1'!BE213=0,\"\",'Блок 1'!BE213)","v":""},null,{"$f":"IF('Блок 1'!BG213=0,\"\",'Блок 1'!BG213)","v":""},null,null,null,null,null,null,null,null,null,null,null,null,null,null,null,null,null,null,null,null,null,null,null,null,null,null,null,null,null,null,null,null,null,null,null,0,null,0,null,0,null,0,null,0,null,0,null,0,null,0,null,0,null,0]
[null,null,"Число курсовых работ",null,null,null,null,null,null,null,null,null,null,null,null,null,null,null,null,null,null,null,null,null,null,null,null,null,null,null,null,null,{"$f":"IF('Блок 1'!AK214=0,\"\",'Блок 1'!AK214)","v":""},null,{"$f":"IF('Блок 1'!AM214=0,\"\",'Блок 1'!AM214)","v":""},null,{"$f":"IF('Блок 1'!AO214=0,\"\",'Блок 1'!AO214)","v":""},null,{"$f":"IF('Блок 1'!AQ214=0,\"\",'Блок 1'!AQ214)","v":""},null,{"$f":"IF('Блок 1'!AS214=0,\"\",'Блок 1'!AS214)","v":""},null,{"$f":"IF('Блок 1'!AU214=0,\"\",'Блок 1'!AU214)","v":""},null,{"$f":"IF('Блок 1'!AW214=0,\"\",'Блок 1'!AW214)","v":""},null,{"$f":"IF('Блок 1'!AY214=0,\"\",'Блок 1'!AY214)","v":""},null,{"$f":"IF('Блок 1'!BA214=0,\"\",'Блок 1'!BA214)","v":""},null,{"$f":"IF('Блок 1'!BC214=0,\"\",'Блок 1'!BC214)","v":""},null,{"$f":"IF('Блок 1'!BE214=0,\"\",'Блок 1'!BE214)","v":""},null,{"$f":"IF('Блок 1'!BG214=0,\"\",'Блок 1'!BG214)","v":""},null,null,null,null,null,null,null,null,null,null,null,null,null,null,null,null,null,null,null,null,null,null,null,null,null,null,null,null,null,null,null,null,null,null,null,0,null,0,null,0,null,0,null,0,null,0,null,0,null,0,null,0,null,0]
[null,null,"Число экзаменов ",null,null,null,null,null,null,null,null,null,null,null,null,null,null,null,null,null,null,null,null,null,null,null,null,null,null,null,null,null,{"$f":"IF('Блок 1'!AK215=0,\"\",'Блок 1'!AK215)","v":""},null,{"$f":"IF('Блок 1'!AM215=0,\"\",'Блок 1'!AM215)","v":1},null,{"$f":"IF('Блок 1'!AO215=0,\"\",'Блок 1'!AO215)","v":""},null,{"$f":"IF('Блок 1'!AQ215=0,\"\",'Блок 1'!AQ215)","v":""},null,{"$f":"IF('Блок 1'!AS215=0,\"\",'Блок 1'!AS215)","v":""},null,{"$f":"IF('Блок 1'!AU215=0,\"\",'Блок 1'!AU215)","v":""},null,{"$f":"IF('Блок 1'!AW215=0,\"\",'Блок 1'!AW215)","v":""},null,{"$f":"IF('Блок 1'!AY215=0,\"\",'Блок 1'!AY215)","v":""},null,{"$f":"IF('Блок 1'!BA215=0,\"\",'Блок 1'!BA215)","v":""},null,{"$f":"IF('Блок 1'!BC215=0,\"\",'Блок 1'!BC215)","v":""},null,{"$f":"IF('Блок 1'!BE215=0,\"\",'Блок 1'!BE215)","v":""},null,{"$f":"IF('Блок 1'!BG215=0,\"\",'Блок 1'!BG215)","v":""},null,null,null,null,null,null,null,null,null,null,null,null,null,null,null,null,null,null,null,null,null,null,null,null,null,null,null,null,null,null,null,null,null,null,"итого",{"$f":"SUM(CM8:CM29)","v":0},null,{"$f":"SUM(CO8:CO29)","v":0},null,{"$f":"SUM(CQ8:CQ29)","v":0},null,{"$f":"SUM(CS8:CS29)","v":9},null,{"$f":"SUM(CU8:CU29)","v":0},null,{"$f":"SUM(CW8:CW29)","v":0},null,{"$f":"SUM(CY8:CY29)","v":0},null,{"$f":"SUM(DA8:DA29)","v":0},null,{"$f":"SUM(DC8:DC29)","v":0},null,{"$f":"SUM(DE8:DE29)","v":0}]
[null,null,"Число зачетов, в том числе диф.зачетов",null,null,null,null,null,null,null,null,null,null,null,null,null,null,null,null,null,null,null,null,null,null,null,null,null,null,null,null,null,{"$f":"IF('Блок 1'!AK216+'Блок 1'!AK217=0,\"\",'Блок 1'!AK216+'Блок 1'!AK217)","v":2},null,{"$f":"IF('Блок 1'!AM216+'Блок 1'!AM217=0,\"\",'Блок 1'!AM216+'Блок 1'!AM217)","v":2},null,{"$f":"IF('Блок 1'!AO216+'Блок 1'!AO217=0,\"\",'Блок 1'!AO216+'Блок 1'!AO217)","v":""},null,{"$f":"IF('Блок 1'!AQ216+'Блок 1'!AQ217=0,\"\",'Блок 1'!AQ216+'Блок 1'!AQ217)","v":""},null,{"$f":"IF('Блок 1'!AS216+'Блок 1'!AS217=0,\"\",'Блок 1'!AS216+'Блок 1'!AS217)","v":""},null,{"$f":"IF('Блок 1'!AU216+'Блок 1'!AU217=0,\"\",'Блок 1'!AU216+'Блок 1'!AU217)","v":""},null,{"$f":"IF('Блок 1'!AW216+'Блок 1'!AW217=0,\"\",'Блок 1'!AW216+'Блок 1'!AW217)","v":""},null,{"$f":"IF('Блок 1'!AY216+'Блок 1'!AY217=0,\"\",'Блок 1'!AY216+'Блок 1'!AY217)","v":""},null,{"$f":"IF('Блок 1'!BA216+'Блок 1'!BA217=0,\"\",'Блок 1'!BA216+'Блок 1'!BA217)","v":""},null,{"$f":"IF('Блок 1'!BC216+'Блок 1'!BC217=0,\"\",'Блок 1'!BC216+'Блок 1'!BC217)","v":""},null,{"$f":"IF('Блок 1'!BE216+'Блок 1'!BE217=0,\"\",'Блок 1'!BE216+'Блок 1'!BE217)","v":""},null,{"$f":"IF('Блок 1'!BG216+'Блок 1'!BG217=0,\"\",'Блок 1'!BG216+'Блок 1'!BG217)","v":""}]
[null,null,"Число зачетов *",null,null,null,null,null,null,null,null,null,null,null,null,null,null,null,null,null,null,null,null,null,null,null,null,null,null,null,null,null,{"$f":"IF('Блок 1'!AK216=0,\"\",'Блок 1'!AK216)","v":2},null,{"$f":"IF('Блок 1'!AM216=0,\"\",'Блок 1'!AM216)","v":2},null,{"$f":"IF('Блок 1'!AO216=0,\"\",'Блок 1'!AO216)","v":""},null,{"$f":"IF('Блок 1'!AQ216=0,\"\",'Блок 1'!AQ216)","v":""},null,{"$f":"IF('Блок 1'!AS216=0,\"\",'Блок 1'!AS216)","v":""},null,{"$f":"IF('Блок 1'!AU216=0,\"\",'Блок 1'!AU216)","v":""},null,{"$f":"IF('Блок 1'!AW216=0,\"\",'Блок 1'!AW216)","v":""},null,{"$f":"IF('Блок 1'!AY216=0,\"\",'Блок 1'!AY216)","v":""}]
[null,null,"Число диф. зачетов *",null,null,null,null,null,null,null,null,null,null,null,null,null,null,null,null,null,null,null,null,null,null,null,null,null,null,null,null,null,{"$f":"IF('Блок 1'!AK217=0,\"\",'Блок 1'!AK217)","v":""},null,{"$f":"IF('Блок 1'!AM217=0,\"\",'Блок 1'!AM217)","v":""},null,{"$f":"IF('Блок 1'!AO217=0,\"\",'Блок 1'!AO217)","v":""},null,{"$f":"IF('Блок 1'!AQ217=0,\"\",'Блок 1'!AQ217)","v":""},null,{"$f":"IF('Блок 1'!AS217=0,\"\",'Блок 1'!AS217)","v":""},null,{"$f":"IF('Блок 1'!AU217=0,\"\",'Блок 1'!AU217)","v":""},null,{"$f":"IF('Блок 1'!AW217=0,\"\",'Блок 1'!AW217)","v":""},null,{"$f":"IF('Блок 1'!AY217=0,\"\",'Блок 1'!AY217)","v":""},null,null,null,null,null,null,null,null,null,null,null,null,null,null,null,null,null,null,null,null,null,null,null,null,null,null,null,null,null,null,null,null,null,null,null,null,null,null,null,null,null,null,null,"Практика"]
[null,null,null,null,null,null,null,null,null,null,null,null,null,null,null,null,null,null,null,null,null,null,null,null,null,null,null,null,null,null,null,null,null,null,null,null,null,null,null,null,null,null,null,null,null,null,null,null,null,null,null,null,null,null,null,null,null,null,null,null,null,null,null,null,null,null,null,null,null,null,null,null,null,null,null,null,null,null,null,null,null,null,null,null,null,null,null,null,null,null,{"$f":"IF(E42=$CM$4,I42,0)","v":0},null,{"$f":"IF(E42=$CO$4,I42,0)","v":3},null,{"$f":"IF(E42=$CQ$4,I42,0)","v":0},null,{"$f":"IF(E42=$CS$4,I42,0)","v":0},null,{"$f":"IF(E42=$CU$4,I42,0)","v":0},null,{"$f":"IF(E42=$CW$4,I42,0)","v":0},null,{"$f":"IF(E42=$CY$4,I42,0)","v":0},null,{"$f":"IF(E42=$DA$4,I42,0)","v":0},null,{"$f":"IF(E42=$DC$4,I42,0)","v":0},null,{"$f":"IF(E42=$DE$4,I42,0)","v":0}]
[null,null,null,null,null,null,null,null,null,null,null,null,null,null,null,null,null,null,null,null,null,null,null,null,null,null,null,null,null,null,null,null,null,null,null,null,null,null,null,null,null,null,null,null,null,null,null,null,null,null,null,null,null,null,null,null,null,null,null,null,null,null,null,null,null,null,null,null,null,null,null,null,null,null,null,null,null,null,null,null,null,null,null,null,null,null,null,null,null,null,{"$f":"IF(E43=$CM$4,I43,0)","v":0},null,3,null,0,null,0,null,0,null,0,null,0,null,0,null,0,null,0]
[null,null,null,null,null,null,null,null,null,null,null,null,null,null,null,null,null,null,null,null,null,null,null,null,null,null,null,null,null,null,null,null,null,null,null,null,null,null,null,null,null,null,null,null,null,null,null,null,null,null,null,null,null,null,null,null,null,null,null,null,null,null,null,null,null,null,null,null,null,null,null,null,null,null,null,null,null,null,null,null,null,null,null,null,null,null,null,null,null,null,0,null,0,null,0,null,6,null,0,null,0,null,0,null,0,null,0,null,0]
[null,null,null,null,null,null,null,null,null,null,null,null,null,null,null,null,null,null,null,null,null,null,null,null,null,null,null,null,null,null,null,null,null,null,null,null,null,null,null,null,null,null,null,null,null,null,null,null,null,null,null,null,null,null,null,null,null,null,null,null,null,null,null,null,null,null,null,null,null,null,null,null,null,null,null,null,null,null,null,null,null,null,null,null,null,null,null,null,null,null,0,null,0,null,0,null,0,null,0,null,0,null,0,null,0,null,0,null,0]
[null,null,null,null,null,null,null,null,null,null,null,null,null,null,null,null,null,null,null,null,null,null,null,null,null,null,null,null,null,null,null,null,null,null,null,null,null,null,null,null,null,null,null,null,null,null,null,null,null,null,null,null,null,null,null,null,null,null,null,null,null,null,null,null,null,null,null,null,null,null,null,null,null,null,null,null,null,null,null,null,null,null,null,null,null,null,null,null,null,null,0,null,0,null,0,null,0,null,0,null,0,null,0,null,0,null,0,null,0]
[null,null,null,null,null,null,null,null,null,null,null,null,null,null,null,null,null,null,null,null,null,null,null,null,null,null,null,null,null,null,null,null,null,null,null,null,null,null,null,null,null,null,null,null,null,null,null,null,null,null,null,null,null,null,null,null,null,null,null,null,null,null,null,null,null,null,null,null,null,null,null,null,null,null,null,null,null,null,null,null,null,null,null,null,null,null,null,null,null,null,0,null,0,null,0,null,0,null,0,null,0,null,0,null,0,null,0,null,0]
[]
[null,null,{"$f":"\"Блок 2. Практики: \"&ГУП!BE30&\" нед.:\"","v":"Блок 2. Практики: 8 нед.:"},"форма контроля","сем.",null,"нед.",null,"ЗЕ",null,null,{"$f":"\"Блок 3. Итоговая аттестация: \"&ГУП!BG30&\" нед.:\"","v":"Блок 3. Итоговая аттестация: 4 нед.:"},null,null,null,null,null,null,null,null,null,null,null,null,null,null,null,null,null,"сем.","нед.",null,"нед.",null,"ЗЕ"]
[null,null,{"$f":"IF(C11=\"\",\"\",C11)","v":"Учебная"},"оценка",2,null,2,null,{"$f":"X11","v":3},null,{"$f":"IF(C19=\"\",\"\",C19)","v":"Государственный экзамен"},null,null,null,null,null,null,null,null,null,null,null,null,null,null,null,null,null,null,4,null,null,2,null,{"$f":"X19","v":3}]
[null,null,"Производственная","оценка",2,null,2,null,{"$f":"X12","v":3},null,{"$f":"IF(C20=\"\",\"\",C20)","v":"Защита выпускной квалификационной работы"},null,null,null,null,null,null,null,null,null,null,null,null,null,null,null,null,null,null,4,null,null,2,null,{"$f":"X20","v":6},null,null,null,null,null,null,null,null,null,null,null,null,null,null,null,null,null,null,null,null,null,null,null,null,null,null,null,null,null,null,null,null,null,null,null,null,null,null,null,null,null,null,null,null,null,null,null,null,null,null,null,null,null,null,"итого",{"$f":"SUM(CM34:CM42)","v":0},null,{"$f":"SUM(CO34:CO42)","v":6},null,{"$f":"SUM(CQ34:CQ42)","v":0},null,{"$f":"SUM(CS34:CS42)","v":6},null,{"$f":"SUM(CU34:CU42)","v":0},null,{"$f":"SUM(CW34:CW42)","v":0},null,{"$f":"SUM(CY34:CY42)","v":0},null,{"$f":"SUM(DA34:DA42)","v":0},null,{"$f":"SUM(DC34:DC42)","v":0},null,{"$f":"SUM(DE34:DE42)","v":0}]
[null,null,"Преддипломная","оценка",4,null,4,null,6,null,"",null,null,null,null,null,null,null,null,null,null,null,null,null,null,null,null,null,null,null,null,null,null,null,{"$f":"X21","v":""}]
[null,null,null,null,null,null,null,null,null,null,"",null,null,null,null,null,null,null,null,null,null,null,null,null,null,null,null,null,null,null,null,null,null,null,{"$f":"X22","v":""}]
[null,null,"",null,null,null,null,null,"",null,null,null,null,null,null,null,null,null,null,null,null,null,null,null,null,null,null,null,null,null,null,null,null,null,{"$f":"X23","v":""}]
[null,null,"",null,null,null,null,null,""]
[null,null,"*","итого",null,null,{"$f":"SUM(G42:H47)","v":8},null,{"$f":"SUM(I42:J47)","v":12},null,null,null,null,null,null,null,null,null,null,null,null,null,null,null,null,null,null,null,"итого",null,null,null,{"$f":"AG42+AG43+AG44+AG45+AG46+AG47","v":4},null,{"$f":"SUM(AI42:AJ47)","v":9}]
[]
[]
[null,null,"Начальник ОАУУП",null,null,null,null,{"$f":"\"______________________________ \"&\"С.С. Никифоров\"","v":"______________________________ С.С. Никифоров"},null,null,null,null,null,null,null,null,null,null,null,null,null,null,null,null,null,null,null,null,null,{"$f":"IF(Заполнить!D10=\"\",\"\",\"СОГЛАСОВАНО:\")","v":""}]
[null,null,null,null,null,null,null,null,null,null,null,null,null,null,null,null,null,null,null,null,null,null,null,null,null,null,null,null,null,{"$f":"IF(Заполнить!D10=\"\",\"\",Заполнить!C10)","v":""}]
[null,null,{"$f":"IF(Заполнить!D7<>0,\"Директор филиала\",\"\")","v":""},null,null,null,null,{"$f":"IF( Заполнить!D7<>0,\"______________________________ \"&Заполнить!D7,\"\")","v":""}]
[null,null,null,null,null,null,null,null,null,null,null,null,null,null,null,null,null,null,null,null,null,null,null,null,null,null,null,null,null,{"$f":"IF(Заполнить!D10=\"\",\"\",\"___________________\"&Заполнить!D10)","v":""}]
[null,null,{"$f":"IF(Заполнить!D5<>0,\"Декан \"&Заполнить!D4&\" факультета\",\"\")","v":"Декан . факультета"},null,null,null,null,{"$f":"IF( Заполнить!D5<>0,\"______________________________ \"&Заполнить!D5,\"\")","v":"______________________________ ."}]
[]
[null,null,{"$f":"IF(Заполнить!D19<>0,Заполнить!C19&\"\")","v":"Руководитель магистерской программы"},null,null,null,null,{"$f":"IF( Заполнить!D19<>0,\"______________________________ \"&Заполнить!D19,\"\")","v":"______________________________ ."}]
[]
[null,null,{"$f":"IF(Заполнить!D16<>0,Заполнить!C17&\" \"&Заполнить!D16,\"\")","v":"Зав. кафедрой ."},null,null,null,null,{"$f":"IF( Заполнить!D16<>0,\"______________________________ \"&Заполнить!D17,\"\")","v":"______________________________ ."}]
[]
[]
[null,null,{"$f":"\"Исполнитель\"&IF( Заполнить!D44<>0,\"______________________________ \"&Заполнить!D44,\"\")","v":"Исполнитель"}]

{"sheet":"Печать","index":4,"n_rows":6,"n_cols":1,"rows_kept":6,"cut":false,"hidden":false,"merged":[[5,0,6,3]]}
[]
[]
[]
[]
[]
["Для печати нажать соответствующую кнопку"]

{"sheet":"Сводный","index":5,"n_rows":253,"n_cols":60,"rows_kept":253,"cut":false,"hidden":true,"merged":[[238,32,238,33],[237,4,237,5],[237,6,237,7],[237,8,237,9],[237,10,237,28],[238,6,238,7],[238,8,238,9],[235,4,235,5],[235,6,235,7],[235,8,235,9],[235,10,235,28],[236,4,236,5],[236,6,236,7],[236,8,236,9],[236,10,236,28],[232,10,232,28],[233,4,233,5],[233,6,233,7],[233,8,233,9],[233,10,233,28],[234,4,234,5],[234,6,234,7],[234,8,234,9],[234,10,234,28],[115,36,115,51],[137,36,137,51],[158,36,158,51],[179,36,179,51],[218,2,218,21],[219,2,219,21],[220,2,220,21],[221,2,221,21],[222,2,222,21],[223,2,223,21],[231,4,231,5],[232,8,232,9],[282,2,282,36],[280,2,280,36],[281,2,281,36],[269,2,269,6],[277,2,277,6],[275,7,275,32],[273,7,273,32],[273,2,273,6],[275,2,275,6],[276,2,276,6],[272,2,272,6],[1,2,4,2],[1,3,4,3],[271,2,271,6],[268,2,268,6],[271,7,271,32],[1,27,4,27],[267,7,267,32],[270,2,270,6],[269,7,269,32],[267,2,267,6],[3,29,4,29],[3,30,3,32],[231,6,231,7],[231,8,231,9],[232,4,232,5],[232,6,232,7],[3,56,3,57],[3,58,3,59],[3,38,3,39],[3,40,3,41],[3,42,3,43],[3,44,3,45],[3,46,3,47],[3,48,3,49],[3,50,3,51],[3,52,3,53],[3,54,3,55],[2,56,2,59],[73,36,73,51],[94,36,94,51],[1,1,4,1],[1,4,1,25],[1,26,4,26],[1,28,1,35],[1,36,1,59],[2,4,4,7],[2,8,4,13],[2,14,4,17],[2,18,4,19],[2,20,4,21],[2,22,4,25],[2,28,4,28],[2,29,2,35],[3,33,4,33],[2,40,2,43],[2,44,2,47],[2,48,2,51],[2,52,2,55],[2,36,2,39],[3,36,3,37]]}
[null,null,{"$f":"Заполнить!D4&\" / \"&Заполнить!D16&\" / \"&Заполнить!D21&\" / \" &Заполнить!D26&\" / \"&Заполнить!D22&\" / \"&Заполнить!D34","v":". / . / 2 года, 0 мес. /  / очная / 2015/16 уч. год"}]
[null,{"$f":"'Блок 1'!B6","v":"Цикл № п/п"},{"$f":"'Блок 1'!C6","v":"Название дисциплины"},{"$f":"'Блок 1'!D6","v":"Кафедра"},"Кафедра",null,null,null,null,null,null,null,null,null,null,null,null,null,null,null,null,null,null,null,null,null,{"$f":"'Блок 1'!AA6","v":"ГОС, ЗЕ"},{"$f":"'Блок 1'!AB6","v":"Всего ЗЕ"},{"$f":"'Блок 1'!AC6","v":"Объем работы студентов, час "},null,null,null,null,null,null,null,"Распределение по курсам и семестрам"]
[null,null,null,null,{"$f":"'Блок 1'!E7","v":"экз."},null,null,null,{"$f":"'Блок 1'!I7","v":"зач."},null,null,null,null,null,{"$f":"'Блок 1'!O7","v":"диф. зач."},null,null,null,{"$f":"'Блок 1'!S7","v":"К.П."},null,{"$f":"'Блок 1'!U7","v":"К.Р."},null,"РГР",null,null,null,null,null,"Всего",{"$f":"'Блок 1'!AD7","v":"Из них"},null,null,null,null,null,null,"I курс",null,null,null,"II курс",null,null,null,"III курс",null,null,null,"IV курс",null,null,null,"V курс",null,null,null,"VI курс"]
[null,null,null,null,null,null,null,null,null,null,null,null,null,null,null,null,null,null,null,null,null,null,null,null,null,null,null,null,null,{"$f":"'Блок 1'!AD8","v":"Всего ауд."},null,null,null,{"$f":"'Блок 1'!AH8","v":"Всего СРС"},null,null,1,null,2,null,3,null,4,null,5,null,6,null,7,null,8,null,9,null,10,null,11,null,12]
[null,null,null,null,null,null,null,null,null,null,null,null,null,null,null,null,null,null,null,null,null,null,null,null,null,null,null,null,null,null,{"$f":"'Блок 1'!AE9","v":"Лекции"},{"$f":"'Блок 1'!AF9","v":"Практика"},{"$f":"'Блок 1'!AG9","v":"Лаб. раб."},null,"КСР","СРС",{"$f":"'Блок 1'!AK9","v":18},{"$f":"'Блок 1'!AL9","v":"ЗЕ"},{"$f":"'Блок 1'!AM9","v":18},{"$f":"'Блок 1'!AN9","v":"ЗЕ"},{"$f":"'Блок 1'!AO9","v":18},{"$f":"'Блок 1'!AP9","v":"ЗЕ"},{"$f":"'Блок 1'!AQ9","v":12},{"$f":"'Блок 1'!AR9","v":"ЗЕ"},{"$f":"'Блок 1'!AS9","v":0},{"$f":"'Блок 1'!AT9","v":"ЗЕ"},{"$f":"'Блок 1'!AU9","v":0},{"$f":"'Блок 1'!AV9","v":"ЗЕ"},{"$f":"'Блок 1'!AW9","v":0},{"$f":"'Блок 1'!AX9","v":"ЗЕ"},{"$f":"'Блок 1'!AY9","v":0},{"$f":"'Блок 1'!AZ9","v":"ЗЕ"},{"$f":"'Блок 1'!BA9","v":0},{"$f":"'Блок 1'!BB9","v":"ЗЕ"},{"$f":"'Блок 1'!BC9","v":0},{"$f":"'Блок 1'!BD9","v":"ЗЕ"},{"$f":"'Блок 1'!BE9","v":0},{"$f":"'Блок 1'!BF9","v":"ЗЕ"},{"$f":"'Блок 1'!BG9","v":0},{"$f":"'Блок 1'!BH9","v":"ЗЕ"}]
[]
[null,{"$f":"IF('Блок 1'!B13=\"\",\"\",'Блок 1'!B13)","v":"Блок 1"},{"$f":"IF('Блок 1'!C13=\"\",\"\",'Блок 1'!C13)","v":"Дисциплины (модули)"},{"$f":"IF('Блок 1'!D13=\"\",\"\",'Блок 1'!D13)","v":""},{"$f":"IF('Блок 1'!E13=\"\",\"\",'Блок 1'!E13)","v":""},{"$f":"IF('Блок 1'!F13=\"\",\"\",'Блок 1'!F13)","v":""},{"$f":"IF('Блок 1'!G13=\"\",\"\",'Блок 1'!G13)","v":""},{"$f":"IF('Блок 1'!H13=\"\",\"\",'Блок 1'!H13)","v":""},{"$f":"IF('Блок 1'!I13=\"\",\"\",'Блок 1'!I13)","v":""},{"$f":"IF('Блок 1'!J13=\"\",\"\",'Блок 1'!J13)","v":""},{"$f":"IF('Блок 1'!K13=\"\",\"\",'Блок 1'!K13)","v":""},{"$f":"IF('Блок 1'!L13=\"\",\"\",'Блок 1'!L13)","v":""},{"$f":"IF('Блок 1'!M13=\"\",\"\",'Блок 1'!M13)","v":""},{"$f":"IF('Блок 1'!N13=\"\",\"\",'Блок 1'!N13)","v":""},{"$f":"IF('Блок 1'!O13=\"\",\"\",'Блок 1'!O13)","v":""},{"$f":"IF('Блок 1'!P13=\"\",\"\",'Блок 1'!P13)","v":""},{"$f":"IF('Блок 1'!Q13=\"\",\"\",'Блок 1'!Q13)","v":""},{"$f":"IF('Блок 1'!R13=\"\",\"\",'Блок 1'!R13)","v":""},{"$f":"IF('Блок 1'!S13=\"\",\"\",'Блок 1'!S13)","v":""},{"$f":"IF('Блок 1'!T13=\"\",\"\",'Блок 1'!T13)","v":""},{"$f":"IF('Блок 1'!U13=\"\",\"\",'Блок 1'!U13)","v":""},{"$f":"IF('Блок 1'!V13=\"\",\"\",'Блок 1'!V13)","v":""},null,null,null,null,{"$f":"IF('Блок 1'!AA13=\"\",\"\",'Блок 1'!AA13)","v":""},{"$f":"IF('Блок 1'!AB13=\"\",\"\",'Блок 1'!AB13)","v":10},{"$f":"IF('Блок 1'!AC13=\"\",\"\",'Блок 1'!AC13)","v":360},{"$f":"IF('Блок 1'!AD13=\"\",\"\",'Блок 1'!AD13)","v":180},{"$f":"IF('Блок 1'!AE13=\"\",\"\",'Блок 1'!AE13)","v":54},{"$f":"IF('Блок 1'!AF13=\"\",\"\",'Блок 1'!AF13)","v":126},{"$f":"IF('Блок 1'!AG13=\"\",\"\",'Блок 1'!AG13)","v":0},{"$f":"IF('Блок 1'!AH13=\"\",\"\",'Блок 1'!AH13)","v":180}]
[null,{"$f":"IF('Блок 1'!B14=\"\",\"\",'Блок 1'!B14)","v":"Б.1"},{"$f":"IF('Блок 1'!C14=\"\",\"\",'Блок 1'!C14)","v":"Базовая часть"},null,null,null,null,null,null,null,null,null,null,null,null,null,null,null,null,null,null,null,null,null,null,null,{"$f":"IF('Блок 1'!AA14=\"\",\"\",'Блок 1'!AA14)","v":""},{"$f":"IF('Блок 1'!AB14=\"\",\"\",'Блок 1'!AB14)","v":10},{"$f":"IF('Блок 1'!AC14=\"\",\"\",'Блок 1'!AC14)","v":360},{"$f":"IF('Блок 1'!AD14=\"\",\"\",'Блок 1'!AD14)","v":180},{"$f":"IF('Блок 1'!AE14=\"\",\"\",'Блок 1'!AE14)","v":54},{"$f":"IF('Блок 1'!AF14=\"\",\"\",'Блок 1'!AF14)","v":126},{"$f":"IF('Блок 1'!AG14=\"\",\"\",'Блок 1'!AG14)","v":0},{"$f":"IF('Блок 1'!AH14=\"\",\"\",'Блок 1'!AH14)","v":180},{"$f":"AI10+#REF!","v":{"$error":"#REF!"}},{"$f":"AJ10+#REF!","v":{"$error":"#REF!"}}]
[null,{"$f":"IF('Блок 1'!B15=\"\",\"\",'Блок 1'!B15)","v":""},{"$f":"IF('Блок 1'!C15=\"\",\"\",'Блок 1'!C15)","v":""},{"$f":"IF('Блок 1'!D15=\"\",\"\",'Блок 1'!D15)","v":""},{"$f":"IF('Блок 1'!E15=\"\",\"\",'Блок 1'!E15)","v":""},{"$f":"IF('Блок 1'!F15=\"\",\"\",'Блок 1'!F15)","v":""},{"$f":"IF('Блок 1'!G15=\"\",\"\",'Блок 1'!G15)","v":""},{"$f":"IF('Блок 1'!H15=\"\",\"\",'Блок 1'!H15)","v":""},{"$f":"IF('Блок 1'!I15=\"\",\"\",'Блок 1'!I15)","v":""},{"$f":"IF('Блок 1'!J15=\"\",\"\",'Блок 1'!J15)","v":""},{"$f":"IF('Блок 1'!K15=\"\",\"\",'Блок 1'!K15)","v":""},{"$f":"IF('Блок 1'!L15=\"\",\"\",'Блок 1'!L15)","v":""},{"$f":"IF('Блок 1'!M15=\"\",\"\",'Блок 1'!M15)","v":""},{"$f":"IF('Блок 1'!N15=\"\",\"\",'Блок 1'!N15)","v":""},{"$f":"IF('Блок 1'!O15=\"\",\"\",'Блок 1'!O15)","v":""},{"$f":"IF('Блок 1'!P15=\"\",\"\",'Блок 1'!P15)","v":""},{"$f":"IF('Блок 1'!Q15=\"\",\"\",'Блок 1'!Q15)","v":""},{"$f":"IF('Блок 1'!R15=\"\",\"\",'Блок 1'!R15)","v":""},{"$f":"IF('Блок 1'!S15=\"\",\"\",'Блок 1'!S15)","v":""},{"$f":"IF('Блок 1'!T15=\"\",\"\",'Блок 1'!T15)","v":""},{"$f":"IF('Блок 1'!U15=\"\",\"\",'Блок 1'!U15)","v":""},{"$f":"IF('Блок 1'!V15=\"\",\"\",'Блок 1'!V15)","v":""},{"$f":"IF('Блок 1'!W15=\"\",\"\",'Блок 1'!W15)","v":""},{"$f":"IF('Блок 1'!X15=\"\",\"\",'Блок 1'!X15)","v":""},{"$f":"IF('Блок 1'!Y15=\"\",\"\",'Блок 1'!Y15)","v":""},{"$f":"IF('Блок 1'!Z15=\"\",\"\",'Блок 1'!Z15)","v":""},{"$f":"IF('Блок 1'!AA15=\"\",\"\",'Блок 1'!AA15)","v":""},{"$f":"IF('Блок 1'!AB15=\"\",\"\",'Блок 1'!AB15)","v":""},{"$f":"IF('Блок 1'!AC15=\"\",\"\",'Блок 1'!AC15)","v":""},{"$f":"IF('Блок 1'!AD15=\"\",\"\",'Блок 1'!AD15)","v":""},{"$f":"IF('Блок 1'!AE15=\"\",\"\",'Блок 1'!AE15)","v":""},{"$f":"IF('Блок 1'!AF15=\"\",\"\",'Блок 1'!AF15)","v":""},{"$f":"IF('Блок 1'!AG15=\"\",\"\",'Блок 1'!AG15)","v":""},{"$f":"IF('Блок 1'!AH15=\"\",\"\",'Блок 1'!AH15)","v":""},{"$f":"IF('Блок 1'!AI15=\"\",\"\",'Блок 1'!AI15)","v":""},{"$f":"IF('Блок 1'!AJ15=\"\",\"\",'Блок 1'!AJ15)","v":""},{"$f":"IF('Блок 1'!AK15=\"\",\"\",'Блок 1'!AK15)","v":""},{"$f":"IF('Блок 1'!AL15=\"\",\"\",'Блок 1'!AL15)","v":""},{"$f":"IF('Блок 1'!AM15=\"\",\"\",'Блок 1'!AM15)","v":""},{"$f":"IF('Блок 1'!AN15=\"\",\"\",'Блок 1'!AN15)","v":""},{"$f":"IF('Блок 1'!AO15=\"\",\"\",'Блок 1'!AO15)","v":""},{"$f":"IF('Блок 1'!AP15=\"\",\"\",'Блок 1'!AP15)","v":""},{"$f":"IF('Блок 1'!AQ15=\"\",\"\",'Блок 1'!AQ15)","v":""},{"$f":"IF('Блок 1'!AR15=\"\",\"\",'Блок 1'!AR15)","v":""},{"$f":"IF('Блок 1'!AS15=\"\",\"\",'Блок 1'!AS15)","v":""},{"$f":"IF('Блок 1'!AT15=\"\",\"\",'Блок 1'!AT15)","v":""},{"$f":"IF('Блок 1'!AU15=\"\",\"\",'Блок 1'!AU15)","v":""},{"$f":"IF('Блок 1'!AV15=\"\",\"\",'Блок 1'!AV15)","v":""},{"$f":"IF('Блок 1'!AW15=\"\",\"\",'Блок 1'!AW15)","v":""},{"$f":"IF('Блок 1'!AX15=\"\",\"\",'Блок 1'!AX15)","v":""},{"$f":"IF('Блок 1'!AY15=\"\",\"\",'Блок 1'!AY15)","v":""},{"$f":"IF('Блок 1'!AZ15=\"\",\"\",'Блок 1'!AZ15)","v":""},{"$f":"IF('Блок 1'!BA15=\"\",\"\",'Блок 1'!BA15)","v":""},{"$f":"IF('Блок 1'!BB15=\"\",\"\",'Блок 1'!BB15)","v":""},{"$f":"IF('Блок 1'!BC15=\"\",\"\",'Блок 1'!BC15)","v":""},{"$f":"IF('Блок 1'!BD15=\"\",\"\",'Блок 1'!BD15)","v":""},{"$f":"IF('Блок 1'!BE15=\"\",\"\",'Блок 1'!BE15)","v":""},{"$f":"IF('Блок 1'!BF15=\"\",\"\",'Блок 1'!BF15)","v":""},{"$f":"IF('Блок 1'!BG15=\"\",\"\",'Блок 1'!BG15)","v":""},{"$f":"IF('Блок 1'!BH15=\"\",\"\",'Блок 1'!BH15)","v":""}]
[null,{"$f":"IF('Блок 1'!B16=\"\",\"\",'Блок 1'!B16)","v":""},{"$f":"IF('Блок 1'!C16=\"\",\"\",'Блок 1'!C16)","v":"Модуль \"Общенаучные дисциплины\""},null,null,null,null,null,null,null,null,null,null,null,null,null,null,null,null,null,null,null,null,null,null,null,{"$f":"IF('Блок 1'!AA16=\"\",\"\",'Блок 1'!AA16)","v":""},{"$f":"IF('Блок 1'!AB16=\"\",\"\",'Блок 1'!AB16)","v":10},{"$f":"IF('Блок 1'!AC16=\"\",\"\",'Блок 1'!AC16)","v":360},{"$f":"IF('Блок 1'!AD16=\"\",\"\",'Блок 1'!AD16)","v":180},{"$f":"IF('Блок 1'!AE16=\"\",\"\",'Блок 1'!AE16)","v":54},{"$f":"IF('Блок 1'!AF16=\"\",\"\",'Блок 1'!AF16)","v":126},{"$f":"IF('Блок 1'!AG16=\"\",\"\",'Блок 1'!AG16)","v":0},{"$f":"IF('Блок 1'!AH16=\"\",\"\",'Блок 1'!AH16)","v":180},{"$f":"SUM(AI11:AI29)","v":19},161]
[null,{"$f":"IF('Блок 1'!B17=\"\",\"\",'Блок 1'!B17)","v":"Б.1.01"},{"$f":"IF('Блок 1'!C17=\"\",\"\",'Блок 1'!C17)","v":"Иностранный язык в профессиональной деятельности"},{"$f":"IF('Блок 1'!D17=\"\",\"\",'Блок 1'!D17)","v":"Ан яз/      Ин яз"},{"$f":"IF('Блок 1'!E17=\"\",\"\",'Блок 1'!E17)","v":2},{"$f":"IF('Блок 1'!F17=\"\",\"\",'Блок 1'!F17)","v":""},{"$f":"IF('Блок 1'!G17=\"\",\"\",'Блок 1'!G17)","v":""},{"$f":"IF('Блок 1'!H17=\"\",\"\",'Блок 1'!H17)","v":""},{"$f":"IF('Блок 1'!I17=\"\",\"\",'Блок 1'!I17)","v":1},{"$f":"IF('Блок 1'!J17=\"\",\"\",'Блок 1'!J17)","v":""},{"$f":"IF('Блок 1'!K17=\"\",\"\",'Блок 1'!K17)","v":""},{"$f":"IF('Блок 1'!L17=\"\",\"\",'Блок 1'!L17)","v":""},{"$f":"IF('Блок 1'!M17=\"\",\"\",'Блок 1'!M17)","v":""},{"$f":"IF('Блок 1'!N17=\"\",\"\",'Блок 1'!N17)","v":""},{"$f":"IF('Блок 1'!O17=\"\",\"\",'Блок 1'!O17)","v":""},{"$f":"IF('Блок 1'!P17=\"\",\"\",'Блок 1'!P17)","v":""},{"$f":"IF('Блок 1'!Q17=\"\",\"\",'Блок 1'!Q17)","v":""},{"$f":"IF('Блок 1'!R17=\"\",\"\",'Блок 1'!R17)","v":""},{"$f":"IF('Блок 1'!S17=\"\",\"\",'Блок 1'!S17)","v":""},{"$f":"IF('Блок 1'!T17=\"\",\"\",'Блок 1'!T17)","v":""},{"$f":"IF('Блок 1'!U17=\"\",\"\",'Блок 1'!U17)","v":""},{"$f":"IF('Блок 1'!V17=\"\",\"\",'Блок 1'!V17)","v":""},{"$f":"IF('Блок 1'!W17=\"\",\"\",'Блок 1'!W17)","v":""},{"$f":"IF('Блок 1'!X17=\"\",\"\",'Блок 1'!X17)","v":""},{"$f":"IF('Блок 1'!Y17=\"\",\"\",'Блок 1'!Y17)","v":""},{"$f":"IF('Блок 1'!Z17=\"\",\"\",'Блок 1'!Z17)","v":""},{"$f":"IF('Блок 1'!AA17=\"\",\"\",'Блок 1'!AA17)","v":""},{"$f":"IF('Блок 1'!AB17=\"\",\"\",'Блок 1'!AB17)","v":4},{"$f":"IF('Блок 1'!AC17=\"\",\"\",'Блок 1'!AC17)","v":144},{"$f":"IF('Блок 1'!AD17=\"\",\"\",'Блок 1'!AD17)","v":72},{"$f":"IF('Блок 1'!AE17=\"\",\"\",'Блок 1'!AE17)","v":""},{"$f":"IF('Блок 1'!AF17=\"\",\"\",'Блок 1'!AF17)","v":72},{"$f":"IF('Блок 1'!AG17=\"\",\"\",'Блок 1'!AG17)","v":""},{"$f":"IF('Блок 1'!AH17=\"\",\"\",'Блок 1'!AH17)","v":72},{"$f":"IF('Блок 1'!AI17=\"\",\"\",'Блок 1'!AI17)","v":7},{"$f":"IF('Блок 1'!AJ17=\"\",\"\",'Блок 1'!AJ17)","v":65},{"$f":"IF('Блок 1'!AK17=\"\",\"\",'Блок 1'!AK17)","v":2},{"$f":"IF('Блок 1'!AL17=\"\",\"\",'Блок 1'!AL17)","v":2},{"$f":"IF('Блок 1'!AM17=\"\",\"\",'Блок 1'!AM17)","v":2},{"$f":"IF('Блок 1'!AN17=\"\",\"\",'Блок 1'!AN17)","v":2},{"$f":"IF('Блок 1'!AO17=\"\",\"\",'Блок 1'!AO17)","v":""},{"$f":"IF('Блок 1'!AP17=\"\",\"\",'Блок 1'!AP17)","v":""},{"$f":"IF('Блок 1'!AQ17=\"\",\"\",'Блок 1'!AQ17)","v":""},{"$f":"IF('Блок 1'!AR17=\"\",\"\",'Блок 1'!AR17)","v":""},{"$f":"IF('Блок 1'!AS17=\"\",\"\",'Блок 1'!AS17)","v":""},{"$f":"IF('Блок 1'!AT17=\"\",\"\",'Блок 1'!AT17)","v":""},{"$f":"IF('Блок 1'!AU17=\"\",\"\",'Блок 1'!AU17)","v":""},{"$f":"IF('Блок 1'!AV17=\"\",\"\",'Блок 1'!AV17)","v":""},{"$f":"IF('Блок 1'!AW17=\"\",\"\",'Блок 1'!AW17)","v":""},{"$f":"IF('Блок 1'!AX17=\"\",\"\",'Блок 1'!AX17)","v":""},{"$f":"IF('Блок 1'!AY17=\"\",\"\",'Блок 1'!AY17)","v":""},{"$f":"IF('Блок 1'!AZ17=\"\",\"\",'Блок 1'!AZ17)","v":""},{"$f":"IF('Блок 1'!BA17=\"\",\"\",'Блок 1'!BA17)","v":""},{"$f":"IF('Блок 1'!BB17=\"\",\"\",'Блок 1'!BB17)","v":""},{"$f":"IF('Блок 1'!BC17=\"\",\"\",'Блок 1'!BC17)","v":""},{"$f":"IF('Блок 1'!BD17=\"\",\"\",'Блок 1'!BD17)","v":""},{"$f":"IF('Блок 1'!BE17=\"\",\"\",'Блок 1'!BE17)","v":""},{"$f":"IF('Блок 1'!BF17=\"\",\"\",'Блок 1'!BF17)","v":""},{"$f":"IF('Блок 1'!BG17=\"\",\"\",'Блок 1'!BG17)","v":""},{"$f":"IF('Блок 1'!BH17=\"\",\"\",'Блок 1'!BH17)","v":""}]
[null,{"$f":"IF('Блок 1'!B18=\"\",\"\",'Блок 1'!B18)","v":"Б.1.02"},{"$f":"IF('Блок 1'!C18=\"\",\"\",'Блок 1'!C18)","v":"История и методология науки и техники"},{"$f":"IF('Блок 1'!D18=\"\",\"\",'Блок 1'!D18)","v":"ВК"},{"$f":"IF('Блок 1'!E18=\"\",\"\",'Блок 1'!E18)","v":""},{"$f":"IF('Блок 1'!F18=\"\",\"\",'Блок 1'!F18)","v":""},{"$f":"IF('Блок 1'!G18=\"\",\"\",'Блок 1'!G18)","v":""},{"$f":"IF('Блок 1'!H18=\"\",\"\",'Блок 1'!H18)","v":""},{"$f":"IF('Блок 1'!I18=\"\",\"\",'Блок 1'!I18)","v":1},{"$f":"IF('Блок 1'!J18=\"\",\"\",'Блок 1'!J18)","v":""},{"$f":"IF('Блок 1'!K18=\"\",\"\",'Блок 1'!K18)","v":""},{"$f":"IF('Блок 1'!L18=\"\",\"\",'Блок 1'!L18)","v":""},{"$f":"IF('Блок 1'!M18=\"\",\"\",'Блок 1'!M18)","v":""},{"$f":"IF('Блок 1'!N18=\"\",\"\",'Блок 1'!N18)","v":""},{"$f":"IF('Блок 1'!O18=\"\",\"\",'Блок 1'!O18)","v":""},{"$f":"IF('Блок 1'!P18=\"\",\"\",'Блок 1'!P18)","v":""},{"$f":"IF('Блок 1'!Q18=\"\",\"\",'Блок 1'!Q18)","v":""},{"$f":"IF('Блок 1'!R18=\"\",\"\",'Блок 1'!R18)","v":""},{"$f":"IF('Блок 1'!S18=\"\",\"\",'Блок 1'!S18)","v":""},{"$f":"IF('Блок 1'!T18=\"\",\"\",'Блок 1'!T18)","v":""},{"$f":"IF('Блок 1'!U18=\"\",\"\",'Блок 1'!U18)","v":""},{"$f":"IF('Блок 1'!V18=\"\",\"\",'Блок 1'!V18)","v":""},{"$f":"IF('Блок 1'!W18=\"\",\"\",'Блок 1'!W18)","v":""},{"$f":"IF('Блок 1'!X18=\"\",\"\",'Блок 1'!X18)","v":""},{"$f":"IF('Блок 1'!Y18=\"\",\"\",'Блок 1'!Y18)","v":""},{"$f":"IF('Блок 1'!Z18=\"\",\"\",'Блок 1'!Z18)","v":""},{"$f":"IF('Блок 1'!AA18=\"\",\"\",'Блок 1'!AA18)","v":""},{"$f":"IF('Блок 1'!AB18=\"\",\"\",'Блок 1'!AB18)","v":2},{"$f":"IF('Блок 1'!AC18=\"\",\"\",'Блок 1'!AC18)","v":72},{"$f":"IF('Блок 1'!AD18=\"\",\"\",'Блок 1'!AD18)","v":36},{"$f":"IF('Блок 1'!AE18=\"\",\"\",'Блок 1'!AE18)","v":18},{"$f":"IF('Блок 1'!AF18=\"\",\"\",'Блок 1'!AF18)","v":18},{"$f":"IF('Блок 1'!AG18=\"\",\"\",'Блок 1'!AG18)","v":""},{"$f":"IF('Блок 1'!AH18=\"\",\"\",'Блок 1'!AH18)","v":36},{"$f":"IF('Блок 1'!AI18=\"\",\"\",'Блок 1'!AI18)","v":4},{"$f":"IF('Блок 1'!AJ18=\"\",\"\",'Блок 1'!AJ18)","v":32},{"$f":"IF('Блок 1'!AK18=\"\",\"\",'Блок 1'!AK18)","v":2},{"$f":"IF('Блок 1'!AL18=\"\",\"\",'Блок 1'!AL18)","v":2},{"$f":"IF('Блок 1'!AM18=\"\",\"\",'Блок 1'!AM18)","v":""},{"$f":"IF('Блок 1'!AN18=\"\",\"\",'Блок 1'!AN18)","v":""},{"$f":"IF('Блок 1'!AO18=\"\",\"\",'Блок 1'!AO18)","v":""},{"$f":"IF('Блок 1'!AP18=\"\",\"\",'Блок 1'!AP18)","v":""},{"$f":"IF('Блок 1'!AQ18=\"\",\"\",'Блок 1'!AQ18)","v":""},{"$f":"IF('Блок 1'!AR18=\"\",\"\",'Блок 1'!AR18)","v":""},{"$f":"IF('Блок 1'!AS18=\"\",\"\",'Блок 1'!AS18)","v":""},{"$f":"IF('Блок 1'!AT18=\"\",\"\",'Блок 1'!AT18)","v":""},{"$f":"IF('Блок 1'!AU18=\"\",\"\",'Блок 1'!AU18)","v":""},{"$f":"IF('Блок 1'!AV18=\"\",\"\",'Блок 1'!AV18)","v":""},{"$f":"IF('Блок 1'!AW18=\"\",\"\",'Блок 1'!AW18)","v":""},{"$f":"IF('Блок 1'!AX18=\"\",\"\",'Блок 1'!AX18)","v":""},{"$f":"IF('Блок 1'!AY18=\"\",\"\",'Блок 1'!AY18)","v":""},{"$f":"IF('Блок 1'!AZ18=\"\",\"\",'Блок 1'!AZ18)","v":""},{"$f":"IF('Блок 1'!BA18=\"\",\"\",'Блок 1'!BA18)","v":""},{"$f":"IF('Блок 1'!BB18=\"\",\"\",'Блок 1'!BB18)","v":""},{"$f":"IF('Блок 1'!BC18=\"\",\"\",'Блок 1'!BC18)","v":""},{"$f":"IF('Блок 1'!BD18=\"\",\"\",'Блок 1'!BD18)","v":""},{"$f":"IF('Блок 1'!BE18=\"\",\"\",'Блок 1'!BE18)","v":""},{"$f":"IF('Блок 1'!BF18=\"\",\"\",'Блок 1'!BF18)","v":""},{"$f":"IF('Блок 1'!BG18=\"\",\"\",'Блок 1'!BG18)","v":""},{"$f":"IF('Блок 1'!BH18=\"\",\"\",'Блок 1'!BH18)","v":""}]
[null,{"$f":"IF('Блок 1'!B19=\"\",\"\",'Блок 1'!B19)","v":"Б.1.03"},{"$f":"IF('Блок 1'!C19=\"\",\"\",'Блок 1'!C19)","v":"Философия технических наук"},{"$f":"IF('Блок 1'!D19=\"\",\"\",'Блок 1'!D19)","v":"Фил"},{"$f":"IF('Блок 1'!E19=\"\",\"\",'Блок 1'!E19)","v":""},{"$f":"IF('Блок 1'!F19=\"\",\"\",'Блок 1'!F19)","v":""},{"$f":"IF('Блок 1'!G19=\"\",\"\",'Блок 1'!G19)","v":""},{"$f":"IF('Блок 1'!H19=\"\",\"\",'Блок 1'!H19)","v":""},{"$f":"IF('Блок 1'!I19=\"\",\"\",'Блок 1'!I19)","v":2},{"$f":"IF('Блок 1'!J19=\"\",\"\",'Блок 1'!J19)","v":""},{"$f":"IF('Блок 1'!K19=\"\",\"\",'Блок 1'!K19)","v":""},{"$f":"IF('Блок 1'!L19=\"\",\"\",'Блок 1'!L19)","v":""},{"$f":"IF('Блок 1'!M19=\"\",\"\",'Блок 1'!M19)","v":""},{"$f":"IF('Блок 1'!N19=\"\",\"\",'Блок 1'!N19)","v":""},{"$f":"IF('Блок 1'!O19=\"\",\"\",'Блок 1'!O19)","v":""},{"$f":"IF('Блок 1'!P19=\"\",\"\",'Блок 1'!P19)","v":""},{"$f":"IF('Блок 1'!Q19=\"\",\"\",'Блок 1'!Q19)","v":""},{"$f":"IF('Блок 1'!R19=\"\",\"\",'Блок 1'!R19)","v":""},{"$f":"IF('Блок 1'!S19=\"\",\"\",'Блок 1'!S19)","v":""},{"$f":"IF('Блок 1'!T19=\"\",\"\",'Блок 1'!T19)","v":""},{"$f":"IF('Блок 1'!U19=\"\",\"\",'Блок 1'!U19)","v":""},{"$f":"IF('Блок 1'!V19=\"\",\"\",'Блок 1'!V19)","v":""},{"$f":"IF('Блок 1'!W19=\"\",\"\",'Блок 1'!W19)","v":""},{"$f":"IF('Блок 1'!X19=\"\",\"\",'Блок 1'!X19)","v":""},{"$f":"IF('Блок 1'!Y19=\"\",\"\",'Блок 1'!Y19)","v":""},{"$f":"IF('Блок 1'!Z19=\"\",\"\",'Блок 1'!Z19)","v":""},{"$f":"IF('Блок 1'!AA19=\"\",\"\",'Блок 1'!AA19)","v":""},{"$f":"IF('Блок 1'!AB19=\"\",\"\",'Блок 1'!AB19)","v":2},{"$f":"IF('Блок 1'!AC19=\"\",\"\",'Блок 1'!AC19)","v":72},{"$f":"IF('Блок 1'!AD19=\"\",\"\",'Блок 1'!AD19)","v":36},{"$f":"IF('Блок 1'!AE19=\"\",\"\",'Блок 1'!AE19)","v":18},{"$f":"IF('Блок 1'!AF19=\"\",\"\",'Блок 1'!AF19)","v":18},{"$f":"IF('Блок 1'!AG19=\"\",\"\",'Блок 1'!AG19)","v":""},{"$f":"IF('Блок 1'!AH19=\"\",\"\",'Блок 1'!AH19)","v":36},{"$f":"IF('Блок 1'!AI19=\"\",\"\",'Блок 1'!AI19)","v":4},{"$f":"IF('Блок 1'!AJ19=\"\",\"\",'Блок 1'!AJ19)","v":32},{"$f":"IF('Блок 1'!AK19=\"\",\"\",'Блок 1'!AK19)","v":""},{"$f":"IF('Блок 1'!AL19=\"\",\"\",'Блок 1'!AL19)","v":""},{"$f":"IF('Блок 1'!AM19=\"\",\"\",'Блок 1'!AM19)","v":2},{"$f":"IF('Блок 1'!AN19=\"\",\"\",'Блок 1'!AN19)","v":2},{"$f":"IF('Блок 1'!AO19=\"\",\"\",'Блок 1'!AO19)","v":""},{"$f":"IF('Блок 1'!AP19=\"\",\"\",'Блок 1'!AP19)","v":""},{"$f":"IF('Блок 1'!AQ19=\"\",\"\",'Блок 1'!AQ19)","v":""},{"$f":"IF('Блок 1'!AR19=\"\",\"\",'Блок 1'!AR19)","v":""},{"$f":"IF('Блок 1'!AS19=\"\",\"\",'Блок 1'!AS19)","v":""},{"$f":"IF('Блок 1'!AT19=\"\",\"\",'Блок 1'!AT19)","v":""},{"$f":"IF('Блок 1'!AU19=\"\",\"\",'Блок 1'!AU19)","v":""},{"$f":"IF('Блок 1'!AV19=\"\",\"\",'Блок 1'!AV19)","v":""},{"$f":"IF('Блок 1'!AW19=\"\",\"\",'Блок 1'!AW19)","v":""},{"$f":"IF('Блок 1'!AX19=\"\",\"\",'Блок 1'!AX19)","v":""},{"$f":"IF('Блок 1'!AY19=\"\",\"\",'Блок 1'!AY19)","v":""},{"$f":"IF('Блок 1'!AZ19=\"\",\"\",'Блок 1'!AZ19)","v":""},{"$f":"IF('Блок 1'!BA19=\"\",\"\",'Блок 1'!BA19)","v":""},{"$f":"IF('Блок 1'!BB19=\"\",\"\",'Блок 1'!BB19)","v":""},{"$f":"IF('Блок 1'!BC19=\"\",\"\",'Блок 1'!BC19)","v":""},{"$f":"IF('Блок 1'!BD19=\"\",\"\",'Блок 1'!BD19)","v":""},{"$f":"IF('Блок 1'!BE19=\"\",\"\",'Блок 1'!BE19)","v":""},{"$f":"IF('Блок 1'!BF19=\"\",\"\",'Блок 1'!BF19)","v":""},{"$f":"IF('Блок 1'!BG19=\"\",\"\",'Блок 1'!BG19)","v":""},{"$f":"IF('Блок 1'!BH19=\"\",\"\",'Блок 1'!BH19)","v":""}]
[null,{"$f":"IF('Блок 1'!B20=\"\",\"\",'Блок 1'!B20)","v":"Б.1.04"},{"$f":"IF('Блок 1'!C20=\"\",\"\",'Блок 1'!C20)","v":"Суперкомпьютерное моделирование технических устройств и процессов"},{"$f":"IF('Блок 1'!D20=\"\",\"\",'Блок 1'!D20)","v":"СП"},{"$f":"IF('Блок 1'!E20=\"\",\"\",'Блок 1'!E20)","v":""},{"$f":"IF('Блок 1'!F20=\"\",\"\",'Блок 1'!F20)","v":""},{"$f":"IF('Блок 1'!G20=\"\",\"\",'Блок 1'!G20)","v":""},{"$f":"IF('Блок 1'!H20=\"\",\"\",'Блок 1'!H20)","v":""},{"$f":"IF('Блок 1'!I20=\"\",\"\",'Блок 1'!I20)","v":2},{"$f":"IF('Блок 1'!J20=\"\",\"\",'Блок 1'!J20)","v":""},{"$f":"IF('Блок 1'!K20=\"\",\"\",'Блок 1'!K20)","v":""},{"$f":"IF('Блок 1'!L20=\"\",\"\",'Блок 1'!L20)","v":""},{"$f":"IF('Блок 1'!M20=\"\",\"\",'Блок 1'!M20)","v":""},{"$f":"IF('Блок 1'!N20=\"\",\"\",'Блок 1'!N20)","v":""},{"$f":"IF('Блок 1'!O20=\"\",\"\",'Блок 1'!O20)","v":""},{"$f":"IF('Блок 1'!P20=\"\",\"\",'Блок 1'!P20)","v":""},{"$f":"IF('Блок 1'!Q20=\"\",\"\",'Блок 1'!Q20)","v":""},{"$f":"IF('Блок 1'!R20=\"\",\"\",'Блок 1'!R20)","v":""},{"$f":"IF('Блок 1'!S20=\"\",\"\",'Блок 1'!S20)","v":""},{"$f":"IF('Блок 1'!T20=\"\",\"\",'Блок 1'!T20)","v":""},{"$f":"IF('Блок 1'!U20=\"\",\"\",'Блок 1'!U20)","v":""},{"$f":"IF('Блок 1'!V20=\"\",\"\",'Блок 1'!V20)","v":""},{"$f":"IF('Блок 1'!W20=\"\",\"\",'Блок 1'!W20)","v":""},{"$f":"IF('Блок 1'!X20=\"\",\"\",'Блок 1'!X20)","v":""},{"$f":"IF('Блок 1'!Y20=\"\",\"\",'Блок 1'!Y20)","v":""},{"$f":"IF('Блок 1'!Z20=\"\",\"\",'Блок 1'!Z20)","v":""},{"$f":"IF('Блок 1'!AA20=\"\",\"\",'Блок 1'!AA20)","v":""},{"$f":"IF('Блок 1'!AB20=\"\",\"\",'Блок 1'!AB20)","v":2},{"$f":"IF('Блок 1'!AC20=\"\",\"\",'Блок 1'!AC20)","v":72},{"$f":"IF('Блок 1'!AD20=\"\",\"\",'Блок 1'!AD20)","v":36},{"$f":"IF('Блок 1'!AE20=\"\",\"\",'Блок 1'!AE20)","v":18},{"$f":"IF('Блок 1'!AF20=\"\",\"\",'Блок 1'!AF20)","v":18},{"$f":"IF('Блок 1'!AG20=\"\",\"\",'Блок 1'!AG20)","v":""},{"$f":"IF('Блок 1'!AH20=\"\",\"\",'Блок 1'!AH20)","v":36},{"$f":"IF('Блок 1'!AI20=\"\",\"\",'Блок 1'!AI20)","v":4},{"$f":"IF('Блок 1'!AJ20=\"\",\"\",'Блок 1'!AJ20)","v":32},{"$f":"IF('Блок 1'!AK20=\"\",\"\",'Блок 1'!AK20)","v":""},{"$f":"IF('Блок 1'!AL20=\"\",\"\",'Блок 1'!AL20)","v":""},{"$f":"IF('Блок 1'!AM20=\"\",\"\",'Блок 1'!AM20)","v":2},{"$f":"IF('Блок 1'!AN20=\"\",\"\",'Блок 1'!AN20)","v":2},{"$f":"IF('Блок 1'!AO20=\"\",\"\",'Блок 1'!AO20)","v":""},{"$f":"IF('Блок 1'!AP20=\"\",\"\",'Блок 1'!AP20)","v":""},{"$f":"IF('Блок 1'!AQ20=\"\",\"\",'Блок 1'!AQ20)","v":""},{"$f":"IF('Блок 1'!AR20=\"\",\"\",'Блок 1'!AR20)","v":""},{"$f":"IF('Блок 1'!AS20=\"\",\"\",'Блок 1'!AS20)","v":""},{"$f":"IF('Блок 1'!AT20=\"\",\"\",'Блок 1'!AT20)","v":""},{"$f":"IF('Блок 1'!AU20=\"\",\"\",'Блок 1'!AU20)","v":""},{"$f":"IF('Блок 1'!AV20=\"\",\"\",'Блок 1'!AV20)","v":""},{"$f":"IF('Блок 1'!AW20=\"\",\"\",'Блок 1'!AW20)","v":""},{"$f":"IF('Блок 1'!AX20=\"\",\"\",'Блок 1'!AX20)","v":""},{"$f":"IF('Блок 1'!AY20=\"\",\"\",'Блок 1'!AY20)","v":""},{"$f":"IF('Блок 1'!AZ20=\"\",\"\",'Блок 1'!AZ20)","v":""},{"$f":"IF('Блок 1'!BA20=\"\",\"\",'Блок 1'!BA20)","v":""},{"$f":"IF('Блок 1'!BB20=\"\",\"\",'Блок 1'!BB20)","v":""},{"$f":"IF('Блок 1'!BC20=\"\",\"\",'Блок 1'!BC20)","v":""},{"$f":"IF('Блок 1'!BD20=\"\",\"\",'Блок 1'!BD20)","v":""},{"$f":"IF('Блок 1'!BE20=\"\",\"\",'Блок 1'!BE20)","v":""},{"$f":"IF('Блок 1'!BF20=\"\",\"\",'Блок 1'!BF20)","v":""},{"$f":"IF('Блок 1'!BG20=\"\",\"\",'Блок 1'!BG20)","v":""},{"$f":"IF('Блок 1'!BH20=\"\",\"\",'Блок 1'!BH20)","v":""}]
[null,{"$f":"IF('Блок 1'!B21=\"\",\"\",'Блок 1'!B21)","v":""},{"$f":"IF('Блок 1'!C21=\"\",\"\",'Блок 1'!C21)","v":""},{"$f":"IF('Блок 1'!D21=\"\",\"\",'Блок 1'!D21)","v":""},{"$f":"IF('Блок 1'!E21=\"\",\"\",'Блок 1'!E21)","v":""},{"$f":"IF('Блок 1'!F21=\"\",\"\",'Блок 1'!F21)","v":""},{"$f":"IF('Блок 1'!G21=\"\",\"\",'Блок 1'!G21)","v":""},{"$f":"IF('Блок 1'!H21=\"\",\"\",'Блок 1'!H21)","v":""},{"$f":"IF('Блок 1'!I21=\"\",\"\",'Блок 1'!I21)","v":""},{"$f":"IF('Блок 1'!J21=\"\",\"\",'Блок 1'!J21)","v":""},{"$f":"IF('Блок 1'!K21=\"\",\"\",'Блок 1'!K21)","v":""},{"$f":"IF('Блок 1'!L21=\"\",\"\",'Блок 1'!L21)","v":""},{"$f":"IF('Блок 1'!M21=\"\",\"\",'Блок 1'!M21)","v":""},{"$f":"IF('Блок 1'!N21=\"\",\"\",'Блок 1'!N21)","v":""},{"$f":"IF('Блок 1'!O21=\"\",\"\",'Блок 1'!O21)","v":""},{"$f":"IF('Блок 1'!P21=\"\",\"\",'Блок 1'!P21)","v":""},{"$f":"IF('Блок 1'!Q21=\"\",\"\",'Блок 1'!Q21)","v":""},{"$f":"IF('Блок 1'!R21=\"\",\"\",'Блок 1'!R21)","v":""},{"$f":"IF('Блок 1'!S21=\"\",\"\",'Блок 1'!S21)","v":""},{"$f":"IF('Блок 1'!T21=\"\",\"\",'Блок 1'!T21)","v":""},{"$f":"IF('Блок 1'!U21=\"\",\"\",'Блок 1'!U21)","v":""},{"$f":"IF('Блок 1'!V21=\"\",\"\",'Блок 1'!V21)","v":""},{"$f":"IF('Блок 1'!W21=\"\",\"\",'Блок 1'!W21)","v":""},{"$f":"IF('Блок 1'!X21=\"\",\"\",'Блок 1'!X21)","v":""},{"$f":"IF('Блок 1'!Y21=\"\",\"\",'Блок 1'!Y21)","v":""},{"$f":"IF('Блок 1'!Z21=\"\",\"\",'Блок 1'!Z21)","v":""},{"$f":"IF('Блок 1'!AA21=\"\",\"\",'Блок 1'!AA21)","v":""},{"$f":"IF('Блок 1'!AB21=\"\",\"\",'Блок 1'!AB21)","v":""},{"$f":"IF('Блок 1'!AC21=\"\",\"\",'Блок 1'!AC21)","v":""},{"$f":"IF('Блок 1'!AD21=\"\",\"\",'Блок 1'!AD21)","v":""},{"$f":"IF('Блок 1'!AE21=\"\",\"\",'Блок 1'!AE21)","v":""},{"$f":"IF('Блок 1'!AF21=\"\",\"\",'Блок 1'!AF21)","v":""},{"$f":"IF('Блок 1'!AG21=\"\",\"\",'Блок 1'!AG21)","v":""},{"$f":"IF('Блок 1'!AH21=\"\",\"\",'Блок 1'!AH21)","v":""},{"$f":"IF('Блок 1'!AI21=\"\",\"\",'Блок 1'!AI21)","v":""},{"$f":"IF('Блок 1'!AJ21=\"\",\"\",'Блок 1'!AJ21)","v":""},{"$f":"IF('Блок 1'!AK21=\"\",\"\",'Блок 1'!AK21)","v":""},{"$f":"IF('Блок 1'!AL21=\"\",\"\",'Блок 1'!AL21)","v":""},{"$f":"IF('Блок 1'!AM21=\"\",\"\",'Блок 1'!AM21)","v":""},{"$f":"IF('Блок 1'!AN21=\"\",\"\",'Блок 1'!AN21)","v":""},{"$f":"IF('Блок 1'!AO21=\"\",\"\",'Блок 1'!AO21)","v":""},{"$f":"IF('Блок 1'!AP21=\"\",\"\",'Блок 1'!AP21)","v":""},{"$f":"IF('Блок 1'!AQ21=\"\",\"\",'Блок 1'!AQ21)","v":""},{"$f":"IF('Блок 1'!AR21=\"\",\"\",'Блок 1'!AR21)","v":""},{"$f":"IF('Блок 1'!AS21=\"\",\"\",'Блок 1'!AS21)","v":""},{"$f":"IF('Блок 1'!AT21=\"\",\"\",'Блок 1'!AT21)","v":""},{"$f":"IF('Блок 1'!AU21=\"\",\"\",'Блок 1'!AU21)","v":""},{"$f":"IF('Блок 1'!AV21=\"\",\"\",'Блок 1'!AV21)","v":""},{"$f":"IF('Блок 1'!AW21=\"\",\"\",'Блок 1'!AW21)","v":""},{"$f":"IF('Блок 1'!AX21=\"\",\"\",'Блок 1'!AX21)","v":""},{"$f":"IF('Блок 1'!AY21=\"\",\"\",'Блок 1'!AY21)","v":""},{"$f":"IF('Блок 1'!AZ21=\"\",\"\",'Блок 1'!AZ21)","v":""},{"$f":"IF('Блок 1'!BA21=\"\",\"\",'Блок 1'!BA21)","v":""},{"$f":"IF('Блок 1'!BB21=\"\",\"\",'Блок 1'!BB21)","v":""},{"$f":"IF('Блок 1'!BC21=\"\",\"\",'Блок 1'!BC21)","v":""},{"$f":"IF('Блок 1'!BD21=\"\",\"\",'Блок 1'!BD21)","v":""},{"$f":"IF('Блок 1'!BE21=\"\",\"\",'Блок 1'!BE21)","v":""},{"$f":"IF('Блок 1'!BF21=\"\",\"\",'Блок 1'!BF21)","v":""},{"$f":"IF('Блок 1'!BG21=\"\",\"\",'Блок 1'!BG21)","v":""},{"$f":"IF('Блок 1'!BH21=\"\",\"\",'Блок 1'!BH21)","v":""}]
[null,{"$f":"IF('Блок 1'!B22=\"\",\"\",'Блок 1'!B22)","v":""},{"$f":"IF('Блок 1'!C22=\"\",\"\",'Блок 1'!C22)","v":""},{"$f":"IF('Блок 1'!D22=\"\",\"\",'Блок 1'!D22)","v":""},{"$f":"IF('Блок 1'!E22=\"\",\"\",'Блок 1'!E22)","v":""},{"$f":"IF('Блок 1'!F22=\"\",\"\",'Блок 1'!F22)","v":""},{"$f":"IF('Блок 1'!G22=\"\",\"\",'Блок 1'!G22)","v":""},{"$f":"IF('Блок 1'!H22=\"\",\"\",'Блок 1'!H22)","v":""},{"$f":"IF('Блок 1'!I22=\"\",\"\",'Блок 1'!I22)","v":""},{"$f":"IF('Блок 1'!J22=\"\",\"\",'Блок 1'!J22)","v":""},{"$f":"IF('Блок 1'!K22=\"\",\"\",'Блок 1'!K22)","v":""},{"$f":"IF('Блок 1'!L22=\"\",\"\",'Блок 1'!L22)","v":""},{"$f":"IF('Блок 1'!M22=\"\",\"\",'Блок 1'!M22)","v":""},{"$f":"IF('Блок 1'!N22=\"\",\"\",'Блок 1'!N22)","v":""},{"$f":"IF('Блок 1'!O22=\"\",\"\",'Блок 1'!O22)","v":""},{"$f":"IF('Блок 1'!P22=\"\",\"\",'Блок 1'!P22)","v":""},{"$f":"IF('Блок 1'!Q22=\"\",\"\",'Блок 1'!Q22)","v":""},{"$f":"IF('Блок 1'!R22=\"\",\"\",'Блок 1'!R22)","v":""},{"$f":"IF('Блок 1'!S22=\"\",\"\",'Блок 1'!S22)","v":""},{"$f":"IF('Блок 1'!T22=\"\",\"\",'Блок 1'!T22)","v":""},{"$f":"IF('Блок 1'!U22=\"\",\"\",'Блок 1'!U22)","v":""},{"$f":"IF('Блок 1'!V22=\"\",\"\",'Блок 1'!V22)","v":""},{"$f":"IF('Блок 1'!W22=\"\",\"\",'Блок 1'!W22)","v":""},{"$f":"IF('Блок 1'!X22=\"\",\"\",'Блок 1'!X22)","v":""},{"$f":"IF('Блок 1'!Y22=\"\",\"\",'Блок 1'!Y22)","v":""},{"$f":"IF('Блок 1'!Z22=\"\",\"\",'Блок 1'!Z22)","v":""},{"$f":"IF('Блок 1'!AA22=\"\",\"\",'Блок 1'!AA22)","v":""},{"$f":"IF('Блок 1'!AB22=\"\",\"\",'Блок 1'!AB22)","v":""},{"$f":"IF('Блок 1'!AC22=\"\",\"\",'Блок 1'!AC22)","v":""},{"$f":"IF('Блок 1'!AD22=\"\",\"\",'Блок 1'!AD22)","v":""},{"$f":"IF('Блок 1'!AE22=\"\",\"\",'Блок 1'!AE22)","v":""},{"$f":"IF('Блок 1'!AF22=\"\",\"\",'Блок 1'!AF22)","v":""},{"$f":"IF('Блок 1'!AG22=\"\",\"\",'Блок 1'!AG22)","v":""},{"$f":"IF('Блок 1'!AH22=\"\",\"\",'Блок 1'!AH22)","v":""},{"$f":"IF('Блок 1'!AI22=\"\",\"\",'Блок 1'!AI22)","v":""},{"$f":"IF('Блок 1'!AJ22=\"\",\"\",'Блок 1'!AJ22)","v":""},{"$f":"IF('Блок 1'!AK22=\"\",\"\",'Блок 1'!AK22)","v":""},{"$f":"IF('Блок 1'!AL22=\"\",\"\",'Блок 1'!AL22)","v":""},{"$f":"IF('Блок 1'!AM22=\"\",\"\",'Блок 1'!AM22)","v":""},{"$f":"IF('Блок 1'!AN22=\"\",\"\",'Блок 1'!AN22)","v":""},{"$f":"IF('Блок 1'!AO22=\"\",\"\",'Блок 1'!AO22)","v":""},{"$f":"IF('Блок 1'!AP22=\"\",\"\",'Блок 1'!AP22)","v":""},{"$f":"IF('Блок 1'!AQ22=\"\",\"\",'Блок 1'!AQ22)","v":""},{"$f":"IF('Блок 1'!AR22=\"\",\"\",'Блок 1'!AR22)","v":""},{"$f":"IF('Блок 1'!AS22=\"\",\"\",'Блок 1'!AS22)","v":""},{"$f":"IF('Блок 1'!AT22=\"\",\"\",'Блок 1'!AT22)","v":""},{"$f":"IF('Блок 1'!AU22=\"\",\"\",'Блок 1'!AU22)","v":""},{"$f":"IF('Блок 1'!AV22=\"\",\"\",'Блок 1'!AV22)","v":""},{"$f":"IF('Блок 1'!AW22=\"\",\"\",'Блок 1'!AW22)","v":""},{"$f":"IF('Блок 1'!AX22=\"\",\"\",'Блок 1'!AX22)","v":""},{"$f":"IF('Блок 1'!AY22=\"\",\"\",'Блок 1'!AY22)","v":""},{"$f":"IF('Блок 1'!AZ22=\"\",\"\",'Блок 1'!AZ22)","v":""},{"$f":"IF('Блок 1'!BA22=\"\",\"\",'Блок 1'!BA22)","v":""},{"$f":"IF('Блок 1'!BB22=\"\",\"\",'Блок 1'!BB22)","v":""},{"$f":"IF('Блок 1'!BC22=\"\",\"\",'Блок 1'!BC22)","v":""},{"$f":"IF('Блок 1'!BD22=\"\",\"\",'Блок 1'!BD22)","v":""},{"$f":"IF('Блок 1'!BE22=\"\",\"\",'Блок 1'!BE22)","v":""},{"$f":"IF('Блок 1'!BF22=\"\",\"\",'Блок 1'!BF22)","v":""},{"$f":"IF('Блок 1'!BG22=\"\",\"\",'Блок 1'!BG22)","v":""},{"$f":"IF('Блок 1'!BH22=\"\",\"\",'Блок 1'!BH22)","v":""}]
[null,{"$f":"IF('Блок 1'!B23=\"\",\"\",'Блок 1'!B23)","v":""},{"$f":"IF('Блок 1'!C23=\"\",\"\",'Блок 1'!C23)","v":""},{"$f":"IF('Блок 1'!D23=\"\",\"\",'Блок 1'!D23)","v":""},{"$f":"IF('Блок 1'!E23=\"\",\"\",'Блок 1'!E23)","v":""},{"$f":"IF('Блок 1'!F23=\"\",\"\",'Блок 1'!F23)","v":""},{"$f":"IF('Блок 1'!G23=\"\",\"\",'Блок 1'!G23)","v":""},{"$f":"IF('Блок 1'!H23=\"\",\"\",'Блок 1'!H23)","v":""},{"$f":"IF('Блок 1'!I23=\"\",\"\",'Блок 1'!I23)","v":""},{"$f":"IF('Блок 1'!J23=\"\",\"\",'Блок 1'!J23)","v":""},{"$f":"IF('Блок 1'!K23=\"\",\"\",'Блок 1'!K23)","v":""},{"$f":"IF('Блок 1'!L23=\"\",\"\",'Блок 1'!L23)","v":""},{"$f":"IF('Блок 1'!M23=\"\",\"\",'Блок 1'!M23)","v":""},{"$f":"IF('Блок 1'!N23=\"\",\"\",'Блок 1'!N23)","v":""},{"$f":"IF('Блок 1'!O23=\"\",\"\",'Блок 1'!O23)","v":""},{"$f":"IF('Блок 1'!P23=\"\",\"\",'Блок 1'!P23)","v":""},{"$f":"IF('Блок 1'!Q23=\"\",\"\",'Блок 1'!Q23)","v":""},{"$f":"IF('Блок 1'!R23=\"\",\"\",'Блок 1'!R23)","v":""},{"$f":"IF('Блок 1'!S23=\"\",\"\",'Блок 1'!S23)","v":""},{"$f":"IF('Блок 1'!T23=\"\",\"\",'Блок 1'!T23)","v":""},{"$f":"IF('Блок 1'!U23=\"\",\"\",'Блок 1'!U23)","v":""},{"$f":"IF('Блок 1'!V23=\"\",\"\",'Блок 1'!V23)","v":""},{"$f":"IF('Блок 1'!W23=\"\",\"\",'Блок 1'!W23)","v":""},{"$f":"IF('Блок 1'!X23=\"\",\"\",'Блок 1'!X23)","v":""},{"$f":"IF('Блок 1'!Y23=\"\",\"\",'Блок 1'!Y23)","v":""},{"$f":"IF('Блок 1'!Z23=\"\",\"\",'Блок 1'!Z23)","v":""},{"$f":"IF('Блок 1'!AA23=\"\",\"\",'Блок 1'!AA23)","v":""},{"$f":"IF('Блок 1'!AB23=\"\",\"\",'Блок 1'!AB23)","v":""},{"$f":"IF('Блок 1'!AC23=\"\",\"\",'Блок 1'!AC23)","v":""},{"$f":"IF('Блок 1'!AD23=\"\",\"\",'Блок 1'!AD23)","v":""},{"$f":"IF('Блок 1'!AE23=\"\",\"\",'Блок 1'!AE23)","v":""},{"$f":"IF('Блок 1'!AF23=\"\",\"\",'Блок 1'!AF23)","v":""},{"$f":"IF('Блок 1'!AG23=\"\",\"\",'Блок 1'!AG23)","v":""},{"$f":"IF('Блок 1'!AH23=\"\",\"\",'Блок 1'!AH23)","v":""},{"$f":"IF('Блок 1'!AI23=\"\",\"\",'Блок 1'!AI23)","v":""},{"$f":"IF('Блок 1'!AJ23=\"\",\"\",'Блок 1'!AJ23)","v":""},{"$f":"IF('Блок 1'!AK23=\"\",\"\",'Блок 1'!AK23)","v":""},{"$f":"IF('Блок 1'!AL23=\"\",\"\",'Блок 1'!AL23)","v":""},{"$f":"IF('Блок 1'!AM23=\"\",\"\",'Блок 1'!AM23)","v":""},{"$f":"IF('Блок 1'!AN23=\"\",\"\",'Блок 1'!AN23)","v":""},{"$f":"IF('Блок 1'!AO23=\"\",\"\",'Блок 1'!AO23)","v":""},{"$f":"IF('Блок 1'!AP23=\"\",\"\",'Блок 1'!AP23)","v":""},{"$f":"IF('Блок 1'!AQ23=\"\",\"\",'Блок 1'!AQ23)","v":""},{"$f":"IF('Блок 1'!AR23=\"\",\"\",'Блок 1'!AR23)","v":""},{"$f":"IF('Блок 1'!AS23=\"\",\"\",'Блок 1'!AS23)","v":""},{"$f":"IF('Блок 1'!AT23=\"\",\"\",'Блок 1'!AT23)","v":""},{"$f":"IF('Блок 1'!AU23=\"\",\"\",'Блок 1'!AU23)","v":""},{"$f":"IF('Блок 1'!AV23=\"\",\"\",'Блок 1'!AV23)","v":""},{"$f":"IF('Блок 1'!AW23=\"\",\"\",'Блок 1'!AW23)","v":""},{"$f":"IF('Блок 1'!AX23=\"\",\"\",'Блок 1'!AX23)","v":""},{"$f":"IF('Блок 1'!AY23=\"\",\"\",'Блок 1'!AY23)","v":""},{"$f":"IF('Блок 1'!AZ23=\"\",\"\",'Блок 1'!AZ23)","v":""},{"$f":"IF('Блок 1'!BA23=\"\",\"\",'Блок 1'!BA23)","v":""},{"$f":"IF('Блок 1'!BB23=\"\",\"\",'Блок 1'!BB23)","v":""},{"$f":"IF('Блок 1'!BC23=\"\",\"\",'Блок 1'!BC23)","v":""},{"$f":"IF('Блок 1'!BD23=\"\",\"\",'Блок 1'!BD23)","v":""},{"$f":"IF('Блок 1'!BE23=\"\",\"\",'Блок 1'!BE23)","v":""},{"$f":"IF('Блок 1'!BF23=\"\",\"\",'Блок 1'!BF23)","v":""},{"$f":"IF('Блок 1'!BG23=\"\",\"\",'Блок 1'!BG23)","v":""},{"$f":"IF('Блок 1'!BH23=\"\",\"\",'Блок 1'!BH23)","v":""}]
[null,{"$f":"IF('Блок 1'!B24=\"\",\"\",'Блок 1'!B24)","v":""},{"$f":"IF('Блок 1'!C24=\"\",\"\",'Блок 1'!C24)","v":""},{"$f":"IF('Блок 1'!D24=\"\",\"\",'Блок 1'!D24)","v":""},{"$f":"IF('Блок 1'!E24=\"\",\"\",'Блок 1'!E24)","v":""},{"$f":"IF('Блок 1'!F24=\"\",\"\",'Блок 1'!F24)","v":""},{"$f":"IF('Блок 1'!G24=\"\",\"\",'Блок 1'!G24)","v":""},{"$f":"IF('Блок 1'!H24=\"\",\"\",'Блок 1'!H24)","v":""},{"$f":"IF('Блок 1'!I24=\"\",\"\",'Блок 1'!I24)","v":""},{"$f":"IF('Блок 1'!J24=\"\",\"\",'Блок 1'!J24)","v":""},{"$f":"IF('Блок 1'!K24=\"\",\"\",'Блок 1'!K24)","v":""},{"$f":"IF('Блок 1'!L24=\"\",\"\",'Блок 1'!L24)","v":""},{"$f":"IF('Блок 1'!M24=\"\",\"\",'Блок 1'!M24)","v":""},{"$f":"IF('Блок 1'!N24=\"\",\"\",'Блок 1'!N24)","v":""},{"$f":"IF('Блок 1'!O24=\"\",\"\",'Блок 1'!O24)","v":""},{"$f":"IF('Блок 1'!P24=\"\",\"\",'Блок 1'!P24)","v":""},{"$f":"IF('Блок 1'!Q24=\"\",\"\",'Блок 1'!Q24)","v":""},{"$f":"IF('Блок 1'!R24=\"\",\"\",'Блок 1'!R24)","v":""},{"$f":"IF('Блок 1'!S24=\"\",\"\",'Блок 1'!S24)","v":""},{"$f":"IF('Блок 1'!T24=\"\",\"\",'Блок 1'!T24)","v":""},{"$f":"IF('Блок 1'!U24=\"\",\"\",'Блок 1'!U24)","v":""},{"$f":"IF('Блок 1'!V24=\"\",\"\",'Блок 1'!V24)","v":""},{"$f":"IF('Блок 1'!W24=\"\",\"\",'Блок 1'!W24)","v":""},{"$f":"IF('Блок 1'!X24=\"\",\"\",'Блок 1'!X24)","v":""},{"$f":"IF('Блок 1'!Y24=\"\",\"\",'Блок 1'!Y24)","v":""},{"$f":"IF('Блок 1'!Z24=\"\",\"\",'Блок 1'!Z24)","v":""},{"$f":"IF('Блок 1'!AA24=\"\",\"\",'Блок 1'!AA24)","v":""},{"$f":"IF('Блок 1'!AB24=\"\",\"\",'Блок 1'!AB24)","v":""},{"$f":"IF('Блок 1'!AC24=\"\",\"\",'Блок 1'!AC24)","v":""},{"$f":"IF('Блок 1'!AD24=\"\",\"\",'Блок 1'!AD24)","v":""},{"$f":"IF('Блок 1'!AE24=\"\",\"\",'Блок 1'!AE24)","v":""},{"$f":"IF('Блок 1'!AF24=\"\",\"\",'Блок 1'!AF24)","v":""},{"$f":"IF('Блок 1'!AG24=\"\",\"\",'Блок 1'!AG24)","v":""},{"$f":"IF('Блок 1'!AH24=\"\",\"\",'Блок 1'!AH24)","v":""},{"$f":"IF('Блок 1'!AI24=\"\",\"\",'Блок 1'!AI24)","v":""},{"$f":"IF('Блок 1'!AJ24=\"\",\"\",'Блок 1'!AJ24)","v":""},{"$f":"IF('Блок 1'!AK24=\"\",\"\",'Блок 1'!AK24)","v":""},{"$f":"IF('Блок 1'!AL24=\"\",\"\",'Блок 1'!AL24)","v":""},{"$f":"IF('Блок 1'!AM24=\"\",\"\",'Блок 1'!AM24)","v":""},{"$f":"IF('Блок 1'!AN24=\"\",\"\",'Блок 1'!AN24)","v":""},{"$f":"IF('Блок 1'!AO24=\"\",\"\",'Блок 1'!AO24)","v":""},{"$f":"IF('Блок 1'!AP24=\"\",\"\",'Блок 1'!AP24)","v":""},{"$f":"IF('Блок 1'!AQ24=\"\",\"\",'Блок 1'!AQ24)","v":""},{"$f":"IF('Блок 1'!AR24=\"\",\"\",'Блок 1'!AR24)","v":""},{"$f":"IF('Блок 1'!AS24=\"\",\"\",'Блок 1'!AS24)","v":""},{"$f":"IF('Блок 1'!AT24=\"\",\"\",'Блок 1'!AT24)","v":""},{"$f":"IF('Блок 1'!AU24=\"\",\"\",'Блок 1'!AU24)","v":""},{"$f":"IF('Блок 1'!AV24=\"\",\"\",'Блок 1'!AV24)","v":""},{"$f":"IF('Блок 1'!AW24=\"\",\"\",'Блок 1'!AW24)","v":""},{"$f":"IF('Блок 1'!AX24=\"\",\"\",'Блок 1'!AX24)","v":""},{"$f":"IF('Блок 1'!AY24=\"\",\"\",'Блок 1'!AY24)","v":""},{"$f":"IF('Блок 1'!AZ24=\"\",\"\",'Блок 1'!AZ24)","v":""},{"$f":"IF('Блок 1'!BA24=\"\",\"\",'Блок 1'!BA24)","v":""},{"$f":"IF('Блок 1'!BB24=\"\",\"\",'Блок 1'!BB24)","v":""},{"$f":"IF('Блок 1'!BC24=\"\",\"\",'Блок 1'!BC24)","v":""},{"$f":"IF('Блок 1'!BD24=\"\",\"\",'Блок 1'!BD24)","v":""},{"$f":"IF('Блок 1'!BE24=\"\",\"\",'Блок 1'!BE24)","v":""},{"$f":"IF('Блок 1'!BF24=\"\",\"\",'Блок 1'!BF24)","v":""},{"$f":"IF('Блок 1'!BG24=\"\",\"\",'Блок 1'!BG24)","v":""},{"$f":"IF('Блок 1'!BH24=\"\",\"\",'Блок 1'!BH24)","v":""}]
[null,{"$f":"IF('Блок 1'!B25=\"\",\"\",'Блок 1'!B25)","v":""},{"$f":"IF('Блок 1'!C25=\"\",\"\",'Блок 1'!C25)","v":""},{"$f":"IF('Блок 1'!D25=\"\",\"\",'Блок 1'!D25)","v":""},{"$f":"IF('Блок 1'!E25=\"\",\"\",'Блок 1'!E25)","v":""},{"$f":"IF('Блок 1'!F25=\"\",\"\",'Блок 1'!F25)","v":""},{"$f":"IF('Блок 1'!G25=\"\",\"\",'Блок 1'!G25)","v":""},{"$f":"IF('Блок 1'!H25=\"\",\"\",'Блок 1'!H25)","v":""},{"$f":"IF('Блок 1'!I25=\"\",\"\",'Блок 1'!I25)","v":""},{"$f":"IF('Блок 1'!J25=\"\",\"\",'Блок 1'!J25)","v":""},{"$f":"IF('Блок 1'!K25=\"\",\"\",'Блок 1'!K25)","v":""},{"$f":"IF('Блок 1'!L25=\"\",\"\",'Блок 1'!L25)","v":""},{"$f":"IF('Блок 1'!M25=\"\",\"\",'Блок 1'!M25)","v":""},{"$f":"IF('Блок 1'!N25=\"\",\"\",'Блок 1'!N25)","v":""},{"$f":"IF('Блок 1'!O25=\"\",\"\",'Блок 1'!O25)","v":""},{"$f":"IF('Блок 1'!P25=\"\",\"\",'Блок 1'!P25)","v":""},{"$f":"IF('Блок 1'!Q25=\"\",\"\",'Блок 1'!Q25)","v":""},{"$f":"IF('Блок 1'!R25=\"\",\"\",'Блок 1'!R25)","v":""},{"$f":"IF('Блок 1'!S25=\"\",\"\",'Блок 1'!S25)","v":""},{"$f":"IF('Блок 1'!T25=\"\",\"\",'Блок 1'!T25)","v":""},{"$f":"IF('Блок 1'!U25=\"\",\"\",'Блок 1'!U25)","v":""},{"$f":"IF('Блок 1'!V25=\"\",\"\",'Блок 1'!V25)","v":""},{"$f":"IF('Блок 1'!W25=\"\",\"\",'Блок 1'!W25)","v":""},{"$f":"IF('Блок 1'!X25=\"\",\"\",'Блок 1'!X25)","v":""},{"$f":"IF('Блок 1'!Y25=\"\",\"\",'Блок 1'!Y25)","v":""},{"$f":"IF('Блок 1'!Z25=\"\",\"\",'Блок 1'!Z25)","v":""},{"$f":"IF('Блок 1'!AA25=\"\",\"\",'Блок 1'!AA25)","v":""},{"$f":"IF('Блок 1'!AB25=\"\",\"\",'Блок 1'!AB25)","v":""},{"$f":"IF('Блок 1'!AC25=\"\",\"\",'Блок 1'!AC25)","v":""},{"$f":"IF('Блок 1'!AD25=\"\",\"\",'Блок 1'!AD25)","v":""},{"$f":"IF('Блок 1'!AE25=\"\",\"\",'Блок 1'!AE25)","v":""},{"$f":"IF('Блок 1'!AF25=\"\",\"\",'Блок 1'!AF25)","v":""},{"$f":"IF('Блок 1'!AG25=\"\",\"\",'Блок 1'!AG25)","v":""},{"$f":"IF('Блок 1'!AH25=\"\",\"\",'Блок 1'!AH25)","v":""},{"$f":"IF('Блок 1'!AI25=\"\",\"\",'Блок 1'!AI25)","v":""},{"$f":"IF('Блок 1'!AJ25=\"\",\"\",'Блок 1'!AJ25)","v":""},{"$f":"IF('Блок 1'!AK25=\"\",\"\",'Блок 1'!AK25)","v":""},{"$f":"IF('Блок 1'!AL25=\"\",\"\",'Блок 1'!AL25)","v":""},{"$f":"IF('Блок 1'!AM25=\"\",\"\",'Блок 1'!AM25)","v":""},{"$f":"IF('Блок 1'!AN25=\"\",\"\",'Блок 1'!AN25)","v":""},{"$f":"IF('Блок 1'!AO25=\"\",\"\",'Блок 1'!AO25)","v":""},{"$f":"IF('Блок 1'!AP25=\"\",\"\",'Блок 1'!AP25)","v":""},{"$f":"IF('Блок 1'!AQ25=\"\",\"\",'Блок 1'!AQ25)","v":""},{"$f":"IF('Блок 1'!AR25=\"\",\"\",'Блок 1'!AR25)","v":""},{"$f":"IF('Блок 1'!AS25=\"\",\"\",'Блок 1'!AS25)","v":""},{"$f":"IF('Блок 1'!AT25=\"\",\"\",'Блок 1'!AT25)","v":""},{"$f":"IF('Блок 1'!AU25=\"\",\"\",'Блок 1'!AU25)","v":""},{"$f":"IF('Блок 1'!AV25=\"\",\"\",'Блок 1'!AV25)","v":""},{"$f":"IF('Блок 1'!AW25=\"\",\"\",'Блок 1'!AW25)","v":""},{"$f":"IF('Блок 1'!AX25=\"\",\"\",'Блок 1'!AX25)","v":""},{"$f":"IF('Блок 1'!AY25=\"\",\"\",'Блок 1'!AY25)","v":""},{"$f":"IF('Блок 1'!AZ25=\"\",\"\",'Блок 1'!AZ25)","v":""},{"$f":"IF('Блок 1'!BA25=\"\",\"\",'Блок 1'!BA25)","v":""},{"$f":"IF('Блок 1'!BB25=\"\",\"\",'Блок 1'!BB25)","v":""},{"$f":"IF('Блок 1'!BC25=\"\",\"\",'Блок 1'!BC25)","v":""},{"$f":"IF('Блок 1'!BD25=\"\",\"\",'Блок 1'!BD25)","v":""},{"$f":"IF('Блок 1'!BE25=\"\",\"\",'Блок 1'!BE25)","v":""},{"$f":"IF('Блок 1'!BF25=\"\",\"\",'Блок 1'!BF25)","v":""},{"$f":"IF('Блок 1'!BG25=\"\",\"\",'Блок 1'!BG25)","v":""},{"$f":"IF('Блок 1'!BH25=\"\",\"\",'Блок 1'!BH25)","v":""}]
[null,{"$f":"IF('Блок 1'!B26=\"\",\"\",'Блок 1'!B26)","v":""},{"$f":"IF('Блок 1'!C26=\"\",\"\",'Блок 1'!C26)","v":""},{"$f":"IF('Блок 1'!D26=\"\",\"\",'Блок 1'!D26)","v":""},{"$f":"IF('Блок 1'!E26=\"\",\"\",'Блок 1'!E26)","v":""},{"$f":"IF('Блок 1'!F26=\"\",\"\",'Блок 1'!F26)","v":""},{"$f":"IF('Блок 1'!G26=\"\",\"\",'Блок 1'!G26)","v":""},{"$f":"IF('Блок 1'!H26=\"\",\"\",'Блок 1'!H26)","v":""},{"$f":"IF('Блок 1'!I26=\"\",\"\",'Блок 1'!I26)","v":""},{"$f":"IF('Блок 1'!J26=\"\",\"\",'Блок 1'!J26)","v":""},{"$f":"IF('Блок 1'!K26=\"\",\"\",'Блок 1'!K26)","v":""},{"$f":"IF('Блок 1'!L26=\"\",\"\",'Блок 1'!L26)","v":""},{"$f":"IF('Блок 1'!M26=\"\",\"\",'Блок 1'!M26)","v":""},{"$f":"IF('Блок 1'!N26=\"\",\"\",'Блок 1'!N26)","v":""},{"$f":"IF('Блок 1'!O26=\"\",\"\",'Блок 1'!O26)","v":""},{"$f":"IF('Блок 1'!P26=\"\",\"\",'Блок 1'!P26)","v":""},{"$f":"IF('Блок 1'!Q26=\"\",\"\",'Блок 1'!Q26)","v":""},{"$f":"IF('Блок 1'!R26=\"\",\"\",'Блок 1'!R26)","v":""},{"$f":"IF('Блок 1'!S26=\"\",\"\",'Блок 1'!S26)","v":""},{"$f":"IF('Блок 1'!T26=\"\",\"\",'Блок 1'!T26)","v":""},{"$f":"IF('Блок 1'!U26=\"\",\"\",'Блок 1'!U26)","v":""},{"$f":"IF('Блок 1'!V26=\"\",\"\",'Блок 1'!V26)","v":""},{"$f":"IF('Блок 1'!W26=\"\",\"\",'Блок 1'!W26)","v":""},{"$f":"IF('Блок 1'!X26=\"\",\"\",'Блок 1'!X26)","v":""},{"$f":"IF('Блок 1'!Y26=\"\",\"\",'Блок 1'!Y26)","v":""},{"$f":"IF('Блок 1'!Z26=\"\",\"\",'Блок 1'!Z26)","v":""},{"$f":"IF('Блок 1'!AA26=\"\",\"\",'Блок 1'!AA26)","v":""},{"$f":"IF('Блок 1'!AB26=\"\",\"\",'Блок 1'!AB26)","v":""},{"$f":"IF('Блок 1'!AC26=\"\",\"\",'Блок 1'!AC26)","v":""},{"$f":"IF('Блок 1'!AD26=\"\",\"\",'Блок 1'!AD26)","v":""},{"$f":"IF('Блок 1'!AE26=\"\",\"\",'Блок 1'!AE26)","v":""},{"$f":"IF('Блок 1'!AF26=\"\",\"\",'Блок 1'!AF26)","v":""},{"$f":"IF('Блок 1'!AG26=\"\",\"\",'Блок 1'!AG26)","v":""},{"$f":"IF('Блок 1'!AH26=\"\",\"\",'Блок 1'!AH26)","v":""},{"$f":"IF('Блок 1'!AI26=\"\",\"\",'Блок 1'!AI26)","v":""},{"$f":"IF('Блок 1'!AJ26=\"\",\"\",'Блок 1'!AJ26)","v":""},{"$f":"IF('Блок 1'!AK26=\"\",\"\",'Блок 1'!AK26)","v":""},{"$f":"IF('Блок 1'!AL26=\"\",\"\",'Блок 1'!AL26)","v":""},{"$f":"IF('Блок 1'!AM26=\"\",\"\",'Блок 1'!AM26)","v":""},{"$f":"IF('Блок 1'!AN26=\"\",\"\",'Блок 1'!AN26)","v":""},{"$f":"IF('Блок 1'!AO26=\"\",\"\",'Блок 1'!AO26)","v":""},{"$f":"IF('Блок 1'!AP26=\"\",\"\",'Блок 1'!AP26)","v":""},{"$f":"IF('Блок 1'!AQ26=\"\",\"\",'Блок 1'!AQ26)","v":""},{"$f":"IF('Блок 1'!AR26=\"\",\"\",'Блок 1'!AR26)","v":""},{"$f":"IF('Блок 1'!AS26=\"\",\"\",'Блок 1'!AS26)","v":""},{"$f":"IF('Блок 1'!AT26=\"\",\"\",'Блок 1'!AT26)","v":""},{"$f":"IF('Блок 1'!AU26=\"\",\"\",'Блок 1'!AU26)","v":""},{"$f":"IF('Блок 1'!AV26=\"\",\"\",'Блок 1'!AV26)","v":""},{"$f":"IF('Блок 1'!AW26=\"\",\"\",'Блок 1'!AW26)","v":""},{"$f":"IF('Блок 1'!AX26=\"\",\"\",'Блок 1'!AX26)","v":""},{"$f":"IF('Блок 1'!AY26=\"\",\"\",'Блок 1'!AY26)","v":""},{"$f":"IF('Блок 1'!AZ26=\"\",\"\",'Блок 1'!AZ26)","v":""},{"$f":"IF('Блок 1'!BA26=\"\",\"\",'Блок 1'!BA26)","v":""},{"$f":"IF('Блок 1'!BB26=\"\",\"\",'Блок 1'!BB26)","v":""},{"$f":"IF('Блок 1'!BC26=\"\",\"\",'Блок 1'!BC26)","v":""},{"$f":"IF('Блок 1'!BD26=\"\",\"\",'Блок 1'!BD26)","v":""},{"$f":"IF('Блок 1'!BE26=\"\",\"\",'Блок 1'!BE26)","v":""},{"$f":"IF('Блок 1'!BF26=\"\",\"\",'Блок 1'!BF26)","v":""},{"$f":"IF('Блок 1'!BG26=\"\",\"\",'Блок 1'!BG26)","v":""},{"$f":"IF('Блок 1'!BH26=\"\",\"\",'Блок 1'!BH26)","v":""}]
[null,{"$f":"IF('Блок 1'!B27=\"\",\"\",'Блок 1'!B27)","v":""},{"$f":"IF('Блок 1'!C27=\"\",\"\",'Блок 1'!C27)","v":""},{"$f":"IF('Блок 1'!D27=\"\",\"\",'Блок 1'!D27)","v":""},{"$f":"IF('Блок 1'!E27=\"\",\"\",'Блок 1'!E27)","v":""},{"$f":"IF('Блок 1'!F27=\"\",\"\",'Блок 1'!F27)","v":""},{"$f":"IF('Блок 1'!G27=\"\",\"\",'Блок 1'!G27)","v":""},{"$f":"IF('Блок 1'!H27=\"\",\"\",'Блок 1'!H27)","v":""},{"$f":"IF('Блок 1'!I27=\"\",\"\",'Блок 1'!I27)","v":""},{"$f":"IF('Блок 1'!J27=\"\",\"\",'Блок 1'!J27)","v":""},{"$f":"IF('Блок 1'!K27=\"\",\"\",'Блок 1'!K27)","v":""},{"$f":"IF('Блок 1'!L27=\"\",\"\",'Блок 1'!L27)","v":""},{"$f":"IF('Блок 1'!M27=\"\",\"\",'Блок 1'!M27)","v":""},{"$f":"IF('Блок 1'!N27=\"\",\"\",'Блок 1'!N27)","v":""},{"$f":"IF('Блок 1'!O27=\"\",\"\",'Блок 1'!O27)","v":""},{"$f":"IF('Блок 1'!P27=\"\",\"\",'Блок 1'!P27)","v":""},{"$f":"IF('Блок 1'!Q27=\"\",\"\",'Блок 1'!Q27)","v":""},{"$f":"IF('Блок 1'!R27=\"\",\"\",'Блок 1'!R27)","v":""},{"$f":"IF('Блок 1'!S27=\"\",\"\",'Блок 1'!S27)","v":""},{"$f":"IF('Блок 1'!T27=\"\",\"\",'Блок 1'!T27)","v":""},{"$f":"IF('Блок 1'!U27=\"\",\"\",'Блок 1'!U27)","v":""},{"$f":"IF('Блок 1'!V27=\"\",\"\",'Блок 1'!V27)","v":""},{"$f":"IF('Блок 1'!W27=\"\",\"\",'Блок 1'!W27)","v":""},{"$f":"IF('Блок 1'!X27=\"\",\"\",'Блок 1'!X27)","v":""},{"$f":"IF('Блок 1'!Y27=\"\",\"\",'Блок 1'!Y27)","v":""},{"$f":"IF('Блок 1'!Z27=\"\",\"\",'Блок 1'!Z27)","v":""},{"$f":"IF('Блок 1'!AA27=\"\",\"\",'Блок 1'!AA27)","v":""},{"$f":"IF('Блок 1'!AB27=\"\",\"\",'Блок 1'!AB27)","v":""},{"$f":"IF('Блок 1'!AC27=\"\",\"\",'Блок 1'!AC27)","v":""},{"$f":"IF('Блок 1'!AD27=\"\",\"\",'Блок 1'!AD27)","v":""},{"$f":"IF('Блок 1'!AE27=\"\",\"\",'Блок 1'!AE27)","v":""},{"$f":"IF('Блок 1'!AF27=\"\",\"\",'Блок 1'!AF27)","v":""},{"$f":"IF('Блок 1'!AG27=\"\",\"\",'Блок 1'!AG27)","v":""},{"$f":"IF('Блок 1'!AH27=\"\",\"\",'Блок 1'!AH27)","v":""},{"$f":"IF('Блок 1'!AI27=\"\",\"\",'Блок 1'!AI27)","v":""},{"$f":"IF('Блок 1'!AJ27=\"\",\"\",'Блок 1'!AJ27)","v":""},{"$f":"IF('Блок 1'!AK27=\"\",\"\",'Блок 1'!AK27)","v":""},{"$f":"IF('Блок 1'!AL27=\"\",\"\",'Блок 1'!AL27)","v":""},{"$f":"IF('Блок 1'!AM27=\"\",\"\",'Блок 1'!AM27)","v":""},{"$f":"IF('Блок 1'!AN27=\"\",\"\",'Блок 1'!AN27)","v":""},{"$f":"IF('Блок 1'!AO27=\"\",\"\",'Блок 1'!AO27)","v":""},{"$f":"IF('Блок 1'!AP27=\"\",\"\",'Блок 1'!AP27)","v":""},{"$f":"IF('Блок 1'!AQ27=\"\",\"\",'Блок 1'!AQ27)","v":""},{"$f":"IF('Блок 1'!AR27=\"\",\"\",'Блок 1'!AR27)","v":""},{"$f":"IF('Блок 1'!AS27=\"\",\"\",'Блок 1'!AS27)","v":""},{"$f":"IF('Блок 1'!AT27=\"\",\"\",'Блок 1'!AT27)","v":""},{"$f":"IF('Блок 1'!AU27=\"\",\"\",'Блок 1'!AU27)","v":""},{"$f":"IF('Блок 1'!AV27=\"\",\"\",'Блок 1'!AV27)","v":""},{"$f":"IF('Блок 1'!AW27=\"\",\"\",'Блок 1'!AW27)","v":""},{"$f":"IF('Блок 1'!AX27=\"\",\"\",'Блок 1'!AX27)","v":""},{"$f":"IF('Блок 1'!AY27=\"\",\"\",'Блок 1'!AY27)","v":""},{"$f":"IF('Блок 1'!AZ27=\"\",\"\",'Блок 1'!AZ27)","v":""},{"$f":"IF('Блок 1'!BA27=\"\",\"\",'Блок 1'!BA27)","v":""},{"$f":"IF('Блок 1'!BB27=\"\",\"\",'Блок 1'!BB27)","v":""},{"$f":"IF('Блок 1'!BC27=\"\",\"\",'Блок 1'!BC27)","v":""},{"$f":"IF('Блок 1'!BD27=\"\",\"\",'Блок 1'!BD27)","v":""},{"$f":"IF('Блок 1'!BE27=\"\",\"\",'Блок 1'!BE27)","v":""},{"$f":"IF('Блок 1'!BF27=\"\",\"\",'Блок 1'!BF27)","v":""},{"$f":"IF('Блок 1'!BG27=\"\",\"\",'Блок 1'!BG27)","v":""},{"$f":"IF('Блок 1'!BH27=\"\",\"\",'Блок 1'!BH27)","v":""}]
[null,{"$f":"IF('Блок 1'!B28=\"\",\"\",'Блок 1'!B28)","v":""},{"$f":"IF('Блок 1'!C28=\"\",\"\",'Блок 1'!C28)","v":""},{"$f":"IF('Блок 1'!D28=\"\",\"\",'Блок 1'!D28)","v":""},{"$f":"IF('Блок 1'!E28=\"\",\"\",'Блок 1'!E28)","v":""},{"$f":"IF('Блок 1'!F28=\"\",\"\",'Блок 1'!F28)","v":""},{"$f":"IF('Блок 1'!G28=\"\",\"\",'Блок 1'!G28)","v":""},{"$f":"IF('Блок 1'!H28=\"\",\"\",'Блок 1'!H28)","v":""},{"$f":"IF('Блок 1'!I28=\"\",\"\",'Блок 1'!I28)","v":""},{"$f":"IF('Блок 1'!J28=\"\",\"\",'Блок 1'!J28)","v":""},{"$f":"IF('Блок 1'!K28=\"\",\"\",'Блок 1'!K28)","v":""},{"$f":"IF('Блок 1'!L28=\"\",\"\",'Блок 1'!L28)","v":""},{"$f":"IF('Блок 1'!M28=\"\",\"\",'Блок 1'!M28)","v":""},{"$f":"IF('Блок 1'!N28=\"\",\"\",'Блок 1'!N28)","v":""},{"$f":"IF('Блок 1'!O28=\"\",\"\",'Блок 1'!O28)","v":""},{"$f":"IF('Блок 1'!P28=\"\",\"\",'Блок 1'!P28)","v":""},{"$f":"IF('Блок 1'!Q28=\"\",\"\",'Блок 1'!Q28)","v":""},{"$f":"IF('Блок 1'!R28=\"\",\"\",'Блок 1'!R28)","v":""},{"$f":"IF('Блок 1'!S28=\"\",\"\",'Блок 1'!S28)","v":""},{"$f":"IF('Блок 1'!T28=\"\",\"\",'Блок 1'!T28)","v":""},{"$f":"IF('Блок 1'!U28=\"\",\"\",'Блок 1'!U28)","v":""},{"$f":"IF('Блок 1'!V28=\"\",\"\",'Блок 1'!V28)","v":""},{"$f":"IF('Блок 1'!W28=\"\",\"\",'Блок 1'!W28)","v":""},{"$f":"IF('Блок 1'!X28=\"\",\"\",'Блок 1'!X28)","v":""},{"$f":"IF('Блок 1'!Y28=\"\",\"\",'Блок 1'!Y28)","v":""},{"$f":"IF('Блок 1'!Z28=\"\",\"\",'Блок 1'!Z28)","v":""},{"$f":"IF('Блок 1'!AA28=\"\",\"\",'Блок 1'!AA28)","v":""},{"$f":"IF('Блок 1'!AB28=\"\",\"\",'Блок 1'!AB28)","v":""},{"$f":"IF('Блок 1'!AC28=\"\",\"\",'Блок 1'!AC28)","v":""},{"$f":"IF('Блок 1'!AD28=\"\",\"\",'Блок 1'!AD28)","v":""},{"$f":"IF('Блок 1'!AE28=\"\",\"\",'Блок 1'!AE28)","v":""},{"$f":"IF('Блок 1'!AF28=\"\",\"\",'Блок 1'!AF28)","v":""},{"$f":"IF('Блок 1'!AG28=\"\",\"\",'Блок 1'!AG28)","v":""},{"$f":"IF('Блок 1'!AH28=\"\",\"\",'Блок 1'!AH28)","v":""},{"$f":"IF('Блок 1'!AI28=\"\",\"\",'Блок 1'!AI28)","v":""},{"$f":"IF('Блок 1'!AJ28=\"\",\"\",'Блок 1'!AJ28)","v":""},{"$f":"IF('Блок 1'!AK28=\"\",\"\",'Блок 1'!AK28)","v":""},{"$f":"IF('Блок 1'!AL28=\"\",\"\",'Блок 1'!AL28)","v":""},{"$f":"IF('Блок 1'!AM28=\"\",\"\",'Блок 1'!AM28)","v":""},{"$f":"IF('Блок 1'!AN28=\"\",\"\",'Блок 1'!AN28)","v":""},{"$f":"IF('Блок 1'!AO28=\"\",\"\",'Блок 1'!AO28)","v":""},{"$f":"IF('Блок 1'!AP28=\"\",\"\",'Блок 1'!AP28)","v":""},{"$f":"IF('Блок 1'!AQ28=\"\",\"\",'Блок 1'!AQ28)","v":""},{"$f":"IF('Блок 1'!AR28=\"\",\"\",'Блок 1'!AR28)","v":""},{"$f":"IF('Блок 1'!AS28=\"\",\"\",'Блок 1'!AS28)","v":""},{"$f":"IF('Блок 1'!AT28=\"\",\"\",'Блок 1'!AT28)","v":""},{"$f":"IF('Блок 1'!AU28=\"\",\"\",'Блок 1'!AU28)","v":""},{"$f":"IF('Блок 1'!AV28=\"\",\"\",'Блок 1'!AV28)","v":""},{"$f":"IF('Блок 1'!AW28=\"\",\"\",'Блок 1'!AW28)","v":""},{"$f":"IF('Блок 1'!AX28=\"\",\"\",'Блок 1'!AX28)","v":""},{"$f":"IF('Блок 1'!AY28=\"\",\"\",'Блок 1'!AY28)","v":""},{"$f":"IF('Блок 1'!AZ28=\"\",\"\",'Блок 1'!AZ28)","v":""},{"$f":"IF('Блок 1'!BA28=\"\",\"\",'Блок 1'!BA28)","v":""},{"$f":"IF('Блок 1'!BB28=\"\",\"\",'Блок 1'!BB28)","v":""},{"$f":"IF('Блок 1'!BC28=\"\",\"\",'Блок 1'!BC28)","v":""},{"$f":"IF('Блок 1'!BD28=\"\",\"\",'Блок 1'!BD28)","v":""},{"$f":"IF('Блок 1'!BE28=\"\",\"\",'Блок 1'!BE28)","v":""},{"$f":"IF('Блок 1'!BF28=\"\",\"\",'Блок 1'!BF28)","v":""},{"$f":"IF('Блок 1'!BG28=\"\",\"\",'Блок 1'!BG28)","v":""},{"$f":"IF('Блок 1'!BH28=\"\",\"\",'Блок 1'!BH28)","v":""}]
[null,{"$f":"IF('Блок 1'!B29=\"\",\"\",'Блок 1'!B29)","v":""},{"$f":"IF('Блок 1'!C29=\"\",\"\",'Блок 1'!C29)","v":""},{"$f":"IF('Блок 1'!D29=\"\",\"\",'Блок 1'!D29)","v":""},{"$f":"IF('Блок 1'!E29=\"\",\"\",'Блок 1'!E29)","v":""},{"$f":"IF('Блок 1'!F29=\"\",\"\",'Блок 1'!F29)","v":""},{"$f":"IF('Блок 1'!G29=\"\",\"\",'Блок 1'!G29)","v":""},{"$f":"IF('Блок 1'!H29=\"\",\"\",'Блок 1'!H29)","v":""},{"$f":"IF('Блок 1'!I29=\"\",\"\",'Блок 1'!I29)","v":""},{"$f":"IF('Блок 1'!J29=\"\",\"\",'Блок 1'!J29)","v":""},{"$f":"IF('Блок 1'!K29=\"\",\"\",'Блок 1'!K29)","v":""},{"$f":"IF('Блок 1'!L29=\"\",\"\",'Блок 1'!L29)","v":""},{"$f":"IF('Блок 1'!M29=\"\",\"\",'Блок 1'!M29)","v":""},{"$f":"IF('Блок 1'!N29=\"\",\"\",'Блок 1'!N29)","v":""},{"$f":"IF('Блок 1'!O29=\"\",\"\",'Блок 1'!O29)","v":""},{"$f":"IF('Блок 1'!P29=\"\",\"\",'Блок 1'!P29)","v":""},{"$f":"IF('Блок 1'!Q29=\"\",\"\",'Блок 1'!Q29)","v":""},{"$f":"IF('Блок 1'!R29=\"\",\"\",'Блок 1'!R29)","v":""},{"$f":"IF('Блок 1'!S29=\"\",\"\",'Блок 1'!S29)","v":""},{"$f":"IF('Блок 1'!T29=\"\",\"\",'Блок 1'!T29)","v":""},{"$f":"IF('Блок 1'!U29=\"\",\"\",'Блок 1'!U29)","v":""},{"$f":"IF('Блок 1'!V29=\"\",\"\",'Блок 1'!V29)","v":""},{"$f":"IF('Блок 1'!W29=\"\",\"\",'Блок 1'!W29)","v":""},{"$f":"IF('Блок 1'!X29=\"\",\"\",'Блок 1'!X29)","v":""},{"$f":"IF('Блок 1'!Y29=\"\",\"\",'Блок 1'!Y29)","v":""},{"$f":"IF('Блок 1'!Z29=\"\",\"\",'Блок 1'!Z29)","v":""},{"$f":"IF('Блок 1'!AA29=\"\",\"\",'Блок 1'!AA29)","v":""},{"$f":"IF('Блок 1'!AB29=\"\",\"\",'Блок 1'!AB29)","v":""},{"$f":"IF('Блок 1'!AC29=\"\",\"\",'Блок 1'!AC29)","v":""},{"$f":"IF('Блок 1'!AD29=\"\",\"\",'Блок 1'!AD29)","v":""},{"$f":"IF('Блок 1'!AE29=\"\",\"\",'Блок 1'!AE29)","v":""},{"$f":"IF('Блок 1'!AF29=\"\",\"\",'Блок 1'!AF29)","v":""},{"$f":"IF('Блок 1'!AG29=\"\",\"\",'Блок 1'!AG29)","v":""},{"$f":"IF('Блок 1'!AH29=\"\",\"\",'Блок 1'!AH29)","v":""},{"$f":"IF('Блок 1'!AI29=\"\",\"\",'Блок 1'!AI29)","v":""},{"$f":"IF('Блок 1'!AJ29=\"\",\"\",'Блок 1'!AJ29)","v":""},{"$f":"IF('Блок 1'!AK29=\"\",\"\",'Блок 1'!AK29)","v":""},{"$f":"IF('Блок 1'!AL29=\"\",\"\",'Блок 1'!AL29)","v":""},{"$f":"IF('Блок 1'!AM29=\"\",\"\",'Блок 1'!AM29)","v":""},{"$f":"IF('Блок 1'!AN29=\"\",\"\",'Блок 1'!AN29)","v":""},{"$f":"IF('Блок 1'!AO29=\"\",\"\",'Блок 1'!AO29)","v":""},{"$f":"IF('Блок 1'!AP29=\"\",\"\",'Блок 1'!AP29)","v":""},{"$f":"IF('Блок 1'!AQ29=\"\",\"\",'Блок 1'!AQ29)","v":""},{"$f":"IF('Блок 1'!AR29=\"\",\"\",'Блок 1'!AR29)","v":""},{"$f":"IF('Блок 1'!AS29=\"\",\"\",'Блок 1'!AS29)","v":""},{"$f":"IF('Блок 1'!AT29=\"\",\"\",'Блок 1'!AT29)","v":""},{"$f":"IF('Блок 1'!AU29=\"\",\"\",'Блок 1'!AU29)","v":""},{"$f":"IF('Блок 1'!AV29=\"\",\"\",'Блок 1'!AV29)","v":""},{"$f":"IF('Блок 1'!AW29=\"\",\"\",'Блок 1'!AW29)","v":""},{"$f":"IF('Блок 1'!AX29=\"\",\"\",'Блок 1'!AX29)","v":""},{"$f":"IF('Блок 1'!AY29=\"\",\"\",'Блок 1'!AY29)","v":""},{"$f":"IF('Блок 1'!AZ29=\"\",\"\",'Блок 1'!AZ29)","v":""},{"$f":"IF('Блок 1'!BA29=\"\",\"\",'Блок 1'!BA29)","v":""},{"$f":"IF('Блок 1'!BB29=\"\",\"\",'Блок 1'!BB29)","v":""},{"$f":"IF('Блок 1'!BC29=\"\",\"\",'Блок 1'!BC29)","v":""},{"$f":"IF('Блок 1'!BD29=\"\",\"\",'Блок 1'!BD29)","v":""},{"$f":"IF('Блок 1'!BE29=\"\",\"\",'Блок 1'!BE29)","v":""},{"$f":"IF('Блок 1'!BF29=\"\",\"\",'Блок 1'!BF29)","v":""},{"$f":"IF('Блок 1'!BG29=\"\",\"\",'Блок 1'!BG29)","v":""},{"$f":"IF('Блок 1'!BH29=\"\",\"\",'Блок 1'!BH29)","v":""}]
[null,{"$f":"IF('Блок 1'!B30=\"\",\"\",'Блок 1'!B30)","v":""},{"$f":"IF('Блок 1'!C30=\"\",\"\",'Блок 1'!C30)","v":""},{"$f":"IF('Блок 1'!D30=\"\",\"\",'Блок 1'!D30)","v":""},{"$f":"IF('Блок 1'!E30=\"\",\"\",'Блок 1'!E30)","v":""},{"$f":"IF('Блок 1'!F30=\"\",\"\",'Блок 1'!F30)","v":""},{"$f":"IF('Блок 1'!G30=\"\",\"\",'Блок 1'!G30)","v":""},{"$f":"IF('Блок 1'!H30=\"\",\"\",'Блок 1'!H30)","v":""},{"$f":"IF('Блок 1'!I30=\"\",\"\",'Блок 1'!I30)","v":""},{"$f":"IF('Блок 1'!J30=\"\",\"\",'Блок 1'!J30)","v":""},{"$f":"IF('Блок 1'!K30=\"\",\"\",'Блок 1'!K30)","v":""},{"$f":"IF('Блок 1'!L30=\"\",\"\",'Блок 1'!L30)","v":""},{"$f":"IF('Блок 1'!M30=\"\",\"\",'Блок 1'!M30)","v":""},{"$f":"IF('Блок 1'!N30=\"\",\"\",'Блок 1'!N30)","v":""},{"$f":"IF('Блок 1'!O30=\"\",\"\",'Блок 1'!O30)","v":""},{"$f":"IF('Блок 1'!P30=\"\",\"\",'Блок 1'!P30)","v":""},{"$f":"IF('Блок 1'!Q30=\"\",\"\",'Блок 1'!Q30)","v":""},{"$f":"IF('Блок 1'!R30=\"\",\"\",'Блок 1'!R30)","v":""},{"$f":"IF('Блок 1'!S30=\"\",\"\",'Блок 1'!S30)","v":""},{"$f":"IF('Блок 1'!T30=\"\",\"\",'Блок 1'!T30)","v":""},{"$f":"IF('Блок 1'!U30=\"\",\"\",'Блок 1'!U30)","v":""},{"$f":"IF('Блок 1'!V30=\"\",\"\",'Блок 1'!V30)","v":""},{"$f":"IF('Блок 1'!W30=\"\",\"\",'Блок 1'!W30)","v":""},{"$f":"IF('Блок 1'!X30=\"\",\"\",'Блок 1'!X30)","v":""},{"$f":"IF('Блок 1'!Y30=\"\",\"\",'Блок 1'!Y30)","v":""},{"$f":"IF('Блок 1'!Z30=\"\",\"\",'Блок 1'!Z30)","v":""},{"$f":"IF('Блок 1'!AA30=\"\",\"\",'Блок 1'!AA30)","v":""},{"$f":"IF('Блок 1'!AB30=\"\",\"\",'Блок 1'!AB30)","v":""},{"$f":"IF('Блок 1'!AC30=\"\",\"\",'Блок 1'!AC30)","v":""},{"$f":"IF('Блок 1'!AD30=\"\",\"\",'Блок 1'!AD30)","v":""},{"$f":"IF('Блок 1'!AE30=\"\",\"\",'Блок 1'!AE30)","v":""},{"$f":"IF('Блок 1'!AF30=\"\",\"\",'Блок 1'!AF30)","v":""},{"$f":"IF('Блок 1'!AG30=\"\",\"\",'Блок 1'!AG30)","v":""},{"$f":"IF('Блок 1'!AH30=\"\",\"\",'Блок 1'!AH30)","v":""},{"$f":"IF('Блок 1'!AI30=\"\",\"\",'Блок 1'!AI30)","v":""},{"$f":"IF('Блок 1'!AJ30=\"\",\"\",'Блок 1'!AJ30)","v":""},{"$f":"IF('Блок 1'!AK30=\"\",\"\",'Блок 1'!AK30)","v":""},{"$f":"IF('Блок 1'!AL30=\"\",\"\",'Блок 1'!AL30)","v":""},{"$f":"IF('Блок 1'!AM30=\"\",\"\",'Блок 1'!AM30)","v":""},{"$f":"IF('Блок 1'!AN30=\"\",\"\",'Блок 1'!AN30)","v":""},{"$f":"IF('Блок 1'!AO30=\"\",\"\",'Блок 1'!AO30)","v":""},{"$f":"IF('Блок 1'!AP30=\"\",\"\",'Блок 1'!AP30)","v":""},{"$f":"IF('Блок 1'!AQ30=\"\",\"\",'Блок 1'!AQ30)","v":""},{"$f":"IF('Блок 1'!AR30=\"\",\"\",'Блок 1'!AR30)","v":""},{"$f":"IF('Блок 1'!AS30=\"\",\"\",'Блок 1'!AS30)","v":""},{"$f":"IF('Блок 1'!AT30=\"\",\"\",'Блок 1'!AT30)","v":""},{"$f":"IF('Блок 1'!AU30=\"\",\"\",'Блок 1'!AU30)","v":""},{"$f":"IF('Блок 1'!AV30=\"\",\"\",'Блок 1'!AV30)","v":""},{"$f":"IF('Блок 1'!AW30=\"\",\"\",'Блок 1'!AW30)","v":""},{"$f":"IF('Блок 1'!AX30=\"\",\"\",'Блок 1'!AX30)","v":""},{"$f":"IF('Блок 1'!AY30=\"\",\"\",'Блок 1'!AY30)","v":""},{"$f":"IF('Блок 1'!AZ30=\"\",\"\",'Блок 1'!AZ30)","v":""},{"$f":"IF('Блок 1'!BA30=\"\",\"\",'Блок 1'!BA30)","v":""},{"$f":"IF('Блок 1'!BB30=\"\",\"\",'Блок 1'!BB30)","v":""},{"$f":"IF('Блок 1'!BC30=\"\",\"\",'Блок 1'!BC30)","v":""},{"$f":"IF('Блок 1'!BD30=\"\",\"\",'Блок 1'!BD30)","v":""},{"$f":"IF('Блок 1'!BE30=\"\",\"\",'Блок 1'!BE30)","v":""},{"$f":"IF('Блок 1'!BF30=\"\",\"\",'Блок 1'!BF30)","v":""},{"$f":"IF('Блок 1'!BG30=\"\",\"\",'Блок 1'!BG30)","v":""},{"$f":"IF('Блок 1'!BH30=\"\",\"\",'Блок 1'!BH30)","v":""}]
[null,{"$f":"IF('Блок 1'!B31=\"\",\"\",'Блок 1'!B31)","v":""},{"$f":"IF('Блок 1'!C31=\"\",\"\",'Блок 1'!C31)","v":""},{"$f":"IF('Блок 1'!D31=\"\",\"\",'Блок 1'!D31)","v":""},{"$f":"IF('Блок 1'!E31=\"\",\"\",'Блок 1'!E31)","v":""},{"$f":"IF('Блок 1'!F31=\"\",\"\",'Блок 1'!F31)","v":""},{"$f":"IF('Блок 1'!G31=\"\",\"\",'Блок 1'!G31)","v":""},{"$f":"IF('Блок 1'!H31=\"\",\"\",'Блок 1'!H31)","v":""},{"$f":"IF('Блок 1'!I31=\"\",\"\",'Блок 1'!I31)","v":""},{"$f":"IF('Блок 1'!J31=\"\",\"\",'Блок 1'!J31)","v":""},{"$f":"IF('Блок 1'!K31=\"\",\"\",'Блок 1'!K31)","v":""},{"$f":"IF('Блок 1'!L31=\"\",\"\",'Блок 1'!L31)","v":""},{"$f":"IF('Блок 1'!M31=\"\",\"\",'Блок 1'!M31)","v":""},{"$f":"IF('Блок 1'!N31=\"\",\"\",'Блок 1'!N31)","v":""},{"$f":"IF('Блок 1'!O31=\"\",\"\",'Блок 1'!O31)","v":""},{"$f":"IF('Блок 1'!P31=\"\",\"\",'Блок 1'!P31)","v":""},{"$f":"IF('Блок 1'!Q31=\"\",\"\",'Блок 1'!Q31)","v":""},{"$f":"IF('Блок 1'!R31=\"\",\"\",'Блок 1'!R31)","v":""},{"$f":"IF('Блок 1'!S31=\"\",\"\",'Блок 1'!S31)","v":""},{"$f":"IF('Блок 1'!T31=\"\",\"\",'Блок 1'!T31)","v":""},{"$f":"IF('Блок 1'!U31=\"\",\"\",'Блок 1'!U31)","v":""},{"$f":"IF('Блок 1'!V31=\"\",\"\",'Блок 1'!V31)","v":""},{"$f":"IF('Блок 1'!W31=\"\",\"\",'Блок 1'!W31)","v":""},{"$f":"IF('Блок 1'!X31=\"\",\"\",'Блок 1'!X31)","v":""},{"$f":"IF('Блок 1'!Y31=\"\",\"\",'Блок 1'!Y31)","v":""},{"$f":"IF('Блок 1'!Z31=\"\",\"\",'Блок 1'!Z31)","v":""},{"$f":"IF('Блок 1'!AA31=\"\",\"\",'Блок 1'!AA31)","v":""},{"$f":"IF('Блок 1'!AB31=\"\",\"\",'Блок 1'!AB31)","v":""},{"$f":"IF('Блок 1'!AC31=\"\",\"\",'Блок 1'!AC31)","v":""},{"$f":"IF('Блок 1'!AD31=\"\",\"\",'Блок 1'!AD31)","v":""},{"$f":"IF('Блок 1'!AE31=\"\",\"\",'Блок 1'!AE31)","v":""},{"$f":"IF('Блок 1'!AF31=\"\",\"\",'Блок 1'!AF31)","v":""},{"$f":"IF('Блок 1'!AG31=\"\",\"\",'Блок 1'!AG31)","v":""},{"$f":"IF('Блок 1'!AH31=\"\",\"\",'Блок 1'!AH31)","v":""},{"$f":"IF('Блок 1'!AI31=\"\",\"\",'Блок 1'!AI31)","v":""},{"$f":"IF('Блок 1'!AJ31=\"\",\"\",'Блок 1'!AJ31)","v":""},{"$f":"IF('Блок 1'!AK31=\"\",\"\",'Блок 1'!AK31)","v":""},{"$f":"IF('Блок 1'!AL31=\"\",\"\",'Блок 1'!AL31)","v":""},{"$f":"IF('Блок 1'!AM31=\"\",\"\",'Блок 1'!AM31)","v":""},{"$f":"IF('Блок 1'!AN31=\"\",\"\",'Блок 1'!AN31)","v":""},{"$f":"IF('Блок 1'!AO31=\"\",\"\",'Блок 1'!AO31)","v":""},{"$f":"IF('Блок 1'!AP31=\"\",\"\",'Блок 1'!AP31)","v":""},{"$f":"IF('Блок 1'!AQ31=\"\",\"\",'Блок 1'!AQ31)","v":""},{"$f":"IF('Блок 1'!AR31=\"\",\"\",'Блок 1'!AR31)","v":""},{"$f":"IF('Блок 1'!AS31=\"\",\"\",'Блок 1'!AS31)","v":""},{"$f":"IF('Блок 1'!AT31=\"\",\"\",'Блок 1'!AT31)","v":""},{"$f":"IF('Блок 1'!AU31=\"\",\"\",'Блок 1'!AU31)","v":""},{"$f":"IF('Блок 1'!AV31=\"\",\"\",'Блок 1'!AV31)","v":""},{"$f":"IF('Блок 1'!AW31=\"\",\"\",'Блок 1'!AW31)","v":""},{"$f":"IF('Блок 1'!AX31=\"\",\"\",'Блок 1'!AX31)","v":""},{"$f":"IF('Блок 1'!AY31=\"\",\"\",'Блок 1'!AY31)","v":""},{"$f":"IF('Блок 1'!AZ31=\"\",\"\",'Блок 1'!AZ31)","v":""},{"$f":"IF('Блок 1'!BA31=\"\",\"\",'Блок 1'!BA31)","v":""},{"$f":"IF('Блок 1'!BB31=\"\",\"\",'Блок 1'!BB31)","v":""},{"$f":"IF('Блок 1'!BC31=\"\",\"\",'Блок 1'!BC31)","v":""},{"$f":"IF('Блок 1'!BD31=\"\",\"\",'Блок 1'!BD31)","v":""},{"$f":"IF('Блок 1'!BE31=\"\",\"\",'Блок 1'!BE31)","v":""},{"$f":"IF('Блок 1'!BF31=\"\",\"\",'Блок 1'!BF31)","v":""},{"$f":"IF('Блок 1'!BG31=\"\",\"\",'Блок 1'!BG31)","v":""},{"$f":"IF('Блок 1'!BH31=\"\",\"\",'Блок 1'!BH31)","v":""}]
[null,{"$f":"IF('Блок 1'!B32=\"\",\"\",'Блок 1'!B32)","v":""},{"$f":"IF('Блок 1'!C32=\"\",\"\",'Блок 1'!C32)","v":""},{"$f":"IF('Блок 1'!D32=\"\",\"\",'Блок 1'!D32)","v":""},{"$f":"IF('Блок 1'!E32=\"\",\"\",'Блок 1'!E32)","v":""},{"$f":"IF('Блок 1'!F32=\"\",\"\",'Блок 1'!F32)","v":""},{"$f":"IF('Блок 1'!G32=\"\",\"\",'Блок 1'!G32)","v":""},{"$f":"IF('Блок 1'!H32=\"\",\"\",'Блок 1'!H32)","v":""},{"$f":"IF('Блок 1'!I32=\"\",\"\",'Блок 1'!I32)","v":""},{"$f":"IF('Блок 1'!J32=\"\",\"\",'Блок 1'!J32)","v":""},{"$f":"IF('Блок 1'!K32=\"\",\"\",'Блок 1'!K32)","v":""},{"$f":"IF('Блок 1'!L32=\"\",\"\",'Блок 1'!L32)","v":""},{"$f":"IF('Блок 1'!M32=\"\",\"\",'Блок 1'!M32)","v":""},{"$f":"IF('Блок 1'!N32=\"\",\"\",'Блок 1'!N32)","v":""},{"$f":"IF('Блок 1'!O32=\"\",\"\",'Блок 1'!O32)","v":""},{"$f":"IF('Блок 1'!P32=\"\",\"\",'Блок 1'!P32)","v":""},{"$f":"IF('Блок 1'!Q32=\"\",\"\",'Блок 1'!Q32)","v":""},{"$f":"IF('Блок 1'!R32=\"\",\"\",'Блок 1'!R32)","v":""},{"$f":"IF('Блок 1'!S32=\"\",\"\",'Блок 1'!S32)","v":""},{"$f":"IF('Блок 1'!T32=\"\",\"\",'Блок 1'!T32)","v":""},{"$f":"IF('Блок 1'!U32=\"\",\"\",'Блок 1'!U32)","v":""},{"$f":"IF('Блок 1'!V32=\"\",\"\",'Блок 1'!V32)","v":""},{"$f":"IF('Блок 1'!W32=\"\",\"\",'Блок 1'!W32)","v":""},{"$f":"IF('Блок 1'!X32=\"\",\"\",'Блок 1'!X32)","v":""},{"$f":"IF('Блок 1'!Y32=\"\",\"\",'Блок 1'!Y32)","v":""},{"$f":"IF('Блок 1'!Z32=\"\",\"\",'Блок 1'!Z32)","v":""},{"$f":"IF('Блок 1'!AA32=\"\",\"\",'Блок 1'!AA32)","v":""},{"$f":"IF('Блок 1'!AB32=\"\",\"\",'Блок 1'!AB32)","v":""},{"$f":"IF('Блок 1'!AC32=\"\",\"\",'Блок 1'!AC32)","v":""},{"$f":"IF('Блок 1'!AD32=\"\",\"\",'Блок 1'!AD32)","v":""},{"$f":"IF('Блок 1'!AE32=\"\",\"\",'Блок 1'!AE32)","v":""},{"$f":"IF('Блок 1'!AF32=\"\",\"\",'Блок 1'!AF32)","v":""},{"$f":"IF('Блок 1'!AG32=\"\",\"\",'Блок 1'!AG32)","v":""},{"$f":"IF('Блок 1'!AH32=\"\",\"\",'Блок 1'!AH32)","v":""},{"$f":"IF('Блок 1'!AI32=\"\",\"\",'Блок 1'!AI32)","v":""},{"$f":"IF('Блок 1'!AJ32=\"\",\"\",'Блок 1'!AJ32)","v":""},{"$f":"IF('Блок 1'!AK32=\"\",\"\",'Блок 1'!AK32)","v":""},{"$f":"IF('Блок 1'!AL32=\"\",\"\",'Блок 1'!AL32)","v":""},{"$f":"IF('Блок 1'!AM32=\"\",\"\",'Блок 1'!AM32)","v":""},{"$f":"IF('Блок 1'!AN32=\"\",\"\",'Блок 1'!AN32)","v":""},{"$f":"IF('Блок 1'!AO32=\"\",\"\",'Блок 1'!AO32)","v":""},{"$f":"IF('Блок 1'!AP32=\"\",\"\",'Блок 1'!AP32)","v":""},{"$f":"IF('Блок 1'!AQ32=\"\",\"\",'Блок 1'!AQ32)","v":""},{"$f":"IF('Блок 1'!AR32=\"\",\"\",'Блок 1'!AR32)","v":""},{"$f":"IF('Блок 1'!AS32=\"\",\"\",'Блок 1'!AS32)","v":""},{"$f":"IF('Блок 1'!AT32=\"\",\"\",'Блок 1'!AT32)","v":""},{"$f":"IF('Блок 1'!AU32=\"\",\"\",'Блок 1'!AU32)","v":""},{"$f":"IF('Блок 1'!AV32=\"\",\"\",'Блок 1'!AV32)","v":""},{"$f":"IF('Блок 1'!AW32=\"\",\"\",'Блок 1'!AW32)","v":""},{"$f":"IF('Блок 1'!AX32=\"\",\"\",'Блок 1'!AX32)","v":""},{"$f":"IF('Блок 1'!AY32=\"\",\"\",'Блок 1'!AY32)","v":""},{"$f":"IF('Блок 1'!AZ32=\"\",\"\",'Блок 1'!AZ32)","v":""},{"$f":"IF('Блок 1'!BA32=\"\",\"\",'Блок 1'!BA32)","v":""},{"$f":"IF('Блок 1'!BB32=\"\",\"\",'Блок 1'!BB32)","v":""},{"$f":"IF('Блок 1'!BC32=\"\",\"\",'Блок 1'!BC32)","v":""},{"$f":"IF('Блок 1'!BD32=\"\",\"\",'Блок 1'!BD32)","v":""},{"$f":"IF('Блок 1'!BE32=\"\",\"\",'Блок 1'!BE32)","v":""},{"$f":"IF('Блок 1'!BF32=\"\",\"\",'Блок 1'!BF32)","v":""},{"$f":"IF('Блок 1'!BG32=\"\",\"\",'Блок 1'!BG32)","v":""},{"$f":"IF('Блок 1'!BH32=\"\",\"\",'Блок 1'!BH32)","v":""}]
[null,{"$f":"IF('Блок 1'!B33=\"\",\"\",'Блок 1'!B33)","v":""},{"$f":"IF('Блок 1'!C33=\"\",\"\",'Блок 1'!C33)","v":""},{"$f":"IF('Блок 1'!D33=\"\",\"\",'Блок 1'!D33)","v":""},{"$f":"IF('Блок 1'!E33=\"\",\"\",'Блок 1'!E33)","v":""},{"$f":"IF('Блок 1'!F33=\"\",\"\",'Блок 1'!F33)","v":""},{"$f":"IF('Блок 1'!G33=\"\",\"\",'Блок 1'!G33)","v":""},{"$f":"IF('Блок 1'!H33=\"\",\"\",'Блок 1'!H33)","v":""},{"$f":"IF('Блок 1'!I33=\"\",\"\",'Блок 1'!I33)","v":""},{"$f":"IF('Блок 1'!J33=\"\",\"\",'Блок 1'!J33)","v":""},{"$f":"IF('Блок 1'!K33=\"\",\"\",'Блок 1'!K33)","v":""},{"$f":"IF('Блок 1'!L33=\"\",\"\",'Блок 1'!L33)","v":""},{"$f":"IF('Блок 1'!M33=\"\",\"\",'Блок 1'!M33)","v":""},{"$f":"IF('Блок 1'!N33=\"\",\"\",'Блок 1'!N33)","v":""},{"$f":"IF('Блок 1'!O33=\"\",\"\",'Блок 1'!O33)","v":""},{"$f":"IF('Блок 1'!P33=\"\",\"\",'Блок 1'!P33)","v":""},{"$f":"IF('Блок 1'!Q33=\"\",\"\",'Блок 1'!Q33)","v":""},{"$f":"IF('Блок 1'!R33=\"\",\"\",'Блок 1'!R33)","v":""},{"$f":"IF('Блок 1'!S33=\"\",\"\",'Блок 1'!S33)","v":""},{"$f":"IF('Блок 1'!T33=\"\",\"\",'Блок 1'!T33)","v":""},{"$f":"IF('Блок 1'!U33=\"\",\"\",'Блок 1'!U33)","v":""},{"$f":"IF('Блок 1'!V33=\"\",\"\",'Блок 1'!V33)","v":""},{"$f":"IF('Блок 1'!W33=\"\",\"\",'Блок 1'!W33)","v":""},{"$f":"IF('Блок 1'!X33=\"\",\"\",'Блок 1'!X33)","v":""},{"$f":"IF('Блок 1'!Y33=\"\",\"\",'Блок 1'!Y33)","v":""},{"$f":"IF('Блок 1'!Z33=\"\",\"\",'Блок 1'!Z33)","v":""},{"$f":"IF('Блок 1'!AA33=\"\",\"\",'Блок 1'!AA33)","v":""},{"$f":"IF('Блок 1'!AB33=\"\",\"\",'Блок 1'!AB33)","v":""},{"$f":"IF('Блок 1'!AC33=\"\",\"\",'Блок 1'!AC33)","v":""},{"$f":"IF('Блок 1'!AD33=\"\",\"\",'Блок 1'!AD33)","v":""},{"$f":"IF('Блок 1'!AE33=\"\",\"\",'Блок 1'!AE33)","v":""},{"$f":"IF('Блок 1'!AF33=\"\",\"\",'Блок 1'!AF33)","v":""},{"$f":"IF('Блок 1'!AG33=\"\",\"\",'Блок 1'!AG33)","v":""},{"$f":"IF('Блок 1'!AH33=\"\",\"\",'Блок 1'!AH33)","v":""},{"$f":"IF('Блок 1'!AI33=\"\",\"\",'Блок 1'!AI33)","v":""},{"$f":"IF('Блок 1'!AJ33=\"\",\"\",'Блок 1'!AJ33)","v":""},{"$f":"IF('Блок 1'!AK33=\"\",\"\",'Блок 1'!AK33)","v":""},{"$f":"IF('Блок 1'!AL33=\"\",\"\",'Блок 1'!AL33)","v":""},{"$f":"IF('Блок 1'!AM33=\"\",\"\",'Блок 1'!AM33)","v":""},{"$f":"IF('Блок 1'!AN33=\"\",\"\",'Блок 1'!AN33)","v":""},{"$f":"IF('Блок 1'!AO33=\"\",\"\",'Блок 1'!AO33)","v":""},{"$f":"IF('Блок 1'!AP33=\"\",\"\",'Блок 1'!AP33)","v":""},{"$f":"IF('Блок 1'!AQ33=\"\",\"\",'Блок 1'!AQ33)","v":""},{"$f":"IF('Блок 1'!AR33=\"\",\"\",'Блок 1'!AR33)","v":""},{"$f":"IF('Блок 1'!AS33=\"\",\"\",'Блок 1'!AS33)","v":""},{"$f":"IF('Блок 1'!AT33=\"\",\"\",'Блок 1'!AT33)","v":""},{"$f":"IF('Блок 1'!AU33=\"\",\"\",'Блок 1'!AU33)","v":""},{"$f":"IF('Блок 1'!AV33=\"\",\"\",'Блок 1'!AV33)","v":""},{"$f":"IF('Блок 1'!AW33=\"\",\"\",'Блок 1'!AW33)","v":""},{"$f":"IF('Блок 1'!AX33=\"\",\"\",'Блок 1'!AX33)","v":""},{"$f":"IF('Блок 1'!AY33=\"\",\"\",'Блок 1'!AY33)","v":""},{"$f":"IF('Блок 1'!AZ33=\"\",\"\",'Блок 1'!AZ33)","v":""},{"$f":"IF('Блок 1'!BA33=\"\",\"\",'Блок 1'!BA33)","v":""},{"$f":"IF('Блок 1'!BB33=\"\",\"\",'Блок 1'!BB33)","v":""},{"$f":"IF('Блок 1'!BC33=\"\",\"\",'Блок 1'!BC33)","v":""},{"$f":"IF('Блок 1'!BD33=\"\",\"\",'Блок 1'!BD33)","v":""},{"$f":"IF('Блок 1'!BE33=\"\",\"\",'Блок 1'!BE33)","v":""},{"$f":"IF('Блок 1'!BF33=\"\",\"\",'Блок 1'!BF33)","v":""},{"$f":"IF('Блок 1'!BG33=\"\",\"\",'Блок 1'!BG33)","v":""},{"$f":"IF('Блок 1'!BH33=\"\",\"\",'Блок 1'!BH33)","v":""}]
[null,{"$f":"IF('Блок 1'!B34=\"\",\"\",'Блок 1'!B34)","v":""},{"$f":"IF('Блок 1'!C34=\"\",\"\",'Блок 1'!C34)","v":""},{"$f":"IF('Блок 1'!D34=\"\",\"\",'Блок 1'!D34)","v":""},{"$f":"IF('Блок 1'!E34=\"\",\"\",'Блок 1'!E34)","v":""},{"$f":"IF('Блок 1'!F34=\"\",\"\",'Блок 1'!F34)","v":""},{"$f":"IF('Блок 1'!G34=\"\",\"\",'Блок 1'!G34)","v":""},{"$f":"IF('Блок 1'!H34=\"\",\"\",'Блок 1'!H34)","v":""},{"$f":"IF('Блок 1'!I34=\"\",\"\",'Блок 1'!I34)","v":""},{"$f":"IF('Блок 1'!J34=\"\",\"\",'Блок 1'!J34)","v":""},{"$f":"IF('Блок 1'!K34=\"\",\"\",'Блок 1'!K34)","v":""},{"$f":"IF('Блок 1'!L34=\"\",\"\",'Блок 1'!L34)","v":""},{"$f":"IF('Блок 1'!M34=\"\",\"\",'Блок 1'!M34)","v":""},{"$f":"IF('Блок 1'!N34=\"\",\"\",'Блок 1'!N34)","v":""},{"$f":"IF('Блок 1'!O34=\"\",\"\",'Блок 1'!O34)","v":""},{"$f":"IF('Блок 1'!P34=\"\",\"\",'Блок 1'!P34)","v":""},{"$f":"IF('Блок 1'!Q34=\"\",\"\",'Блок 1'!Q34)","v":""},{"$f":"IF('Блок 1'!R34=\"\",\"\",'Блок 1'!R34)","v":""},{"$f":"IF('Блок 1'!S34=\"\",\"\",'Блок 1'!S34)","v":""},{"$f":"IF('Блок 1'!T34=\"\",\"\",'Блок 1'!T34)","v":""},{"$f":"IF('Блок 1'!U34=\"\",\"\",'Блок 1'!U34)","v":""},{"$f":"IF('Блок 1'!V34=\"\",\"\",'Блок 1'!V34)","v":""},{"$f":"IF('Блок 1'!W34=\"\",\"\",'Блок 1'!W34)","v":""},{"$f":"IF('Блок 1'!X34=\"\",\"\",'Блок 1'!X34)","v":""},{"$f":"IF('Блок 1'!Y34=\"\",\"\",'Блок 1'!Y34)","v":""},{"$f":"IF('Блок 1'!Z34=\"\",\"\",'Блок 1'!Z34)","v":""},{"$f":"IF('Блок 1'!AA34=\"\",\"\",'Блок 1'!AA34)","v":""},{"$f":"IF('Блок 1'!AB34=\"\",\"\",'Блок 1'!AB34)","v":""},{"$f":"IF('Блок 1'!AC34=\"\",\"\",'Блок 1'!AC34)","v":""},{"$f":"IF('Блок 1'!AD34=\"\",\"\",'Блок 1'!AD34)","v":""},{"$f":"IF('Блок 1'!AE34=\"\",\"\",'Блок 1'!AE34)","v":""},{"$f":"IF('Блок 1'!AF34=\"\",\"\",'Блок 1'!AF34)","v":""},{"$f":"IF('Блок 1'!AG34=\"\",\"\",'Блок 1'!AG34)","v":""},{"$f":"IF('Блок 1'!AH34=\"\",\"\",'Блок 1'!AH34)","v":""},{"$f":"IF('Блок 1'!AI34=\"\",\"\",'Блок 1'!AI34)","v":""},{"$f":"IF('Блок 1'!AJ34=\"\",\"\",'Блок 1'!AJ34)","v":""},{"$f":"IF('Блок 1'!AK34=\"\",\"\",'Блок 1'!AK34)","v":""},{"$f":"IF('Блок 1'!AL34=\"\",\"\",'Блок 1'!AL34)","v":""},{"$f":"IF('Блок 1'!AM34=\"\",\"\",'Блок 1'!AM34)","v":""},{"$f":"IF('Блок 1'!AN34=\"\",\"\",'Блок 1'!AN34)","v":""},{"$f":"IF('Блок 1'!AO34=\"\",\"\",'Блок 1'!AO34)","v":""},{"$f":"IF('Блок 1'!AP34=\"\",\"\",'Блок 1'!AP34)","v":""},{"$f":"IF('Блок 1'!AQ34=\"\",\"\",'Блок 1'!AQ34)","v":""},{"$f":"IF('Блок 1'!AR34=\"\",\"\",'Блок 1'!AR34)","v":""},{"$f":"IF('Блок 1'!AS34=\"\",\"\",'Блок 1'!AS34)","v":""},{"$f":"IF('Блок 1'!AT34=\"\",\"\",'Блок 1'!AT34)","v":""},{"$f":"IF('Блок 1'!AU34=\"\",\"\",'Блок 1'!AU34)","v":""},{"$f":"IF('Блок 1'!AV34=\"\",\"\",'Блок 1'!AV34)","v":""},{"$f":"IF('Блок 1'!AW34=\"\",\"\",'Блок 1'!AW34)","v":""},{"$f":"IF('Блок 1'!AX34=\"\",\"\",'Блок 1'!AX34)","v":""},{"$f":"IF('Блок 1'!AY34=\"\",\"\",'Блок 1'!AY34)","v":""},{"$f":"IF('Блок 1'!AZ34=\"\",\"\",'Блок 1'!AZ34)","v":""},{"$f":"IF('Блок 1'!BA34=\"\",\"\",'Блок 1'!BA34)","v":""},{"$f":"IF('Блок 1'!BB34=\"\",\"\",'Блок 1'!BB34)","v":""},{"$f":"IF('Блок 1'!BC34=\"\",\"\",'Блок 1'!BC34)","v":""},{"$f":"IF('Блок 1'!BD34=\"\",\"\",'Блок 1'!BD34)","v":""},{"$f":"IF('Блок 1'!BE34=\"\",\"\",'Блок 1'!BE34)","v":""},{"$f":"IF('Блок 1'!BF34=\"\",\"\",'Блок 1'!BF34)","v":""},{"$f":"IF('Блок 1'!BG34=\"\",\"\",'Блок 1'!BG34)","v":""},{"$f":"IF('Блок 1'!BH34=\"\",\"\",'Блок 1'!BH34)","v":""}]
[null,{"$f":"IF('Блок 1'!B35=\"\",\"\",'Блок 1'!B35)","v":""},{"$f":"IF('Блок 1'!C35=\"\",\"\",'Блок 1'!C35)","v":""},{"$f":"IF('Блок 1'!D35=\"\",\"\",'Блок 1'!D35)","v":""},{"$f":"IF('Блок 1'!E35=\"\",\"\",'Блок 1'!E35)","v":""},{"$f":"IF('Блок 1'!F35=\"\",\"\",'Блок 1'!F35)","v":""},{"$f":"IF('Блок 1'!G35=\"\",\"\",'Блок 1'!G35)","v":""},{"$f":"IF('Блок 1'!H35=\"\",\"\",'Блок 1'!H35)","v":""},{"$f":"IF('Блок 1'!I35=\"\",\"\",'Блок 1'!I35)","v":""},{"$f":"IF('Блок 1'!J35=\"\",\"\",'Блок 1'!J35)","v":""},{"$f":"IF('Блок 1'!K35=\"\",\"\",'Блок 1'!K35)","v":""},{"$f":"IF('Блок 1'!L35=\"\",\"\",'Блок 1'!L35)","v":""},{"$f":"IF('Блок 1'!M35=\"\",\"\",'Блок 1'!M35)","v":""},{"$f":"IF('Блок 1'!N35=\"\",\"\",'Блок 1'!N35)","v":""},{"$f":"IF('Блок 1'!O35=\"\",\"\",'Блок 1'!O35)","v":""},{"$f":"IF('Блок 1'!P35=\"\",\"\",'Блок 1'!P35)","v":""},{"$f":"IF('Блок 1'!Q35=\"\",\"\",'Блок 1'!Q35)","v":""},{"$f":"IF('Блок 1'!R35=\"\",\"\",'Блок 1'!R35)","v":""},{"$f":"IF('Блок 1'!S35=\"\",\"\",'Блок 1'!S35)","v":""},{"$f":"IF('Блок 1'!T35=\"\",\"\",'Блок 1'!T35)","v":""},{"$f":"IF('Блок 1'!U35=\"\",\"\",'Блок 1'!U35)","v":""},{"$f":"IF('Блок 1'!V35=\"\",\"\",'Блок 1'!V35)","v":""},{"$f":"IF('Блок 1'!W35=\"\",\"\",'Блок 1'!W35)","v":""},{"$f":"IF('Блок 1'!X35=\"\",\"\",'Блок 1'!X35)","v":""},{"$f":"IF('Блок 1'!Y35=\"\",\"\",'Блок 1'!Y35)","v":""},{"$f":"IF('Блок 1'!Z35=\"\",\"\",'Блок 1'!Z35)","v":""},{"$f":"IF('Блок 1'!AA35=\"\",\"\",'Блок 1'!AA35)","v":""},{"$f":"IF('Блок 1'!AB35=\"\",\"\",'Блок 1'!AB35)","v":""},{"$f":"IF('Блок 1'!AC35=\"\",\"\",'Блок 1'!AC35)","v":""},{"$f":"IF('Блок 1'!AD35=\"\",\"\",'Блок 1'!AD35)","v":""},{"$f":"IF('Блок 1'!AE35=\"\",\"\",'Блок 1'!AE35)","v":""},{"$f":"IF('Блок 1'!AF35=\"\",\"\",'Блок 1'!AF35)","v":""},{"$f":"IF('Блок 1'!AG35=\"\",\"\",'Блок 1'!AG35)","v":""},{"$f":"IF('Блок 1'!AH35=\"\",\"\",'Блок 1'!AH35)","v":""},{"$f":"IF('Блок 1'!AI35=\"\",\"\",'Блок 1'!AI35)","v":""},{"$f":"IF('Блок 1'!AJ35=\"\",\"\",'Блок 1'!AJ35)","v":""},{"$f":"IF('Блок 1'!AK35=\"\",\"\",'Блок 1'!AK35)","v":""},{"$f":"IF('Блок 1'!AL35=\"\",\"\",'Блок 1'!AL35)","v":""},{"$f":"IF('Блок 1'!AM35=\"\",\"\",'Блок 1'!AM35)","v":""},{"$f":"IF('Блок 1'!AN35=\"\",\"\",'Блок 1'!AN35)","v":""},{"$f":"IF('Блок 1'!AO35=\"\",\"\",'Блок 1'!AO35)","v":""},{"$f":"IF('Блок 1'!AP35=\"\",\"\",'Блок 1'!AP35)","v":""},{"$f":"IF('Блок 1'!AQ35=\"\",\"\",'Блок 1'!AQ35)","v":""},{"$f":"IF('Блок 1'!AR35=\"\",\"\",'Блок 1'!AR35)","v":""},{"$f":"IF('Блок 1'!AS35=\"\",\"\",'Блок 1'!AS35)","v":""},{"$f":"IF('Блок 1'!AT35=\"\",\"\",'Блок 1'!AT35)","v":""},{"$f":"IF('Блок 1'!AU35=\"\",\"\",'Блок 1'!AU35)","v":""},{"$f":"IF('Блок 1'!AV35=\"\",\"\",'Блок 1'!AV35)","v":""},{"$f":"IF('Блок 1'!AW35=\"\",\"\",'Блок 1'!AW35)","v":""},{"$f":"IF('Блок 1'!AX35=\"\",\"\",'Блок 1'!AX35)","v":""},{"$f":"IF('Блок 1'!AY35=\"\",\"\",'Блок 1'!AY35)","v":""},{"$f":"IF('Блок 1'!AZ35=\"\",\"\",'Блок 1'!AZ35)","v":""},{"$f":"IF('Блок 1'!BA35=\"\",\"\",'Блок 1'!BA35)","v":""},{"$f":"IF('Блок 1'!BB35=\"\",\"\",'Блок 1'!BB35)","v":""},{"$f":"IF('Блок 1'!BC35=\"\",\"\",'Блок 1'!BC35)","v":""},{"$f":"IF('Блок 1'!BD35=\"\",\"\",'Блок 1'!BD35)","v":""},{"$f":"IF('Блок 1'!BE35=\"\",\"\",'Блок 1'!BE35)","v":""},{"$f":"IF('Блок 1'!BF35=\"\",\"\",'Блок 1'!BF35)","v":""},{"$f":"IF('Блок 1'!BG35=\"\",\"\",'Блок 1'!BG35)","v":""},{"$f":"IF('Блок 1'!BH35=\"\",\"\",'Блок 1'!BH35)","v":""}]
[null,{"$f":"IF('Блок 1'!B36=\"\",\"\",'Блок 1'!B36)","v":""},{"$f":"IF('Блок 1'!C36=\"\",\"\",'Блок 1'!C36)","v":""},null,null,null,null,null,null,null,null,null,null,null,null,null,null,null,null,null,null,null,null,null,null,null,{"$f":"IF('Блок 1'!AA36=\"\",\"\",'Блок 1'!AA36)","v":""},{"$f":"IF('Блок 1'!AB36=\"\",\"\",'Блок 1'!AB36)","v":0},{"$f":"IF('Блок 1'!AC36=\"\",\"\",'Блок 1'!AC36)","v":0},{"$f":"IF('Блок 1'!AD36=\"\",\"\",'Блок 1'!AD36)","v":0},{"$f":"IF('Блок 1'!AE36=\"\",\"\",'Блок 1'!AE36)","v":0},{"$f":"IF('Блок 1'!AF36=\"\",\"\",'Блок 1'!AF36)","v":0},{"$f":"IF('Блок 1'!AG36=\"\",\"\",'Блок 1'!AG36)","v":0},{"$f":"IF('Блок 1'!AH36=\"\",\"\",'Блок 1'!AH36)","v":0},{"$f":"SUM(AI31:AI49)","v":0},0]
[null,{"$f":"IF('Блок 1'!B37=\"\",\"\",'Блок 1'!B37)","v":""},{"$f":"IF('Блок 1'!C37=\"\",\"\",'Блок 1'!C37)","v":""},{"$f":"IF('Блок 1'!D37=\"\",\"\",'Блок 1'!D37)","v":""},{"$f":"IF('Блок 1'!E37=\"\",\"\",'Блок 1'!E37)","v":""},{"$f":"IF('Блок 1'!F37=\"\",\"\",'Блок 1'!F37)","v":""},{"$f":"IF('Блок 1'!G37=\"\",\"\",'Блок 1'!G37)","v":""},{"$f":"IF('Блок 1'!H37=\"\",\"\",'Блок 1'!H37)","v":""},{"$f":"IF('Блок 1'!I37=\"\",\"\",'Блок 1'!I37)","v":""},{"$f":"IF('Блок 1'!J37=\"\",\"\",'Блок 1'!J37)","v":""},{"$f":"IF('Блок 1'!K37=\"\",\"\",'Блок 1'!K37)","v":""},{"$f":"IF('Блок 1'!L37=\"\",\"\",'Блок 1'!L37)","v":""},{"$f":"IF('Блок 1'!M37=\"\",\"\",'Блок 1'!M37)","v":""},{"$f":"IF('Блок 1'!N37=\"\",\"\",'Блок 1'!N37)","v":""},{"$f":"IF('Блок 1'!O37=\"\",\"\",'Блок 1'!O37)","v":""},{"$f":"IF('Блок 1'!P37=\"\",\"\",'Блок 1'!P37)","v":""},{"$f":"IF('Блок 1'!Q37=\"\",\"\",'Блок 1'!Q37)","v":""},{"$f":"IF('Блок 1'!R37=\"\",\"\",'Блок 1'!R37)","v":""},{"$f":"IF('Блок 1'!S37=\"\",\"\",'Блок 1'!S37)","v":""},{"$f":"IF('Блок 1'!T37=\"\",\"\",'Блок 1'!T37)","v":""},{"$f":"IF('Блок 1'!U37=\"\",\"\",'Блок 1'!U37)","v":""},{"$f":"IF('Блок 1'!V37=\"\",\"\",'Блок 1'!V37)","v":""},{"$f":"IF('Блок 1'!W37=\"\",\"\",'Блок 1'!W37)","v":1},{"$f":"IF('Блок 1'!X37=\"\",\"\",'Блок 1'!X37)","v":2},{"$f":"IF('Блок 1'!Y37=\"\",\"\",'Блок 1'!Y37)","v":3},{"$f":"IF('Блок 1'!Z37=\"\",\"\",'Блок 1'!Z37)","v":4},{"$f":"IF('Блок 1'!AA37=\"\",\"\",'Блок 1'!AA37)","v":""},{"$f":"IF('Блок 1'!AB37=\"\",\"\",'Блок 1'!AB37)","v":""},{"$f":"IF('Блок 1'!AC37=\"\",\"\",'Блок 1'!AC37)","v":""},{"$f":"IF('Блок 1'!AD37=\"\",\"\",'Блок 1'!AD37)","v":""},{"$f":"IF('Блок 1'!AE37=\"\",\"\",'Блок 1'!AE37)","v":""},{"$f":"IF('Блок 1'!AF37=\"\",\"\",'Блок 1'!AF37)","v":""},{"$f":"IF('Блок 1'!AG37=\"\",\"\",'Блок 1'!AG37)","v":""},{"$f":"IF('Блок 1'!AH37=\"\",\"\",'Блок 1'!AH37)","v":""},{"$f":"IF('Блок 1'!AI37=\"\",\"\",'Блок 1'!AI37)","v":""},{"$f":"IF('Блок 1'!AJ37=\"\",\"\",'Блок 1'!AJ37)","v":""},{"$f":"IF('Блок 1'!AK37=\"\",\"\",'Блок 1'!AK37)","v":""},{"$f":"IF('Блок 1'!AL37=\"\",\"\",'Блок 1'!AL37)","v":""},{"$f":"IF('Блок 1'!AM37=\"\",\"\",'Блок 1'!AM37)","v":""},{"$f":"IF('Блок 1'!AN37=\"\",\"\",'Блок 1'!AN37)","v":""},{"$f":"IF('Блок 1'!AO37=\"\",\"\",'Блок 1'!AO37)","v":""},{"$f":"IF('Блок 1'!AP37=\"\",\"\",'Блок 1'!AP37)","v":""},{"$f":"IF('Блок 1'!AQ37=\"\",\"\",'Блок 1'!AQ37)","v":""},{"$f":"IF('Блок 1'!AR37=\"\",\"\",'Блок 1'!AR37)","v":""},{"$f":"IF('Блок 1'!AS37=\"\",\"\",'Блок 1'!AS37)","v":""},{"$f":"IF('Блок 1'!AT37=\"\",\"\",'Блок 1'!AT37)","v":""},{"$f":"IF('Блок 1'!AU37=\"\",\"\",'Блок 1'!AU37)","v":""},{"$f":"IF('Блок 1'!AV37=\"\",\"\",'Блок 1'!AV37)","v":""},{"$f":"IF('Блок 1'!AW37=\"\",\"\",'Блок 1'!AW37)","v":""},{"$f":"IF('Блок 1'!AX37=\"\",\"\",'Блок 1'!AX37)","v":""},{"$f":"IF('Блок 1'!AY37=\"\",\"\",'Блок 1'!AY37)","v":""},{"$f":"IF('Блок 1'!AZ37=\"\",\"\",'Блок 1'!AZ37)","v":""},{"$f":"IF('Блок 1'!BA37=\"\",\"\",'Блок 1'!BA37)","v":""},{"$f":"IF('Блок 1'!BB37=\"\",\"\",'Блок 1'!BB37)","v":""},{"$f":"IF('Блок 1'!BC37=\"\",\"\",'Блок 1'!BC37)","v":""},{"$f":"IF('Блок 1'!BD37=\"\",\"\",'Блок 1'!BD37)","v":""},{"$f":"IF('Блок 1'!BE37=\"\",\"\",'Блок 1'!BE37)","v":""},{"$f":"IF('Блок 1'!BF37=\"\",\"\",'Блок 1'!BF37)","v":""},{"$f":"IF('Блок 1'!BG37=\"\",\"\",'Блок 1'!BG37)","v":""},{"$f":"IF('Блок 1'!BH37=\"\",\"\",'Блок 1'!BH37)","v":""}]
[null,{"$f":"IF('Блок 1'!B38=\"\",\"\",'Блок 1'!B38)","v":""},{"$f":"IF('Блок 1'!C38=\"\",\"\",'Блок 1'!C38)","v":""},{"$f":"IF('Блок 1'!D38=\"\",\"\",'Блок 1'!D38)","v":""},{"$f":"IF('Блок 1'!E38=\"\",\"\",'Блок 1'!E38)","v":""},{"$f":"IF('Блок 1'!F38=\"\",\"\",'Блок 1'!F38)","v":""},{"$f":"IF('Блок 1'!G38=\"\",\"\",'Блок 1'!G38)","v":""},{"$f":"IF('Блок 1'!H38=\"\",\"\",'Блок 1'!H38)","v":""},{"$f":"IF('Блок 1'!I38=\"\",\"\",'Блок 1'!I38)","v":""},{"$f":"IF('Блок 1'!J38=\"\",\"\",'Блок 1'!J38)","v":""},{"$f":"IF('Блок 1'!K38=\"\",\"\",'Блок 1'!K38)","v":""},{"$f":"IF('Блок 1'!L38=\"\",\"\",'Блок 1'!L38)","v":""},{"$f":"IF('Блок 1'!M38=\"\",\"\",'Блок 1'!M38)","v":""},{"$f":"IF('Блок 1'!N38=\"\",\"\",'Блок 1'!N38)","v":""},{"$f":"IF('Блок 1'!O38=\"\",\"\",'Блок 1'!O38)","v":""},{"$f":"IF('Блок 1'!P38=\"\",\"\",'Блок 1'!P38)","v":""},{"$f":"IF('Блок 1'!Q38=\"\",\"\",'Блок 1'!Q38)","v":""},{"$f":"IF('Блок 1'!R38=\"\",\"\",'Блок 1'!R38)","v":""},{"$f":"IF('Блок 1'!S38=\"\",\"\",'Блок 1'!S38)","v":""},{"$f":"IF('Блок 1'!T38=\"\",\"\",'Блок 1'!T38)","v":""},{"$f":"IF('Блок 1'!U38=\"\",\"\",'Блок 1'!U38)","v":""},{"$f":"IF('Блок 1'!V38=\"\",\"\",'Блок 1'!V38)","v":""},{"$f":"IF('Блок 1'!W38=\"\",\"\",'Блок 1'!W38)","v":1},{"$f":"IF('Блок 1'!X38=\"\",\"\",'Блок 1'!X38)","v":2},{"$f":"IF('Блок 1'!Y38=\"\",\"\",'Блок 1'!Y38)","v":3},{"$f":"IF('Блок 1'!Z38=\"\",\"\",'Блок 1'!Z38)","v":""},{"$f":"IF('Блок 1'!AA38=\"\",\"\",'Блок 1'!AA38)","v":""},{"$f":"IF('Блок 1'!AB38=\"\",\"\",'Блок 1'!AB38)","v":""},{"$f":"IF('Блок 1'!AC38=\"\",\"\",'Блок 1'!AC38)","v":""},{"$f":"IF('Блок 1'!AD38=\"\",\"\",'Блок 1'!AD38)","v":""},{"$f":"IF('Блок 1'!AE38=\"\",\"\",'Блок 1'!AE38)","v":""},{"$f":"IF('Блок 1'!AF38=\"\",\"\",'Блок 1'!AF38)","v":""},{"$f":"IF('Блок 1'!AG38=\"\",\"\",'Блок 1'!AG38)","v":""},{"$f":"IF('Блок 1'!AH38=\"\",\"\",'Блок 1'!AH38)","v":""},{"$f":"IF('Блок 1'!AI38=\"\",\"\",'Блок 1'!AI38)","v":""},{"$f":"IF('Блок 1'!AJ38=\"\",\"\",'Блок 1'!AJ38)","v":""},{"$f":"IF('Блок 1'!AK38=\"\",\"\",'Блок 1'!AK38)","v":""},{"$f":"IF('Блок 1'!AL38=\"\",\"\",'Блок 1'!AL38)","v":""},{"$f":"IF('Блок 1'!AM38=\"\",\"\",'Блок 1'!AM38)","v":""},{"$f":"IF('Блок 1'!AN38=\"\",\"\",'Блок 1'!AN38)","v":""},{"$f":"IF('Блок 1'!AO38=\"\",\"\",'Блок 1'!AO38)","v":""},{"$f":"IF('Блок 1'!AP38=\"\",\"\",'Блок 1'!AP38)","v":""},{"$f":"IF('Блок 1'!AQ38=\"\",\"\",'Блок 1'!AQ38)","v":""},{"$f":"IF('Блок 1'!AR38=\"\",\"\",'Блок 1'!AR38)","v":""},{"$f":"IF('Блок 1'!AS38=\"\",\"\",'Блок 1'!AS38)","v":""},{"$f":"IF('Блок 1'!AT38=\"\",\"\",'Блок 1'!AT38)","v":""},{"$f":"IF('Блок 1'!AU38=\"\",\"\",'Блок 1'!AU38)","v":""},{"$f":"IF('Блок 1'!AV38=\"\",\"\",'Блок 1'!AV38)","v":""},{"$f":"IF('Блок 1'!AW38=\"\",\"\",'Блок 1'!AW38)","v":""},{"$f":"IF('Блок 1'!AX38=\"\",\"\",'Блок 1'!AX38)","v":""},{"$f":"IF('Блок 1'!AY38=\"\",\"\",'Блок 1'!AY38)","v":""},{"$f":"IF('Блок 1'!AZ38=\"\",\"\",'Блок 1'!AZ38)","v":""},{"$f":"IF('Блок 1'!BA38=\"\",\"\",'Блок 1'!BA38)","v":""},{"$f":"IF('Блок 1'!BB38=\"\",\"\",'Блок 1'!BB38)","v":""},{"$f":"IF('Блок 1'!BC38=\"\",\"\",'Блок 1'!BC38)","v":""},{"$f":"IF('Блок 1'!BD38=\"\",\"\",'Блок 1'!BD38)","v":""},{"$f":"IF('Блок 1'!BE38=\"\",\"\",'Блок 1'!BE38)","v":""},{"$f":"IF('Блок 1'!BF38=\"\",\"\",'Блок 1'!BF38)","v":""},{"$f":"IF('Блок 1'!BG38=\"\",\"\",'Блок 1'!BG38)","v":""},{"$f":"IF('Блок 1'!BH38=\"\",\"\",'Блок 1'!BH38)","v":""}]
[null,{"$f":"IF('Блок 1'!B39=\"\",\"\",'Блок 1'!B39)","v":""},{"$f":"IF('Блок 1'!C39=\"\",\"\",'Блок 1'!C39)","v":""},{"$f":"IF('Блок 1'!D39=\"\",\"\",'Блок 1'!D39)","v":""},{"$f":"IF('Блок 1'!E39=\"\",\"\",'Блок 1'!E39)","v":""},{"$f":"IF('Блок 1'!F39=\"\",\"\",'Блок 1'!F39)","v":""},{"$f":"IF('Блок 1'!G39=\"\",\"\",'Блок 1'!G39)","v":""},{"$f":"IF('Блок 1'!H39=\"\",\"\",'Блок 1'!H39)","v":""},{"$f":"IF('Блок 1'!I39=\"\",\"\",'Блок 1'!I39)","v":""},{"$f":"IF('Блок 1'!J39=\"\",\"\",'Блок 1'!J39)","v":""},{"$f":"IF('Блок 1'!K39=\"\",\"\",'Блок 1'!K39)","v":""},{"$f":"IF('Блок 1'!L39=\"\",\"\",'Блок 1'!L39)","v":""},{"$f":"IF('Блок 1'!M39=\"\",\"\",'Блок 1'!M39)","v":""},{"$f":"IF('Блок 1'!N39=\"\",\"\",'Блок 1'!N39)","v":""},{"$f":"IF('Блок 1'!O39=\"\",\"\",'Блок 1'!O39)","v":""},{"$f":"IF('Блок 1'!P39=\"\",\"\",'Блок 1'!P39)","v":""},{"$f":"IF('Блок 1'!Q39=\"\",\"\",'Блок 1'!Q39)","v":""},{"$f":"IF('Блок 1'!R39=\"\",\"\",'Блок 1'!R39)","v":""},{"$f":"IF('Блок 1'!S39=\"\",\"\",'Блок 1'!S39)","v":""},{"$f":"IF('Блок 1'!T39=\"\",\"\",'Блок 1'!T39)","v":""},{"$f":"IF('Блок 1'!U39=\"\",\"\",'Блок 1'!U39)","v":""},{"$f":"IF('Блок 1'!V39=\"\",\"\",'Блок 1'!V39)","v":""},{"$f":"IF('Блок 1'!W39=\"\",\"\",'Блок 1'!W39)","v":""},{"$f":"IF('Блок 1'!X39=\"\",\"\",'Блок 1'!X39)","v":""},{"$f":"IF('Блок 1'!Y39=\"\",\"\",'Блок 1'!Y39)","v":""},{"$f":"IF('Блок 1'!Z39=\"\",\"\",'Блок 1'!Z39)","v":""},{"$f":"IF('Блок 1'!AA39=\"\",\"\",'Блок 1'!AA39)","v":""},{"$f":"IF('Блок 1'!AB39=\"\",\"\",'Блок 1'!AB39)","v":""},{"$f":"IF('Блок 1'!AC39=\"\",\"\",'Блок 1'!AC39)","v":""},{"$f":"IF('Блок 1'!AD39=\"\",\"\",'Блок 1'!AD39)","v":""},{"$f":"IF('Блок 1'!AE39=\"\",\"\",'Блок 1'!AE39)","v":""},{"$f":"IF('Блок 1'!AF39=\"\",\"\",'Блок 1'!AF39)","v":""},{"$f":"IF('Блок 1'!AG39=\"\",\"\",'Блок 1'!AG39)","v":""},{"$f":"IF('Блок 1'!AH39=\"\",\"\",'Блок 1'!AH39)","v":""},{"$f":"IF('Блок 1'!AI39=\"\",\"\",'Блок 1'!AI39)","v":""},{"$f":"IF('Блок 1'!AJ39=\"\",\"\",'Блок 1'!AJ39)","v":""},{"$f":"IF('Блок 1'!AK39=\"\",\"\",'Блок 1'!AK39)","v":""},{"$f":"IF('Блок 1'!AL39=\"\",\"\",'Блок 1'!AL39)","v":""},{"$f":"IF('Блок 1'!AM39=\"\",\"\",'Блок 1'!AM39)","v":""},{"$f":"IF('Блок 1'!AN39=\"\",\"\",'Блок 1'!AN39)","v":""},{"$f":"IF('Блок 1'!AO39=\"\",\"\",'Блок 1'!AO39)","v":""},{"$f":"IF('Блок 1'!AP39=\"\",\"\",'Блок 1'!AP39)","v":""},{"$f":"IF('Блок 1'!AQ39=\"\",\"\",'Блок 1'!AQ39)","v":""},{"$f":"IF('Блок 1'!AR39=\"\",\"\",'Блок 1'!AR39)","v":""},{"$f":"IF('Блок 1'!AS39=\"\",\"\",'Блок 1'!AS39)","v":""},{"$f":"IF('Блок 1'!AT39=\"\",\"\",'Блок 1'!AT39)","v":""},{"$f":"IF('Блок 1'!AU39=\"\",\"\",'Блок 1'!AU39)","v":""},{"$f":"IF('Блок 1'!AV39=\"\",\"\",'Блок 1'!AV39)","v":""},{"$f":"IF('Блок 1'!AW39=\"\",\"\",'Блок 1'!AW39)","v":""},{"$f":"IF('Блок 1'!AX39=\"\",\"\",'Блок 1'!AX39)","v":""},{"$f":"IF('Блок 1'!AY39=\"\",\"\",'Блок 1'!AY39)","v":""},{"$f":"IF('Блок 1'!AZ39=\"\",\"\",'Блок 1'!AZ39)","v":""},{"$f":"IF('Блок 1'!BA39=\"\",\"\",'Блок 1'!BA39)","v":""},{"$f":"IF('Блок 1'!BB39=\"\",\"\",'Блок 1'!BB39)","v":""},{"$f":"IF('Блок 1'!BC39=\"\",\"\",'Блок 1'!BC39)","v":""},{"$f":"IF('Блок 1'!BD39=\"\",\"\",'Блок 1'!BD39)","v":""},{"$f":"IF('Блок 1'!BE39=\"\",\"\",'Блок 1'!BE39)","v":""},{"$f":"IF('Блок 1'!BF39=\"\",\"\",'Блок 1'!BF39)","v":""},{"$f":"IF('Блок 1'!BG39=\"\",\"\",'Блок 1'!BG39)","v":""},{"$f":"IF('Блок 1'!BH39=\"\",\"\",'Блок 1'!BH39)","v":""}]
[null,{"$f":"IF('Блок 1'!B40=\"\",\"\",'Блок 1'!B40)","v":""},{"$f":"IF('Блок 1'!C40=\"\",\"\",'Блок 1'!C40)","v":""},{"$f":"IF('Блок 1'!D40=\"\",\"\",'Блок 1'!D40)","v":""},{"$f":"IF('Блок 1'!E40=\"\",\"\",'Блок 1'!E40)","v":""},{"$f":"IF('Блок 1'!F40=\"\",\"\",'Блок 1'!F40)","v":""},{"$f":"IF('Блок 1'!G40=\"\",\"\",'Блок 1'!G40)","v":""},{"$f":"IF('Блок 1'!H40=\"\",\"\",'Блок 1'!H40)","v":""},{"$f":"IF('Блок 1'!I40=\"\",\"\",'Блок 1'!I40)","v":""},{"$f":"IF('Блок 1'!J40=\"\",\"\",'Блок 1'!J40)","v":""},{"$f":"IF('Блок 1'!K40=\"\",\"\",'Блок 1'!K40)","v":""},{"$f":"IF('Блок 1'!L40=\"\",\"\",'Блок 1'!L40)","v":""},{"$f":"IF('Блок 1'!M40=\"\",\"\",'Блок 1'!M40)","v":""},{"$f":"IF('Блок 1'!N40=\"\",\"\",'Блок 1'!N40)","v":""},{"$f":"IF('Блок 1'!O40=\"\",\"\",'Блок 1'!O40)","v":""},{"$f":"IF('Блок 1'!P40=\"\",\"\",'Блок 1'!P40)","v":""},{"$f":"IF('Блок 1'!Q40=\"\",\"\",'Блок 1'!Q40)","v":""},{"$f":"IF('Блок 1'!R40=\"\",\"\",'Блок 1'!R40)","v":""},{"$f":"IF('Блок 1'!S40=\"\",\"\",'Блок 1'!S40)","v":""},{"$f":"IF('Блок 1'!T40=\"\",\"\",'Блок 1'!T40)","v":""},{"$f":"IF('Блок 1'!U40=\"\",\"\",'Блок 1'!U40)","v":""},{"$f":"IF('Блок 1'!V40=\"\",\"\",'Блок 1'!V40)","v":""},{"$f":"IF('Блок 1'!W40=\"\",\"\",'Блок 1'!W40)","v":""},{"$f":"IF('Блок 1'!X40=\"\",\"\",'Блок 1'!X40)","v":""},{"$f":"IF('Блок 1'!Y40=\"\",\"\",'Блок 1'!Y40)","v":""},{"$f":"IF('Блок 1'!Z40=\"\",\"\",'Блок 1'!Z40)","v":""},{"$f":"IF('Блок 1'!AA40=\"\",\"\",'Блок 1'!AA40)","v":""},{"$f":"IF('Блок 1'!AB40=\"\",\"\",'Блок 1'!AB40)","v":""},{"$f":"IF('Блок 1'!AC40=\"\",\"\",'Блок 1'!AC40)","v":""},{"$f":"IF('Блок 1'!AD40=\"\",\"\",'Блок 1'!AD40)","v":""},{"$f":"IF('Блок 1'!AE40=\"\",\"\",'Блок 1'!AE40)","v":""},{"$f":"IF('Блок 1'!AF40=\"\",\"\",'Блок 1'!AF40)","v":""},{"$f":"IF('Блок 1'!AG40=\"\",\"\",'Блок 1'!AG40)","v":""},{"$f":"IF('Блок 1'!AH40=\"\",\"\",'Блок 1'!AH40)","v":""},{"$f":"IF('Блок 1'!AI40=\"\",\"\",'Блок 1'!AI40)","v":""},{"$f":"IF('Блок 1'!AJ40=\"\",\"\",'Блок 1'!AJ40)","v":""},{"$f":"IF('Блок 1'!AK40=\"\",\"\",'Блок 1'!AK40)","v":""},{"$f":"IF('Блок 1'!AL40=\"\",\"\",'Блок 1'!AL40)","v":""},{"$f":"IF('Блок 1'!AM40=\"\",\"\",'Блок 1'!AM40)","v":""},{"$f":"IF('Блок 1'!AN40=\"\",\"\",'Блок 1'!AN40)","v":""},{"$f":"IF('Блок 1'!AO40=\"\",\"\",'Блок 1'!AO40)","v":""},{"$f":"IF('Блок 1'!AP40=\"\",\"\",'Блок 1'!AP40)","v":""},{"$f":"IF('Блок 1'!AQ40=\"\",\"\",'Блок 1'!AQ40)","v":""},{"$f":"IF('Блок 1'!AR40=\"\",\"\",'Блок 1'!AR40)","v":""},{"$f":"IF('Блок 1'!AS40=\"\",\"\",'Блок 1'!AS40)","v":""},{"$f":"IF('Блок 1'!AT40=\"\",\"\",'Блок 1'!AT40)","v":""},{"$f":"IF('Блок 1'!AU40=\"\",\"\",'Блок 1'!AU40)","v":""},{"$f":"IF('Блок 1'!AV40=\"\",\"\",'Блок 1'!AV40)","v":""},{"$f":"IF('Блок 1'!AW40=\"\",\"\",'Блок 1'!AW40)","v":""},{"$f":"IF('Блок 1'!AX40=\"\",\"\",'Блок 1'!AX40)","v":""},{"$f":"IF('Блок 1'!AY40=\"\",\"\",'Блок 1'!AY40)","v":""},{"$f":"IF('Блок 1'!AZ40=\"\",\"\",'Блок 1'!AZ40)","v":""},{"$f":"IF('Блок 1'!BA40=\"\",\"\",'Блок 1'!BA40)","v":""},{"$f":"IF('Блок 1'!BB40=\"\",\"\",'Блок 1'!BB40)","v":""},{"$f":"IF('Блок 1'!BC40=\"\",\"\",'Блок 1'!BC40)","v":""},{"$f":"IF('Блок 1'!BD40=\"\",\"\",'Блок 1'!BD40)","v":""},{"$f":"IF('Блок 1'!BE40=\"\",\"\",'Блок 1'!BE40)","v":""},{"$f":"IF('Блок 1'!BF40=\"\",\"\",'Блок 1'!BF40)","v":""},{"$f":"IF('Блок 1'!BG40=\"\",\"\",'Блок 1'!BG40)","v":""},{"$f":"IF('Блок 1'!BH40=\"\",\"\",'Блок 1'!BH40)","v":""}]
[null,{"$f":"IF('Блок 1'!B41=\"\",\"\",'Блок 1'!B41)","v":""},{"$f":"IF('Блок 1'!C41=\"\",\"\",'Блок 1'!C41)","v":""},{"$f":"IF('Блок 1'!D41=\"\",\"\",'Блок 1'!D41)","v":""},{"$f":"IF('Блок 1'!E41=\"\",\"\",'Блок 1'!E41)","v":""},{"$f":"IF('Блок 1'!F41=\"\",\"\",'Блок 1'!F41)","v":""},{"$f":"IF('Блок 1'!G41=\"\",\"\",'Блок 1'!G41)","v":""},{"$f":"IF('Блок 1'!H41=\"\",\"\",'Блок 1'!H41)","v":""},{"$f":"IF('Блок 1'!I41=\"\",\"\",'Блок 1'!I41)","v":""},{"$f":"IF('Блок 1'!J41=\"\",\"\",'Блок 1'!J41)","v":""},{"$f":"IF('Блок 1'!K41=\"\",\"\",'Блок 1'!K41)","v":""},{"$f":"IF('Блок 1'!L41=\"\",\"\",'Блок 1'!L41)","v":""},{"$f":"IF('Блок 1'!M41=\"\",\"\",'Блок 1'!M41)","v":""},{"$f":"IF('Блок 1'!N41=\"\",\"\",'Блок 1'!N41)","v":""},{"$f":"IF('Блок 1'!O41=\"\",\"\",'Блок 1'!O41)","v":""},{"$f":"IF('Блок 1'!P41=\"\",\"\",'Блок 1'!P41)","v":""},{"$f":"IF('Блок 1'!Q41=\"\",\"\",'Блок 1'!Q41)","v":""},{"$f":"IF('Блок 1'!R41=\"\",\"\",'Блок 1'!R41)","v":""},{"$f":"IF('Блок 1'!S41=\"\",\"\",'Блок 1'!S41)","v":""},{"$f":"IF('Блок 1'!T41=\"\",\"\",'Блок 1'!T41)","v":""},{"$f":"IF('Блок 1'!U41=\"\",\"\",'Блок 1'!U41)","v":""},{"$f":"IF('Блок 1'!V41=\"\",\"\",'Блок 1'!V41)","v":""},{"$f":"IF('Блок 1'!W41=\"\",\"\",'Блок 1'!W41)","v":""},{"$f":"IF('Блок 1'!X41=\"\",\"\",'Блок 1'!X41)","v":""},{"$f":"IF('Блок 1'!Y41=\"\",\"\",'Блок 1'!Y41)","v":""},{"$f":"IF('Блок 1'!Z41=\"\",\"\",'Блок 1'!Z41)","v":""},{"$f":"IF('Блок 1'!AA41=\"\",\"\",'Блок 1'!AA41)","v":""},{"$f":"IF('Блок 1'!AB41=\"\",\"\",'Блок 1'!AB41)","v":""},{"$f":"IF('Блок 1'!AC41=\"\",\"\",'Блок 1'!AC41)","v":""},{"$f":"IF('Блок 1'!AD41=\"\",\"\",'Блок 1'!AD41)","v":""},{"$f":"IF('Блок 1'!AE41=\"\",\"\",'Блок 1'!AE41)","v":""},{"$f":"IF('Блок 1'!AF41=\"\",\"\",'Блок 1'!AF41)","v":""},{"$f":"IF('Блок 1'!AG41=\"\",\"\",'Блок 1'!AG41)","v":""},{"$f":"IF('Блок 1'!AH41=\"\",\"\",'Блок 1'!AH41)","v":""},{"$f":"IF('Блок 1'!AI41=\"\",\"\",'Блок 1'!AI41)","v":""},{"$f":"IF('Блок 1'!AJ41=\"\",\"\",'Блок 1'!AJ41)","v":""},{"$f":"IF('Блок 1'!AK41=\"\",\"\",'Блок 1'!AK41)","v":""},{"$f":"IF('Блок 1'!AL41=\"\",\"\",'Блок 1'!AL41)","v":""},{"$f":"IF('Блок 1'!AM41=\"\",\"\",'Блок 1'!AM41)","v":""},{"$f":"IF('Блок 1'!AN41=\"\",\"\",'Блок 1'!AN41)","v":""},{"$f":"IF('Блок 1'!AO41=\"\",\"\",'Блок 1'!AO41)","v":""},{"$f":"IF('Блок 1'!AP41=\"\",\"\",'Блок 1'!AP41)","v":""},{"$f":"IF('Блок 1'!AQ41=\"\",\"\",'Блок 1'!AQ41)","v":""},{"$f":"IF('Блок 1'!AR41=\"\",\"\",'Блок 1'!AR41)","v":""},{"$f":"IF('Блок 1'!AS41=\"\",\"\",'Блок 1'!AS41)","v":""},{"$f":"IF('Блок 1'!AT41=\"\",\"\",'Блок 1'!AT41)","v":""},{"$f":"IF('Блок 1'!AU41=\"\",\"\",'Блок 1'!AU41)","v":""},{"$f":"IF('Блок 1'!AV41=\"\",\"\",'Блок 1'!AV41)","v":""},{"$f":"IF('Блок 1'!AW41=\"\",\"\",'Блок 1'!AW41)","v":""},{"$f":"IF('Блок 1'!AX41=\"\",\"\",'Блок 1'!AX41)","v":""},{"$f":"IF('Блок 1'!AY41=\"\",\"\",'Блок 1'!AY41)","v":""},{"$f":"IF('Блок 1'!AZ41=\"\",\"\",'Блок 1'!AZ41)","v":""},{"$f":"IF('Блок 1'!BA41=\"\",\"\",'Блок 1'!BA41)","v":""},{"$f":"IF('Блок 1'!BB41=\"\",\"\",'Блок 1'!BB41)","v":""},{"$f":"IF('Блок 1'!BC41=\"\",\"\",'Блок 1'!BC41)","v":""},{"$f":"IF('Блок 1'!BD41=\"\",\"\",'Блок 1'!BD41)","v":""},{"$f":"IF('Блок 1'!BE41=\"\",\"\",'Блок 1'!BE41)","v":""},{"$f":"IF('Блок 1'!BF41=\"\",\"\",'Блок 1'!BF41)","v":""},{"$f":"IF('Блок 1'!BG41=\"\",\"\",'Блок 1'!BG41)","v":""},{"$f":"IF('Блок 1'!BH41=\"\",\"\",'Блок 1'!BH41)","v":""}]
[null,{"$f":"IF('Блок 1'!B42=\"\",\"\",'Блок 1'!B42)","v":""},{"$f":"IF('Блок 1'!C42=\"\",\"\",'Блок 1'!C42)","v":""},{"$f":"IF('Блок 1'!D42=\"\",\"\",'Блок 1'!D42)","v":""},{"$f":"IF('Блок 1'!E42=\"\",\"\",'Блок 1'!E42)","v":""},{"$f":"IF('Блок 1'!F42=\"\",\"\",'Блок 1'!F42)","v":""},{"$f":"IF('Блок 1'!G42=\"\",\"\",'Блок 1'!G42)","v":""},{"$f":"IF('Блок 1'!H42=\"\",\"\",'Блок 1'!H42)","v":""},{"$f":"IF('Блок 1'!I42=\"\",\"\",'Блок 1'!I42)","v":""},{"$f":"IF('Блок 1'!J42=\"\",\"\",'Блок 1'!J42)","v":""},{"$f":"IF('Блок 1'!K42=\"\",\"\",'Блок 1'!K42)","v":""},{"$f":"IF('Блок 1'!L42=\"\",\"\",'Блок 1'!L42)","v":""},{"$f":"IF('Блок 1'!M42=\"\",\"\",'Блок 1'!M42)","v":""},{"$f":"IF('Блок 1'!N42=\"\",\"\",'Блок 1'!N42)","v":""},{"$f":"IF('Блок 1'!O42=\"\",\"\",'Блок 1'!O42)","v":""},{"$f":"IF('Блок 1'!P42=\"\",\"\",'Блок 1'!P42)","v":""},{"$f":"IF('Блок 1'!Q42=\"\",\"\",'Блок 1'!Q42)","v":""},{"$f":"IF('Блок 1'!R42=\"\",\"\",'Блок 1'!R42)","v":""},{"$f":"IF('Блок 1'!S42=\"\",\"\",'Блок 1'!S42)","v":""},{"$f":"IF('Блок 1'!T42=\"\",\"\",'Блок 1'!T42)","v":""},{"$f":"IF('Блок 1'!U42=\"\",\"\",'Блок 1'!U42)","v":""},{"$f":"IF('Блок 1'!V42=\"\",\"\",'Блок 1'!V42)","v":""},{"$f":"IF('Блок 1'!W42=\"\",\"\",'Блок 1'!W42)","v":2},{"$f":"IF('Блок 1'!X42=\"\",\"\",'Блок 1'!X42)","v":""},{"$f":"IF('Блок 1'!Y42=\"\",\"\",'Блок 1'!Y42)","v":""},{"$f":"IF('Блок 1'!Z42=\"\",\"\",'Блок 1'!Z42)","v":""},{"$f":"IF('Блок 1'!AA42=\"\",\"\",'Блок 1'!AA42)","v":""},{"$f":"IF('Блок 1'!AB42=\"\",\"\",'Блок 1'!AB42)","v":""},{"$f":"IF('Блок 1'!AC42=\"\",\"\",'Блок 1'!AC42)","v":""},{"$f":"IF('Блок 1'!AD42=\"\",\"\",'Блок 1'!AD42)","v":""},{"$f":"IF('Блок 1'!AE42=\"\",\"\",'Блок 1'!AE42)","v":""},{"$f":"IF('Блок 1'!AF42=\"\",\"\",'Блок 1'!AF42)","v":""},{"$f":"IF('Блок 1'!AG42=\"\",\"\",'Блок 1'!AG42)","v":""},{"$f":"IF('Блок 1'!AH42=\"\",\"\",'Блок 1'!AH42)","v":""},{"$f":"IF('Блок 1'!AI42=\"\",\"\",'Блок 1'!AI42)","v":""},{"$f":"IF('Блок 1'!AJ42=\"\",\"\",'Блок 1'!AJ42)","v":""},{"$f":"IF('Блок 1'!AK42=\"\",\"\",'Блок 1'!AK42)","v":""},{"$f":"IF('Блок 1'!AL42=\"\",\"\",'Блок 1'!AL42)","v":""},{"$f":"IF('Блок 1'!AM42=\"\",\"\",'Блок 1'!AM42)","v":""},{"$f":"IF('Блок 1'!AN42=\"\",\"\",'Блок 1'!AN42)","v":""},{"$f":"IF('Блок 1'!AO42=\"\",\"\",'Блок 1'!AO42)","v":""},{"$f":"IF('Блок 1'!AP42=\"\",\"\",'Блок 1'!AP42)","v":""},{"$f":"IF('Блок 1'!AQ42=\"\",\"\",'Блок 1'!AQ42)","v":""},{"$f":"IF('Блок 1'!AR42=\"\",\"\",'Блок 1'!AR42)","v":""},{"$f":"IF('Блок 1'!AS42=\"\",\"\",'Блок 1'!AS42)","v":""},{"$f":"IF('Блок 1'!AT42=\"\",\"\",'Блок 1'!AT42)","v":""},{"$f":"IF('Блок 1'!AU42=\"\",\"\",'Блок 1'!AU42)","v":""},{"$f":"IF('Блок 1'!AV42=\"\",\"\",'Блок 1'!AV42)","v":""},{"$f":"IF('Блок 1'!AW42=\"\",\"\",'Блок 1'!AW42)","v":""},{"$f":"IF('Блок 1'!AX42=\"\",\"\",'Блок 1'!AX42)","v":""},{"$f":"IF('Блок 1'!AY42=\"\",\"\",'Блок 1'!AY42)","v":""},{"$f":"IF('Блок 1'!AZ42=\"\",\"\",'Блок 1'!AZ42)","v":""},{"$f":"IF('Блок 1'!BA42=\"\",\"\",'Блок 1'!BA42)","v":""},{"$f":"IF('Блок 1'!BB42=\"\",\"\",'Блок 1'!BB42)","v":""},{"$f":"IF('Блок 1'!BC42=\"\",\"\",'Блок 1'!BC42)","v":""},{"$f":"IF('Блок 1'!BD42=\"\",\"\",'Блок 1'!BD42)","v":""},{"$f":"IF('Блок 1'!BE42=\"\",\"\",'Блок 1'!BE42)","v":""},{"$f":"IF('Блок 1'!BF42=\"\",\"\",'Блок 1'!BF42)","v":""},{"$f":"IF('Блок 1'!BG42=\"\",\"\",'Блок 1'!BG42)","v":""},{"$f":"IF('Блок 1'!BH42=\"\",\"\",'Блок 1'!BH42)","v":""}]
[null,{"$f":"IF('Блок 1'!B43=\"\",\"\",'Блок 1'!B43)","v":""},{"$f":"IF('Блок 1'!C43=\"\",\"\",'Блок 1'!C43)","v":""},{"$f":"IF('Блок 1'!D43=\"\",\"\",'Блок 1'!D43)","v":""},{"$f":"IF('Блок 1'!E43=\"\",\"\",'Блок 1'!E43)","v":""},{"$f":"IF('Блок 1'!F43=\"\",\"\",'Блок 1'!F43)","v":""},{"$f":"IF('Блок 1'!G43=\"\",\"\",'Блок 1'!G43)","v":""},{"$f":"IF('Блок 1'!H43=\"\",\"\",'Блок 1'!H43)","v":""},{"$f":"IF('Блок 1'!I43=\"\",\"\",'Блок 1'!I43)","v":""},{"$f":"IF('Блок 1'!J43=\"\",\"\",'Блок 1'!J43)","v":""},{"$f":"IF('Блок 1'!K43=\"\",\"\",'Блок 1'!K43)","v":""},{"$f":"IF('Блок 1'!L43=\"\",\"\",'Блок 1'!L43)","v":""},{"$f":"IF('Блок 1'!M43=\"\",\"\",'Блок 1'!M43)","v":""},{"$f":"IF('Блок 1'!N43=\"\",\"\",'Блок 1'!N43)","v":""},{"$f":"IF('Блок 1'!O43=\"\",\"\",'Блок 1'!O43)","v":""},{"$f":"IF('Блок 1'!P43=\"\",\"\",'Блок 1'!P43)","v":""},{"$f":"IF('Блок 1'!Q43=\"\",\"\",'Блок 1'!Q43)","v":""},{"$f":"IF('Блок 1'!R43=\"\",\"\",'Блок 1'!R43)","v":""},{"$f":"IF('Блок 1'!S43=\"\",\"\",'Блок 1'!S43)","v":""},{"$f":"IF('Блок 1'!T43=\"\",\"\",'Блок 1'!T43)","v":""},{"$f":"IF('Блок 1'!U43=\"\",\"\",'Блок 1'!U43)","v":""},{"$f":"IF('Блок 1'!V43=\"\",\"\",'Блок 1'!V43)","v":""},{"$f":"IF('Блок 1'!W43=\"\",\"\",'Блок 1'!W43)","v":""},{"$f":"IF('Блок 1'!X43=\"\",\"\",'Блок 1'!X43)","v":""},{"$f":"IF('Блок 1'!Y43=\"\",\"\",'Блок 1'!Y43)","v":""},{"$f":"IF('Блок 1'!Z43=\"\",\"\",'Блок 1'!Z43)","v":""},{"$f":"IF('Блок 1'!AA43=\"\",\"\",'Блок 1'!AA43)","v":""},{"$f":"IF('Блок 1'!AB43=\"\",\"\",'Блок 1'!AB43)","v":""},{"$f":"IF('Блок 1'!AC43=\"\",\"\",'Блок 1'!AC43)","v":""},{"$f":"IF('Блок 1'!AD43=\"\",\"\",'Блок 1'!AD43)","v":""},{"$f":"IF('Блок 1'!AE43=\"\",\"\",'Блок 1'!AE43)","v":""},{"$f":"IF('Блок 1'!AF43=\"\",\"\",'Блок 1'!AF43)","v":""},{"$f":"IF('Блок 1'!AG43=\"\",\"\",'Блок 1'!AG43)","v":""},{"$f":"IF('Блок 1'!AH43=\"\",\"\",'Блок 1'!AH43)","v":""},{"$f":"IF('Блок 1'!AI43=\"\",\"\",'Блок 1'!AI43)","v":""},{"$f":"IF('Блок 1'!AJ43=\"\",\"\",'Блок 1'!AJ43)","v":""},{"$f":"IF('Блок 1'!AK43=\"\",\"\",'Блок 1'!AK43)","v":""},{"$f":"IF('Блок 1'!AL43=\"\",\"\",'Блок 1'!AL43)","v":""},{"$f":"IF('Блок 1'!AM43=\"\",\"\",'Блок 1'!AM43)","v":""},{"$f":"IF('Блок 1'!AN43=\"\",\"\",'Блок 1'!AN43)","v":""},{"$f":"IF('Блок 1'!AO43=\"\",\"\",'Блок 1'!AO43)","v":""},{"$f":"IF('Блок 1'!AP43=\"\",\"\",'Блок 1'!AP43)","v":""},{"$f":"IF('Блок 1'!AQ43=\"\",\"\",'Блок 1'!AQ43)","v":""},{"$f":"IF('Блок 1'!AR43=\"\",\"\",'Блок 1'!AR43)","v":""},{"$f":"IF('Блок 1'!AS43=\"\",\"\",'Блок 1'!AS43)","v":""},{"$f":"IF('Блок 1'!AT43=\"\",\"\",'Блок 1'!AT43)","v":""},{"$f":"IF('Блок 1'!AU43=\"\",\"\",'Блок 1'!AU43)","v":""},{"$f":"IF('Блок 1'!AV43=\"\",\"\",'Блок 1'!AV43)","v":""},{"$f":"IF('Блок 1'!AW43=\"\",\"\",'Блок 1'!AW43)","v":""},{"$f":"IF('Блок 1'!AX43=\"\",\"\",'Блок 1'!AX43)","v":""},{"$f":"IF('Блок 1'!AY43=\"\",\"\",'Блок 1'!AY43)","v":""},{"$f":"IF('Блок 1'!AZ43=\"\",\"\",'Блок 1'!AZ43)","v":""},{"$f":"IF('Блок 1'!BA43=\"\",\"\",'Блок 1'!BA43)","v":""},{"$f":"IF('Блок 1'!BB43=\"\",\"\",'Блок 1'!BB43)","v":""},{"$f":"IF('Блок 1'!BC43=\"\",\"\",'Блок 1'!BC43)","v":""},{"$f":"IF('Блок 1'!BD43=\"\",\"\",'Блок 1'!BD43)","v":""},{"$f":"IF('Блок 1'!BE43=\"\",\"\",'Блок 1'!BE43)","v":""},{"$f":"IF('Блок 1'!BF43=\"\",\"\",'Блок 1'!BF43)","v":""},{"$f":"IF('Блок 1'!BG43=\"\",\"\",'Блок 1'!BG43)","v":""},{"$f":"IF('Блок 1'!BH43=\"\",\"\",'Блок 1'!BH43)","v":""}]
[null,{"$f":"IF('Блок 1'!B44=\"\",\"\",'Блок 1'!B44)","v":""},{"$f":"IF('Блок 1'!C44=\"\",\"\",'Блок 1'!C44)","v":""},{"$f":"IF('Блок 1'!D44=\"\",\"\",'Блок 1'!D44)","v":""},{"$f":"IF('Блок 1'!E44=\"\",\"\",'Блок 1'!E44)","v":""},{"$f":"IF('Блок 1'!F44=\"\",\"\",'Блок 1'!F44)","v":""},{"$f":"IF('Блок 1'!G44=\"\",\"\",'Блок 1'!G44)","v":""},{"$f":"IF('Блок 1'!H44=\"\",\"\",'Блок 1'!H44)","v":""},{"$f":"IF('Блок 1'!I44=\"\",\"\",'Блок 1'!I44)","v":""},{"$f":"IF('Блок 1'!J44=\"\",\"\",'Блок 1'!J44)","v":""},{"$f":"IF('Блок 1'!K44=\"\",\"\",'Блок 1'!K44)","v":""},{"$f":"IF('Блок 1'!L44=\"\",\"\",'Блок 1'!L44)","v":""},{"$f":"IF('Блок 1'!M44=\"\",\"\",'Блок 1'!M44)","v":""},{"$f":"IF('Блок 1'!N44=\"\",\"\",'Блок 1'!N44)","v":""},{"$f":"IF('Блок 1'!O44=\"\",\"\",'Блок 1'!O44)","v":""},{"$f":"IF('Блок 1'!P44=\"\",\"\",'Блок 1'!P44)","v":""},{"$f":"IF('Блок 1'!Q44=\"\",\"\",'Блок 1'!Q44)","v":""},{"$f":"IF('Блок 1'!R44=\"\",\"\",'Блок 1'!R44)","v":""},{"$f":"IF('Блок 1'!S44=\"\",\"\",'Блок 1'!S44)","v":""},{"$f":"IF('Блок 1'!T44=\"\",\"\",'Блок 1'!T44)","v":""},{"$f":"IF('Блок 1'!U44=\"\",\"\",'Блок 1'!U44)","v":""},{"$f":"IF('Блок 1'!V44=\"\",\"\",'Блок 1'!V44)","v":""},{"$f":"IF('Блок 1'!W44=\"\",\"\",'Блок 1'!W44)","v":""},{"$f":"IF('Блок 1'!X44=\"\",\"\",'Блок 1'!X44)","v":""},{"$f":"IF('Блок 1'!Y44=\"\",\"\",'Блок 1'!Y44)","v":""},{"$f":"IF('Блок 1'!Z44=\"\",\"\",'Блок 1'!Z44)","v":""},{"$f":"IF('Блок 1'!AA44=\"\",\"\",'Блок 1'!AA44)","v":""},{"$f":"IF('Блок 1'!AB44=\"\",\"\",'Блок 1'!AB44)","v":""},{"$f":"IF('Блок 1'!AC44=\"\",\"\",'Блок 1'!AC44)","v":""},{"$f":"IF('Блок 1'!AD44=\"\",\"\",'Блок 1'!AD44)","v":""},{"$f":"IF('Блок 1'!AE44=\"\",\"\",'Блок 1'!AE44)","v":""},{"$f":"IF('Блок 1'!AF44=\"\",\"\",'Блок 1'!AF44)","v":""},{"$f":"IF('Блок 1'!AG44=\"\",\"\",'Блок 1'!AG44)","v":""},{"$f":"IF('Блок 1'!AH44=\"\",\"\",'Блок 1'!AH44)","v":""},{"$f":"IF('Блок 1'!AI44=\"\",\"\",'Блок 1'!AI44)","v":""},{"$f":"IF('Блок 1'!AJ44=\"\",\"\",'Блок 1'!AJ44)","v":""},{"$f":"IF('Блок 1'!AK44=\"\",\"\",'Блок 1'!AK44)","v":""},{"$f":"IF('Блок 1'!AL44=\"\",\"\",'Блок 1'!AL44)","v":""},{"$f":"IF('Блок 1'!AM44=\"\",\"\",'Блок 1'!AM44)","v":""},{"$f":"IF('Блок 1'!AN44=\"\",\"\",'Блок 1'!AN44)","v":""},{"$f":"IF('Блок 1'!AO44=\"\",\"\",'Блок 1'!AO44)","v":""},{"$f":"IF('Блок 1'!AP44=\"\",\"\",'Блок 1'!AP44)","v":""},{"$f":"IF('Блок 1'!AQ44=\"\",\"\",'Блок 1'!AQ44)","v":""},{"$f":"IF('Блок 1'!AR44=\"\",\"\",'Блок 1'!AR44)","v":""},{"$f":"IF('Блок 1'!AS44=\"\",\"\",'Блок 1'!AS44)","v":""},{"$f":"IF('Блок 1'!AT44=\"\",\"\",'Блок 1'!AT44)","v":""},{"$f":"IF('Блок 1'!AU44=\"\",\"\",'Блок 1'!AU44)","v":""},{"$f":"IF('Блок 1'!AV44=\"\",\"\",'Блок 1'!AV44)","v":""},{"$f":"IF('Блок 1'!AW44=\"\",\"\",'Блок 1'!AW44)","v":""},{"$f":"IF('Блок 1'!AX44=\"\",\"\",'Блок 1'!AX44)","v":""},{"$f":"IF('Блок 1'!AY44=\"\",\"\",'Блок 1'!AY44)","v":""},{"$f":"IF('Блок 1'!AZ44=\"\",\"\",'Блок 1'!AZ44)","v":""},{"$f":"IF('Блок 1'!BA44=\"\",\"\",'Блок 1'!BA44)","v":""},{"$f":"IF('Блок 1'!BB44=\"\",\"\",'Блок 1'!BB44)","v":""},{"$f":"IF('Блок 1'!BC44=\"\",\"\",'Блок 1'!BC44)","v":""},{"$f":"IF('Блок 1'!BD44=\"\",\"\",'Блок 1'!BD44)","v":""},{"$f":"IF('Блок 1'!BE44=\"\",\"\",'Блок 1'!BE44)","v":""},{"$f":"IF('Блок 1'!BF44=\"\",\"\",'Блок 1'!BF44)","v":""},{"$f":"IF('Блок 1'!BG44=\"\",\"\",'Блок 1'!BG44)","v":""},{"$f":"IF('Блок 1'!BH44=\"\",\"\",'Блок 1'!BH44)","v":""}]
[null,{"$f":"IF('Блок 1'!B45=\"\",\"\",'Блок 1'!B45)","v":""},{"$f":"IF('Блок 1'!C45=\"\",\"\",'Блок 1'!C45)","v":""},{"$f":"IF('Блок 1'!D45=\"\",\"\",'Блок 1'!D45)","v":""},{"$f":"IF('Блок 1'!E45=\"\",\"\",'Блок 1'!E45)","v":""},{"$f":"IF('Блок 1'!F45=\"\",\"\",'Блок 1'!F45)","v":""},{"$f":"IF('Блок 1'!G45=\"\",\"\",'Блок 1'!G45)","v":""},{"$f":"IF('Блок 1'!H45=\"\",\"\",'Блок 1'!H45)","v":""},{"$f":"IF('Блок 1'!I45=\"\",\"\",'Блок 1'!I45)","v":""},{"$f":"IF('Блок 1'!J45=\"\",\"\",'Блок 1'!J45)","v":""},{"$f":"IF('Блок 1'!K45=\"\",\"\",'Блок 1'!K45)","v":""},{"$f":"IF('Блок 1'!L45=\"\",\"\",'Блок 1'!L45)","v":""},{"$f":"IF('Блок 1'!M45=\"\",\"\",'Блок 1'!M45)","v":""},{"$f":"IF('Блок 1'!N45=\"\",\"\",'Блок 1'!N45)","v":""},{"$f":"IF('Блок 1'!O45=\"\",\"\",'Блок 1'!O45)","v":""},{"$f":"IF('Блок 1'!P45=\"\",\"\",'Блок 1'!P45)","v":""},{"$f":"IF('Блок 1'!Q45=\"\",\"\",'Блок 1'!Q45)","v":""},{"$f":"IF('Блок 1'!R45=\"\",\"\",'Блок 1'!R45)","v":""},{"$f":"IF('Блок 1'!S45=\"\",\"\",'Блок 1'!S45)","v":""},{"$f":"IF('Блок 1'!T45=\"\",\"\",'Блок 1'!T45)","v":""},{"$f":"IF('Блок 1'!U45=\"\",\"\",'Блок 1'!U45)","v":""},{"$f":"IF('Блок 1'!V45=\"\",\"\",'Блок 1'!V45)","v":""},{"$f":"IF('Блок 1'!W45=\"\",\"\",'Блок 1'!W45)","v":""},{"$f":"IF('Блок 1'!X45=\"\",\"\",'Блок 1'!X45)","v":""},{"$f":"IF('Блок 1'!Y45=\"\",\"\",'Блок 1'!Y45)","v":""},{"$f":"IF('Блок 1'!Z45=\"\",\"\",'Блок 1'!Z45)","v":""},{"$f":"IF('Блок 1'!AA45=\"\",\"\",'Блок 1'!AA45)","v":""},{"$f":"IF('Блок 1'!AB45=\"\",\"\",'Блок 1'!AB45)","v":""},{"$f":"IF('Блок 1'!AC45=\"\",\"\",'Блок 1'!AC45)","v":""},{"$f":"IF('Блок 1'!AD45=\"\",\"\",'Блок 1'!AD45)","v":""},{"$f":"IF('Блок 1'!AE45=\"\",\"\",'Блок 1'!AE45)","v":""},{"$f":"IF('Блок 1'!AF45=\"\",\"\",'Блок 1'!AF45)","v":""},{"$f":"IF('Блок 1'!AG45=\"\",\"\",'Блок 1'!AG45)","v":""},{"$f":"IF('Блок 1'!AH45=\"\",\"\",'Блок 1'!AH45)","v":""},{"$f":"IF('Блок 1'!AI45=\"\",\"\",'Блок 1'!AI45)","v":""},{"$f":"IF('Блок 1'!AJ45=\"\",\"\",'Блок 1'!AJ45)","v":""},{"$f":"IF('Блок 1'!AK45=\"\",\"\",'Блок 1'!AK45)","v":""},{"$f":"IF('Блок 1'!AL45=\"\",\"\",'Блок 1'!AL45)","v":""},{"$f":"IF('Блок 1'!AM45=\"\",\"\",'Блок 1'!AM45)","v":""},{"$f":"IF('Блок 1'!AN45=\"\",\"\",'Блок 1'!AN45)","v":""},{"$f":"IF('Блок 1'!AO45=\"\",\"\",'Блок 1'!AO45)","v":""},{"$f":"IF('Блок 1'!AP45=\"\",\"\",'Блок 1'!AP45)","v":""},{"$f":"IF('Блок 1'!AQ45=\"\",\"\",'Блок 1'!AQ45)","v":""},{"$f":"IF('Блок 1'!AR45=\"\",\"\",'Блок 1'!AR45)","v":""},{"$f":"IF('Блок 1'!AS45=\"\",\"\",'Блок 1'!AS45)","v":""},{"$f":"IF('Блок 1'!AT45=\"\",\"\",'Блок 1'!AT45)","v":""},{"$f":"IF('Блок 1'!AU45=\"\",\"\",'Блок 1'!AU45)","v":""},{"$f":"IF('Блок 1'!AV45=\"\",\"\",'Блок 1'!AV45)","v":""},{"$f":"IF('Блок 1'!AW45=\"\",\"\",'Блок 1'!AW45)","v":""},{"$f":"IF('Блок 1'!AX45=\"\",\"\",'Блок 1'!AX45)","v":""},{"$f":"IF('Блок 1'!AY45=\"\",\"\",'Блок 1'!AY45)","v":""},{"$f":"IF('Блок 1'!AZ45=\"\",\"\",'Блок 1'!AZ45)","v":""},{"$f":"IF('Блок 1'!BA45=\"\",\"\",'Блок 1'!BA45)","v":""},{"$f":"IF('Блок 1'!BB45=\"\",\"\",'Блок 1'!BB45)","v":""},{"$f":"IF('Блок 1'!BC45=\"\",\"\",'Блок 1'!BC45)","v":""},{"$f":"IF('Блок 1'!BD45=\"\",\"\",'Блок 1'!BD45)","v":""},{"$f":"IF('Блок 1'!BE45=\"\",\"\",'Блок 1'!BE45)","v":""},{"$f":"IF('Блок 1'!BF45=\"\",\"\",'Блок 1'!BF45)","v":""},{"$f":"IF('Блок 1'!BG45=\"\",\"\",'Блок 1'!BG45)","v":""},{"$f":"IF('Блок 1'!BH45=\"\",\"\",'Блок 1'!BH45)","v":""}]
[null,{"$f":"IF('Блок 1'!B46=\"\",\"\",'Блок 1'!B46)","v":""},{"$f":"IF('Блок 1'!C46=\"\",\"\",'Блок 1'!C46)","v":""},{"$f":"IF('Блок 1'!D46=\"\",\"\",'Блок 1'!D46)","v":""},{"$f":"IF('Блок 1'!E46=\"\",\"\",'Блок 1'!E46)","v":""},{"$f":"IF('Блок 1'!F46=\"\",\"\",'Блок 1'!F46)","v":""},{"$f":"IF('Блок 1'!G46=\"\",\"\",'Блок 1'!G46)","v":""},{"$f":"IF('Блок 1'!H46=\"\",\"\",'Блок 1'!H46)","v":""},{"$f":"IF('Блок 1'!I46=\"\",\"\",'Блок 1'!I46)","v":""},{"$f":"IF('Блок 1'!J46=\"\",\"\",'Блок 1'!J46)","v":""},{"$f":"IF('Блок 1'!K46=\"\",\"\",'Блок 1'!K46)","v":""},{"$f":"IF('Блок 1'!L46=\"\",\"\",'Блок 1'!L46)","v":""},{"$f":"IF('Блок 1'!M46=\"\",\"\",'Блок 1'!M46)","v":""},{"$f":"IF('Блок 1'!N46=\"\",\"\",'Блок 1'!N46)","v":""},{"$f":"IF('Блок 1'!O46=\"\",\"\",'Блок 1'!O46)","v":""},{"$f":"IF('Блок 1'!P46=\"\",\"\",'Блок 1'!P46)","v":""},{"$f":"IF('Блок 1'!Q46=\"\",\"\",'Блок 1'!Q46)","v":""},{"$f":"IF('Блок 1'!R46=\"\",\"\",'Блок 1'!R46)","v":""},{"$f":"IF('Блок 1'!S46=\"\",\"\",'Блок 1'!S46)","v":""},{"$f":"IF('Блок 1'!T46=\"\",\"\",'Блок 1'!T46)","v":""},{"$f":"IF('Блок 1'!U46=\"\",\"\",'Блок 1'!U46)","v":""},{"$f":"IF('Блок 1'!V46=\"\",\"\",'Блок 1'!V46)","v":""},{"$f":"IF('Блок 1'!W46=\"\",\"\",'Блок 1'!W46)","v":""},{"$f":"IF('Блок 1'!X46=\"\",\"\",'Блок 1'!X46)","v":""},{"$f":"IF('Блок 1'!Y46=\"\",\"\",'Блок 1'!Y46)","v":""},{"$f":"IF('Блок 1'!Z46=\"\",\"\",'Блок 1'!Z46)","v":""},{"$f":"IF('Блок 1'!AA46=\"\",\"\",'Блок 1'!AA46)","v":""},{"$f":"IF('Блок 1'!AB46=\"\",\"\",'Блок 1'!AB46)","v":""},{"$f":"IF('Блок 1'!AC46=\"\",\"\",'Блок 1'!AC46)","v":""},{"$f":"IF('Блок 1'!AD46=\"\",\"\",'Блок 1'!AD46)","v":""},{"$f":"IF('Блок 1'!AE46=\"\",\"\",'Блок 1'!AE46)","v":""},{"$f":"IF('Блок 1'!AF46=\"\",\"\",'Блок 1'!AF46)","v":""},{"$f":"IF('Блок 1'!AG46=\"\",\"\",'Блок 1'!AG46)","v":""},{"$f":"IF('Блок 1'!AH46=\"\",\"\",'Блок 1'!AH46)","v":""},{"$f":"IF('Блок 1'!AI46=\"\",\"\",'Блок 1'!AI46)","v":""},{"$f":"IF('Блок 1'!AJ46=\"\",\"\",'Блок 1'!AJ46)","v":""},{"$f":"IF('Блок 1'!AK46=\"\",\"\",'Блок 1'!AK46)","v":""},{"$f":"IF('Блок 1'!AL46=\"\",\"\",'Блок 1'!AL46)","v":""},{"$f":"IF('Блок 1'!AM46=\"\",\"\",'Блок 1'!AM46)","v":""},{"$f":"IF('Блок 1'!AN46=\"\",\"\",'Блок 1'!AN46)","v":""},{"$f":"IF('Блок 1'!AO46=\"\",\"\",'Блок 1'!AO46)","v":""},{"$f":"IF('Блок 1'!AP46=\"\",\"\",'Блок 1'!AP46)","v":""},{"$f":"IF('Блок 1'!AQ46=\"\",\"\",'Блок 1'!AQ46)","v":""},{"$f":"IF('Блок 1'!AR46=\"\",\"\",'Блок 1'!AR46)","v":""},{"$f":"IF('Блок 1'!AS46=\"\",\"\",'Блок 1'!AS46)","v":""},{"$f":"IF('Блок 1'!AT46=\"\",\"\",'Блок 1'!AT46)","v":""},{"$f":"IF('Блок 1'!AU46=\"\",\"\",'Блок 1'!AU46)","v":""},{"$f":"IF('Блок 1'!AV46=\"\",\"\",'Блок 1'!AV46)","v":""},{"$f":"IF('Блок 1'!AW46=\"\",\"\",'Блок 1'!AW46)","v":""},{"$f":"IF('Блок 1'!AX46=\"\",\"\",'Блок 1'!AX46)","v":""},{"$f":"IF('Блок 1'!AY46=\"\",\"\",'Блок 1'!AY46)","v":""},{"$f":"IF('Блок 1'!AZ46=\"\",\"\",'Блок 1'!AZ46)","v":""},{"$f":"IF('Блок 1'!BA46=\"\",\"\",'Блок 1'!BA46)","v":""},{"$f":"IF('Блок 1'!BB46=\"\",\"\",'Блок 1'!BB46)","v":""},{"$f":"IF('Блок 1'!BC46=\"\",\"\",'Блок 1'!BC46)","v":""},{"$f":"IF('Блок 1'!BD46=\"\",\"\",'Блок 1'!BD46)","v":""},{"$f":"IF('Блок 1'!BE46=\"\",\"\",'Блок 1'!BE46)","v":""},{"$f":"IF('Блок 1'!BF46=\"\",\"\",'Блок 1'!BF46)","v":""},{"$f":"IF('Блок 1'!BG46=\"\",\"\",'Блок 1'!BG46)","v":""},{"$f":"IF('Блок 1'!BH46=\"\",\"\",'Блок 1'!BH46)","v":""}]
[null,{"$f":"IF('Блок 1'!B47=\"\",\"\",'Блок 1'!B47)","v":""},{"$f":"IF('Блок 1'!C47=\"\",\"\",'Блок 1'!C47)","v":""},{"$f":"IF('Блок 1'!D47=\"\",\"\",'Блок 1'!D47)","v":""},{"$f":"IF('Блок 1'!E47=\"\",\"\",'Блок 1'!E47)","v":""},{"$f":"IF('Блок 1'!F47=\"\",\"\",'Блок 1'!F47)","v":""},{"$f":"IF('Блок 1'!G47=\"\",\"\",'Блок 1'!G47)","v":""},{"$f":"IF('Блок 1'!H47=\"\",\"\",'Блок 1'!H47)","v":""},{"$f":"IF('Блок 1'!I47=\"\",\"\",'Блок 1'!I47)","v":""},{"$f":"IF('Блок 1'!J47=\"\",\"\",'Блок 1'!J47)","v":""},{"$f":"IF('Блок 1'!K47=\"\",\"\",'Блок 1'!K47)","v":""},{"$f":"IF('Блок 1'!L47=\"\",\"\",'Блок 1'!L47)","v":""},{"$f":"IF('Блок 1'!M47=\"\",\"\",'Блок 1'!M47)","v":""},{"$f":"IF('Блок 1'!N47=\"\",\"\",'Блок 1'!N47)","v":""},{"$f":"IF('Блок 1'!O47=\"\",\"\",'Блок 1'!O47)","v":""},{"$f":"IF('Блок 1'!P47=\"\",\"\",'Блок 1'!P47)","v":""},{"$f":"IF('Блок 1'!Q47=\"\",\"\",'Блок 1'!Q47)","v":""},{"$f":"IF('Блок 1'!R47=\"\",\"\",'Блок 1'!R47)","v":""},{"$f":"IF('Блок 1'!S47=\"\",\"\",'Блок 1'!S47)","v":""},{"$f":"IF('Блок 1'!T47=\"\",\"\",'Блок 1'!T47)","v":""},{"$f":"IF('Блок 1'!U47=\"\",\"\",'Блок 1'!U47)","v":""},{"$f":"IF('Блок 1'!V47=\"\",\"\",'Блок 1'!V47)","v":""},{"$f":"IF('Блок 1'!W47=\"\",\"\",'Блок 1'!W47)","v":""},{"$f":"IF('Блок 1'!X47=\"\",\"\",'Блок 1'!X47)","v":""},{"$f":"IF('Блок 1'!Y47=\"\",\"\",'Блок 1'!Y47)","v":""},{"$f":"IF('Блок 1'!Z47=\"\",\"\",'Блок 1'!Z47)","v":""},{"$f":"IF('Блок 1'!AA47=\"\",\"\",'Блок 1'!AA47)","v":""},{"$f":"IF('Блок 1'!AB47=\"\",\"\",'Блок 1'!AB47)","v":""},{"$f":"IF('Блок 1'!AC47=\"\",\"\",'Блок 1'!AC47)","v":""},{"$f":"IF('Блок 1'!AD47=\"\",\"\",'Блок 1'!AD47)","v":""},{"$f":"IF('Блок 1'!AE47=\"\",\"\",'Блок 1'!AE47)","v":""},{"$f":"IF('Блок 1'!AF47=\"\",\"\",'Блок 1'!AF47)","v":""},{"$f":"IF('Блок 1'!AG47=\"\",\"\",'Блок 1'!AG47)","v":""},{"$f":"IF('Блок 1'!AH47=\"\",\"\",'Блок 1'!AH47)","v":""},{"$f":"IF('Блок 1'!AI47=\"\",\"\",'Блок 1'!AI47)","v":""},{"$f":"IF('Блок 1'!AJ47=\"\",\"\",'Блок 1'!AJ47)","v":""},{"$f":"IF('Блок 1'!AK47=\"\",\"\",'Блок 1'!AK47)","v":""},{"$f":"IF('Блок 1'!AL47=\"\",\"\",'Блок 1'!AL47)","v":""},{"$f":"IF('Блок 1'!AM47=\"\",\"\",'Блок 1'!AM47)","v":""},{"$f":"IF('Блок 1'!AN47=\"\",\"\",'Блок 1'!AN47)","v":""},{"$f":"IF('Блок 1'!AO47=\"\",\"\",'Блок 1'!AO47)","v":""},{"$f":"IF('Блок 1'!AP47=\"\",\"\",'Блок 1'!AP47)","v":""},{"$f":"IF('Блок 1'!AQ47=\"\",\"\",'Блок 1'!AQ47)","v":""},{"$f":"IF('Блок 1'!AR47=\"\",\"\",'Блок 1'!AR47)","v":""},{"$f":"IF('Блок 1'!AS47=\"\",\"\",'Блок 1'!AS47)","v":""},{"$f":"IF('Блок 1'!AT47=\"\",\"\",'Блок 1'!AT47)","v":""},{"$f":"IF('Блок 1'!AU47=\"\",\"\",'Блок 1'!AU47)","v":""},{"$f":"IF('Блок 1'!AV47=\"\",\"\",'Блок 1'!AV47)","v":""},{"$f":"IF('Блок 1'!AW47=\"\",\"\",'Блок 1'!AW47)","v":""},{"$f":"IF('Блок 1'!AX47=\"\",\"\",'Блок 1'!AX47)","v":""},{"$f":"IF('Блок 1'!AY47=\"\",\"\",'Блок 1'!AY47)","v":""},{"$f":"IF('Блок 1'!AZ47=\"\",\"\",'Блок 1'!AZ47)","v":""},{"$f":"IF('Блок 1'!BA47=\"\",\"\",'Блок 1'!BA47)","v":""},{"$f":"IF('Блок 1'!BB47=\"\",\"\",'Блок 1'!BB47)","v":""},{"$f":"IF('Блок 1'!BC47=\"\",\"\",'Блок 1'!BC47)","v":""},{"$f":"IF('Блок 1'!BD47=\"\",\"\",'Блок 1'!BD47)","v":""},{"$f":"IF('Блок 1'!BE47=\"\",\"\",'Блок 1'!BE47)","v":""},{"$f":"IF('Блок 1'!BF47=\"\",\"\",'Блок 1'!BF47)","v":""},{"$f":"IF('Блок 1'!BG47=\"\",\"\",'Блок 1'!BG47)","v":""},{"$f":"IF('Блок 1'!BH47=\"\",\"\",'Блок 1'!BH47)","v":""}]
[null,{"$f":"IF('Блок 1'!B48=\"\",\"\",'Блок 1'!B48)","v":""},{"$f":"IF('Блок 1'!C48=\"\",\"\",'Блок 1'!C48)","v":""},{"$f":"IF('Блок 1'!D48=\"\",\"\",'Блок 1'!D48)","v":""},{"$f":"IF('Блок 1'!E48=\"\",\"\",'Блок 1'!E48)","v":""},{"$f":"IF('Блок 1'!F48=\"\",\"\",'Блок 1'!F48)","v":""},{"$f":"IF('Блок 1'!G48=\"\",\"\",'Блок 1'!G48)","v":""},{"$f":"IF('Блок 1'!H48=\"\",\"\",'Блок 1'!H48)","v":""},{"$f":"IF('Блок 1'!I48=\"\",\"\",'Блок 1'!I48)","v":""},{"$f":"IF('Блок 1'!J48=\"\",\"\",'Блок 1'!J48)","v":""},{"$f":"IF('Блок 1'!K48=\"\",\"\",'Блок 1'!K48)","v":""},{"$f":"IF('Блок 1'!L48=\"\",\"\",'Блок 1'!L48)","v":""},{"$f":"IF('Блок 1'!M48=\"\",\"\",'Блок 1'!M48)","v":""},{"$f":"IF('Блок 1'!N48=\"\",\"\",'Блок 1'!N48)","v":""},{"$f":"IF('Блок 1'!O48=\"\",\"\",'Блок 1'!O48)","v":""},{"$f":"IF('Блок 1'!P48=\"\",\"\",'Блок 1'!P48)","v":""},{"$f":"IF('Блок 1'!Q48=\"\",\"\",'Блок 1'!Q48)","v":""},{"$f":"IF('Блок 1'!R48=\"\",\"\",'Блок 1'!R48)","v":""},{"$f":"IF('Блок 1'!S48=\"\",\"\",'Блок 1'!S48)","v":""},{"$f":"IF('Блок 1'!T48=\"\",\"\",'Блок 1'!T48)","v":""},{"$f":"IF('Блок 1'!U48=\"\",\"\",'Блок 1'!U48)","v":""},{"$f":"IF('Блок 1'!V48=\"\",\"\",'Блок 1'!V48)","v":""},{"$f":"IF('Блок 1'!W48=\"\",\"\",'Блок 1'!W48)","v":""},{"$f":"IF('Блок 1'!X48=\"\",\"\",'Блок 1'!X48)","v":""},{"$f":"IF('Блок 1'!Y48=\"\",\"\",'Блок 1'!Y48)","v":""},{"$f":"IF('Блок 1'!Z48=\"\",\"\",'Блок 1'!Z48)","v":""},{"$f":"IF('Блок 1'!AA48=\"\",\"\",'Блок 1'!AA48)","v":""},{"$f":"IF('Блок 1'!AB48=\"\",\"\",'Блок 1'!AB48)","v":""},{"$f":"IF('Блок 1'!AC48=\"\",\"\",'Блок 1'!AC48)","v":""},{"$f":"IF('Блок 1'!AD48=\"\",\"\",'Блок 1'!AD48)","v":""},{"$f":"IF('Блок 1'!AE48=\"\",\"\",'Блок 1'!AE48)","v":""},{"$f":"IF('Блок 1'!AF48=\"\",\"\",'Блок 1'!AF48)","v":""},{"$f":"IF('Блок 1'!AG48=\"\",\"\",'Блок 1'!AG48)","v":""},{"$f":"IF('Блок 1'!AH48=\"\",\"\",'Блок 1'!AH48)","v":""},{"$f":"IF('Блок 1'!AI48=\"\",\"\",'Блок 1'!AI48)","v":""},{"$f":"IF('Блок 1'!AJ48=\"\",\"\",'Блок 1'!AJ48)","v":""},{"$f":"IF('Блок 1'!AK48=\"\",\"\",'Блок 1'!AK48)","v":""},{"$f":"IF('Блок 1'!AL48=\"\",\"\",'Блок 1'!AL48)","v":""},{"$f":"IF('Блок 1'!AM48=\"\",\"\",'Блок 1'!AM48)","v":""},{"$f":"IF('Блок 1'!AN48=\"\",\"\",'Блок 1'!AN48)","v":""},{"$f":"IF('Блок 1'!AO48=\"\",\"\",'Блок 1'!AO48)","v":""},{"$f":"IF('Блок 1'!AP48=\"\",\"\",'Блок 1'!AP48)","v":""},{"$f":"IF('Блок 1'!AQ48=\"\",\"\",'Блок 1'!AQ48)","v":""},{"$f":"IF('Блок 1'!AR48=\"\",\"\",'Блок 1'!AR48)","v":""},{"$f":"IF('Блок 1'!AS48=\"\",\"\",'Блок 1'!AS48)","v":""},{"$f":"IF('Блок 1'!AT48=\"\",\"\",'Блок 1'!AT48)","v":""},{"$f":"IF('Блок 1'!AU48=\"\",\"\",'Блок 1'!AU48)","v":""},{"$f":"IF('Блок 1'!AV48=\"\",\"\",'Блок 1'!AV48)","v":""},{"$f":"IF('Блок 1'!AW48=\"\",\"\",'Блок 1'!AW48)","v":""},{"$f":"IF('Блок 1'!AX48=\"\",\"\",'Блок 1'!AX48)","v":""},{"$f":"IF('Блок 1'!AY48=\"\",\"\",'Блок 1'!AY48)","v":""},{"$f":"IF('Блок 1'!AZ48=\"\",\"\",'Блок 1'!AZ48)","v":""},{"$f":"IF('Блок 1'!BA48=\"\",\"\",'Блок 1'!BA48)","v":""},{"$f":"IF('Блок 1'!BB48=\"\",\"\",'Блок 1'!BB48)","v":""},{"$f":"IF('Блок 1'!BC48=\"\",\"\",'Блок 1'!BC48)","v":""},{"$f":"IF('Блок 1'!BD48=\"\",\"\",'Блок 1'!BD48)","v":""},{"$f":"IF('Блок 1'!BE48=\"\",\"\",'Блок 1'!BE48)","v":""},{"$f":"IF('Блок 1'!BF48=\"\",\"\",'Блок 1'!BF48)","v":""},{"$f":"IF('Блок 1'!BG48=\"\",\"\",'Блок 1'!BG48)","v":""},{"$f":"IF('Блок 1'!BH48=\"\",\"\",'Блок 1'!BH48)","v":""}]
[null,{"$f":"IF('Блок 1'!B49=\"\",\"\",'Блок 1'!B49)","v":""},{"$f":"IF('Блок 1'!C49=\"\",\"\",'Блок 1'!C49)","v":""},{"$f":"IF('Блок 1'!D49=\"\",\"\",'Блок 1'!D49)","v":""},{"$f":"IF('Блок 1'!E49=\"\",\"\",'Блок 1'!E49)","v":""},{"$f":"IF('Блок 1'!F49=\"\",\"\",'Блок 1'!F49)","v":""},{"$f":"IF('Блок 1'!G49=\"\",\"\",'Блок 1'!G49)","v":""},{"$f":"IF('Блок 1'!H49=\"\",\"\",'Блок 1'!H49)","v":""},{"$f":"IF('Блок 1'!I49=\"\",\"\",'Блок 1'!I49)","v":""},{"$f":"IF('Блок 1'!J49=\"\",\"\",'Блок 1'!J49)","v":""},{"$f":"IF('Блок 1'!K49=\"\",\"\",'Блок 1'!K49)","v":""},{"$f":"IF('Блок 1'!L49=\"\",\"\",'Блок 1'!L49)","v":""},{"$f":"IF('Блок 1'!M49=\"\",\"\",'Блок 1'!M49)","v":""},{"$f":"IF('Блок 1'!N49=\"\",\"\",'Блок 1'!N49)","v":""},{"$f":"IF('Блок 1'!O49=\"\",\"\",'Блок 1'!O49)","v":""},{"$f":"IF('Блок 1'!P49=\"\",\"\",'Блок 1'!P49)","v":""},{"$f":"IF('Блок 1'!Q49=\"\",\"\",'Блок 1'!Q49)","v":""},{"$f":"IF('Блок 1'!R49=\"\",\"\",'Блок 1'!R49)","v":""},{"$f":"IF('Блок 1'!S49=\"\",\"\",'Блок 1'!S49)","v":""},{"$f":"IF('Блок 1'!T49=\"\",\"\",'Блок 1'!T49)","v":""},{"$f":"IF('Блок 1'!U49=\"\",\"\",'Блок 1'!U49)","v":""},{"$f":"IF('Блок 1'!V49=\"\",\"\",'Блок 1'!V49)","v":""},{"$f":"IF('Блок 1'!W49=\"\",\"\",'Блок 1'!W49)","v":""},{"$f":"IF('Блок 1'!X49=\"\",\"\",'Блок 1'!X49)","v":""},{"$f":"IF('Блок 1'!Y49=\"\",\"\",'Блок 1'!Y49)","v":""},{"$f":"IF('Блок 1'!Z49=\"\",\"\",'Блок 1'!Z49)","v":""},{"$f":"IF('Блок 1'!AA49=\"\",\"\",'Блок 1'!AA49)","v":""},{"$f":"IF('Блок 1'!AB49=\"\",\"\",'Блок 1'!AB49)","v":""},{"$f":"IF('Блок 1'!AC49=\"\",\"\",'Блок 1'!AC49)","v":""},{"$f":"IF('Блок 1'!AD49=\"\",\"\",'Блок 1'!AD49)","v":""},{"$f":"IF('Блок 1'!AE49=\"\",\"\",'Блок 1'!AE49)","v":""},{"$f":"IF('Блок 1'!AF49=\"\",\"\",'Блок 1'!AF49)","v":""},{"$f":"IF('Блок 1'!AG49=\"\",\"\",'Блок 1'!AG49)","v":""},{"$f":"IF('Блок 1'!AH49=\"\",\"\",'Блок 1'!AH49)","v":""},{"$f":"IF('Блок 1'!AI49=\"\",\"\",'Блок 1'!AI49)","v":""},{"$f":"IF('Блок 1'!AJ49=\"\",\"\",'Блок 1'!AJ49)","v":""},{"$f":"IF('Блок 1'!AK49=\"\",\"\",'Блок 1'!AK49)","v":""},{"$f":"IF('Блок 1'!AL49=\"\",\"\",'Блок 1'!AL49)","v":""},{"$f":"IF('Блок 1'!AM49=\"\",\"\",'Блок 1'!AM49)","v":""},{"$f":"IF('Блок 1'!AN49=\"\",\"\",'Блок 1'!AN49)","v":""},{"$f":"IF('Блок 1'!AO49=\"\",\"\",'Блок 1'!AO49)","v":""},{"$f":"IF('Блок 1'!AP49=\"\",\"\",'Блок 1'!AP49)","v":""},{"$f":"IF('Блок 1'!AQ49=\"\",\"\",'Блок 1'!AQ49)","v":""},{"$f":"IF('Блок 1'!AR49=\"\",\"\",'Блок 1'!AR49)","v":""},{"$f":"IF('Блок 1'!AS49=\"\",\"\",'Блок 1'!AS49)","v":""},{"$f":"IF('Блок 1'!AT49=\"\",\"\",'Блок 1'!AT49)","v":""},{"$f":"IF('Блок 1'!AU49=\"\",\"\",'Блок 1'!AU49)","v":""},{"$f":"IF('Блок 1'!AV49=\"\",\"\",'Блок 1'!AV49)","v":""},{"$f":"IF('Блок 1'!AW49=\"\",\"\",'Блок 1'!AW49)","v":""},{"$f":"IF('Блок 1'!AX49=\"\",\"\",'Блок 1'!AX49)","v":""},{"$f":"IF('Блок 1'!AY49=\"\",\"\",'Блок 1'!AY49)","v":""},{"$f":"IF('Блок 1'!AZ49=\"\",\"\",'Блок 1'!AZ49)","v":""},{"$f":"IF('Блок 1'!BA49=\"\",\"\",'Блок 1'!BA49)","v":""},{"$f":"IF('Блок 1'!BB49=\"\",\"\",'Блок 1'!BB49)","v":""},{"$f":"IF('Блок 1'!BC49=\"\",\"\",'Блок 1'!BC49)","v":""},{"$f":"IF('Блок 1'!BD49=\"\",\"\",'Блок 1'!BD49)","v":""},{"$f":"IF('Блок 1'!BE49=\"\",\"\",'Блок 1'!BE49)","v":""},{"$f":"IF('Блок 1'!BF49=\"\",\"\",'Блок 1'!BF49)","v":""},{"$f":"IF('Блок 1'!BG49=\"\",\"\",'Блок 1'!BG49)","v":""},{"$f":"IF('Блок 1'!BH49=\"\",\"\",'Блок 1'!BH49)","v":""}]
[null,{"$f":"IF('Блок 1'!B50=\"\",\"\",'Блок 1'!B50)","v":""},{"$f":"IF('Блок 1'!C50=\"\",\"\",'Блок 1'!C50)","v":""},{"$f":"IF('Блок 1'!D50=\"\",\"\",'Блок 1'!D50)","v":""},{"$f":"IF('Блок 1'!E50=\"\",\"\",'Блок 1'!E50)","v":""},{"$f":"IF('Блок 1'!F50=\"\",\"\",'Блок 1'!F50)","v":""},{"$f":"IF('Блок 1'!G50=\"\",\"\",'Блок 1'!G50)","v":""},{"$f":"IF('Блок 1'!H50=\"\",\"\",'Блок 1'!H50)","v":""},{"$f":"IF('Блок 1'!I50=\"\",\"\",'Блок 1'!I50)","v":""},{"$f":"IF('Блок 1'!J50=\"\",\"\",'Блок 1'!J50)","v":""},{"$f":"IF('Блок 1'!K50=\"\",\"\",'Блок 1'!K50)","v":""},{"$f":"IF('Блок 1'!L50=\"\",\"\",'Блок 1'!L50)","v":""},{"$f":"IF('Блок 1'!M50=\"\",\"\",'Блок 1'!M50)","v":""},{"$f":"IF('Блок 1'!N50=\"\",\"\",'Блок 1'!N50)","v":""},{"$f":"IF('Блок 1'!O50=\"\",\"\",'Блок 1'!O50)","v":""},{"$f":"IF('Блок 1'!P50=\"\",\"\",'Блок 1'!P50)","v":""},{"$f":"IF('Блок 1'!Q50=\"\",\"\",'Блок 1'!Q50)","v":""},{"$f":"IF('Блок 1'!R50=\"\",\"\",'Блок 1'!R50)","v":""},{"$f":"IF('Блок 1'!S50=\"\",\"\",'Блок 1'!S50)","v":""},{"$f":"IF('Блок 1'!T50=\"\",\"\",'Блок 1'!T50)","v":""},{"$f":"IF('Блок 1'!U50=\"\",\"\",'Блок 1'!U50)","v":""},{"$f":"IF('Блок 1'!V50=\"\",\"\",'Блок 1'!V50)","v":""},{"$f":"IF('Блок 1'!W50=\"\",\"\",'Блок 1'!W50)","v":""},{"$f":"IF('Блок 1'!X50=\"\",\"\",'Блок 1'!X50)","v":""},{"$f":"IF('Блок 1'!Y50=\"\",\"\",'Блок 1'!Y50)","v":""},{"$f":"IF('Блок 1'!Z50=\"\",\"\",'Блок 1'!Z50)","v":""},{"$f":"IF('Блок 1'!AA50=\"\",\"\",'Блок 1'!AA50)","v":""},{"$f":"IF('Блок 1'!AB50=\"\",\"\",'Блок 1'!AB50)","v":""},{"$f":"IF('Блок 1'!AC50=\"\",\"\",'Блок 1'!AC50)","v":""},{"$f":"IF('Блок 1'!AD50=\"\",\"\",'Блок 1'!AD50)","v":""},{"$f":"IF('Блок 1'!AE50=\"\",\"\",'Блок 1'!AE50)","v":""},{"$f":"IF('Блок 1'!AF50=\"\",\"\",'Блок 1'!AF50)","v":""},{"$f":"IF('Блок 1'!AG50=\"\",\"\",'Блок 1'!AG50)","v":""},{"$f":"IF('Блок 1'!AH50=\"\",\"\",'Блок 1'!AH50)","v":""},{"$f":"IF('Блок 1'!AI50=\"\",\"\",'Блок 1'!AI50)","v":""},{"$f":"IF('Блок 1'!AJ50=\"\",\"\",'Блок 1'!AJ50)","v":""},{"$f":"IF('Блок 1'!AK50=\"\",\"\",'Блок 1'!AK50)","v":""},{"$f":"IF('Блок 1'!AL50=\"\",\"\",'Блок 1'!AL50)","v":""},{"$f":"IF('Блок 1'!AM50=\"\",\"\",'Блок 1'!AM50)","v":""},{"$f":"IF('Блок 1'!AN50=\"\",\"\",'Блок 1'!AN50)","v":""},{"$f":"IF('Блок 1'!AO50=\"\",\"\",'Блок 1'!AO50)","v":""},{"$f":"IF('Блок 1'!AP50=\"\",\"\",'Блок 1'!AP50)","v":""},{"$f":"IF('Блок 1'!AQ50=\"\",\"\",'Блок 1'!AQ50)","v":""},{"$f":"IF('Блок 1'!AR50=\"\",\"\",'Блок 1'!AR50)","v":""},{"$f":"IF('Блок 1'!AS50=\"\",\"\",'Блок 1'!AS50)","v":""},{"$f":"IF('Блок 1'!AT50=\"\",\"\",'Блок 1'!AT50)","v":""},{"$f":"IF('Блок 1'!AU50=\"\",\"\",'Блок 1'!AU50)","v":""},{"$f":"IF('Блок 1'!AV50=\"\",\"\",'Блок 1'!AV50)","v":""},{"$f":"IF('Блок 1'!AW50=\"\",\"\",'Блок 1'!AW50)","v":""},{"$f":"IF('Блок 1'!AX50=\"\",\"\",'Блок 1'!AX50)","v":""},{"$f":"IF('Блок 1'!AY50=\"\",\"\",'Блок 1'!AY50)","v":""},{"$f":"IF('Блок 1'!AZ50=\"\",\"\",'Блок 1'!AZ50)","v":""},{"$f":"IF('Блок 1'!BA50=\"\",\"\",'Блок 1'!BA50)","v":""},{"$f":"IF('Блок 1'!BB50=\"\",\"\",'Блок 1'!BB50)","v":""},{"$f":"IF('Блок 1'!BC50=\"\",\"\",'Блок 1'!BC50)","v":""},{"$f":"IF('Блок 1'!BD50=\"\",\"\",'Блок 1'!BD50)","v":""},{"$f":"IF('Блок 1'!BE50=\"\",\"\",'Блок 1'!BE50)","v":""},{"$f":"IF('Блок 1'!BF50=\"\",\"\",'Блок 1'!BF50)","v":""},{"$f":"IF('Блок 1'!BG50=\"\",\"\",'Блок 1'!BG50)","v":""},{"$f":"IF('Блок 1'!BH50=\"\",\"\",'Блок 1'!BH50)","v":""}]
[null,{"$f":"IF('Блок 1'!B51=\"\",\"\",'Блок 1'!B51)","v":""},{"$f":"IF('Блок 1'!C51=\"\",\"\",'Блок 1'!C51)","v":""},{"$f":"IF('Блок 1'!D51=\"\",\"\",'Блок 1'!D51)","v":""},{"$f":"IF('Блок 1'!E51=\"\",\"\",'Блок 1'!E51)","v":""},{"$f":"IF('Блок 1'!F51=\"\",\"\",'Блок 1'!F51)","v":""},{"$f":"IF('Блок 1'!G51=\"\",\"\",'Блок 1'!G51)","v":""},{"$f":"IF('Блок 1'!H51=\"\",\"\",'Блок 1'!H51)","v":""},{"$f":"IF('Блок 1'!I51=\"\",\"\",'Блок 1'!I51)","v":""},{"$f":"IF('Блок 1'!J51=\"\",\"\",'Блок 1'!J51)","v":""},{"$f":"IF('Блок 1'!K51=\"\",\"\",'Блок 1'!K51)","v":""},{"$f":"IF('Блок 1'!L51=\"\",\"\",'Блок 1'!L51)","v":""},{"$f":"IF('Блок 1'!M51=\"\",\"\",'Блок 1'!M51)","v":""},{"$f":"IF('Блок 1'!N51=\"\",\"\",'Блок 1'!N51)","v":""},{"$f":"IF('Блок 1'!O51=\"\",\"\",'Блок 1'!O51)","v":""},{"$f":"IF('Блок 1'!P51=\"\",\"\",'Блок 1'!P51)","v":""},{"$f":"IF('Блок 1'!Q51=\"\",\"\",'Блок 1'!Q51)","v":""},{"$f":"IF('Блок 1'!R51=\"\",\"\",'Блок 1'!R51)","v":""},{"$f":"IF('Блок 1'!S51=\"\",\"\",'Блок 1'!S51)","v":""},{"$f":"IF('Блок 1'!T51=\"\",\"\",'Блок 1'!T51)","v":""},{"$f":"IF('Блок 1'!U51=\"\",\"\",'Блок 1'!U51)","v":""},{"$f":"IF('Блок 1'!V51=\"\",\"\",'Блок 1'!V51)","v":""},{"$f":"IF('Блок 1'!W51=\"\",\"\",'Блок 1'!W51)","v":""},{"$f":"IF('Блок 1'!X51=\"\",\"\",'Блок 1'!X51)","v":""},{"$f":"IF('Блок 1'!Y51=\"\",\"\",'Блок 1'!Y51)","v":""},{"$f":"IF('Блок 1'!Z51=\"\",\"\",'Блок 1'!Z51)","v":""},{"$f":"IF('Блок 1'!AA51=\"\",\"\",'Блок 1'!AA51)","v":""},{"$f":"IF('Блок 1'!AB51=\"\",\"\",'Блок 1'!AB51)","v":""},{"$f":"IF('Блок 1'!AC51=\"\",\"\",'Блок 1'!AC51)","v":""},{"$f":"IF('Блок 1'!AD51=\"\",\"\",'Блок 1'!AD51)","v":""},{"$f":"IF('Блок 1'!AE51=\"\",\"\",'Блок 1'!AE51)","v":""},{"$f":"IF('Блок 1'!AF51=\"\",\"\",'Блок 1'!AF51)","v":""},{"$f":"IF('Блок 1'!AG51=\"\",\"\",'Блок 1'!AG51)","v":""},{"$f":"IF('Блок 1'!AH51=\"\",\"\",'Блок 1'!AH51)","v":""},{"$f":"IF('Блок 1'!AI51=\"\",\"\",'Блок 1'!AI51)","v":""},{"$f":"IF('Блок 1'!AJ51=\"\",\"\",'Блок 1'!AJ51)","v":""},{"$f":"IF('Блок 1'!AK51=\"\",\"\",'Блок 1'!AK51)","v":""},{"$f":"IF('Блок 1'!AL51=\"\",\"\",'Блок 1'!AL51)","v":""},{"$f":"IF('Блок 1'!AM51=\"\",\"\",'Блок 1'!AM51)","v":""},{"$f":"IF('Блок 1'!AN51=\"\",\"\",'Блок 1'!AN51)","v":""},{"$f":"IF('Блок 1'!AO51=\"\",\"\",'Блок 1'!AO51)","v":""},{"$f":"IF('Блок 1'!AP51=\"\",\"\",'Блок 1'!AP51)","v":""},{"$f":"IF('Блок 1'!AQ51=\"\",\"\",'Блок 1'!AQ51)","v":""},{"$f":"IF('Блок 1'!AR51=\"\",\"\",'Блок 1'!AR51)","v":""},{"$f":"IF('Блок 1'!AS51=\"\",\"\",'Блок 1'!AS51)","v":""},{"$f":"IF('Блок 1'!AT51=\"\",\"\",'Блок 1'!AT51)","v":""},{"$f":"IF('Блок 1'!AU51=\"\",\"\",'Блок 1'!AU51)","v":""},{"$f":"IF('Блок 1'!AV51=\"\",\"\",'Блок 1'!AV51)","v":""},{"$f":"IF('Блок 1'!AW51=\"\",\"\",'Блок 1'!AW51)","v":""},{"$f":"IF('Блок 1'!AX51=\"\",\"\",'Блок 1'!AX51)","v":""},{"$f":"IF('Блок 1'!AY51=\"\",\"\",'Блок 1'!AY51)","v":""},{"$f":"IF('Блок 1'!AZ51=\"\",\"\",'Блок 1'!AZ51)","v":""},{"$f":"IF('Блок 1'!BA51=\"\",\"\",'Блок 1'!BA51)","v":""},{"$f":"IF('Блок 1'!BB51=\"\",\"\",'Блок 1'!BB51)","v":""},{"$f":"IF('Блок 1'!BC51=\"\",\"\",'Блок 1'!BC51)","v":""},{"$f":"IF('Блок 1'!BD51=\"\",\"\",'Блок 1'!BD51)","v":""},{"$f":"IF('Блок 1'!BE51=\"\",\"\",'Блок 1'!BE51)","v":""},{"$f":"IF('Блок 1'!BF51=\"\",\"\",'Блок 1'!BF51)","v":""},{"$f":"IF('Блок 1'!BG51=\"\",\"\",'Блок 1'!BG51)","v":""},{"$f":"IF('Блок 1'!BH51=\"\",\"\",'Блок 1'!BH51)","v":""}]
[null,{"$f":"IF('Блок 1'!B52=\"\",\"\",'Блок 1'!B52)","v":""},{"$f":"IF('Блок 1'!C52=\"\",\"\",'Блок 1'!C52)","v":""},{"$f":"IF('Блок 1'!D52=\"\",\"\",'Блок 1'!D52)","v":""},{"$f":"IF('Блок 1'!E52=\"\",\"\",'Блок 1'!E52)","v":""},{"$f":"IF('Блок 1'!F52=\"\",\"\",'Блок 1'!F52)","v":""},{"$f":"IF('Блок 1'!G52=\"\",\"\",'Блок 1'!G52)","v":""},{"$f":"IF('Блок 1'!H52=\"\",\"\",'Блок 1'!H52)","v":""},{"$f":"IF('Блок 1'!I52=\"\",\"\",'Блок 1'!I52)","v":""},{"$f":"IF('Блок 1'!J52=\"\",\"\",'Блок 1'!J52)","v":""},{"$f":"IF('Блок 1'!K52=\"\",\"\",'Блок 1'!K52)","v":""},{"$f":"IF('Блок 1'!L52=\"\",\"\",'Блок 1'!L52)","v":""},{"$f":"IF('Блок 1'!M52=\"\",\"\",'Блок 1'!M52)","v":""},{"$f":"IF('Блок 1'!N52=\"\",\"\",'Блок 1'!N52)","v":""},{"$f":"IF('Блок 1'!O52=\"\",\"\",'Блок 1'!O52)","v":""},{"$f":"IF('Блок 1'!P52=\"\",\"\",'Блок 1'!P52)","v":""},{"$f":"IF('Блок 1'!Q52=\"\",\"\",'Блок 1'!Q52)","v":""},{"$f":"IF('Блок 1'!R52=\"\",\"\",'Блок 1'!R52)","v":""},{"$f":"IF('Блок 1'!S52=\"\",\"\",'Блок 1'!S52)","v":""},{"$f":"IF('Блок 1'!T52=\"\",\"\",'Блок 1'!T52)","v":""},{"$f":"IF('Блок 1'!U52=\"\",\"\",'Блок 1'!U52)","v":""},{"$f":"IF('Блок 1'!V52=\"\",\"\",'Блок 1'!V52)","v":""},{"$f":"IF('Блок 1'!W52=\"\",\"\",'Блок 1'!W52)","v":""},{"$f":"IF('Блок 1'!X52=\"\",\"\",'Блок 1'!X52)","v":""},{"$f":"IF('Блок 1'!Y52=\"\",\"\",'Блок 1'!Y52)","v":""},{"$f":"IF('Блок 1'!Z52=\"\",\"\",'Блок 1'!Z52)","v":""},{"$f":"IF('Блок 1'!AA52=\"\",\"\",'Блок 1'!AA52)","v":""},{"$f":"IF('Блок 1'!AB52=\"\",\"\",'Блок 1'!AB52)","v":""},{"$f":"IF('Блок 1'!AC52=\"\",\"\",'Блок 1'!AC52)","v":""},{"$f":"IF('Блок 1'!AD52=\"\",\"\",'Блок 1'!AD52)","v":""},{"$f":"IF('Блок 1'!AE52=\"\",\"\",'Блок 1'!AE52)","v":""},{"$f":"IF('Блок 1'!AF52=\"\",\"\",'Блок 1'!AF52)","v":""},{"$f":"IF('Блок 1'!AG52=\"\",\"\",'Блок 1'!AG52)","v":""},{"$f":"IF('Блок 1'!AH52=\"\",\"\",'Блок 1'!AH52)","v":""},{"$f":"IF('Блок 1'!AI52=\"\",\"\",'Блок 1'!AI52)","v":""},{"$f":"IF('Блок 1'!AJ52=\"\",\"\",'Блок 1'!AJ52)","v":""},{"$f":"IF('Блок 1'!AK52=\"\",\"\",'Блок 1'!AK52)","v":""},{"$f":"IF('Блок 1'!AL52=\"\",\"\",'Блок 1'!AL52)","v":""},{"$f":"IF('Блок 1'!AM52=\"\",\"\",'Блок 1'!AM52)","v":""},{"$f":"IF('Блок 1'!AN52=\"\",\"\",'Блок 1'!AN52)","v":""},{"$f":"IF('Блок 1'!AO52=\"\",\"\",'Блок 1'!AO52)","v":""},{"$f":"IF('Блок 1'!AP52=\"\",\"\",'Блок 1'!AP52)","v":""},{"$f":"IF('Блок 1'!AQ52=\"\",\"\",'Блок 1'!AQ52)","v":""},{"$f":"IF('Блок 1'!AR52=\"\",\"\",'Блок 1'!AR52)","v":""},{"$f":"IF('Блок 1'!AS52=\"\",\"\",'Блок 1'!AS52)","v":""},{"$f":"IF('Блок 1'!AT52=\"\",\"\",'Блок 1'!AT52)","v":""},{"$f":"IF('Блок 1'!AU52=\"\",\"\",'Блок 1'!AU52)","v":""},{"$f":"IF('Блок 1'!AV52=\"\",\"\",'Блок 1'!AV52)","v":""},{"$f":"IF('Блок 1'!AW52=\"\",\"\",'Блок 1'!AW52)","v":""},{"$f":"IF('Блок 1'!AX52=\"\",\"\",'Блок 1'!AX52)","v":""},{"$f":"IF('Блок 1'!AY52=\"\",\"\",'Блок 1'!AY52)","v":""},{"$f":"IF('Блок 1'!AZ52=\"\",\"\",'Блок 1'!AZ52)","v":""},{"$f":"IF('Блок 1'!BA52=\"\",\"\",'Блок 1'!BA52)","v":""},{"$f":"IF('Блок 1'!BB52=\"\",\"\",'Блок 1'!BB52)","v":""},{"$f":"IF('Блок 1'!BC52=\"\",\"\",'Блок 1'!BC52)","v":""},{"$f":"IF('Блок 1'!BD52=\"\",\"\",'Блок 1'!BD52)","v":""},{"$f":"IF('Блок 1'!BE52=\"\",\"\",'Блок 1'!BE52)","v":""},{"$f":"IF('Блок 1'!BF52=\"\",\"\",'Блок 1'!BF52)","v":""},{"$f":"IF('Блок 1'!BG52=\"\",\"\",'Блок 1'!BG52)","v":""},{"$f":"IF('Блок 1'!BH52=\"\",\"\",'Блок 1'!BH52)","v":""}]
[null,{"$f":"IF('Блок 1'!B53=\"\",\"\",'Блок 1'!B53)","v":""},{"$f":"IF('Блок 1'!C53=\"\",\"\",'Блок 1'!C53)","v":""},{"$f":"IF('Блок 1'!D53=\"\",\"\",'Блок 1'!D53)","v":""},{"$f":"IF('Блок 1'!E53=\"\",\"\",'Блок 1'!E53)","v":""},{"$f":"IF('Блок 1'!F53=\"\",\"\",'Блок 1'!F53)","v":""},{"$f":"IF('Блок 1'!G53=\"\",\"\",'Блок 1'!G53)","v":""},{"$f":"IF('Блок 1'!H53=\"\",\"\",'Блок 1'!H53)","v":""},{"$f":"IF('Блок 1'!I53=\"\",\"\",'Блок 1'!I53)","v":""},{"$f":"IF('Блок 1'!J53=\"\",\"\",'Блок 1'!J53)","v":""},{"$f":"IF('Блок 1'!K53=\"\",\"\",'Блок 1'!K53)","v":""},{"$f":"IF('Блок 1'!L53=\"\",\"\",'Блок 1'!L53)","v":""},{"$f":"IF('Блок 1'!M53=\"\",\"\",'Блок 1'!M53)","v":""},{"$f":"IF('Блок 1'!N53=\"\",\"\",'Блок 1'!N53)","v":""},{"$f":"IF('Блок 1'!O53=\"\",\"\",'Блок 1'!O53)","v":""},{"$f":"IF('Блок 1'!P53=\"\",\"\",'Блок 1'!P53)","v":""},{"$f":"IF('Блок 1'!Q53=\"\",\"\",'Блок 1'!Q53)","v":""},{"$f":"IF('Блок 1'!R53=\"\",\"\",'Блок 1'!R53)","v":""},{"$f":"IF('Блок 1'!S53=\"\",\"\",'Блок 1'!S53)","v":""},{"$f":"IF('Блок 1'!T53=\"\",\"\",'Блок 1'!T53)","v":""},{"$f":"IF('Блок 1'!U53=\"\",\"\",'Блок 1'!U53)","v":""},{"$f":"IF('Блок 1'!V53=\"\",\"\",'Блок 1'!V53)","v":""},{"$f":"IF('Блок 1'!W53=\"\",\"\",'Блок 1'!W53)","v":""},{"$f":"IF('Блок 1'!X53=\"\",\"\",'Блок 1'!X53)","v":""},{"$f":"IF('Блок 1'!Y53=\"\",\"\",'Блок 1'!Y53)","v":""},{"$f":"IF('Блок 1'!Z53=\"\",\"\",'Блок 1'!Z53)","v":""},{"$f":"IF('Блок 1'!AA53=\"\",\"\",'Блок 1'!AA53)","v":""},{"$f":"IF('Блок 1'!AB53=\"\",\"\",'Блок 1'!AB53)","v":""},{"$f":"IF('Блок 1'!AC53=\"\",\"\",'Блок 1'!AC53)","v":""},{"$f":"IF('Блок 1'!AD53=\"\",\"\",'Блок 1'!AD53)","v":""},{"$f":"IF('Блок 1'!AE53=\"\",\"\",'Блок 1'!AE53)","v":""},{"$f":"IF('Блок 1'!AF53=\"\",\"\",'Блок 1'!AF53)","v":""},{"$f":"IF('Блок 1'!AG53=\"\",\"\",'Блок 1'!AG53)","v":""},{"$f":"IF('Блок 1'!AH53=\"\",\"\",'Блок 1'!AH53)","v":""},{"$f":"IF('Блок 1'!AI53=\"\",\"\",'Блок 1'!AI53)","v":""},{"$f":"IF('Блок 1'!AJ53=\"\",\"\",'Блок 1'!AJ53)","v":""},{"$f":"IF('Блок 1'!AK53=\"\",\"\",'Блок 1'!AK53)","v":""},{"$f":"IF('Блок 1'!AL53=\"\",\"\",'Блок 1'!AL53)","v":""},{"$f":"IF('Блок 1'!AM53=\"\",\"\",'Блок 1'!AM53)","v":""},{"$f":"IF('Блок 1'!AN53=\"\",\"\",'Блок 1'!AN53)","v":""},{"$f":"IF('Блок 1'!AO53=\"\",\"\",'Блок 1'!AO53)","v":""},{"$f":"IF('Блок 1'!AP53=\"\",\"\",'Блок 1'!AP53)","v":""},{"$f":"IF('Блок 1'!AQ53=\"\",\"\",'Блок 1'!AQ53)","v":""},{"$f":"IF('Блок 1'!AR53=\"\",\"\",'Блок 1'!AR53)","v":""},{"$f":"IF('Блок 1'!AS53=\"\",\"\",'Блок 1'!AS53)","v":""},{"$f":"IF('Блок 1'!AT53=\"\",\"\",'Блок 1'!AT53)","v":""},{"$f":"IF('Блок 1'!AU53=\"\",\"\",'Блок 1'!AU53)","v":""},{"$f":"IF('Блок 1'!AV53=\"\",\"\",'Блок 1'!AV53)","v":""},{"$f":"IF('Блок 1'!AW53=\"\",\"\",'Блок 1'!AW53)","v":""},{"$f":"IF('Блок 1'!AX53=\"\",\"\",'Блок 1'!AX53)","v":""},{"$f":"IF('Блок 1'!AY53=\"\",\"\",'Блок 1'!AY53)","v":""},{"$f":"IF('Блок 1'!AZ53=\"\",\"\",'Блок 1'!AZ53)","v":""},{"$f":"IF('Блок 1'!BA53=\"\",\"\",'Блок 1'!BA53)","v":""},{"$f":"IF('Блок 1'!BB53=\"\",\"\",'Блок 1'!BB53)","v":""},{"$f":"IF('Блок 1'!BC53=\"\",\"\",'Блок 1'!BC53)","v":""},{"$f":"IF('Блок 1'!BD53=\"\",\"\",'Блок 1'!BD53)","v":""},{"$f":"IF('Блок 1'!BE53=\"\",\"\",'Блок 1'!BE53)","v":""},{"$f":"IF('Блок 1'!BF53=\"\",\"\",'Блок 1'!BF53)","v":""},{"$f":"IF('Блок 1'!BG53=\"\",\"\",'Блок 1'!BG53)","v":""},{"$f":"IF('Блок 1'!BH53=\"\",\"\",'Блок 1'!BH53)","v":""}]
[null,{"$f":"IF('Блок 1'!B54=\"\",\"\",'Блок 1'!B54)","v":""},{"$f":"IF('Блок 1'!C54=\"\",\"\",'Блок 1'!C54)","v":""},{"$f":"IF('Блок 1'!D54=\"\",\"\",'Блок 1'!D54)","v":""},{"$f":"IF('Блок 1'!E54=\"\",\"\",'Блок 1'!E54)","v":""},{"$f":"IF('Блок 1'!F54=\"\",\"\",'Блок 1'!F54)","v":""},{"$f":"IF('Блок 1'!G54=\"\",\"\",'Блок 1'!G54)","v":""},{"$f":"IF('Блок 1'!H54=\"\",\"\",'Блок 1'!H54)","v":""},{"$f":"IF('Блок 1'!I54=\"\",\"\",'Блок 1'!I54)","v":""},{"$f":"IF('Блок 1'!J54=\"\",\"\",'Блок 1'!J54)","v":""},{"$f":"IF('Блок 1'!K54=\"\",\"\",'Блок 1'!K54)","v":""},{"$f":"IF('Блок 1'!L54=\"\",\"\",'Блок 1'!L54)","v":""},{"$f":"IF('Блок 1'!M54=\"\",\"\",'Блок 1'!M54)","v":""},{"$f":"IF('Блок 1'!N54=\"\",\"\",'Блок 1'!N54)","v":""},{"$f":"IF('Блок 1'!O54=\"\",\"\",'Блок 1'!O54)","v":""},{"$f":"IF('Блок 1'!P54=\"\",\"\",'Блок 1'!P54)","v":""},{"$f":"IF('Блок 1'!Q54=\"\",\"\",'Блок 1'!Q54)","v":""},{"$f":"IF('Блок 1'!R54=\"\",\"\",'Блок 1'!R54)","v":""},{"$f":"IF('Блок 1'!S54=\"\",\"\",'Блок 1'!S54)","v":""},{"$f":"IF('Блок 1'!T54=\"\",\"\",'Блок 1'!T54)","v":""},{"$f":"IF('Блок 1'!U54=\"\",\"\",'Блок 1'!U54)","v":""},{"$f":"IF('Блок 1'!V54=\"\",\"\",'Блок 1'!V54)","v":""},{"$f":"IF('Блок 1'!W54=\"\",\"\",'Блок 1'!W54)","v":""},{"$f":"IF('Блок 1'!X54=\"\",\"\",'Блок 1'!X54)","v":""},{"$f":"IF('Блок 1'!Y54=\"\",\"\",'Блок 1'!Y54)","v":""},{"$f":"IF('Блок 1'!Z54=\"\",\"\",'Блок 1'!Z54)","v":""},{"$f":"IF('Блок 1'!AA54=\"\",\"\",'Блок 1'!AA54)","v":""},{"$f":"IF('Блок 1'!AB54=\"\",\"\",'Блок 1'!AB54)","v":""},{"$f":"IF('Блок 1'!AC54=\"\",\"\",'Блок 1'!AC54)","v":""},{"$f":"IF('Блок 1'!AD54=\"\",\"\",'Блок 1'!AD54)","v":""},{"$f":"IF('Блок 1'!AE54=\"\",\"\",'Блок 1'!AE54)","v":""},{"$f":"IF('Блок 1'!AF54=\"\",\"\",'Блок 1'!AF54)","v":""},{"$f":"IF('Блок 1'!AG54=\"\",\"\",'Блок 1'!AG54)","v":""},{"$f":"IF('Блок 1'!AH54=\"\",\"\",'Блок 1'!AH54)","v":""},{"$f":"IF('Блок 1'!AI54=\"\",\"\",'Блок 1'!AI54)","v":""},{"$f":"IF('Блок 1'!AJ54=\"\",\"\",'Блок 1'!AJ54)","v":""},{"$f":"IF('Блок 1'!AK54=\"\",\"\",'Блок 1'!AK54)","v":""},{"$f":"IF('Блок 1'!AL54=\"\",\"\",'Блок 1'!AL54)","v":""},{"$f":"IF('Блок 1'!AM54=\"\",\"\",'Блок 1'!AM54)","v":""},{"$f":"IF('Блок 1'!AN54=\"\",\"\",'Блок 1'!AN54)","v":""},{"$f":"IF('Блок 1'!AO54=\"\",\"\",'Блок 1'!AO54)","v":""},{"$f":"IF('Блок 1'!AP54=\"\",\"\",'Блок 1'!AP54)","v":""},{"$f":"IF('Блок 1'!AQ54=\"\",\"\",'Блок 1'!AQ54)","v":""},{"$f":"IF('Блок 1'!AR54=\"\",\"\",'Блок 1'!AR54)","v":""},{"$f":"IF('Блок 1'!AS54=\"\",\"\",'Блок 1'!AS54)","v":""},{"$f":"IF('Блок 1'!AT54=\"\",\"\",'Блок 1'!AT54)","v":""},{"$f":"IF('Блок 1'!AU54=\"\",\"\",'Блок 1'!AU54)","v":""},{"$f":"IF('Блок 1'!AV54=\"\",\"\",'Блок 1'!AV54)","v":""},{"$f":"IF('Блок 1'!AW54=\"\",\"\",'Блок 1'!AW54)","v":""},{"$f":"IF('Блок 1'!AX54=\"\",\"\",'Блок 1'!AX54)","v":""},{"$f":"IF('Блок 1'!AY54=\"\",\"\",'Блок 1'!AY54)","v":""},{"$f":"IF('Блок 1'!AZ54=\"\",\"\",'Блок 1'!AZ54)","v":""},{"$f":"IF('Блок 1'!BA54=\"\",\"\",'Блок 1'!BA54)","v":""},{"$f":"IF('Блок 1'!BB54=\"\",\"\",'Блок 1'!BB54)","v":""},{"$f":"IF('Блок 1'!BC54=\"\",\"\",'Блок 1'!BC54)","v":""},{"$f":"IF('Блок 1'!BD54=\"\",\"\",'Блок 1'!BD54)","v":""},{"$f":"IF('Блок 1'!BE54=\"\",\"\",'Блок 1'!BE54)","v":""},{"$f":"IF('Блок 1'!BF54=\"\",\"\",'Блок 1'!BF54)","v":""},{"$f":"IF('Блок 1'!BG54=\"\",\"\",'Блок 1'!BG54)","v":""},{"$f":"IF('Блок 1'!BH54=\"\",\"\",'Блок 1'!BH54)","v":""}]
[null,{"$f":"IF('Блок 1'!B55=\"\",\"\",'Блок 1'!B55)","v":""},{"$f":"IF('Блок 1'!C55=\"\",\"\",'Блок 1'!C55)","v":""},{"$f":"IF('Блок 1'!D55=\"\",\"\",'Блок 1'!D55)","v":""},{"$f":"IF('Блок 1'!E55=\"\",\"\",'Блок 1'!E55)","v":""},{"$f":"IF('Блок 1'!F55=\"\",\"\",'Блок 1'!F55)","v":""},{"$f":"IF('Блок 1'!G55=\"\",\"\",'Блок 1'!G55)","v":""},{"$f":"IF('Блок 1'!H55=\"\",\"\",'Блок 1'!H55)","v":""},{"$f":"IF('Блок 1'!I55=\"\",\"\",'Блок 1'!I55)","v":""},{"$f":"IF('Блок 1'!J55=\"\",\"\",'Блок 1'!J55)","v":""},{"$f":"IF('Блок 1'!K55=\"\",\"\",'Блок 1'!K55)","v":""},{"$f":"IF('Блок 1'!L55=\"\",\"\",'Блок 1'!L55)","v":""},{"$f":"IF('Блок 1'!M55=\"\",\"\",'Блок 1'!M55)","v":""},{"$f":"IF('Блок 1'!N55=\"\",\"\",'Блок 1'!N55)","v":""},{"$f":"IF('Блок 1'!O55=\"\",\"\",'Блок 1'!O55)","v":""},{"$f":"IF('Блок 1'!P55=\"\",\"\",'Блок 1'!P55)","v":""},{"$f":"IF('Блок 1'!Q55=\"\",\"\",'Блок 1'!Q55)","v":""},{"$f":"IF('Блок 1'!R55=\"\",\"\",'Блок 1'!R55)","v":""},{"$f":"IF('Блок 1'!S55=\"\",\"\",'Блок 1'!S55)","v":""},{"$f":"IF('Блок 1'!T55=\"\",\"\",'Блок 1'!T55)","v":""},{"$f":"IF('Блок 1'!U55=\"\",\"\",'Блок 1'!U55)","v":""},{"$f":"IF('Блок 1'!V55=\"\",\"\",'Блок 1'!V55)","v":""},{"$f":"IF('Блок 1'!W55=\"\",\"\",'Блок 1'!W55)","v":""},{"$f":"IF('Блок 1'!X55=\"\",\"\",'Блок 1'!X55)","v":""},{"$f":"IF('Блок 1'!Y55=\"\",\"\",'Блок 1'!Y55)","v":""},{"$f":"IF('Блок 1'!Z55=\"\",\"\",'Блок 1'!Z55)","v":""},{"$f":"IF('Блок 1'!AA55=\"\",\"\",'Блок 1'!AA55)","v":""},{"$f":"IF('Блок 1'!AB55=\"\",\"\",'Блок 1'!AB55)","v":""},{"$f":"IF('Блок 1'!AC55=\"\",\"\",'Блок 1'!AC55)","v":""},{"$f":"IF('Блок 1'!AD55=\"\",\"\",'Блок 1'!AD55)","v":""},{"$f":"IF('Блок 1'!AE55=\"\",\"\",'Блок 1'!AE55)","v":""},{"$f":"IF('Блок 1'!AF55=\"\",\"\",'Блок 1'!AF55)","v":""},{"$f":"IF('Блок 1'!AG55=\"\",\"\",'Блок 1'!AG55)","v":""},{"$f":"IF('Блок 1'!AH55=\"\",\"\",'Блок 1'!AH55)","v":""},{"$f":"IF('Блок 1'!AI55=\"\",\"\",'Блок 1'!AI55)","v":""},{"$f":"IF('Блок 1'!AJ55=\"\",\"\",'Блок 1'!AJ55)","v":""},{"$f":"IF('Блок 1'!AK55=\"\",\"\",'Блок 1'!AK55)","v":""},{"$f":"IF('Блок 1'!AL55=\"\",\"\",'Блок 1'!AL55)","v":""},{"$f":"IF('Блок 1'!AM55=\"\",\"\",'Блок 1'!AM55)","v":""},{"$f":"IF('Блок 1'!AN55=\"\",\"\",'Блок 1'!AN55)","v":""},{"$f":"IF('Блок 1'!AO55=\"\",\"\",'Блок 1'!AO55)","v":""},{"$f":"IF('Блок 1'!AP55=\"\",\"\",'Блок 1'!AP55)","v":""},{"$f":"IF('Блок 1'!AQ55=\"\",\"\",'Блок 1'!AQ55)","v":""},{"$f":"IF('Блок 1'!AR55=\"\",\"\",'Блок 1'!AR55)","v":""},{"$f":"IF('Блок 1'!AS55=\"\",\"\",'Блок 1'!AS55)","v":""},{"$f":"IF('Блок 1'!AT55=\"\",\"\",'Блок 1'!AT55)","v":""},{"$f":"IF('Блок 1'!AU55=\"\",\"\",'Блок 1'!AU55)","v":""},{"$f":"IF('Блок 1'!AV55=\"\",\"\",'Блок 1'!AV55)","v":""},{"$f":"IF('Блок 1'!AW55=\"\",\"\",'Блок 1'!AW55)","v":""},{"$f":"IF('Блок 1'!AX55=\"\",\"\",'Блок 1'!AX55)","v":""},{"$f":"IF('Блок 1'!AY55=\"\",\"\",'Блок 1'!AY55)","v":""},{"$f":"IF('Блок 1'!AZ55=\"\",\"\",'Блок 1'!AZ55)","v":""},{"$f":"IF('Блок 1'!BA55=\"\",\"\",'Блок 1'!BA55)","v":""},{"$f":"IF('Блок 1'!BB55=\"\",\"\",'Блок 1'!BB55)","v":""},{"$f":"IF('Блок 1'!BC55=\"\",\"\",'Блок 1'!BC55)","v":""},{"$f":"IF('Блок 1'!BD55=\"\",\"\",'Блок 1'!BD55)","v":""},{"$f":"IF('Блок 1'!BE55=\"\",\"\",'Блок 1'!BE55)","v":""},{"$f":"IF('Блок 1'!BF55=\"\",\"\",'Блок 1'!BF55)","v":""},{"$f":"IF('Блок 1'!BG55=\"\",\"\",'Блок 1'!BG55)","v":""},{"$f":"IF('Блок 1'!BH55=\"\",\"\",'Блок 1'!BH55)","v":""}]
[null,{"$f":"IF('Блок 1'!B56=\"\",\"\",'Блок 1'!B56)","v":""},{"$f":"IF('Блок 1'!C56=\"\",\"\",'Блок 1'!C56)","v":""},{"$f":"IF('Блок 1'!D56=\"\",\"\",'Блок 1'!D56)","v":""},{"$f":"IF('Блок 1'!E56=\"\",\"\",'Блок 1'!E56)","v":""},{"$f":"IF('Блок 1'!F56=\"\",\"\",'Блок 1'!F56)","v":""},{"$f":"IF('Блок 1'!G56=\"\",\"\",'Блок 1'!G56)","v":""},{"$f":"IF('Блок 1'!H56=\"\",\"\",'Блок 1'!H56)","v":""},{"$f":"IF('Блок 1'!I56=\"\",\"\",'Блок 1'!I56)","v":""},{"$f":"IF('Блок 1'!J56=\"\",\"\",'Блок 1'!J56)","v":""},{"$f":"IF('Блок 1'!K56=\"\",\"\",'Блок 1'!K56)","v":""},{"$f":"IF('Блок 1'!L56=\"\",\"\",'Блок 1'!L56)","v":""},{"$f":"IF('Блок 1'!M56=\"\",\"\",'Блок 1'!M56)","v":""},{"$f":"IF('Блок 1'!N56=\"\",\"\",'Блок 1'!N56)","v":""},{"$f":"IF('Блок 1'!O56=\"\",\"\",'Блок 1'!O56)","v":""},{"$f":"IF('Блок 1'!P56=\"\",\"\",'Блок 1'!P56)","v":""},{"$f":"IF('Блок 1'!Q56=\"\",\"\",'Блок 1'!Q56)","v":""},{"$f":"IF('Блок 1'!R56=\"\",\"\",'Блок 1'!R56)","v":""},{"$f":"IF('Блок 1'!S56=\"\",\"\",'Блок 1'!S56)","v":""},{"$f":"IF('Блок 1'!T56=\"\",\"\",'Блок 1'!T56)","v":""},{"$f":"IF('Блок 1'!U56=\"\",\"\",'Блок 1'!U56)","v":""},{"$f":"IF('Блок 1'!V56=\"\",\"\",'Блок 1'!V56)","v":""},{"$f":"IF('Блок 1'!W56=\"\",\"\",'Блок 1'!W56)","v":""},{"$f":"IF('Блок 1'!X56=\"\",\"\",'Блок 1'!X56)","v":""},{"$f":"IF('Блок 1'!Y56=\"\",\"\",'Блок 1'!Y56)","v":""},{"$f":"IF('Блок 1'!Z56=\"\",\"\",'Блок 1'!Z56)","v":""},{"$f":"IF('Блок 1'!AA56=\"\",\"\",'Блок 1'!AA56)","v":""},{"$f":"IF('Блок 1'!AB56=\"\",\"\",'Блок 1'!AB56)","v":""},{"$f":"IF('Блок 1'!AC56=\"\",\"\",'Блок 1'!AC56)","v":""},{"$f":"IF('Блок 1'!AD56=\"\",\"\",'Блок 1'!AD56)","v":""},{"$f":"IF('Блок 1'!AE56=\"\",\"\",'Блок 1'!AE56)","v":""},{"$f":"IF('Блок 1'!AF56=\"\",\"\",'Блок 1'!AF56)","v":""},{"$f":"IF('Блок 1'!AG56=\"\",\"\",'Блок 1'!AG56)","v":""},{"$f":"IF('Блок 1'!AH56=\"\",\"\",'Блок 1'!AH56)","v":""},{"$f":"IF('Блок 1'!AI56=\"\",\"\",'Блок 1'!AI56)","v":""},{"$f":"IF('Блок 1'!AJ56=\"\",\"\",'Блок 1'!AJ56)","v":""},{"$f":"IF('Блок 1'!AK56=\"\",\"\",'Блок 1'!AK56)","v":""},{"$f":"IF('Блок 1'!AL56=\"\",\"\",'Блок 1'!AL56)","v":""},{"$f":"IF('Блок 1'!AM56=\"\",\"\",'Блок 1'!AM56)","v":""},{"$f":"IF('Блок 1'!AN56=\"\",\"\",'Блок 1'!AN56)","v":""},{"$f":"IF('Блок 1'!AO56=\"\",\"\",'Блок 1'!AO56)","v":""},{"$f":"IF('Блок 1'!AP56=\"\",\"\",'Блок 1'!AP56)","v":""},{"$f":"IF('Блок 1'!AQ56=\"\",\"\",'Блок 1'!AQ56)","v":""},{"$f":"IF('Блок 1'!AR56=\"\",\"\",'Блок 1'!AR56)","v":""},{"$f":"IF('Блок 1'!AS56=\"\",\"\",'Блок 1'!AS56)","v":""},{"$f":"IF('Блок 1'!AT56=\"\",\"\",'Блок 1'!AT56)","v":""},{"$f":"IF('Блок 1'!AU56=\"\",\"\",'Блок 1'!AU56)","v":""},{"$f":"IF('Блок 1'!AV56=\"\",\"\",'Блок 1'!AV56)","v":""},{"$f":"IF('Блок 1'!AW56=\"\",\"\",'Блок 1'!AW56)","v":""},{"$f":"IF('Блок 1'!AX56=\"\",\"\",'Блок 1'!AX56)","v":""},{"$f":"IF('Блок 1'!AY56=\"\",\"\",'Блок 1'!AY56)","v":""},{"$f":"IF('Блок 1'!AZ56=\"\",\"\",'Блок 1'!AZ56)","v":""},{"$f":"IF('Блок 1'!BA56=\"\",\"\",'Блок 1'!BA56)","v":""},{"$f":"IF('Блок 1'!BB56=\"\",\"\",'Блок 1'!BB56)","v":""},{"$f":"IF('Блок 1'!BC56=\"\",\"\",'Блок 1'!BC56)","v":""},{"$f":"IF('Блок 1'!BD56=\"\",\"\",'Блок 1'!BD56)","v":""},{"$f":"IF('Блок 1'!BE56=\"\",\"\",'Блок 1'!BE56)","v":""},{"$f":"IF('Блок 1'!BF56=\"\",\"\",'Блок 1'!BF56)","v":""},{"$f":"IF('Блок 1'!BG56=\"\",\"\",'Блок 1'!BG56)","v":""},{"$f":"IF('Блок 1'!BH56=\"\",\"\",'Блок 1'!BH56)","v":""}]
[null,{"$f":"IF('Блок 1'!B57=\"\",\"\",'Блок 1'!B57)","v":""},{"$f":"IF('Блок 1'!C57=\"\",\"\",'Блок 1'!C57)","v":"Модуль \"Профессиональные дисциплины\""},null,null,null,null,null,null,null,null,null,null,null,null,null,null,null,null,null,null,null,null,null,null,null,{"$f":"IF('Блок 1'!AA57=\"\",\"\",'Блок 1'!AA57)","v":""},{"$f":"IF('Блок 1'!AB57=\"\",\"\",'Блок 1'!AB57)","v":0},{"$f":"IF('Блок 1'!AC57=\"\",\"\",'Блок 1'!AC57)","v":0},{"$f":"IF('Блок 1'!AD57=\"\",\"\",'Блок 1'!AD57)","v":0},{"$f":"IF('Блок 1'!AE57=\"\",\"\",'Блок 1'!AE57)","v":0},{"$f":"IF('Блок 1'!AF57=\"\",\"\",'Блок 1'!AF57)","v":0},{"$f":"IF('Блок 1'!AG57=\"\",\"\",'Блок 1'!AG57)","v":0},{"$f":"IF('Блок 1'!AH57=\"\",\"\",'Блок 1'!AH57)","v":0},{"$f":"SUM(AI52:AI70)","v":0},0]
[null,{"$f":"IF('Блок 1'!B58=\"\",\"\",'Блок 1'!B58)","v":"Б.1.09"},{"$f":"IF('Блок 1'!C58=\"\",\"\",'Блок 1'!C58)","v":""},{"$f":"IF('Блок 1'!D58=\"\",\"\",'Блок 1'!D58)","v":""},{"$f":"IF('Блок 1'!E58=\"\",\"\",'Блок 1'!E58)","v":""},{"$f":"IF('Блок 1'!F58=\"\",\"\",'Блок 1'!F58)","v":""},{"$f":"IF('Блок 1'!G58=\"\",\"\",'Блок 1'!G58)","v":""},{"$f":"IF('Блок 1'!H58=\"\",\"\",'Блок 1'!H58)","v":""},{"$f":"IF('Блок 1'!I58=\"\",\"\",'Блок 1'!I58)","v":""},{"$f":"IF('Блок 1'!J58=\"\",\"\",'Блок 1'!J58)","v":""},{"$f":"IF('Блок 1'!K58=\"\",\"\",'Блок 1'!K58)","v":""},{"$f":"IF('Блок 1'!L58=\"\",\"\",'Блок 1'!L58)","v":""},{"$f":"IF('Блок 1'!M58=\"\",\"\",'Блок 1'!M58)","v":""},{"$f":"IF('Блок 1'!N58=\"\",\"\",'Блок 1'!N58)","v":""},{"$f":"IF('Блок 1'!O58=\"\",\"\",'Блок 1'!O58)","v":""},{"$f":"IF('Блок 1'!P58=\"\",\"\",'Блок 1'!P58)","v":""},{"$f":"IF('Блок 1'!Q58=\"\",\"\",'Блок 1'!Q58)","v":""},{"$f":"IF('Блок 1'!R58=\"\",\"\",'Блок 1'!R58)","v":""},{"$f":"IF('Блок 1'!S58=\"\",\"\",'Блок 1'!S58)","v":""},{"$f":"IF('Блок 1'!T58=\"\",\"\",'Блок 1'!T58)","v":""},{"$f":"IF('Блок 1'!U58=\"\",\"\",'Блок 1'!U58)","v":""},{"$f":"IF('Блок 1'!V58=\"\",\"\",'Блок 1'!V58)","v":""},{"$f":"IF('Блок 1'!W58=\"\",\"\",'Блок 1'!W58)","v":""},{"$f":"IF('Блок 1'!X58=\"\",\"\",'Блок 1'!X58)","v":""},{"$f":"IF('Блок 1'!Y58=\"\",\"\",'Блок 1'!Y58)","v":""},{"$f":"IF('Блок 1'!Z58=\"\",\"\",'Блок 1'!Z58)","v":""},{"$f":"IF('Блок 1'!AA58=\"\",\"\",'Блок 1'!AA58)","v":""},{"$f":"IF('Блок 1'!AB58=\"\",\"\",'Блок 1'!AB58)","v":""},{"$f":"IF('Блок 1'!AC58=\"\",\"\",'Блок 1'!AC58)","v":""},{"$f":"IF('Блок 1'!AD58=\"\",\"\",'Блок 1'!AD58)","v":""},{"$f":"IF('Блок 1'!AE58=\"\",\"\",'Блок 1'!AE58)","v":""},{"$f":"IF('Блок 1'!AF58=\"\",\"\",'Блок 1'!AF58)","v":""},{"$f":"IF('Блок 1'!AG58=\"\",\"\",'Блок 1'!AG58)","v":""},{"$f":"IF('Блок 1'!AH58=\"\",\"\",'Блок 1'!AH58)","v":""},{"$f":"IF('Блок 1'!AI58=\"\",\"\",'Блок 1'!AI58)","v":""},{"$f":"IF('Блок 1'!AJ58=\"\",\"\",'Блок 1'!AJ58)","v":""},{"$f":"IF('Блок 1'!AK58=\"\",\"\",'Блок 1'!AK58)","v":""},{"$f":"IF('Блок 1'!AL58=\"\",\"\",'Блок 1'!AL58)","v":""},{"$f":"IF('Блок 1'!AM58=\"\",\"\",'Блок 1'!AM58)","v":""},{"$f":"IF('Блок 1'!AN58=\"\",\"\",'Блок 1'!AN58)","v":""},{"$f":"IF('Блок 1'!AO58=\"\",\"\",'Блок 1'!AO58)","v":""},{"$f":"IF('Блок 1'!AP58=\"\",\"\",'Блок 1'!AP58)","v":""},{"$f":"IF('Блок 1'!AQ58=\"\",\"\",'Блок 1'!AQ58)","v":""},{"$f":"IF('Блок 1'!AR58=\"\",\"\",'Блок 1'!AR58)","v":""},{"$f":"IF('Блок 1'!AS58=\"\",\"\",'Блок 1'!AS58)","v":""},{"$f":"IF('Блок 1'!AT58=\"\",\"\",'Блок 1'!AT58)","v":""},{"$f":"IF('Блок 1'!AU58=\"\",\"\",'Блок 1'!AU58)","v":""},{"$f":"IF('Блок 1'!AV58=\"\",\"\",'Блок 1'!AV58)","v":""},{"$f":"IF('Блок 1'!AW58=\"\",\"\",'Блок 1'!AW58)","v":""},{"$f":"IF('Блок 1'!AX58=\"\",\"\",'Блок 1'!AX58)","v":""},{"$f":"IF('Блок 1'!AY58=\"\",\"\",'Блок 1'!AY58)","v":""},{"$f":"IF('Блок 1'!AZ58=\"\",\"\",'Блок 1'!AZ58)","v":""},{"$f":"IF('Блок 1'!BA58=\"\",\"\",'Блок 1'!BA58)","v":""},{"$f":"IF('Блок 1'!BB58=\"\",\"\",'Блок 1'!BB58)","v":""},{"$f":"IF('Блок 1'!BC58=\"\",\"\",'Блок 1'!BC58)","v":""},{"$f":"IF('Блок 1'!BD58=\"\",\"\",'Блок 1'!BD58)","v":""},{"$f":"IF('Блок 1'!BE58=\"\",\"\",'Блок 1'!BE58)","v":""},{"$f":"IF('Блок 1'!BF58=\"\",\"\",'Блок 1'!BF58)","v":""},{"$f":"IF('Блок 1'!BG58=\"\",\"\",'Блок 1'!BG58)","v":""},{"$f":"IF('Блок 1'!BH58=\"\",\"\",'Блок 1'!BH58)","v":""}]
[null,{"$f":"IF('Блок 1'!B59=\"\",\"\",'Блок 1'!B59)","v":"Б.1.10"},{"$f":"IF('Блок 1'!C59=\"\",\"\",'Блок 1'!C59)","v":""},{"$f":"IF('Блок 1'!D59=\"\",\"\",'Блок 1'!D59)","v":""},{"$f":"IF('Блок 1'!E59=\"\",\"\",'Блок 1'!E59)","v":""},{"$f":"IF('Блок 1'!F59=\"\",\"\",'Блок 1'!F59)","v":""},{"$f":"IF('Блок 1'!G59=\"\",\"\",'Блок 1'!G59)","v":""},{"$f":"IF('Блок 1'!H59=\"\",\"\",'Блок 1'!H59)","v":""},{"$f":"IF('Блок 1'!I59=\"\",\"\",'Блок 1'!I59)","v":""},{"$f":"IF('Блок 1'!J59=\"\",\"\",'Блок 1'!J59)","v":""},{"$f":"IF('Блок 1'!K59=\"\",\"\",'Блок 1'!K59)","v":""},{"$f":"IF('Блок 1'!L59=\"\",\"\",'Блок 1'!L59)","v":""},{"$f":"IF('Блок 1'!M59=\"\",\"\",'Блок 1'!M59)","v":""},{"$f":"IF('Блок 1'!N59=\"\",\"\",'Блок 1'!N59)","v":""},{"$f":"IF('Блок 1'!O59=\"\",\"\",'Блок 1'!O59)","v":""},{"$f":"IF('Блок 1'!P59=\"\",\"\",'Блок 1'!P59)","v":""},{"$f":"IF('Блок 1'!Q59=\"\",\"\",'Блок 1'!Q59)","v":""},{"$f":"IF('Блок 1'!R59=\"\",\"\",'Блок 1'!R59)","v":""},{"$f":"IF('Блок 1'!S59=\"\",\"\",'Блок 1'!S59)","v":""},{"$f":"IF('Блок 1'!T59=\"\",\"\",'Блок 1'!T59)","v":""},{"$f":"IF('Блок 1'!U59=\"\",\"\",'Блок 1'!U59)","v":""},{"$f":"IF('Блок 1'!V59=\"\",\"\",'Блок 1'!V59)","v":""},{"$f":"IF('Блок 1'!W59=\"\",\"\",'Блок 1'!W59)","v":1},{"$f":"IF('Блок 1'!X59=\"\",\"\",'Блок 1'!X59)","v":""},{"$f":"IF('Блок 1'!Y59=\"\",\"\",'Блок 1'!Y59)","v":""},{"$f":"IF('Блок 1'!Z59=\"\",\"\",'Блок 1'!Z59)","v":""},{"$f":"IF('Блок 1'!AA59=\"\",\"\",'Блок 1'!AA59)","v":""},{"$f":"IF('Блок 1'!AB59=\"\",\"\",'Блок 1'!AB59)","v":""},{"$f":"IF('Блок 1'!AC59=\"\",\"\",'Блок 1'!AC59)","v":""},{"$f":"IF('Блок 1'!AD59=\"\",\"\",'Блок 1'!AD59)","v":""},{"$f":"IF('Блок 1'!AE59=\"\",\"\",'Блок 1'!AE59)","v":""},{"$f":"IF('Блок 1'!AF59=\"\",\"\",'Блок 1'!AF59)","v":""},{"$f":"IF('Блок 1'!AG59=\"\",\"\",'Блок 1'!AG59)","v":""},{"$f":"IF('Блок 1'!AH59=\"\",\"\",'Блок 1'!AH59)","v":""},{"$f":"IF('Блок 1'!AI59=\"\",\"\",'Блок 1'!AI59)","v":""},{"$f":"IF('Блок 1'!AJ59=\"\",\"\",'Блок 1'!AJ59)","v":""},{"$f":"IF('Блок 1'!AK59=\"\",\"\",'Блок 1'!AK59)","v":""},{"$f":"IF('Блок 1'!AL59=\"\",\"\",'Блок 1'!AL59)","v":""},{"$f":"IF('Блок 1'!AM59=\"\",\"\",'Блок 1'!AM59)","v":""},{"$f":"IF('Блок 1'!AN59=\"\",\"\",'Блок 1'!AN59)","v":""},{"$f":"IF('Блок 1'!AO59=\"\",\"\",'Блок 1'!AO59)","v":""},{"$f":"IF('Блок 1'!AP59=\"\",\"\",'Блок 1'!AP59)","v":""},{"$f":"IF('Блок 1'!AQ59=\"\",\"\",'Блок 1'!AQ59)","v":""},{"$f":"IF('Блок 1'!AR59=\"\",\"\",'Блок 1'!AR59)","v":""},{"$f":"IF('Блок 1'!AS59=\"\",\"\",'Блок 1'!AS59)","v":""},{"$f":"IF('Блок 1'!AT59=\"\",\"\",'Блок 1'!AT59)","v":""},{"$f":"IF('Блок 1'!AU59=\"\",\"\",'Блок 1'!AU59)","v":""},{"$f":"IF('Блок 1'!AV59=\"\",\"\",'Блок 1'!AV59)","v":""},{"$f":"IF('Блок 1'!AW59=\"\",\"\",'Блок 1'!AW59)","v":""},{"$f":"IF('Блок 1'!AX59=\"\",\"\",'Блок 1'!AX59)","v":""},{"$f":"IF('Блок 1'!AY59=\"\",\"\",'Блок 1'!AY59)","v":""},{"$f":"IF('Блок 1'!AZ59=\"\",\"\",'Блок 1'!AZ59)","v":""},{"$f":"IF('Блок 1'!BA59=\"\",\"\",'Блок 1'!BA59)","v":""},{"$f":"IF('Блок 1'!BB59=\"\",\"\",'Блок 1'!BB59)","v":""},{"$f":"IF('Блок 1'!BC59=\"\",\"\",'Блок 1'!BC59)","v":""},{"$f":"IF('Блок 1'!BD59=\"\",\"\",'Блок 1'!BD59)","v":""},{"$f":"IF('Блок 1'!BE59=\"\",\"\",'Блок 1'!BE59)","v":""},{"$f":"IF('Блок 1'!BF59=\"\",\"\",'Блок 1'!BF59)","v":""},{"$f":"IF('Блок 1'!BG59=\"\",\"\",'Блок 1'!BG59)","v":""},{"$f":"IF('Блок 1'!BH59=\"\",\"\",'Блок 1'!BH59)","v":""}]
[null,{"$f":"IF('Блок 1'!B60=\"\",\"\",'Блок 1'!B60)","v":"Б.1.11"},{"$f":"IF('Блок 1'!C60=\"\",\"\",'Блок 1'!C60)","v":""},{"$f":"IF('Блок 1'!D60=\"\",\"\",'Блок 1'!D60)","v":""},{"$f":"IF('Блок 1'!E60=\"\",\"\",'Блок 1'!E60)","v":""},{"$f":"IF('Блок 1'!F60=\"\",\"\",'Блок 1'!F60)","v":""},{"$f":"IF('Блок 1'!G60=\"\",\"\",'Блок 1'!G60)","v":""},{"$f":"IF('Блок 1'!H60=\"\",\"\",'Блок 1'!H60)","v":""},{"$f":"IF('Блок 1'!I60=\"\",\"\",'Блок 1'!I60)","v":""},{"$f":"IF('Блок 1'!J60=\"\",\"\",'Блок 1'!J60)","v":""},{"$f":"IF('Блок 1'!K60=\"\",\"\",'Блок 1'!K60)","v":""},{"$f":"IF('Блок 1'!L60=\"\",\"\",'Блок 1'!L60)","v":""},{"$f":"IF('Блок 1'!M60=\"\",\"\",'Блок 1'!M60)","v":""},{"$f":"IF('Блок 1'!N60=\"\",\"\",'Блок 1'!N60)","v":""},{"$f":"IF('Блок 1'!O60=\"\",\"\",'Блок 1'!O60)","v":""},{"$f":"IF('Блок 1'!P60=\"\",\"\",'Блок 1'!P60)","v":""},{"$f":"IF('Блок 1'!Q60=\"\",\"\",'Блок 1'!Q60)","v":""},{"$f":"IF('Блок 1'!R60=\"\",\"\",'Блок 1'!R60)","v":""},{"$f":"IF('Блок 1'!S60=\"\",\"\",'Блок 1'!S60)","v":""},{"$f":"IF('Блок 1'!T60=\"\",\"\",'Блок 1'!T60)","v":""},{"$f":"IF('Блок 1'!U60=\"\",\"\",'Блок 1'!U60)","v":""},{"$f":"IF('Блок 1'!V60=\"\",\"\",'Блок 1'!V60)","v":""},{"$f":"IF('Блок 1'!W60=\"\",\"\",'Блок 1'!W60)","v":2},{"$f":"IF('Блок 1'!X60=\"\",\"\",'Блок 1'!X60)","v":""},{"$f":"IF('Блок 1'!Y60=\"\",\"\",'Блок 1'!Y60)","v":""},{"$f":"IF('Блок 1'!Z60=\"\",\"\",'Блок 1'!Z60)","v":""},{"$f":"IF('Блок 1'!AA60=\"\",\"\",'Блок 1'!AA60)","v":""},{"$f":"IF('Блок 1'!AB60=\"\",\"\",'Блок 1'!AB60)","v":""},{"$f":"IF('Блок 1'!AC60=\"\",\"\",'Блок 1'!AC60)","v":""},{"$f":"IF('Блок 1'!AD60=\"\",\"\",'Блок 1'!AD60)","v":""},{"$f":"IF('Блок 1'!AE60=\"\",\"\",'Блок 1'!AE60)","v":""},{"$f":"IF('Блок 1'!AF60=\"\",\"\",'Блок 1'!AF60)","v":""},{"$f":"IF('Блок 1'!AG60=\"\",\"\",'Блок 1'!AG60)","v":""},{"$f":"IF('Блок 1'!AH60=\"\",\"\",'Блок 1'!AH60)","v":""},{"$f":"IF('Блок 1'!AI60=\"\",\"\",'Блок 1'!AI60)","v":""},{"$f":"IF('Блок 1'!AJ60=\"\",\"\",'Блок 1'!AJ60)","v":""},{"$f":"IF('Блок 1'!AK60=\"\",\"\",'Блок 1'!AK60)","v":""},{"$f":"IF('Блок 1'!AL60=\"\",\"\",'Блок 1'!AL60)","v":""},{"$f":"IF('Блок 1'!AM60=\"\",\"\",'Блок 1'!AM60)","v":""},{"$f":"IF('Блок 1'!AN60=\"\",\"\",'Блок 1'!AN60)","v":""},{"$f":"IF('Блок 1'!AO60=\"\",\"\",'Блок 1'!AO60)","v":""},{"$f":"IF('Блок 1'!AP60=\"\",\"\",'Блок 1'!AP60)","v":""},{"$f":"IF('Блок 1'!AQ60=\"\",\"\",'Блок 1'!AQ60)","v":""},{"$f":"IF('Блок 1'!AR60=\"\",\"\",'Блок 1'!AR60)","v":""},{"$f":"IF('Блок 1'!AS60=\"\",\"\",'Блок 1'!AS60)","v":""},{"$f":"IF('Блок 1'!AT60=\"\",\"\",'Блок 1'!AT60)","v":""},{"$f":"IF('Блок 1'!AU60=\"\",\"\",'Блок 1'!AU60)","v":""},{"$f":"IF('Блок 1'!AV60=\"\",\"\",'Блок 1'!AV60)","v":""},{"$f":"IF('Блок 1'!AW60=\"\",\"\",'Блок 1'!AW60)","v":""},{"$f":"IF('Блок 1'!AX60=\"\",\"\",'Блок 1'!AX60)","v":""},{"$f":"IF('Блок 1'!AY60=\"\",\"\",'Блок 1'!AY60)","v":""},{"$f":"IF('Блок 1'!AZ60=\"\",\"\",'Блок 1'!AZ60)","v":""},{"$f":"IF('Блок 1'!BA60=\"\",\"\",'Блок 1'!BA60)","v":""},{"$f":"IF('Блок 1'!BB60=\"\",\"\",'Блок 1'!BB60)","v":""},{"$f":"IF('Блок 1'!BC60=\"\",\"\",'Блок 1'!BC60)","v":""},{"$f":"IF('Блок 1'!BD60=\"\",\"\",'Блок 1'!BD60)","v":""},{"$f":"IF('Блок 1'!BE60=\"\",\"\",'Блок 1'!BE60)","v":""},{"$f":"IF('Блок 1'!BF60=\"\",\"\",'Блок 1'!BF60)","v":""},{"$f":"IF('Блок 1'!BG60=\"\",\"\",'Блок 1'!BG60)","v":""},{"$f":"IF('Блок 1'!BH60=\"\",\"\",'Блок 1'!BH60)","v":""}]
[null,{"$f":"IF('Блок 1'!B61=\"\",\"\",'Блок 1'!B61)","v":"Б.1.12"},{"$f":"IF('Блок 1'!C61=\"\",\"\",'Блок 1'!C61)","v":""},{"$f":"IF('Блок 1'!D61=\"\",\"\",'Блок 1'!D61)","v":""},{"$f":"IF('Блок 1'!E61=\"\",\"\",'Блок 1'!E61)","v":""},{"$f":"IF('Блок 1'!F61=\"\",\"\",'Блок 1'!F61)","v":""},{"$f":"IF('Блок 1'!G61=\"\",\"\",'Блок 1'!G61)","v":""},{"$f":"IF('Блок 1'!H61=\"\",\"\",'Блок 1'!H61)","v":""},{"$f":"IF('Блок 1'!I61=\"\",\"\",'Блок 1'!I61)","v":""},{"$f":"IF('Блок 1'!J61=\"\",\"\",'Блок 1'!J61)","v":""},{"$f":"IF('Блок 1'!K61=\"\",\"\",'Блок 1'!K61)","v":""},{"$f":"IF('Блок 1'!L61=\"\",\"\",'Блок 1'!L61)","v":""},{"$f":"IF('Блок 1'!M61=\"\",\"\",'Блок 1'!M61)","v":""},{"$f":"IF('Блок 1'!N61=\"\",\"\",'Блок 1'!N61)","v":""},{"$f":"IF('Блок 1'!O61=\"\",\"\",'Блок 1'!O61)","v":""},{"$f":"IF('Блок 1'!P61=\"\",\"\",'Блок 1'!P61)","v":""},{"$f":"IF('Блок 1'!Q61=\"\",\"\",'Блок 1'!Q61)","v":""},{"$f":"IF('Блок 1'!R61=\"\",\"\",'Блок 1'!R61)","v":""},{"$f":"IF('Блок 1'!S61=\"\",\"\",'Блок 1'!S61)","v":""},{"$f":"IF('Блок 1'!T61=\"\",\"\",'Блок 1'!T61)","v":""},{"$f":"IF('Блок 1'!U61=\"\",\"\",'Блок 1'!U61)","v":""},{"$f":"IF('Блок 1'!V61=\"\",\"\",'Блок 1'!V61)","v":""},{"$f":"IF('Блок 1'!W61=\"\",\"\",'Блок 1'!W61)","v":3},{"$f":"IF('Блок 1'!X61=\"\",\"\",'Блок 1'!X61)","v":""},{"$f":"IF('Блок 1'!Y61=\"\",\"\",'Блок 1'!Y61)","v":""},{"$f":"IF('Блок 1'!Z61=\"\",\"\",'Блок 1'!Z61)","v":""},{"$f":"IF('Блок 1'!AA61=\"\",\"\",'Блок 1'!AA61)","v":""},{"$f":"IF('Блок 1'!AB61=\"\",\"\",'Блок 1'!AB61)","v":""},{"$f":"IF('Блок 1'!AC61=\"\",\"\",'Блок 1'!AC61)","v":""},{"$f":"IF('Блок 1'!AD61=\"\",\"\",'Блок 1'!AD61)","v":""},{"$f":"IF('Блок 1'!AE61=\"\",\"\",'Блок 1'!AE61)","v":""},{"$f":"IF('Блок 1'!AF61=\"\",\"\",'Блок 1'!AF61)","v":""},{"$f":"IF('Блок 1'!AG61=\"\",\"\",'Блок 1'!AG61)","v":""},{"$f":"IF('Блок 1'!AH61=\"\",\"\",'Блок 1'!AH61)","v":""},{"$f":"IF('Блок 1'!AI61=\"\",\"\",'Блок 1'!AI61)","v":""},{"$f":"IF('Блок 1'!AJ61=\"\",\"\",'Блок 1'!AJ61)","v":""},{"$f":"IF('Блок 1'!AK61=\"\",\"\",'Блок 1'!AK61)","v":""},{"$f":"IF('Блок 1'!AL61=\"\",\"\",'Блок 1'!AL61)","v":""},{"$f":"IF('Блок 1'!AM61=\"\",\"\",'Блок 1'!AM61)","v":""},{"$f":"IF('Блок 1'!AN61=\"\",\"\",'Блок 1'!AN61)","v":""},{"$f":"IF('Блок 1'!AO61=\"\",\"\",'Блок 1'!AO61)","v":""},{"$f":"IF('Блок 1'!AP61=\"\",\"\",'Блок 1'!AP61)","v":""},{"$f":"IF('Блок 1'!AQ61=\"\",\"\",'Блок 1'!AQ61)","v":""},{"$f":"IF('Блок 1'!AR61=\"\",\"\",'Блок 1'!AR61)","v":""},{"$f":"IF('Блок 1'!AS61=\"\",\"\",'Блок 1'!AS61)","v":""},{"$f":"IF('Блок 1'!AT61=\"\",\"\",'Блок 1'!AT61)","v":""},{"$f":"IF('Блок 1'!AU61=\"\",\"\",'Блок 1'!AU61)","v":""},{"$f":"IF('Блок 1'!AV61=\"\",\"\",'Блок 1'!AV61)","v":""},{"$f":"IF('Блок 1'!AW61=\"\",\"\",'Блок 1'!AW61)","v":""},{"$f":"IF('Блок 1'!AX61=\"\",\"\",'Блок 1'!AX61)","v":""},{"$f":"IF('Блок 1'!AY61=\"\",\"\",'Блок 1'!AY61)","v":""},{"$f":"IF('Блок 1'!AZ61=\"\",\"\",'Блок 1'!AZ61)","v":""},{"$f":"IF('Блок 1'!BA61=\"\",\"\",'Блок 1'!BA61)","v":""},{"$f":"IF('Блок 1'!BB61=\"\",\"\",'Блок 1'!BB61)","v":""},{"$f":"IF('Блок 1'!BC61=\"\",\"\",'Блок 1'!BC61)","v":""},{"$f":"IF('Блок 1'!BD61=\"\",\"\",'Блок 1'!BD61)","v":""},{"$f":"IF('Блок 1'!BE61=\"\",\"\",'Блок 1'!BE61)","v":""},{"$f":"IF('Блок 1'!BF61=\"\",\"\",'Блок 1'!BF61)","v":""},{"$f":"IF('Блок 1'!BG61=\"\",\"\",'Блок 1'!BG61)","v":""},{"$f":"IF('Блок 1'!BH61=\"\",\"\",'Блок 1'!BH61)","v":""}]
[null,{"$f":"IF('Блок 1'!B62=\"\",\"\",'Блок 1'!B62)","v":"Б.1.13"},{"$f":"IF('Блок 1'!C62=\"\",\"\",'Блок 1'!C62)","v":""},{"$f":"IF('Блок 1'!D62=\"\",\"\",'Блок 1'!D62)","v":""},{"$f":"IF('Блок 1'!E62=\"\",\"\",'Блок 1'!E62)","v":""},{"$f":"IF('Блок 1'!F62=\"\",\"\",'Блок 1'!F62)","v":""},{"$f":"IF('Блок 1'!G62=\"\",\"\",'Блок 1'!G62)","v":""},{"$f":"IF('Блок 1'!H62=\"\",\"\",'Блок 1'!H62)","v":""},{"$f":"IF('Блок 1'!I62=\"\",\"\",'Блок 1'!I62)","v":""},{"$f":"IF('Блок 1'!J62=\"\",\"\",'Блок 1'!J62)","v":""},{"$f":"IF('Блок 1'!K62=\"\",\"\",'Блок 1'!K62)","v":""},{"$f":"IF('Блок 1'!L62=\"\",\"\",'Блок 1'!L62)","v":""},{"$f":"IF('Блок 1'!M62=\"\",\"\",'Блок 1'!M62)","v":""},{"$f":"IF('Блок 1'!N62=\"\",\"\",'Блок 1'!N62)","v":""},{"$f":"IF('Блок 1'!O62=\"\",\"\",'Блок 1'!O62)","v":""},{"$f":"IF('Блок 1'!P62=\"\",\"\",'Блок 1'!P62)","v":""},{"$f":"IF('Блок 1'!Q62=\"\",\"\",'Блок 1'!Q62)","v":""},{"$f":"IF('Блок 1'!R62=\"\",\"\",'Блок 1'!R62)","v":""},{"$f":"IF('Блок 1'!S62=\"\",\"\",'Блок 1'!S62)","v":""},{"$f":"IF('Блок 1'!T62=\"\",\"\",'Блок 1'!T62)","v":""},{"$f":"IF('Блок 1'!U62=\"\",\"\",'Блок 1'!U62)","v":""},{"$f":"IF('Блок 1'!V62=\"\",\"\",'Блок 1'!V62)","v":""},{"$f":"IF('Блок 1'!W62=\"\",\"\",'Блок 1'!W62)","v":3},{"$f":"IF('Блок 1'!X62=\"\",\"\",'Блок 1'!X62)","v":""},{"$f":"IF('Блок 1'!Y62=\"\",\"\",'Блок 1'!Y62)","v":""},{"$f":"IF('Блок 1'!Z62=\"\",\"\",'Блок 1'!Z62)","v":""},{"$f":"IF('Блок 1'!AA62=\"\",\"\",'Блок 1'!AA62)","v":""},{"$f":"IF('Блок 1'!AB62=\"\",\"\",'Блок 1'!AB62)","v":""},{"$f":"IF('Блок 1'!AC62=\"\",\"\",'Блок 1'!AC62)","v":""},{"$f":"IF('Блок 1'!AD62=\"\",\"\",'Блок 1'!AD62)","v":""},{"$f":"IF('Блок 1'!AE62=\"\",\"\",'Блок 1'!AE62)","v":""},{"$f":"IF('Блок 1'!AF62=\"\",\"\",'Блок 1'!AF62)","v":""},{"$f":"IF('Блок 1'!AG62=\"\",\"\",'Блок 1'!AG62)","v":""},{"$f":"IF('Блок 1'!AH62=\"\",\"\",'Блок 1'!AH62)","v":""},{"$f":"IF('Блок 1'!AI62=\"\",\"\",'Блок 1'!AI62)","v":""},{"$f":"IF('Блок 1'!AJ62=\"\",\"\",'Блок 1'!AJ62)","v":""},{"$f":"IF('Блок 1'!AK62=\"\",\"\",'Блок 1'!AK62)","v":""},{"$f":"IF('Блок 1'!AL62=\"\",\"\",'Блок 1'!AL62)","v":""},{"$f":"IF('Блок 1'!AM62=\"\",\"\",'Блок 1'!AM62)","v":""},{"$f":"IF('Блок 1'!AN62=\"\",\"\",'Блок 1'!AN62)","v":""},{"$f":"IF('Блок 1'!AO62=\"\",\"\",'Блок 1'!AO62)","v":""},{"$f":"IF('Блок 1'!AP62=\"\",\"\",'Блок 1'!AP62)","v":""},{"$f":"IF('Блок 1'!AQ62=\"\",\"\",'Блок 1'!AQ62)","v":""},{"$f":"IF('Блок 1'!AR62=\"\",\"\",'Блок 1'!AR62)","v":""},{"$f":"IF('Блок 1'!AS62=\"\",\"\",'Блок 1'!AS62)","v":""},{"$f":"IF('Блок 1'!AT62=\"\",\"\",'Блок 1'!AT62)","v":""},{"$f":"IF('Блок 1'!AU62=\"\",\"\",'Блок 1'!AU62)","v":""},{"$f":"IF('Блок 1'!AV62=\"\",\"\",'Блок 1'!AV62)","v":""},{"$f":"IF('Блок 1'!AW62=\"\",\"\",'Блок 1'!AW62)","v":""},{"$f":"IF('Блок 1'!AX62=\"\",\"\",'Блок 1'!AX62)","v":""},{"$f":"IF('Блок 1'!AY62=\"\",\"\",'Блок 1'!AY62)","v":""},{"$f":"IF('Блок 1'!AZ62=\"\",\"\",'Блок 1'!AZ62)","v":""},{"$f":"IF('Блок 1'!BA62=\"\",\"\",'Блок 1'!BA62)","v":""},{"$f":"IF('Блок 1'!BB62=\"\",\"\",'Блок 1'!BB62)","v":""},{"$f":"IF('Блок 1'!BC62=\"\",\"\",'Блок 1'!BC62)","v":""},{"$f":"IF('Блок 1'!BD62=\"\",\"\",'Блок 1'!BD62)","v":""},{"$f":"IF('Блок 1'!BE62=\"\",\"\",'Блок 1'!BE62)","v":""},{"$f":"IF('Блок 1'!BF62=\"\",\"\",'Блок 1'!BF62)","v":""},{"$f":"IF('Блок 1'!BG62=\"\",\"\",'Блок 1'!BG62)","v":""},{"$f":"IF('Блок 1'!BH62=\"\",\"\",'Блок 1'!BH62)","v":""}]
[null,{"$f":"IF('Блок 1'!B63=\"\",\"\",'Блок 1'!B63)","v":"Б.1.14"},{"$f":"IF('Блок 1'!C63=\"\",\"\",'Блок 1'!C63)","v":""},{"$f":"IF('Блок 1'!D63=\"\",\"\",'Блок 1'!D63)","v":""},{"$f":"IF('Блок 1'!E63=\"\",\"\",'Блок 1'!E63)","v":""},{"$f":"IF('Блок 1'!F63=\"\",\"\",'Блок 1'!F63)","v":""},{"$f":"IF('Блок 1'!G63=\"\",\"\",'Блок 1'!G63)","v":""},{"$f":"IF('Блок 1'!H63=\"\",\"\",'Блок 1'!H63)","v":""},{"$f":"IF('Блок 1'!I63=\"\",\"\",'Блок 1'!I63)","v":""},{"$f":"IF('Блок 1'!J63=\"\",\"\",'Блок 1'!J63)","v":""},{"$f":"IF('Блок 1'!K63=\"\",\"\",'Блок 1'!K63)","v":""},{"$f":"IF('Блок 1'!L63=\"\",\"\",'Блок 1'!L63)","v":""},{"$f":"IF('Блок 1'!M63=\"\",\"\",'Блок 1'!M63)","v":""},{"$f":"IF('Блок 1'!N63=\"\",\"\",'Блок 1'!N63)","v":""},{"$f":"IF('Блок 1'!O63=\"\",\"\",'Блок 1'!O63)","v":""},{"$f":"IF('Блок 1'!P63=\"\",\"\",'Блок 1'!P63)","v":""},{"$f":"IF('Блок 1'!Q63=\"\",\"\",'Блок 1'!Q63)","v":""},{"$f":"IF('Блок 1'!R63=\"\",\"\",'Блок 1'!R63)","v":""},{"$f":"IF('Блок 1'!S63=\"\",\"\",'Блок 1'!S63)","v":""},{"$f":"IF('Блок 1'!T63=\"\",\"\",'Блок 1'!T63)","v":""},{"$f":"IF('Блок 1'!U63=\"\",\"\",'Блок 1'!U63)","v":""},{"$f":"IF('Блок 1'!V63=\"\",\"\",'Блок 1'!V63)","v":""},{"$f":"IF('Блок 1'!W63=\"\",\"\",'Блок 1'!W63)","v":3},{"$f":"IF('Блок 1'!X63=\"\",\"\",'Блок 1'!X63)","v":4},{"$f":"IF('Блок 1'!Y63=\"\",\"\",'Блок 1'!Y63)","v":5},{"$f":"IF('Блок 1'!Z63=\"\",\"\",'Блок 1'!Z63)","v":""},{"$f":"IF('Блок 1'!AA63=\"\",\"\",'Блок 1'!AA63)","v":""},{"$f":"IF('Блок 1'!AB63=\"\",\"\",'Блок 1'!AB63)","v":""},{"$f":"IF('Блок 1'!AC63=\"\",\"\",'Блок 1'!AC63)","v":""},{"$f":"IF('Блок 1'!AD63=\"\",\"\",'Блок 1'!AD63)","v":""},{"$f":"IF('Блок 1'!AE63=\"\",\"\",'Блок 1'!AE63)","v":""},{"$f":"IF('Блок 1'!AF63=\"\",\"\",'Блок 1'!AF63)","v":""},{"$f":"IF('Блок 1'!AG63=\"\",\"\",'Блок 1'!AG63)","v":""},{"$f":"IF('Блок 1'!AH63=\"\",\"\",'Блок 1'!AH63)","v":""},{"$f":"IF('Блок 1'!AI63=\"\",\"\",'Блок 1'!AI63)","v":""},{"$f":"IF('Блок 1'!AJ63=\"\",\"\",'Блок 1'!AJ63)","v":""},{"$f":"IF('Блок 1'!AK63=\"\",\"\",'Блок 1'!AK63)","v":""},{"$f":"IF('Блок 1'!AL63=\"\",\"\",'Блок 1'!AL63)","v":""},{"$f":"IF('Блок 1'!AM63=\"\",\"\",'Блок 1'!AM63)","v":""},{"$f":"IF('Блок 1'!AN63=\"\",\"\",'Блок 1'!AN63)","v":""},{"$f":"IF('Блок 1'!AO63=\"\",\"\",'Блок 1'!AO63)","v":""},{"$f":"IF('Блок 1'!AP63=\"\",\"\",'Блок 1'!AP63)","v":""},{"$f":"IF('Блок 1'!AQ63=\"\",\"\",'Блок 1'!AQ63)","v":""},{"$f":"IF('Блок 1'!AR63=\"\",\"\",'Блок 1'!AR63)","v":""},{"$f":"IF('Блок 1'!AS63=\"\",\"\",'Блок 1'!AS63)","v":""},{"$f":"IF('Блок 1'!AT63=\"\",\"\",'Блок 1'!AT63)","v":""},{"$f":"IF('Блок 1'!AU63=\"\",\"\",'Блок 1'!AU63)","v":""},{"$f":"IF('Блок 1'!AV63=\"\",\"\",'Блок 1'!AV63)","v":""},{"$f":"IF('Блок 1'!AW63=\"\",\"\",'Блок 1'!AW63)","v":""},{"$f":"IF('Блок 1'!AX63=\"\",\"\",'Блок 1'!AX63)","v":""},{"$f":"IF('Блок 1'!AY63=\"\",\"\",'Блок 1'!AY63)","v":""},{"$f":"IF('Блок 1'!AZ63=\"\",\"\",'Блок 1'!AZ63)","v":""},{"$f":"IF('Блок 1'!BA63=\"\",\"\",'Блок 1'!BA63)","v":""},{"$f":"IF('Блок 1'!BB63=\"\",\"\",'Блок 1'!BB63)","v":""},{"$f":"IF('Блок 1'!BC63=\"\",\"\",'Блок 1'!BC63)","v":""},{"$f":"IF('Блок 1'!BD63=\"\",\"\",'Блок 1'!BD63)","v":""},{"$f":"IF('Блок 1'!BE63=\"\",\"\",'Блок 1'!BE63)","v":""},{"$f":"IF('Блок 1'!BF63=\"\",\"\",'Блок 1'!BF63)","v":""},{"$f":"IF('Блок 1'!BG63=\"\",\"\",'Блок 1'!BG63)","v":""},{"$f":"IF('Блок 1'!BH63=\"\",\"\",'Блок 1'!BH63)","v":""}]
[null,{"$f":"IF('Блок 1'!B64=\"\",\"\",'Блок 1'!B64)","v":"Б.1.15"},{"$f":"IF('Блок 1'!C64=\"\",\"\",'Блок 1'!C64)","v":""},{"$f":"IF('Блок 1'!D64=\"\",\"\",'Блок 1'!D64)","v":""},{"$f":"IF('Блок 1'!E64=\"\",\"\",'Блок 1'!E64)","v":""},{"$f":"IF('Блок 1'!F64=\"\",\"\",'Блок 1'!F64)","v":""},{"$f":"IF('Блок 1'!G64=\"\",\"\",'Блок 1'!G64)","v":""},{"$f":"IF('Блок 1'!H64=\"\",\"\",'Блок 1'!H64)","v":""},{"$f":"IF('Блок 1'!I64=\"\",\"\",'Блок 1'!I64)","v":""},{"$f":"IF('Блок 1'!J64=\"\",\"\",'Блок 1'!J64)","v":""},{"$f":"IF('Блок 1'!K64=\"\",\"\",'Блок 1'!K64)","v":""},{"$f":"IF('Блок 1'!L64=\"\",\"\",'Блок 1'!L64)","v":""},{"$f":"IF('Блок 1'!M64=\"\",\"\",'Блок 1'!M64)","v":""},{"$f":"IF('Блок 1'!N64=\"\",\"\",'Блок 1'!N64)","v":""},{"$f":"IF('Блок 1'!O64=\"\",\"\",'Блок 1'!O64)","v":""},{"$f":"IF('Блок 1'!P64=\"\",\"\",'Блок 1'!P64)","v":""},{"$f":"IF('Блок 1'!Q64=\"\",\"\",'Блок 1'!Q64)","v":""},{"$f":"IF('Блок 1'!R64=\"\",\"\",'Блок 1'!R64)","v":""},{"$f":"IF('Блок 1'!S64=\"\",\"\",'Блок 1'!S64)","v":""},{"$f":"IF('Блок 1'!T64=\"\",\"\",'Блок 1'!T64)","v":""},{"$f":"IF('Блок 1'!U64=\"\",\"\",'Блок 1'!U64)","v":""},{"$f":"IF('Блок 1'!V64=\"\",\"\",'Блок 1'!V64)","v":""},{"$f":"IF('Блок 1'!W64=\"\",\"\",'Блок 1'!W64)","v":""},{"$f":"IF('Блок 1'!X64=\"\",\"\",'Блок 1'!X64)","v":""},{"$f":"IF('Блок 1'!Y64=\"\",\"\",'Блок 1'!Y64)","v":""},{"$f":"IF('Блок 1'!Z64=\"\",\"\",'Блок 1'!Z64)","v":""},{"$f":"IF('Блок 1'!AA64=\"\",\"\",'Блок 1'!AA64)","v":""},{"$f":"IF('Блок 1'!AB64=\"\",\"\",'Блок 1'!AB64)","v":""},{"$f":"IF('Блок 1'!AC64=\"\",\"\",'Блок 1'!AC64)","v":""},{"$f":"IF('Блок 1'!AD64=\"\",\"\",'Блок 1'!AD64)","v":""},{"$f":"IF('Блок 1'!AE64=\"\",\"\",'Блок 1'!AE64)","v":""},{"$f":"IF('Блок 1'!AF64=\"\",\"\",'Блок 1'!AF64)","v":""},{"$f":"IF('Блок 1'!AG64=\"\",\"\",'Блок 1'!AG64)","v":""},{"$f":"IF('Блок 1'!AH64=\"\",\"\",'Блок 1'!AH64)","v":""},{"$f":"IF('Блок 1'!AI64=\"\",\"\",'Блок 1'!AI64)","v":""},{"$f":"IF('Блок 1'!AJ64=\"\",\"\",'Блок 1'!AJ64)","v":""},{"$f":"IF('Блок 1'!AK64=\"\",\"\",'Блок 1'!AK64)","v":""},{"$f":"IF('Блок 1'!AL64=\"\",\"\",'Блок 1'!AL64)","v":""},{"$f":"IF('Блок 1'!AM64=\"\",\"\",'Блок 1'!AM64)","v":""},{"$f":"IF('Блок 1'!AN64=\"\",\"\",'Блок 1'!AN64)","v":""},{"$f":"IF('Блок 1'!AO64=\"\",\"\",'Блок 1'!AO64)","v":""},{"$f":"IF('Блок 1'!AP64=\"\",\"\",'Блок 1'!AP64)","v":""},{"$f":"IF('Блок 1'!AQ64=\"\",\"\",'Блок 1'!AQ64)","v":""},{"$f":"IF('Блок 1'!AR64=\"\",\"\",'Блок 1'!AR64)","v":""},{"$f":"IF('Блок 1'!AS64=\"\",\"\",'Блок 1'!AS64)","v":""},{"$f":"IF('Блок 1'!AT64=\"\",\"\",'Блок 1'!AT64)","v":""},{"$f":"IF('Блок 1'!AU64=\"\",\"\",'Блок 1'!AU64)","v":""},{"$f":"IF('Блок 1'!AV64=\"\",\"\",'Блок 1'!AV64)","v":""},{"$f":"IF('Блок 1'!AW64=\"\",\"\",'Блок 1'!AW64)","v":""},{"$f":"IF('Блок 1'!AX64=\"\",\"\",'Блок 1'!AX64)","v":""},{"$f":"IF('Блок 1'!AY64=\"\",\"\",'Блок 1'!AY64)","v":""},{"$f":"IF('Блок 1'!AZ64=\"\",\"\",'Блок 1'!AZ64)","v":""},{"$f":"IF('Блок 1'!BA64=\"\",\"\",'Блок 1'!BA64)","v":""},{"$f":"IF('Блок 1'!BB64=\"\",\"\",'Блок 1'!BB64)","v":""},{"$f":"IF('Блок 1'!BC64=\"\",\"\",'Блок 1'!BC64)","v":""},{"$f":"IF('Блок 1'!BD64=\"\",\"\",'Блок 1'!BD64)","v":""},{"$f":"IF('Блок 1'!BE64=\"\",\"\",'Блок 1'!BE64)","v":""},{"$f":"IF('Блок 1'!BF64=\"\",\"\",'Блок 1'!BF64)","v":""},{"$f":"IF('Блок 1'!BG64=\"\",\"\",'Блок 1'!BG64)","v":""},{"$f":"IF('Блок 1'!BH64=\"\",\"\",'Блок 1'!BH64)","v":""}]
[null,{"$f":"IF('Блок 1'!B65=\"\",\"\",'Блок 1'!B65)","v":"Б.1.16"},{"$f":"IF('Блок 1'!C65=\"\",\"\",'Блок 1'!C65)","v":""},{"$f":"IF('Блок 1'!D65=\"\",\"\",'Блок 1'!D65)","v":""},{"$f":"IF('Блок 1'!E65=\"\",\"\",'Блок 1'!E65)","v":""},{"$f":"IF('Блок 1'!F65=\"\",\"\",'Блок 1'!F65)","v":""},{"$f":"IF('Блок 1'!G65=\"\",\"\",'Блок 1'!G65)","v":""},{"$f":"IF('Блок 1'!H65=\"\",\"\",'Блок 1'!H65)","v":""},{"$f":"IF('Блок 1'!I65=\"\",\"\",'Блок 1'!I65)","v":""},{"$f":"IF('Блок 1'!J65=\"\",\"\",'Блок 1'!J65)","v":""},{"$f":"IF('Блок 1'!K65=\"\",\"\",'Блок 1'!K65)","v":""},{"$f":"IF('Блок 1'!L65=\"\",\"\",'Блок 1'!L65)","v":""},{"$f":"IF('Блок 1'!M65=\"\",\"\",'Блок 1'!M65)","v":""},{"$f":"IF('Блок 1'!N65=\"\",\"\",'Блок 1'!N65)","v":""},{"$f":"IF('Блок 1'!O65=\"\",\"\",'Блок 1'!O65)","v":""},{"$f":"IF('Блок 1'!P65=\"\",\"\",'Блок 1'!P65)","v":""},{"$f":"IF('Блок 1'!Q65=\"\",\"\",'Блок 1'!Q65)","v":""},{"$f":"IF('Блок 1'!R65=\"\",\"\",'Блок 1'!R65)","v":""},{"$f":"IF('Блок 1'!S65=\"\",\"\",'Блок 1'!S65)","v":""},{"$f":"IF('Блок 1'!T65=\"\",\"\",'Блок 1'!T65)","v":""},{"$f":"IF('Блок 1'!U65=\"\",\"\",'Блок 1'!U65)","v":""},{"$f":"IF('Блок 1'!V65=\"\",\"\",'Блок 1'!V65)","v":""},{"$f":"IF('Блок 1'!W65=\"\",\"\",'Блок 1'!W65)","v":""},{"$f":"IF('Блок 1'!X65=\"\",\"\",'Блок 1'!X65)","v":""},{"$f":"IF('Блок 1'!Y65=\"\",\"\",'Блок 1'!Y65)","v":""},{"$f":"IF('Блок 1'!Z65=\"\",\"\",'Блок 1'!Z65)","v":""},{"$f":"IF('Блок 1'!AA65=\"\",\"\",'Блок 1'!AA65)","v":""},{"$f":"IF('Блок 1'!AB65=\"\",\"\",'Блок 1'!AB65)","v":""},{"$f":"IF('Блок 1'!AC65=\"\",\"\",'Блок 1'!AC65)","v":""},{"$f":"IF('Блок 1'!AD65=\"\",\"\",'Блок 1'!AD65)","v":""},{"$f":"IF('Блок 1'!AE65=\"\",\"\",'Блок 1'!AE65)","v":""},{"$f":"IF('Блок 1'!AF65=\"\",\"\",'Блок 1'!AF65)","v":""},{"$f":"IF('Блок 1'!AG65=\"\",\"\",'Блок 1'!AG65)","v":""},{"$f":"IF('Блок 1'!AH65=\"\",\"\",'Блок 1'!AH65)","v":""},{"$f":"IF('Блок 1'!AI65=\"\",\"\",'Блок 1'!AI65)","v":""},{"$f":"IF('Блок 1'!AJ65=\"\",\"\",'Блок 1'!AJ65)","v":""},{"$f":"IF('Блок 1'!AK65=\"\",\"\",'Блок 1'!AK65)","v":""},{"$f":"IF('Блок 1'!AL65=\"\",\"\",'Блок 1'!AL65)","v":""},{"$f":"IF('Блок 1'!AM65=\"\",\"\",'Блок 1'!AM65)","v":""},{"$f":"IF('Блок 1'!AN65=\"\",\"\",'Блок 1'!AN65)","v":""},{"$f":"IF('Блок 1'!AO65=\"\",\"\",'Блок 1'!AO65)","v":""},{"$f":"IF('Блок 1'!AP65=\"\",\"\",'Блок 1'!AP65)","v":""},{"$f":"IF('Блок 1'!AQ65=\"\",\"\",'Блок 1'!AQ65)","v":""},{"$f":"IF('Блок 1'!AR65=\"\",\"\",'Блок 1'!AR65)","v":""},{"$f":"IF('Блок 1'!AS65=\"\",\"\",'Блок 1'!AS65)","v":""},{"$f":"IF('Блок 1'!AT65=\"\",\"\",'Блок 1'!AT65)","v":""},{"$f":"IF('Блок 1'!AU65=\"\",\"\",'Блок 1'!AU65)","v":""},{"$f":"IF('Блок 1'!AV65=\"\",\"\",'Блок 1'!AV65)","v":""},{"$f":"IF('Блок 1'!AW65=\"\",\"\",'Блок 1'!AW65)","v":""},{"$f":"IF('Блок 1'!AX65=\"\",\"\",'Блок 1'!AX65)","v":""},{"$f":"IF('Блок 1'!AY65=\"\",\"\",'Блок 1'!AY65)","v":""},{"$f":"IF('Блок 1'!AZ65=\"\",\"\",'Блок 1'!AZ65)","v":""},{"$f":"IF('Блок 1'!BA65=\"\",\"\",'Блок 1'!BA65)","v":""},{"$f":"IF('Блок 1'!BB65=\"\",\"\",'Блок 1'!BB65)","v":""},{"$f":"IF('Блок 1'!BC65=\"\",\"\",'Блок 1'!BC65)","v":""},{"$f":"IF('Блок 1'!BD65=\"\",\"\",'Блок 1'!BD65)","v":""},{"$f":"IF('Блок 1'!BE65=\"\",\"\",'Блок 1'!BE65)","v":""},{"$f":"IF('Блок 1'!BF65=\"\",\"\",'Блок 1'!BF65)","v":""},{"$f":"IF('Блок 1'!BG65=\"\",\"\",'Блок 1'!BG65)","v":""},{"$f":"IF('Блок 1'!BH65=\"\",\"\",'Блок 1'!BH65)","v":""}]
[null,{"$f":"IF('Блок 1'!B66=\"\",\"\",'Блок 1'!B66)","v":"Б.1.17"},{"$f":"IF('Блок 1'!C66=\"\",\"\",'Блок 1'!C66)","v":""},{"$f":"IF('Блок 1'!D66=\"\",\"\",'Блок 1'!D66)","v":""},{"$f":"IF('Блок 1'!E66=\"\",\"\",'Блок 1'!E66)","v":""},{"$f":"IF('Блок 1'!F66=\"\",\"\",'Блок 1'!F66)","v":""},{"$f":"IF('Блок 1'!G66=\"\",\"\",'Блок 1'!G66)","v":""},{"$f":"IF('Блок 1'!H66=\"\",\"\",'Блок 1'!H66)","v":""},{"$f":"IF('Блок 1'!I66=\"\",\"\",'Блок 1'!I66)","v":""},{"$f":"IF('Блок 1'!J66=\"\",\"\",'Блок 1'!J66)","v":""},{"$f":"IF('Блок 1'!K66=\"\",\"\",'Блок 1'!K66)","v":""},{"$f":"IF('Блок 1'!L66=\"\",\"\",'Блок 1'!L66)","v":""},{"$f":"IF('Блок 1'!M66=\"\",\"\",'Блок 1'!M66)","v":""},{"$f":"IF('Блок 1'!N66=\"\",\"\",'Блок 1'!N66)","v":""},{"$f":"IF('Блок 1'!O66=\"\",\"\",'Блок 1'!O66)","v":""},{"$f":"IF('Блок 1'!P66=\"\",\"\",'Блок 1'!P66)","v":""},{"$f":"IF('Блок 1'!Q66=\"\",\"\",'Блок 1'!Q66)","v":""},{"$f":"IF('Блок 1'!R66=\"\",\"\",'Блок 1'!R66)","v":""},{"$f":"IF('Блок 1'!S66=\"\",\"\",'Блок 1'!S66)","v":""},{"$f":"IF('Блок 1'!T66=\"\",\"\",'Блок 1'!T66)","v":""},{"$f":"IF('Блок 1'!U66=\"\",\"\",'Блок 1'!U66)","v":""},{"$f":"IF('Блок 1'!V66=\"\",\"\",'Блок 1'!V66)","v":""},{"$f":"IF('Блок 1'!W66=\"\",\"\",'Блок 1'!W66)","v":""},{"$f":"IF('Блок 1'!X66=\"\",\"\",'Блок 1'!X66)","v":""},{"$f":"IF('Блок 1'!Y66=\"\",\"\",'Блок 1'!Y66)","v":""},{"$f":"IF('Блок 1'!Z66=\"\",\"\",'Блок 1'!Z66)","v":""},{"$f":"IF('Блок 1'!AA66=\"\",\"\",'Блок 1'!AA66)","v":""},{"$f":"IF('Блок 1'!AB66=\"\",\"\",'Блок 1'!AB66)","v":""},{"$f":"IF('Блок 1'!AC66=\"\",\"\",'Блок 1'!AC66)","v":""},{"$f":"IF('Блок 1'!AD66=\"\",\"\",'Блок 1'!AD66)","v":""},{"$f":"IF('Блок 1'!AE66=\"\",\"\",'Блок 1'!AE66)","v":""},{"$f":"IF('Блок 1'!AF66=\"\",\"\",'Блок 1'!AF66)","v":""},{"$f":"IF('Блок 1'!AG66=\"\",\"\",'Блок 1'!AG66)","v":""},{"$f":"IF('Блок 1'!AH66=\"\",\"\",'Блок 1'!AH66)","v":""},{"$f":"IF('Блок 1'!AI66=\"\",\"\",'Блок 1'!AI66)","v":""},{"$f":"IF('Блок 1'!AJ66=\"\",\"\",'Блок 1'!AJ66)","v":""},{"$f":"IF('Блок 1'!AK66=\"\",\"\",'Блок 1'!AK66)","v":""},{"$f":"IF('Блок 1'!AL66=\"\",\"\",'Блок 1'!AL66)","v":""},{"$f":"IF('Блок 1'!AM66=\"\",\"\",'Блок 1'!AM66)","v":""},{"$f":"IF('Блок 1'!AN66=\"\",\"\",'Блок 1'!AN66)","v":""},{"$f":"IF('Блок 1'!AO66=\"\",\"\",'Блок 1'!AO66)","v":""},{"$f":"IF('Блок 1'!AP66=\"\",\"\",'Блок 1'!AP66)","v":""},{"$f":"IF('Блок 1'!AQ66=\"\",\"\",'Блок 1'!AQ66)","v":""},{"$f":"IF('Блок 1'!AR66=\"\",\"\",'Блок 1'!AR66)","v":""},{"$f":"IF('Блок 1'!AS66=\"\",\"\",'Блок 1'!AS66)","v":""},{"$f":"IF('Блок 1'!AT66=\"\",\"\",'Блок 1'!AT66)","v":""},{"$f":"IF('Блок 1'!AU66=\"\",\"\",'Блок 1'!AU66)","v":""},{"$f":"IF('Блок 1'!AV66=\"\",\"\",'Блок 1'!AV66)","v":""},{"$f":"IF('Блок 1'!AW66=\"\",\"\",'Блок 1'!AW66)","v":""},{"$f":"IF('Блок 1'!AX66=\"\",\"\",'Блок 1'!AX66)","v":""},{"$f":"IF('Блок 1'!AY66=\"\",\"\",'Блок 1'!AY66)","v":""},{"$f":"IF('Блок 1'!AZ66=\"\",\"\",'Блок 1'!AZ66)","v":""},{"$f":"IF('Блок 1'!BA66=\"\",\"\",'Блок 1'!BA66)","v":""},{"$f":"IF('Блок 1'!BB66=\"\",\"\",'Блок 1'!BB66)","v":""},{"$f":"IF('Блок 1'!BC66=\"\",\"\",'Блок 1'!BC66)","v":""},{"$f":"IF('Блок 1'!BD66=\"\",\"\",'Блок 1'!BD66)","v":""},{"$f":"IF('Блок 1'!BE66=\"\",\"\",'Блок 1'!BE66)","v":""},{"$f":"IF('Блок 1'!BF66=\"\",\"\",'Блок 1'!BF66)","v":""},{"$f":"IF('Блок 1'!BG66=\"\",\"\",'Блок 1'!BG66)","v":""},{"$f":"IF('Блок 1'!BH66=\"\",\"\",'Блок 1'!BH66)","v":""}]
[null,{"$f":"IF('Блок 1'!B67=\"\",\"\",'Блок 1'!B67)","v":"Б.1.18"},{"$f":"IF('Блок 1'!C67=\"\",\"\",'Блок 1'!C67)","v":""},{"$f":"IF('Блок 1'!D67=\"\",\"\",'Блок 1'!D67)","v":""},{"$f":"IF('Блок 1'!E67=\"\",\"\",'Блок 1'!E67)","v":""},{"$f":"IF('Блок 1'!F67=\"\",\"\",'Блок 1'!F67)","v":""},{"$f":"IF('Блок 1'!G67=\"\",\"\",'Блок 1'!G67)","v":""},{"$f":"IF('Блок 1'!H67=\"\",\"\",'Блок 1'!H67)","v":""},{"$f":"IF('Блок 1'!I67=\"\",\"\",'Блок 1'!I67)","v":""},{"$f":"IF('Блок 1'!J67=\"\",\"\",'Блок 1'!J67)","v":""},{"$f":"IF('Блок 1'!K67=\"\",\"\",'Блок 1'!K67)","v":""},{"$f":"IF('Блок 1'!L67=\"\",\"\",'Блок 1'!L67)","v":""},{"$f":"IF('Блок 1'!M67=\"\",\"\",'Блок 1'!M67)","v":""},{"$f":"IF('Блок 1'!N67=\"\",\"\",'Блок 1'!N67)","v":""},{"$f":"IF('Блок 1'!O67=\"\",\"\",'Блок 1'!O67)","v":""},{"$f":"IF('Блок 1'!P67=\"\",\"\",'Блок 1'!P67)","v":""},{"$f":"IF('Блок 1'!Q67=\"\",\"\",'Блок 1'!Q67)","v":""},{"$f":"IF('Блок 1'!R67=\"\",\"\",'Блок 1'!R67)","v":""},{"$f":"IF('Блок 1'!S67=\"\",\"\",'Блок 1'!S67)","v":""},{"$f":"IF('Блок 1'!T67=\"\",\"\",'Блок 1'!T67)","v":""},{"$f":"IF('Блок 1'!U67=\"\",\"\",'Блок 1'!U67)","v":""},{"$f":"IF('Блок 1'!V67=\"\",\"\",'Блок 1'!V67)","v":""},{"$f":"IF('Блок 1'!W67=\"\",\"\",'Блок 1'!W67)","v":""},{"$f":"IF('Блок 1'!X67=\"\",\"\",'Блок 1'!X67)","v":""},{"$f":"IF('Блок 1'!Y67=\"\",\"\",'Блок 1'!Y67)","v":""},{"$f":"IF('Блок 1'!Z67=\"\",\"\",'Блок 1'!Z67)","v":""},{"$f":"IF('Блок 1'!AA67=\"\",\"\",'Блок 1'!AA67)","v":""},{"$f":"IF('Блок 1'!AB67=\"\",\"\",'Блок 1'!AB67)","v":""},{"$f":"IF('Блок 1'!AC67=\"\",\"\",'Блок 1'!AC67)","v":""},{"$f":"IF('Блок 1'!AD67=\"\",\"\",'Блок 1'!AD67)","v":""},{"$f":"IF('Блок 1'!AE67=\"\",\"\",'Блок 1'!AE67)","v":""},{"$f":"IF('Блок 1'!AF67=\"\",\"\",'Блок 1'!AF67)","v":""},{"$f":"IF('Блок 1'!AG67=\"\",\"\",'Блок 1'!AG67)","v":""},{"$f":"IF('Блок 1'!AH67=\"\",\"\",'Блок 1'!AH67)","v":""},{"$f":"IF('Блок 1'!AI67=\"\",\"\",'Блок 1'!AI67)","v":""},{"$f":"IF('Блок 1'!AJ67=\"\",\"\",'Блок 1'!AJ67)","v":""},{"$f":"IF('Блок 1'!AK67=\"\",\"\",'Блок 1'!AK67)","v":""},{"$f":"IF('Блок 1'!AL67=\"\",\"\",'Блок 1'!AL67)","v":""},{"$f":"IF('Блок 1'!AM67=\"\",\"\",'Блок 1'!AM67)","v":""},{"$f":"IF('Блок 1'!AN67=\"\",\"\",'Блок 1'!AN67)","v":""},{"$f":"IF('Блок 1'!AO67=\"\",\"\",'Блок 1'!AO67)","v":""},{"$f":"IF('Блок 1'!AP67=\"\",\"\",'Блок 1'!AP67)","v":""},{"$f":"IF('Блок 1'!AQ67=\"\",\"\",'Блок 1'!AQ67)","v":""},{"$f":"IF('Блок 1'!AR67=\"\",\"\",'Блок 1'!AR67)","v":""},{"$f":"IF('Блок 1'!AS67=\"\",\"\",'Блок 1'!AS67)","v":""},{"$f":"IF('Блок 1'!AT67=\"\",\"\",'Блок 1'!AT67)","v":""},{"$f":"IF('Блок 1'!AU67=\"\",\"\",'Блок 1'!AU67)","v":""},{"$f":"IF('Блок 1'!AV67=\"\",\"\",'Блок 1'!AV67)","v":""},{"$f":"IF('Блок 1'!AW67=\"\",\"\",'Блок 1'!AW67)","v":""},{"$f":"IF('Блок 1'!AX67=\"\",\"\",'Блок 1'!AX67)","v":""},{"$f":"IF('Блок 1'!AY67=\"\",\"\",'Блок 1'!AY67)","v":""},{"$f":"IF('Блок 1'!AZ67=\"\",\"\",'Блок 1'!AZ67)","v":""},{"$f":"IF('Блок 1'!BA67=\"\",\"\",'Блок 1'!BA67)","v":""},{"$f":"IF('Блок 1'!BB67=\"\",\"\",'Блок 1'!BB67)","v":""},{"$f":"IF('Блок 1'!BC67=\"\",\"\",'Блок 1'!BC67)","v":""},{"$f":"IF('Блок 1'!BD67=\"\",\"\",'Блок 1'!BD67)","v":""},{"$f":"IF('Блок 1'!BE67=\"\",\"\",'Блок 1'!BE67)","v":""},{"$f":"IF('Блок 1'!BF67=\"\",\"\",'Блок 1'!BF67)","v":""},{"$f":"IF('Блок 1'!BG67=\"\",\"\",'Блок 1'!BG67)","v":""},{"$f":"IF('Блок 1'!BH67=\"\",\"\",'Блок 1'!BH67)","v":""}]
[null,{"$f":"IF('Блок 1'!B68=\"\",\"\",'Блок 1'!B68)","v":"Б.1.17"},{"$f":"IF('Блок 1'!C68=\"\",\"\",'Блок 1'!C68)","v":""},{"$f":"IF('Блок 1'!D68=\"\",\"\",'Блок 1'!D68)","v":""},{"$f":"IF('Блок 1'!E68=\"\",\"\",'Блок 1'!E68)","v":""},{"$f":"IF('Блок 1'!F68=\"\",\"\",'Блок 1'!F68)","v":""},{"$f":"IF('Блок 1'!G68=\"\",\"\",'Блок 1'!G68)","v":""},{"$f":"IF('Блок 1'!H68=\"\",\"\",'Блок 1'!H68)","v":""},{"$f":"IF('Блок 1'!I68=\"\",\"\",'Блок 1'!I68)","v":""},{"$f":"IF('Блок 1'!J68=\"\",\"\",'Блок 1'!J68)","v":""},{"$f":"IF('Блок 1'!K68=\"\",\"\",'Блок 1'!K68)","v":""},{"$f":"IF('Блок 1'!L68=\"\",\"\",'Блок 1'!L68)","v":""},{"$f":"IF('Блок 1'!M68=\"\",\"\",'Блок 1'!M68)","v":""},{"$f":"IF('Блок 1'!N68=\"\",\"\",'Блок 1'!N68)","v":""},{"$f":"IF('Блок 1'!O68=\"\",\"\",'Блок 1'!O68)","v":""},{"$f":"IF('Блок 1'!P68=\"\",\"\",'Блок 1'!P68)","v":""},{"$f":"IF('Блок 1'!Q68=\"\",\"\",'Блок 1'!Q68)","v":""},{"$f":"IF('Блок 1'!R68=\"\",\"\",'Блок 1'!R68)","v":""},{"$f":"IF('Блок 1'!S68=\"\",\"\",'Блок 1'!S68)","v":""},{"$f":"IF('Блок 1'!T68=\"\",\"\",'Блок 1'!T68)","v":""},{"$f":"IF('Блок 1'!U68=\"\",\"\",'Блок 1'!U68)","v":""},{"$f":"IF('Блок 1'!V68=\"\",\"\",'Блок 1'!V68)","v":""},{"$f":"IF('Блок 1'!W68=\"\",\"\",'Блок 1'!W68)","v":""},{"$f":"IF('Блок 1'!X68=\"\",\"\",'Блок 1'!X68)","v":""},{"$f":"IF('Блок 1'!Y68=\"\",\"\",'Блок 1'!Y68)","v":""},{"$f":"IF('Блок 1'!Z68=\"\",\"\",'Блок 1'!Z68)","v":""},{"$f":"IF('Блок 1'!AA68=\"\",\"\",'Блок 1'!AA68)","v":""},{"$f":"IF('Блок 1'!AB68=\"\",\"\",'Блок 1'!AB68)","v":""},{"$f":"IF('Блок 1'!AC68=\"\",\"\",'Блок 1'!AC68)","v":""},{"$f":"IF('Блок 1'!AD68=\"\",\"\",'Блок 1'!AD68)","v":""},{"$f":"IF('Блок 1'!AE68=\"\",\"\",'Блок 1'!AE68)","v":""},{"$f":"IF('Блок 1'!AF68=\"\",\"\",'Блок 1'!AF68)","v":""},{"$f":"IF('Блок 1'!AG68=\"\",\"\",'Блок 1'!AG68)","v":""},{"$f":"IF('Блок 1'!AH68=\"\",\"\",'Блок 1'!AH68)","v":""},{"$f":"IF('Блок 1'!AI68=\"\",\"\",'Блок 1'!AI68)","v":""},{"$f":"IF('Блок 1'!AJ68=\"\",\"\",'Блок 1'!AJ68)","v":""},{"$f":"IF('Блок 1'!AK68=\"\",\"\",'Блок 1'!AK68)","v":""},{"$f":"IF('Блок 1'!AL68=\"\",\"\",'Блок 1'!AL68)","v":""},{"$f":"IF('Блок 1'!AM68=\"\",\"\",'Блок 1'!AM68)","v":""},{"$f":"IF('Блок 1'!AN68=\"\",\"\",'Блок 1'!AN68)","v":""},{"$f":"IF('Блок 1'!AO68=\"\",\"\",'Блок 1'!AO68)","v":""},{"$f":"IF('Блок 1'!AP68=\"\",\"\",'Блок 1'!AP68)","v":""},{"$f":"IF('Блок 1'!AQ68=\"\",\"\",'Блок 1'!AQ68)","v":""},{"$f":"IF('Блок 1'!AR68=\"\",\"\",'Блок 1'!AR68)","v":""},{"$f":"IF('Блок 1'!AS68=\"\",\"\",'Блок 1'!AS68)","v":""},{"$f":"IF('Блок 1'!AT68=\"\",\"\",'Блок 1'!AT68)","v":""},{"$f":"IF('Блок 1'!AU68=\"\",\"\",'Блок 1'!AU68)","v":""},{"$f":"IF('Блок 1'!AV68=\"\",\"\",'Блок 1'!AV68)","v":""},{"$f":"IF('Блок 1'!AW68=\"\",\"\",'Блок 1'!AW68)","v":""},{"$f":"IF('Блок 1'!AX68=\"\",\"\",'Блок 1'!AX68)","v":""},{"$f":"IF('Блок 1'!AY68=\"\",\"\",'Блок 1'!AY68)","v":""},{"$f":"IF('Блок 1'!AZ68=\"\",\"\",'Блок 1'!AZ68)","v":""},{"$f":"IF('Блок 1'!BA68=\"\",\"\",'Блок 1'!BA68)","v":""},{"$f":"IF('Блок 1'!BB68=\"\",\"\",'Блок 1'!BB68)","v":""},{"$f":"IF('Блок 1'!BC68=\"\",\"\",'Блок 1'!BC68)","v":""},{"$f":"IF('Блок 1'!BD68=\"\",\"\",'Блок 1'!BD68)","v":""},{"$f":"IF('Блок 1'!BE68=\"\",\"\",'Блок 1'!BE68)","v":""},{"$f":"IF('Блок 1'!BF68=\"\",\"\",'Блок 1'!BF68)","v":""},{"$f":"IF('Блок 1'!BG68=\"\",\"\",'Блок 1'!BG68)","v":""},{"$f":"IF('Блок 1'!BH68=\"\",\"\",'Блок 1'!BH68)","v":""}]
[null,{"$f":"IF('Блок 1'!B69=\"\",\"\",'Блок 1'!B69)","v":"Б.1.18"},{"$f":"IF('Блок 1'!C69=\"\",\"\",'Блок 1'!C69)","v":""},{"$f":"IF('Блок 1'!D69=\"\",\"\",'Блок 1'!D69)","v":""},{"$f":"IF('Блок 1'!E69=\"\",\"\",'Блок 1'!E69)","v":""},{"$f":"IF('Блок 1'!F69=\"\",\"\",'Блок 1'!F69)","v":""},{"$f":"IF('Блок 1'!G69=\"\",\"\",'Блок 1'!G69)","v":""},{"$f":"IF('Блок 1'!H69=\"\",\"\",'Блок 1'!H69)","v":""},{"$f":"IF('Блок 1'!I69=\"\",\"\",'Блок 1'!I69)","v":""},{"$f":"IF('Блок 1'!J69=\"\",\"\",'Блок 1'!J69)","v":""},{"$f":"IF('Блок 1'!K69=\"\",\"\",'Блок 1'!K69)","v":""},{"$f":"IF('Блок 1'!L69=\"\",\"\",'Блок 1'!L69)","v":""},{"$f":"IF('Блок 1'!M69=\"\",\"\",'Блок 1'!M69)","v":""},{"$f":"IF('Блок 1'!N69=\"\",\"\",'Блок 1'!N69)","v":""},{"$f":"IF('Блок 1'!O69=\"\",\"\",'Блок 1'!O69)","v":""},{"$f":"IF('Блок 1'!P69=\"\",\"\",'Блок 1'!P69)","v":""},{"$f":"IF('Блок 1'!Q69=\"\",\"\",'Блок 1'!Q69)","v":""},{"$f":"IF('Блок 1'!R69=\"\",\"\",'Блок 1'!R69)","v":""},{"$f":"IF('Блок 1'!S69=\"\",\"\",'Блок 1'!S69)","v":""},{"$f":"IF('Блок 1'!T69=\"\",\"\",'Блок 1'!T69)","v":""},{"$f":"IF('Блок 1'!U69=\"\",\"\",'Блок 1'!U69)","v":""},{"$f":"IF('Блок 1'!V69=\"\",\"\",'Блок 1'!V69)","v":""},{"$f":"IF('Блок 1'!W69=\"\",\"\",'Блок 1'!W69)","v":""},{"$f":"IF('Блок 1'!X69=\"\",\"\",'Блок 1'!X69)","v":""},{"$f":"IF('Блок 1'!Y69=\"\",\"\",'Блок 1'!Y69)","v":""},{"$f":"IF('Блок 1'!Z69=\"\",\"\",'Блок 1'!Z69)","v":""},{"$f":"IF('Блок 1'!AA69=\"\",\"\",'Блок 1'!AA69)","v":""},{"$f":"IF('Блок 1'!AB69=\"\",\"\",'Блок 1'!AB69)","v":""},{"$f":"IF('Блок 1'!AC69=\"\",\"\",'Блок 1'!AC69)","v":""},{"$f":"IF('Блок 1'!AD69=\"\",\"\",'Блок 1'!AD69)","v":""},{"$f":"IF('Блок 1'!AE69=\"\",\"\",'Блок 1'!AE69)","v":""},{"$f":"IF('Блок 1'!AF69=\"\",\"\",'Блок 1'!AF69)","v":""},{"$f":"IF('Блок 1'!AG69=\"\",\"\",'Блок 1'!AG69)","v":""},{"$f":"IF('Блок 1'!AH69=\"\",\"\",'Блок 1'!AH69)","v":""},{"$f":"IF('Блок 1'!AI69=\"\",\"\",'Блок 1'!AI69)","v":""},{"$f":"IF('Блок 1'!AJ69=\"\",\"\",'Блок 1'!AJ69)","v":""},{"$f":"IF('Блок 1'!AK69=\"\",\"\",'Блок 1'!AK69)","v":""},{"$f":"IF('Блок 1'!AL69=\"\",\"\",'Блок 1'!AL69)","v":""},{"$f":"IF('Блок 1'!AM69=\"\",\"\",'Блок 1'!AM69)","v":""},{"$f":"IF('Блок 1'!AN69=\"\",\"\",'Блок 1'!AN69)","v":""},{"$f":"IF('Блок 1'!AO69=\"\",\"\",'Блок 1'!AO69)","v":""},{"$f":"IF('Блок 1'!AP69=\"\",\"\",'Блок 1'!AP69)","v":""},{"$f":"IF('Блок 1'!AQ69=\"\",\"\",'Блок 1'!AQ69)","v":""},{"$f":"IF('Блок 1'!AR69=\"\",\"\",'Блок 1'!AR69)","v":""},{"$f":"IF('Блок 1'!AS69=\"\",\"\",'Блок 1'!AS69)","v":""},{"$f":"IF('Блок 1'!AT69=\"\",\"\",'Блок 1'!AT69)","v":""},{"$f":"IF('Блок 1'!AU69=\"\",\"\",'Блок 1'!AU69)","v":""},{"$f":"IF('Блок 1'!AV69=\"\",\"\",'Блок 1'!AV69)","v":""},{"$f":"IF('Блок 1'!AW69=\"\",\"\",'Блок 1'!AW69)","v":""},{"$f":"IF('Блок 1'!AX69=\"\",\"\",'Блок 1'!AX69)","v":""},{"$f":"IF('Блок 1'!AY69=\"\",\"\",'Блок 1'!AY69)","v":""},{"$f":"IF('Блок 1'!AZ69=\"\",\"\",'Блок 1'!AZ69)","v":""},{"$f":"IF('Блок 1'!BA69=\"\",\"\",'Блок 1'!BA69)","v":""},{"$f":"IF('Блок 1'!BB69=\"\",\"\",'Блок 1'!BB69)","v":""},{"$f":"IF('Блок 1'!BC69=\"\",\"\",'Блок 1'!BC69)","v":""},{"$f":"IF('Блок 1'!BD69=\"\",\"\",'Блок 1'!BD69)","v":""},{"$f":"IF('Блок 1'!BE69=\"\",\"\",'Блок 1'!BE69)","v":""},{"$f":"IF('Блок 1'!BF69=\"\",\"\",'Блок 1'!BF69)","v":""},{"$f":"IF('Блок 1'!BG69=\"\",\"\",'Блок 1'!BG69)","v":""},{"$f":"IF('Блок 1'!BH69=\"\",\"\",'Блок 1'!BH69)","v":""}]
[null,{"$f":"IF('Блок 1'!B70=\"\",\"\",'Блок 1'!B70)","v":"Б.1.19"},{"$f":"IF('Блок 1'!C70=\"\",\"\",'Блок 1'!C70)","v":""},{"$f":"IF('Блок 1'!D70=\"\",\"\",'Блок 1'!D70)","v":""},{"$f":"IF('Блок 1'!E70=\"\",\"\",'Блок 1'!E70)","v":""},{"$f":"IF('Блок 1'!F70=\"\",\"\",'Блок 1'!F70)","v":""},{"$f":"IF('Блок 1'!G70=\"\",\"\",'Блок 1'!G70)","v":""},{"$f":"IF('Блок 1'!H70=\"\",\"\",'Блок 1'!H70)","v":""},{"$f":"IF('Блок 1'!I70=\"\",\"\",'Блок 1'!I70)","v":""},{"$f":"IF('Блок 1'!J70=\"\",\"\",'Блок 1'!J70)","v":""},{"$f":"IF('Блок 1'!K70=\"\",\"\",'Блок 1'!K70)","v":""},{"$f":"IF('Блок 1'!L70=\"\",\"\",'Блок 1'!L70)","v":""},{"$f":"IF('Блок 1'!M70=\"\",\"\",'Блок 1'!M70)","v":""},{"$f":"IF('Блок 1'!N70=\"\",\"\",'Блок 1'!N70)","v":""},{"$f":"IF('Блок 1'!O70=\"\",\"\",'Блок 1'!O70)","v":""},{"$f":"IF('Блок 1'!P70=\"\",\"\",'Блок 1'!P70)","v":""},{"$f":"IF('Блок 1'!Q70=\"\",\"\",'Блок 1'!Q70)","v":""},{"$f":"IF('Блок 1'!R70=\"\",\"\",'Блок 1'!R70)","v":""},{"$f":"IF('Блок 1'!S70=\"\",\"\",'Блок 1'!S70)","v":""},{"$f":"IF('Блок 1'!T70=\"\",\"\",'Блок 1'!T70)","v":""},{"$f":"IF('Блок 1'!U70=\"\",\"\",'Блок 1'!U70)","v":""},{"$f":"IF('Блок 1'!V70=\"\",\"\",'Блок 1'!V70)","v":""},{"$f":"IF('Блок 1'!W70=\"\",\"\",'Блок 1'!W70)","v":""},{"$f":"IF('Блок 1'!X70=\"\",\"\",'Блок 1'!X70)","v":""},{"$f":"IF('Блок 1'!Y70=\"\",\"\",'Блок 1'!Y70)","v":""},{"$f":"IF('Блок 1'!Z70=\"\",\"\",'Блок 1'!Z70)","v":""},{"$f":"IF('Блок 1'!AA70=\"\",\"\",'Блок 1'!AA70)","v":""},{"$f":"IF('Блок 1'!AB70=\"\",\"\",'Блок 1'!AB70)","v":""},{"$f":"IF('Блок 1'!AC70=\"\",\"\",'Блок 1'!AC70)","v":""},{"$f":"IF('Блок 1'!AD70=\"\",\"\",'Блок 1'!AD70)","v":""},{"$f":"IF('Блок 1'!AE70=\"\",\"\",'Блок 1'!AE70)","v":""},{"$f":"IF('Блок 1'!AF70=\"\",\"\",'Блок 1'!AF70)","v":""},{"$f":"IF('Блок 1'!AG70=\"\",\"\",'Блок 1'!AG70)","v":""},{"$f":"IF('Блок 1'!AH70=\"\",\"\",'Блок 1'!AH70)","v":""},{"$f":"IF('Блок 1'!AI70=\"\",\"\",'Блок 1'!AI70)","v":""},{"$f":"IF('Блок 1'!AJ70=\"\",\"\",'Блок 1'!AJ70)","v":""},{"$f":"IF('Блок 1'!AK70=\"\",\"\",'Блок 1'!AK70)","v":""},{"$f":"IF('Блок 1'!AL70=\"\",\"\",'Блок 1'!AL70)","v":""},{"$f":"IF('Блок 1'!AM70=\"\",\"\",'Блок 1'!AM70)","v":""},{"$f":"IF('Блок 1'!AN70=\"\",\"\",'Блок 1'!AN70)","v":""},{"$f":"IF('Блок 1'!AO70=\"\",\"\",'Блок 1'!AO70)","v":""},{"$f":"IF('Блок 1'!AP70=\"\",\"\",'Блок 1'!AP70)","v":""},{"$f":"IF('Блок 1'!AQ70=\"\",\"\",'Блок 1'!AQ70)","v":""},{"$f":"IF('Блок 1'!AR70=\"\",\"\",'Блок 1'!AR70)","v":""},{"$f":"IF('Блок 1'!AS70=\"\",\"\",'Блок 1'!AS70)","v":""},{"$f":"IF('Блок 1'!AT70=\"\",\"\",'Блок 1'!AT70)","v":""},{"$f":"IF('Блок 1'!AU70=\"\",\"\",'Блок 1'!AU70)","v":""},{"$f":"IF('Блок 1'!AV70=\"\",\"\",'Блок 1'!AV70)","v":""},{"$f":"IF('Блок 1'!AW70=\"\",\"\",'Блок 1'!AW70)","v":""},{"$f":"IF('Блок 1'!AX70=\"\",\"\",'Блок 1'!AX70)","v":""},{"$f":"IF('Блок 1'!AY70=\"\",\"\",'Блок 1'!AY70)","v":""},{"$f":"IF('Блок 1'!AZ70=\"\",\"\",'Блок 1'!AZ70)","v":""},{"$f":"IF('Блок 1'!BA70=\"\",\"\",'Блок 1'!BA70)","v":""},{"$f":"IF('Блок 1'!BB70=\"\",\"\",'Блок 1'!BB70)","v":""},{"$f":"IF('Блок 1'!BC70=\"\",\"\",'Блок 1'!BC70)","v":""},{"$f":"IF('Блок 1'!BD70=\"\",\"\",'Блок 1'!BD70)","v":""},{"$f":"IF('Блок 1'!BE70=\"\",\"\",'Блок 1'!BE70)","v":""},{"$f":"IF('Блок 1'!BF70=\"\",\"\",'Блок 1'!BF70)","v":""},{"$f":"IF('Блок 1'!BG70=\"\",\"\",'Блок 1'!BG70)","v":""},{"$f":"IF('Блок 1'!BH70=\"\",\"\",'Блок 1'!BH70)","v":""}]
[null,{"$f":"IF('Блок 1'!B71=\"\",\"\",'Блок 1'!B71)","v":"Б.1.20"},{"$f":"IF('Блок 1'!C71=\"\",\"\",'Блок 1'!C71)","v":""},{"$f":"IF('Блок 1'!D71=\"\",\"\",'Блок 1'!D71)","v":""},{"$f":"IF('Блок 1'!E71=\"\",\"\",'Блок 1'!E71)","v":""},{"$f":"IF('Блок 1'!F71=\"\",\"\",'Блок 1'!F71)","v":""},{"$f":"IF('Блок 1'!G71=\"\",\"\",'Блок 1'!G71)","v":""},{"$f":"IF('Блок 1'!H71=\"\",\"\",'Блок 1'!H71)","v":""},{"$f":"IF('Блок 1'!I71=\"\",\"\",'Блок 1'!I71)","v":""},{"$f":"IF('Блок 1'!J71=\"\",\"\",'Блок 1'!J71)","v":""},{"$f":"IF('Блок 1'!K71=\"\",\"\",'Блок 1'!K71)","v":""},{"$f":"IF('Блок 1'!L71=\"\",\"\",'Блок 1'!L71)","v":""},{"$f":"IF('Блок 1'!M71=\"\",\"\",'Блок 1'!M71)","v":""},{"$f":"IF('Блок 1'!N71=\"\",\"\",'Блок 1'!N71)","v":""},{"$f":"IF('Блок 1'!O71=\"\",\"\",'Блок 1'!O71)","v":""},{"$f":"IF('Блок 1'!P71=\"\",\"\",'Блок 1'!P71)","v":""},{"$f":"IF('Блок 1'!Q71=\"\",\"\",'Блок 1'!Q71)","v":""},{"$f":"IF('Блок 1'!R71=\"\",\"\",'Блок 1'!R71)","v":""},{"$f":"IF('Блок 1'!S71=\"\",\"\",'Блок 1'!S71)","v":""},{"$f":"IF('Блок 1'!T71=\"\",\"\",'Блок 1'!T71)","v":""},{"$f":"IF('Блок 1'!U71=\"\",\"\",'Блок 1'!U71)","v":""},{"$f":"IF('Блок 1'!V71=\"\",\"\",'Блок 1'!V71)","v":""},{"$f":"IF('Блок 1'!W71=\"\",\"\",'Блок 1'!W71)","v":""},{"$f":"IF('Блок 1'!X71=\"\",\"\",'Блок 1'!X71)","v":""},{"$f":"IF('Блок 1'!Y71=\"\",\"\",'Блок 1'!Y71)","v":""},{"$f":"IF('Блок 1'!Z71=\"\",\"\",'Блок 1'!Z71)","v":""},{"$f":"IF('Блок 1'!AA71=\"\",\"\",'Блок 1'!AA71)","v":""},{"$f":"IF('Блок 1'!AB71=\"\",\"\",'Блок 1'!AB71)","v":""},{"$f":"IF('Блок 1'!AC71=\"\",\"\",'Блок 1'!AC71)","v":""},{"$f":"IF('Блок 1'!AD71=\"\",\"\",'Блок 1'!AD71)","v":""},{"$f":"IF('Блок 1'!AE71=\"\",\"\",'Блок 1'!AE71)","v":""},{"$f":"IF('Блок 1'!AF71=\"\",\"\",'Блок 1'!AF71)","v":""},{"$f":"IF('Блок 1'!AG71=\"\",\"\",'Блок 1'!AG71)","v":""},{"$f":"IF('Блок 1'!AH71=\"\",\"\",'Блок 1'!AH71)","v":""},{"$f":"IF('Блок 1'!AI71=\"\",\"\",'Блок 1'!AI71)","v":""},{"$f":"IF('Блок 1'!AJ71=\"\",\"\",'Блок 1'!AJ71)","v":""},{"$f":"IF('Блок 1'!AK71=\"\",\"\",'Блок 1'!AK71)","v":""},{"$f":"IF('Блок 1'!AL71=\"\",\"\",'Блок 1'!AL71)","v":""},{"$f":"IF('Блок 1'!AM71=\"\",\"\",'Блок 1'!AM71)","v":""},{"$f":"IF('Блок 1'!AN71=\"\",\"\",'Блок 1'!AN71)","v":""},{"$f":"IF('Блок 1'!AO71=\"\",\"\",'Блок 1'!AO71)","v":""},{"$f":"IF('Блок 1'!AP71=\"\",\"\",'Блок 1'!AP71)","v":""},{"$f":"IF('Блок 1'!AQ71=\"\",\"\",'Блок 1'!AQ71)","v":""},{"$f":"IF('Блок 1'!AR71=\"\",\"\",'Блок 1'!AR71)","v":""},{"$f":"IF('Блок 1'!AS71=\"\",\"\",'Блок 1'!AS71)","v":""},{"$f":"IF('Блок 1'!AT71=\"\",\"\",'Блок 1'!AT71)","v":""},{"$f":"IF('Блок 1'!AU71=\"\",\"\",'Блок 1'!AU71)","v":""},{"$f":"IF('Блок 1'!AV71=\"\",\"\",'Блок 1'!AV71)","v":""},{"$f":"IF('Блок 1'!AW71=\"\",\"\",'Блок 1'!AW71)","v":""},{"$f":"IF('Блок 1'!AX71=\"\",\"\",'Блок 1'!AX71)","v":""},{"$f":"IF('Блок 1'!AY71=\"\",\"\",'Блок 1'!AY71)","v":""},{"$f":"IF('Блок 1'!AZ71=\"\",\"\",'Блок 1'!AZ71)","v":""},{"$f":"IF('Блок 1'!BA71=\"\",\"\",'Блок 1'!BA71)","v":""},{"$f":"IF('Блок 1'!BB71=\"\",\"\",'Блок 1'!BB71)","v":""},{"$f":"IF('Блок 1'!BC71=\"\",\"\",'Блок 1'!BC71)","v":""},{"$f":"IF('Блок 1'!BD71=\"\",\"\",'Блок 1'!BD71)","v":""},{"$f":"IF('Блок 1'!BE71=\"\",\"\",'Блок 1'!BE71)","v":""},{"$f":"IF('Блок 1'!BF71=\"\",\"\",'Блок 1'!BF71)","v":""},{"$f":"IF('Блок 1'!BG71=\"\",\"\",'Блок 1'!BG71)","v":""},{"$f":"IF('Блок 1'!BH71=\"\",\"\",'Блок 1'!BH71)","v":""}]
[null,{"$f":"IF('Блок 1'!B72=\"\",\"\",'Блок 1'!B72)","v":""},{"$f":"IF('Блок 1'!C72=\"\",\"\",'Блок 1'!C72)","v":""},{"$f":"IF('Блок 1'!D72=\"\",\"\",'Блок 1'!D72)","v":""},{"$f":"IF('Блок 1'!E72=\"\",\"\",'Блок 1'!E72)","v":""},{"$f":"IF('Блок 1'!F72=\"\",\"\",'Блок 1'!F72)","v":""},{"$f":"IF('Блок 1'!G72=\"\",\"\",'Блок 1'!G72)","v":""},{"$f":"IF('Блок 1'!H72=\"\",\"\",'Блок 1'!H72)","v":""},{"$f":"IF('Блок 1'!I72=\"\",\"\",'Блок 1'!I72)","v":""},{"$f":"IF('Блок 1'!J72=\"\",\"\",'Блок 1'!J72)","v":""},{"$f":"IF('Блок 1'!K72=\"\",\"\",'Блок 1'!K72)","v":""},{"$f":"IF('Блок 1'!L72=\"\",\"\",'Блок 1'!L72)","v":""},{"$f":"IF('Блок 1'!M72=\"\",\"\",'Блок 1'!M72)","v":""},{"$f":"IF('Блок 1'!N72=\"\",\"\",'Блок 1'!N72)","v":""},{"$f":"IF('Блок 1'!O72=\"\",\"\",'Блок 1'!O72)","v":""},{"$f":"IF('Блок 1'!P72=\"\",\"\",'Блок 1'!P72)","v":""},{"$f":"IF('Блок 1'!Q72=\"\",\"\",'Блок 1'!Q72)","v":""},{"$f":"IF('Блок 1'!R72=\"\",\"\",'Блок 1'!R72)","v":""},{"$f":"IF('Блок 1'!S72=\"\",\"\",'Блок 1'!S72)","v":""},{"$f":"IF('Блок 1'!T72=\"\",\"\",'Блок 1'!T72)","v":""},{"$f":"IF('Блок 1'!U72=\"\",\"\",'Блок 1'!U72)","v":""},{"$f":"IF('Блок 1'!V72=\"\",\"\",'Блок 1'!V72)","v":""},{"$f":"IF('Блок 1'!W72=\"\",\"\",'Блок 1'!W72)","v":""},{"$f":"IF('Блок 1'!X72=\"\",\"\",'Блок 1'!X72)","v":""},{"$f":"IF('Блок 1'!Y72=\"\",\"\",'Блок 1'!Y72)","v":""},{"$f":"IF('Блок 1'!Z72=\"\",\"\",'Блок 1'!Z72)","v":""},{"$f":"IF('Блок 1'!AA72=\"\",\"\",'Блок 1'!AA72)","v":""},{"$f":"IF('Блок 1'!AB72=\"\",\"\",'Блок 1'!AB72)","v":""},{"$f":"IF('Блок 1'!AC72=\"\",\"\",'Блок 1'!AC72)","v":""},{"$f":"IF('Блок 1'!AD72=\"\",\"\",'Блок 1'!AD72)","v":""},{"$f":"IF('Блок 1'!AE72=\"\",\"\",'Блок 1'!AE72)","v":""},{"$f":"IF('Блок 1'!AF72=\"\",\"\",'Блок 1'!AF72)","v":""},{"$f":"IF('Блок 1'!AG72=\"\",\"\",'Блок 1'!AG72)","v":""},{"$f":"IF('Блок 1'!AH72=\"\",\"\",'Блок 1'!AH72)","v":""},{"$f":"IF('Блок 1'!AI72=\"\",\"\",'Блок 1'!AI72)","v":""},{"$f":"IF('Блок 1'!AJ72=\"\",\"\",'Блок 1'!AJ72)","v":""},{"$f":"IF('Блок 1'!AK72=\"\",\"\",'Блок 1'!AK72)","v":""},{"$f":"IF('Блок 1'!AL72=\"\",\"\",'Блок 1'!AL72)","v":""},{"$f":"IF('Блок 1'!AM72=\"\",\"\",'Блок 1'!AM72)","v":""},{"$f":"IF('Блок 1'!AN72=\"\",\"\",'Блок 1'!AN72)","v":""},{"$f":"IF('Блок 1'!AO72=\"\",\"\",'Блок 1'!AO72)","v":""},{"$f":"IF('Блок 1'!AP72=\"\",\"\",'Блок 1'!AP72)","v":""},{"$f":"IF('Блок 1'!AQ72=\"\",\"\",'Блок 1'!AQ72)","v":""},{"$f":"IF('Блок 1'!AR72=\"\",\"\",'Блок 1'!AR72)","v":""},{"$f":"IF('Блок 1'!AS72=\"\",\"\",'Блок 1'!AS72)","v":""},{"$f":"IF('Блок 1'!AT72=\"\",\"\",'Блок 1'!AT72)","v":""},{"$f":"IF('Блок 1'!AU72=\"\",\"\",'Блок 1'!AU72)","v":""},{"$f":"IF('Блок 1'!AV72=\"\",\"\",'Блок 1'!AV72)","v":""},{"$f":"IF('Блок 1'!AW72=\"\",\"\",'Блок 1'!AW72)","v":""},{"$f":"IF('Блок 1'!AX72=\"\",\"\",'Блок 1'!AX72)","v":""},{"$f":"IF('Блок 1'!AY72=\"\",\"\",'Блок 1'!AY72)","v":""},{"$f":"IF('Блок 1'!AZ72=\"\",\"\",'Блок 1'!AZ72)","v":""},{"$f":"IF('Блок 1'!BA72=\"\",\"\",'Блок 1'!BA72)","v":""},{"$f":"IF('Блок 1'!BB72=\"\",\"\",'Блок 1'!BB72)","v":""},{"$f":"IF('Блок 1'!BC72=\"\",\"\",'Блок 1'!BC72)","v":""},{"$f":"IF('Блок 1'!BD72=\"\",\"\",'Блок 1'!BD72)","v":""},{"$f":"IF('Блок 1'!BE72=\"\",\"\",'Блок 1'!BE72)","v":""},{"$f":"IF('Блок 1'!BF72=\"\",\"\",'Блок 1'!BF72)","v":""},{"$f":"IF('Блок 1'!BG72=\"\",\"\",'Блок 1'!BG72)","v":""},{"$f":"IF('Блок 1'!BH72=\"\",\"\",'Блок 1'!BH72)","v":""}]
[null,{"$f":"IF('Блок 1'!B73=\"\",\"\",'Блок 1'!B73)","v":""},{"$f":"IF('Блок 1'!C73=\"\",\"\",'Блок 1'!C73)","v":""},{"$f":"IF('Блок 1'!D73=\"\",\"\",'Блок 1'!D73)","v":""},{"$f":"IF('Блок 1'!E73=\"\",\"\",'Блок 1'!E73)","v":""},{"$f":"IF('Блок 1'!F73=\"\",\"\",'Блок 1'!F73)","v":""},{"$f":"IF('Блок 1'!G73=\"\",\"\",'Блок 1'!G73)","v":""},{"$f":"IF('Блок 1'!H73=\"\",\"\",'Блок 1'!H73)","v":""},{"$f":"IF('Блок 1'!I73=\"\",\"\",'Блок 1'!I73)","v":""},{"$f":"IF('Блок 1'!J73=\"\",\"\",'Блок 1'!J73)","v":""},{"$f":"IF('Блок 1'!K73=\"\",\"\",'Блок 1'!K73)","v":""},{"$f":"IF('Блок 1'!L73=\"\",\"\",'Блок 1'!L73)","v":""},{"$f":"IF('Блок 1'!M73=\"\",\"\",'Блок 1'!M73)","v":""},{"$f":"IF('Блок 1'!N73=\"\",\"\",'Блок 1'!N73)","v":""},{"$f":"IF('Блок 1'!O73=\"\",\"\",'Блок 1'!O73)","v":""},{"$f":"IF('Блок 1'!P73=\"\",\"\",'Блок 1'!P73)","v":""},{"$f":"IF('Блок 1'!Q73=\"\",\"\",'Блок 1'!Q73)","v":""},{"$f":"IF('Блок 1'!R73=\"\",\"\",'Блок 1'!R73)","v":""},{"$f":"IF('Блок 1'!S73=\"\",\"\",'Блок 1'!S73)","v":""},{"$f":"IF('Блок 1'!T73=\"\",\"\",'Блок 1'!T73)","v":""},{"$f":"IF('Блок 1'!U73=\"\",\"\",'Блок 1'!U73)","v":""},{"$f":"IF('Блок 1'!V73=\"\",\"\",'Блок 1'!V73)","v":""},{"$f":"IF('Блок 1'!W73=\"\",\"\",'Блок 1'!W73)","v":""},{"$f":"IF('Блок 1'!X73=\"\",\"\",'Блок 1'!X73)","v":""},{"$f":"IF('Блок 1'!Y73=\"\",\"\",'Блок 1'!Y73)","v":""},{"$f":"IF('Блок 1'!Z73=\"\",\"\",'Блок 1'!Z73)","v":""},{"$f":"IF('Блок 1'!AA73=\"\",\"\",'Блок 1'!AA73)","v":""},{"$f":"IF('Блок 1'!AB73=\"\",\"\",'Блок 1'!AB73)","v":""},{"$f":"IF('Блок 1'!AC73=\"\",\"\",'Блок 1'!AC73)","v":""},{"$f":"IF('Блок 1'!AD73=\"\",\"\",'Блок 1'!AD73)","v":""},{"$f":"IF('Блок 1'!AE73=\"\",\"\",'Блок 1'!AE73)","v":""},{"$f":"IF('Блок 1'!AF73=\"\",\"\",'Блок 1'!AF73)","v":""},{"$f":"IF('Блок 1'!AG73=\"\",\"\",'Блок 1'!AG73)","v":""},{"$f":"IF('Блок 1'!AH73=\"\",\"\",'Блок 1'!AH73)","v":""},{"$f":"IF('Блок 1'!AI73=\"\",\"\",'Блок 1'!AI73)","v":""},{"$f":"IF('Блок 1'!AJ73=\"\",\"\",'Блок 1'!AJ73)","v":""},{"$f":"IF('Блок 1'!AK73=\"\",\"\",'Блок 1'!AK73)","v":""},{"$f":"IF('Блок 1'!AL73=\"\",\"\",'Блок 1'!AL73)","v":""},{"$f":"IF('Блок 1'!AM73=\"\",\"\",'Блок 1'!AM73)","v":""},{"$f":"IF('Блок 1'!AN73=\"\",\"\",'Блок 1'!AN73)","v":""},{"$f":"IF('Блок 1'!AO73=\"\",\"\",'Блок 1'!AO73)","v":""},{"$f":"IF('Блок 1'!AP73=\"\",\"\",'Блок 1'!AP73)","v":""},{"$f":"IF('Блок 1'!AQ73=\"\",\"\",'Блок 1'!AQ73)","v":""},{"$f":"IF('Блок 1'!AR73=\"\",\"\",'Блок 1'!AR73)","v":""},{"$f":"IF('Блок 1'!AS73=\"\",\"\",'Блок 1'!AS73)","v":""},{"$f":"IF('Блок 1'!AT73=\"\",\"\",'Блок 1'!AT73)","v":""},{"$f":"IF('Блок 1'!AU73=\"\",\"\",'Блок 1'!AU73)","v":""},{"$f":"IF('Блок 1'!AV73=\"\",\"\",'Блок 1'!AV73)","v":""},{"$f":"IF('Блок 1'!AW73=\"\",\"\",'Блок 1'!AW73)","v":""},{"$f":"IF('Блок 1'!AX73=\"\",\"\",'Блок 1'!AX73)","v":""},{"$f":"IF('Блок 1'!AY73=\"\",\"\",'Блок 1'!AY73)","v":""},{"$f":"IF('Блок 1'!AZ73=\"\",\"\",'Блок 1'!AZ73)","v":""},{"$f":"IF('Блок 1'!BA73=\"\",\"\",'Блок 1'!BA73)","v":""},{"$f":"IF('Блок 1'!BB73=\"\",\"\",'Блок 1'!BB73)","v":""},{"$f":"IF('Блок 1'!BC73=\"\",\"\",'Блок 1'!BC73)","v":""},{"$f":"IF('Блок 1'!BD73=\"\",\"\",'Блок 1'!BD73)","v":""},{"$f":"IF('Блок 1'!BE73=\"\",\"\",'Блок 1'!BE73)","v":""},{"$f":"IF('Блок 1'!BF73=\"\",\"\",'Блок 1'!BF73)","v":""},{"$f":"IF('Блок 1'!BG73=\"\",\"\",'Блок 1'!BG73)","v":""},{"$f":"IF('Блок 1'!BH73=\"\",\"\",'Блок 1'!BH73)","v":""}]
[null,{"$f":"IF('Блок 1'!B74=\"\",\"\",'Блок 1'!B74)","v":""},{"$f":"IF('Блок 1'!C74=\"\",\"\",'Блок 1'!C74)","v":""},{"$f":"IF('Блок 1'!D74=\"\",\"\",'Блок 1'!D74)","v":""},{"$f":"IF('Блок 1'!E74=\"\",\"\",'Блок 1'!E74)","v":""},{"$f":"IF('Блок 1'!F74=\"\",\"\",'Блок 1'!F74)","v":""},{"$f":"IF('Блок 1'!G74=\"\",\"\",'Блок 1'!G74)","v":""},{"$f":"IF('Блок 1'!H74=\"\",\"\",'Блок 1'!H74)","v":""},{"$f":"IF('Блок 1'!I74=\"\",\"\",'Блок 1'!I74)","v":""},{"$f":"IF('Блок 1'!J74=\"\",\"\",'Блок 1'!J74)","v":""},{"$f":"IF('Блок 1'!K74=\"\",\"\",'Блок 1'!K74)","v":""},{"$f":"IF('Блок 1'!L74=\"\",\"\",'Блок 1'!L74)","v":""},{"$f":"IF('Блок 1'!M74=\"\",\"\",'Блок 1'!M74)","v":""},{"$f":"IF('Блок 1'!N74=\"\",\"\",'Блок 1'!N74)","v":""},{"$f":"IF('Блок 1'!O74=\"\",\"\",'Блок 1'!O74)","v":""},{"$f":"IF('Блок 1'!P74=\"\",\"\",'Блок 1'!P74)","v":""},{"$f":"IF('Блок 1'!Q74=\"\",\"\",'Блок 1'!Q74)","v":""},{"$f":"IF('Блок 1'!R74=\"\",\"\",'Блок 1'!R74)","v":""},{"$f":"IF('Блок 1'!S74=\"\",\"\",'Блок 1'!S74)","v":""},{"$f":"IF('Блок 1'!T74=\"\",\"\",'Блок 1'!T74)","v":""},{"$f":"IF('Блок 1'!U74=\"\",\"\",'Блок 1'!U74)","v":""},{"$f":"IF('Блок 1'!V74=\"\",\"\",'Блок 1'!V74)","v":""},{"$f":"IF('Блок 1'!W74=\"\",\"\",'Блок 1'!W74)","v":""},{"$f":"IF('Блок 1'!X74=\"\",\"\",'Блок 1'!X74)","v":""},{"$f":"IF('Блок 1'!Y74=\"\",\"\",'Блок 1'!Y74)","v":""},{"$f":"IF('Блок 1'!Z74=\"\",\"\",'Блок 1'!Z74)","v":""},{"$f":"IF('Блок 1'!AA74=\"\",\"\",'Блок 1'!AA74)","v":""},{"$f":"IF('Блок 1'!AB74=\"\",\"\",'Блок 1'!AB74)","v":""},{"$f":"IF('Блок 1'!AC74=\"\",\"\",'Блок 1'!AC74)","v":""},{"$f":"IF('Блок 1'!AD74=\"\",\"\",'Блок 1'!AD74)","v":""},{"$f":"IF('Блок 1'!AE74=\"\",\"\",'Блок 1'!AE74)","v":""},{"$f":"IF('Блок 1'!AF74=\"\",\"\",'Блок 1'!AF74)","v":""},{"$f":"IF('Блок 1'!AG74=\"\",\"\",'Блок 1'!AG74)","v":""},{"$f":"IF('Блок 1'!AH74=\"\",\"\",'Блок 1'!AH74)","v":""},{"$f":"IF('Блок 1'!AI74=\"\",\"\",'Блок 1'!AI74)","v":""},{"$f":"IF('Блок 1'!AJ74=\"\",\"\",'Блок 1'!AJ74)","v":""},{"$f":"IF('Блок 1'!AK74=\"\",\"\",'Блок 1'!AK74)","v":""},{"$f":"IF('Блок 1'!AL74=\"\",\"\",'Блок 1'!AL74)","v":""},{"$f":"IF('Блок 1'!AM74=\"\",\"\",'Блок 1'!AM74)","v":""},{"$f":"IF('Блок 1'!AN74=\"\",\"\",'Блок 1'!AN74)","v":""},{"$f":"IF('Блок 1'!AO74=\"\",\"\",'Блок 1'!AO74)","v":""},{"$f":"IF('Блок 1'!AP74=\"\",\"\",'Блок 1'!AP74)","v":""},{"$f":"IF('Блок 1'!AQ74=\"\",\"\",'Блок 1'!AQ74)","v":""},{"$f":"IF('Блок 1'!AR74=\"\",\"\",'Блок 1'!AR74)","v":""},{"$f":"IF('Блок 1'!AS74=\"\",\"\",'Блок 1'!AS74)","v":""},{"$f":"IF('Блок 1'!AT74=\"\",\"\",'Блок 1'!AT74)","v":""},{"$f":"IF('Блок 1'!AU74=\"\",\"\",'Блок 1'!AU74)","v":""},{"$f":"IF('Блок 1'!AV74=\"\",\"\",'Блок 1'!AV74)","v":""},{"$f":"IF('Блок 1'!AW74=\"\",\"\",'Блок 1'!AW74)","v":""},{"$f":"IF('Блок 1'!AX74=\"\",\"\",'Блок 1'!AX74)","v":""},{"$f":"IF('Блок 1'!AY74=\"\",\"\",'Блок 1'!AY74)","v":""},{"$f":"IF('Блок 1'!AZ74=\"\",\"\",'Блок 1'!AZ74)","v":""},{"$f":"IF('Блок 1'!BA74=\"\",\"\",'Блок 1'!BA74)","v":""},{"$f":"IF('Блок 1'!BB74=\"\",\"\",'Блок 1'!BB74)","v":""},{"$f":"IF('Блок 1'!BC74=\"\",\"\",'Блок 1'!BC74)","v":""},{"$f":"IF('Блок 1'!BD74=\"\",\"\",'Блок 1'!BD74)","v":""},{"$f":"IF('Блок 1'!BE74=\"\",\"\",'Блок 1'!BE74)","v":""},{"$f":"IF('Блок 1'!BF74=\"\",\"\",'Блок 1'!BF74)","v":""},{"$f":"IF('Блок 1'!BG74=\"\",\"\",'Блок 1'!BG74)","v":""},{"$f":"IF('Блок 1'!BH74=\"\",\"\",'Блок 1'!BH74)","v":""}]
[null,{"$f":"IF('Блок 1'!B75=\"\",\"\",'Блок 1'!B75)","v":""},{"$f":"IF('Блок 1'!C75=\"\",\"\",'Блок 1'!C75)","v":""},{"$f":"IF('Блок 1'!D75=\"\",\"\",'Блок 1'!D75)","v":""},{"$f":"IF('Блок 1'!E75=\"\",\"\",'Блок 1'!E75)","v":""},{"$f":"IF('Блок 1'!F75=\"\",\"\",'Блок 1'!F75)","v":""},{"$f":"IF('Блок 1'!G75=\"\",\"\",'Блок 1'!G75)","v":""},{"$f":"IF('Блок 1'!H75=\"\",\"\",'Блок 1'!H75)","v":""},{"$f":"IF('Блок 1'!I75=\"\",\"\",'Блок 1'!I75)","v":""},{"$f":"IF('Блок 1'!J75=\"\",\"\",'Блок 1'!J75)","v":""},{"$f":"IF('Блок 1'!K75=\"\",\"\",'Блок 1'!K75)","v":""},{"$f":"IF('Блок 1'!L75=\"\",\"\",'Блок 1'!L75)","v":""},{"$f":"IF('Блок 1'!M75=\"\",\"\",'Блок 1'!M75)","v":""},{"$f":"IF('Блок 1'!N75=\"\",\"\",'Блок 1'!N75)","v":""},{"$f":"IF('Блок 1'!O75=\"\",\"\",'Блок 1'!O75)","v":""},{"$f":"IF('Блок 1'!P75=\"\",\"\",'Блок 1'!P75)","v":""},{"$f":"IF('Блок 1'!Q75=\"\",\"\",'Блок 1'!Q75)","v":""},{"$f":"IF('Блок 1'!R75=\"\",\"\",'Блок 1'!R75)","v":""},{"$f":"IF('Блок 1'!S75=\"\",\"\",'Блок 1'!S75)","v":""},{"$f":"IF('Блок 1'!T75=\"\",\"\",'Блок 1'!T75)","v":""},{"$f":"IF('Блок 1'!U75=\"\",\"\",'Блок 1'!U75)","v":""},{"$f":"IF('Блок 1'!V75=\"\",\"\",'Блок 1'!V75)","v":""},{"$f":"IF('Блок 1'!W75=\"\",\"\",'Блок 1'!W75)","v":""},{"$f":"IF('Блок 1'!X75=\"\",\"\",'Блок 1'!X75)","v":""},{"$f":"IF('Блок 1'!Y75=\"\",\"\",'Блок 1'!Y75)","v":""},{"$f":"IF('Блок 1'!Z75=\"\",\"\",'Блок 1'!Z75)","v":""},{"$f":"IF('Блок 1'!AA75=\"\",\"\",'Блок 1'!AA75)","v":""},{"$f":"IF('Блок 1'!AB75=\"\",\"\",'Блок 1'!AB75)","v":""},{"$f":"IF('Блок 1'!AC75=\"\",\"\",'Блок 1'!AC75)","v":""},{"$f":"IF('Блок 1'!AD75=\"\",\"\",'Блок 1'!AD75)","v":""},{"$f":"IF('Блок 1'!AE75=\"\",\"\",'Блок 1'!AE75)","v":""},{"$f":"IF('Блок 1'!AF75=\"\",\"\",'Блок 1'!AF75)","v":""},{"$f":"IF('Блок 1'!AG75=\"\",\"\",'Блок 1'!AG75)","v":""},{"$f":"IF('Блок 1'!AH75=\"\",\"\",'Блок 1'!AH75)","v":""},{"$f":"IF('Блок 1'!AI75=\"\",\"\",'Блок 1'!AI75)","v":""},{"$f":"IF('Блок 1'!AJ75=\"\",\"\",'Блок 1'!AJ75)","v":""},{"$f":"IF('Блок 1'!AK75=\"\",\"\",'Блок 1'!AK75)","v":""},{"$f":"IF('Блок 1'!AL75=\"\",\"\",'Блок 1'!AL75)","v":""},{"$f":"IF('Блок 1'!AM75=\"\",\"\",'Блок 1'!AM75)","v":""},{"$f":"IF('Блок 1'!AN75=\"\",\"\",'Блок 1'!AN75)","v":""},{"$f":"IF('Блок 1'!AO75=\"\",\"\",'Блок 1'!AO75)","v":""},{"$f":"IF('Блок 1'!AP75=\"\",\"\",'Блок 1'!AP75)","v":""},{"$f":"IF('Блок 1'!AQ75=\"\",\"\",'Блок 1'!AQ75)","v":""},{"$f":"IF('Блок 1'!AR75=\"\",\"\",'Блок 1'!AR75)","v":""},{"$f":"IF('Блок 1'!AS75=\"\",\"\",'Блок 1'!AS75)","v":""},{"$f":"IF('Блок 1'!AT75=\"\",\"\",'Блок 1'!AT75)","v":""},{"$f":"IF('Блок 1'!AU75=\"\",\"\",'Блок 1'!AU75)","v":""},{"$f":"IF('Блок 1'!AV75=\"\",\"\",'Блок 1'!AV75)","v":""},{"$f":"IF('Блок 1'!AW75=\"\",\"\",'Блок 1'!AW75)","v":""},{"$f":"IF('Блок 1'!AX75=\"\",\"\",'Блок 1'!AX75)","v":""},{"$f":"IF('Блок 1'!AY75=\"\",\"\",'Блок 1'!AY75)","v":""},{"$f":"IF('Блок 1'!AZ75=\"\",\"\",'Блок 1'!AZ75)","v":""},{"$f":"IF('Блок 1'!BA75=\"\",\"\",'Блок 1'!BA75)","v":""},{"$f":"IF('Блок 1'!BB75=\"\",\"\",'Блок 1'!BB75)","v":""},{"$f":"IF('Блок 1'!BC75=\"\",\"\",'Блок 1'!BC75)","v":""},{"$f":"IF('Блок 1'!BD75=\"\",\"\",'Блок 1'!BD75)","v":""},{"$f":"IF('Блок 1'!BE75=\"\",\"\",'Блок 1'!BE75)","v":""},{"$f":"IF('Блок 1'!BF75=\"\",\"\",'Блок 1'!BF75)","v":""},{"$f":"IF('Блок 1'!BG75=\"\",\"\",'Блок 1'!BG75)","v":""},{"$f":"IF('Блок 1'!BH75=\"\",\"\",'Блок 1'!BH75)","v":""}]
[null,{"$f":"IF('Блок 1'!B76=\"\",\"\",'Блок 1'!B76)","v":""},{"$f":"IF('Блок 1'!C76=\"\",\"\",'Блок 1'!C76)","v":""},{"$f":"IF('Блок 1'!D76=\"\",\"\",'Блок 1'!D76)","v":""},{"$f":"IF('Блок 1'!E76=\"\",\"\",'Блок 1'!E76)","v":""},{"$f":"IF('Блок 1'!F76=\"\",\"\",'Блок 1'!F76)","v":""},{"$f":"IF('Блок 1'!G76=\"\",\"\",'Блок 1'!G76)","v":""},{"$f":"IF('Блок 1'!H76=\"\",\"\",'Блок 1'!H76)","v":""},{"$f":"IF('Блок 1'!I76=\"\",\"\",'Блок 1'!I76)","v":""},{"$f":"IF('Блок 1'!J76=\"\",\"\",'Блок 1'!J76)","v":""},{"$f":"IF('Блок 1'!K76=\"\",\"\",'Блок 1'!K76)","v":""},{"$f":"IF('Блок 1'!L76=\"\",\"\",'Блок 1'!L76)","v":""},{"$f":"IF('Блок 1'!M76=\"\",\"\",'Блок 1'!M76)","v":""},{"$f":"IF('Блок 1'!N76=\"\",\"\",'Блок 1'!N76)","v":""},{"$f":"IF('Блок 1'!O76=\"\",\"\",'Блок 1'!O76)","v":""},{"$f":"IF('Блок 1'!P76=\"\",\"\",'Блок 1'!P76)","v":""},{"$f":"IF('Блок 1'!Q76=\"\",\"\",'Блок 1'!Q76)","v":""},{"$f":"IF('Блок 1'!R76=\"\",\"\",'Блок 1'!R76)","v":""},{"$f":"IF('Блок 1'!S76=\"\",\"\",'Блок 1'!S76)","v":""},{"$f":"IF('Блок 1'!T76=\"\",\"\",'Блок 1'!T76)","v":""},{"$f":"IF('Блок 1'!U76=\"\",\"\",'Блок 1'!U76)","v":""},{"$f":"IF('Блок 1'!V76=\"\",\"\",'Блок 1'!V76)","v":""},{"$f":"IF('Блок 1'!W76=\"\",\"\",'Блок 1'!W76)","v":""},{"$f":"IF('Блок 1'!X76=\"\",\"\",'Блок 1'!X76)","v":""},{"$f":"IF('Блок 1'!Y76=\"\",\"\",'Блок 1'!Y76)","v":""},{"$f":"IF('Блок 1'!Z76=\"\",\"\",'Блок 1'!Z76)","v":""},{"$f":"IF('Блок 1'!AA76=\"\",\"\",'Блок 1'!AA76)","v":""},{"$f":"IF('Блок 1'!AB76=\"\",\"\",'Блок 1'!AB76)","v":""},{"$f":"IF('Блок 1'!AC76=\"\",\"\",'Блок 1'!AC76)","v":""},{"$f":"IF('Блок 1'!AD76=\"\",\"\",'Блок 1'!AD76)","v":""},{"$f":"IF('Блок 1'!AE76=\"\",\"\",'Блок 1'!AE76)","v":""},{"$f":"IF('Блок 1'!AF76=\"\",\"\",'Блок 1'!AF76)","v":""},{"$f":"IF('Блок 1'!AG76=\"\",\"\",'Блок 1'!AG76)","v":""},{"$f":"IF('Блок 1'!AH76=\"\",\"\",'Блок 1'!AH76)","v":""},{"$f":"IF('Блок 1'!AI76=\"\",\"\",'Блок 1'!AI76)","v":""},{"$f":"IF('Блок 1'!AJ76=\"\",\"\",'Блок 1'!AJ76)","v":""},{"$f":"IF('Блок 1'!AK76=\"\",\"\",'Блок 1'!AK76)","v":""},{"$f":"IF('Блок 1'!AL76=\"\",\"\",'Блок 1'!AL76)","v":""},{"$f":"IF('Блок 1'!AM76=\"\",\"\",'Блок 1'!AM76)","v":""},{"$f":"IF('Блок 1'!AN76=\"\",\"\",'Блок 1'!AN76)","v":""},{"$f":"IF('Блок 1'!AO76=\"\",\"\",'Блок 1'!AO76)","v":""},{"$f":"IF('Блок 1'!AP76=\"\",\"\",'Блок 1'!AP76)","v":""},{"$f":"IF('Блок 1'!AQ76=\"\",\"\",'Блок 1'!AQ76)","v":""},{"$f":"IF('Блок 1'!AR76=\"\",\"\",'Блок 1'!AR76)","v":""},{"$f":"IF('Блок 1'!AS76=\"\",\"\",'Блок 1'!AS76)","v":""},{"$f":"IF('Блок 1'!AT76=\"\",\"\",'Блок 1'!AT76)","v":""},{"$f":"IF('Блок 1'!AU76=\"\",\"\",'Блок 1'!AU76)","v":""},{"$f":"IF('Блок 1'!AV76=\"\",\"\",'Блок 1'!AV76)","v":""},{"$f":"IF('Блок 1'!AW76=\"\",\"\",'Блок 1'!AW76)","v":""},{"$f":"IF('Блок 1'!AX76=\"\",\"\",'Блок 1'!AX76)","v":""},{"$f":"IF('Блок 1'!AY76=\"\",\"\",'Блок 1'!AY76)","v":""},{"$f":"IF('Блок 1'!AZ76=\"\",\"\",'Блок 1'!AZ76)","v":""},{"$f":"IF('Блок 1'!BA76=\"\",\"\",'Блок 1'!BA76)","v":""},{"$f":"IF('Блок 1'!BB76=\"\",\"\",'Блок 1'!BB76)","v":""},{"$f":"IF('Блок 1'!BC76=\"\",\"\",'Блок 1'!BC76)","v":""},{"$f":"IF('Блок 1'!BD76=\"\",\"\",'Блок 1'!BD76)","v":""},{"$f":"IF('Блок 1'!BE76=\"\",\"\",'Блок 1'!BE76)","v":""},{"$f":"IF('Блок 1'!BF76=\"\",\"\",'Блок 1'!BF76)","v":""},{"$f":"IF('Блок 1'!BG76=\"\",\"\",'Блок 1'!BG76)","v":""},{"$f":"IF('Блок 1'!BH76=\"\",\"\",'Блок 1'!BH76)","v":""}]
[null,{"$f":"IF('Блок 1'!B77=\"\",\"\",'Блок 1'!B77)","v":""},{"$f":"IF('Блок 1'!C77=\"\",\"\",'Блок 1'!C77)","v":""},{"$f":"IF('Блок 1'!D77=\"\",\"\",'Блок 1'!D77)","v":""},{"$f":"IF('Блок 1'!E77=\"\",\"\",'Блок 1'!E77)","v":""},{"$f":"IF('Блок 1'!F77=\"\",\"\",'Блок 1'!F77)","v":""},{"$f":"IF('Блок 1'!G77=\"\",\"\",'Блок 1'!G77)","v":""},{"$f":"IF('Блок 1'!H77=\"\",\"\",'Блок 1'!H77)","v":""},{"$f":"IF('Блок 1'!I77=\"\",\"\",'Блок 1'!I77)","v":""},{"$f":"IF('Блок 1'!J77=\"\",\"\",'Блок 1'!J77)","v":""},{"$f":"IF('Блок 1'!K77=\"\",\"\",'Блок 1'!K77)","v":""},{"$f":"IF('Блок 1'!L77=\"\",\"\",'Блок 1'!L77)","v":""},{"$f":"IF('Блок 1'!M77=\"\",\"\",'Блок 1'!M77)","v":""},{"$f":"IF('Блок 1'!N77=\"\",\"\",'Блок 1'!N77)","v":""},{"$f":"IF('Блок 1'!O77=\"\",\"\",'Блок 1'!O77)","v":""},{"$f":"IF('Блок 1'!P77=\"\",\"\",'Блок 1'!P77)","v":""},{"$f":"IF('Блок 1'!Q77=\"\",\"\",'Блок 1'!Q77)","v":""},{"$f":"IF('Блок 1'!R77=\"\",\"\",'Блок 1'!R77)","v":""},{"$f":"IF('Блок 1'!S77=\"\",\"\",'Блок 1'!S77)","v":""},{"$f":"IF('Блок 1'!T77=\"\",\"\",'Блок 1'!T77)","v":""},{"$f":"IF('Блок 1'!U77=\"\",\"\",'Блок 1'!U77)","v":""},{"$f":"IF('Блок 1'!V77=\"\",\"\",'Блок 1'!V77)","v":""},{"$f":"IF('Блок 1'!W77=\"\",\"\",'Блок 1'!W77)","v":""},{"$f":"IF('Блок 1'!X77=\"\",\"\",'Блок 1'!X77)","v":""},{"$f":"IF('Блок 1'!Y77=\"\",\"\",'Блок 1'!Y77)","v":""},{"$f":"IF('Блок 1'!Z77=\"\",\"\",'Блок 1'!Z77)","v":""},{"$f":"IF('Блок 1'!AA77=\"\",\"\",'Блок 1'!AA77)","v":""},{"$f":"IF('Блок 1'!AB77=\"\",\"\",'Блок 1'!AB77)","v":""},{"$f":"IF('Блок 1'!AC77=\"\",\"\",'Блок 1'!AC77)","v":""},{"$f":"IF('Блок 1'!AD77=\"\",\"\",'Блок 1'!AD77)","v":""},{"$f":"IF('Блок 1'!AE77=\"\",\"\",'Блок 1'!AE77)","v":""},{"$f":"IF('Блок 1'!AF77=\"\",\"\",'Блок 1'!AF77)","v":""},{"$f":"IF('Блок 1'!AG77=\"\",\"\",'Блок 1'!AG77)","v":""},{"$f":"IF('Блок 1'!AH77=\"\",\"\",'Блок 1'!AH77)","v":""},{"$f":"IF('Блок 1'!AI77=\"\",\"\",'Блок 1'!AI77)","v":""},{"$f":"IF('Блок 1'!AJ77=\"\",\"\",'Блок 1'!AJ77)","v":""},{"$f":"IF('Блок 1'!AK77=\"\",\"\",'Блок 1'!AK77)","v":""},{"$f":"IF('Блок 1'!AL77=\"\",\"\",'Блок 1'!AL77)","v":""},{"$f":"IF('Блок 1'!AM77=\"\",\"\",'Блок 1'!AM77)","v":""},{"$f":"IF('Блок 1'!AN77=\"\",\"\",'Блок 1'!AN77)","v":""},{"$f":"IF('Блок 1'!AO77=\"\",\"\",'Блок 1'!AO77)","v":""},{"$f":"IF('Блок 1'!AP77=\"\",\"\",'Блок 1'!AP77)","v":""},{"$f":"IF('Блок 1'!AQ77=\"\",\"\",'Блок 1'!AQ77)","v":""},{"$f":"IF('Блок 1'!AR77=\"\",\"\",'Блок 1'!AR77)","v":""},{"$f":"IF('Блок 1'!AS77=\"\",\"\",'Блок 1'!AS77)","v":""},{"$f":"IF('Блок 1'!AT77=\"\",\"\",'Блок 1'!AT77)","v":""},{"$f":"IF('Блок 1'!AU77=\"\",\"\",'Блок 1'!AU77)","v":""},{"$f":"IF('Блок 1'!AV77=\"\",\"\",'Блок 1'!AV77)","v":""},{"$f":"IF('Блок 1'!AW77=\"\",\"\",'Блок 1'!AW77)","v":""},{"$f":"IF('Блок 1'!AX77=\"\",\"\",'Блок 1'!AX77)","v":""},{"$f":"IF('Блок 1'!AY77=\"\",\"\",'Блок 1'!AY77)","v":""},{"$f":"IF('Блок 1'!AZ77=\"\",\"\",'Блок 1'!AZ77)","v":""},{"$f":"IF('Блок 1'!BA77=\"\",\"\",'Блок 1'!BA77)","v":""},{"$f":"IF('Блок 1'!BB77=\"\",\"\",'Блок 1'!BB77)","v":""},{"$f":"IF('Блок 1'!BC77=\"\",\"\",'Блок 1'!BC77)","v":""},{"$f":"IF('Блок 1'!BD77=\"\",\"\",'Блок 1'!BD77)","v":""},{"$f":"IF('Блок 1'!BE77=\"\",\"\",'Блок 1'!BE77)","v":""},{"$f":"IF('Блок 1'!BF77=\"\",\"\",'Блок 1'!BF77)","v":""},{"$f":"IF('Блок 1'!BG77=\"\",\"\",'Блок 1'!BG77)","v":""},{"$f":"IF('Блок 1'!BH77=\"\",\"\",'Блок 1'!BH77)","v":""}]
[null,{"$f":"IF('Блок 1'!B78=\"\",\"\",'Блок 1'!B78)","v":"В.1"},{"$f":"IF('Блок 1'!C78=\"\",\"\",'Блок 1'!C78)","v":"Вариативная часть, в т.ч. дисциплины по выбору"},null,null,null,null,null,null,null,null,null,null,null,null,null,null,null,null,null,null,null,null,null,null,null,{"$f":"IF('Блок 1'!AA78=\"\",\"\",'Блок 1'!AA78)","v":""},{"$f":"IF('Блок 1'!AB78=\"\",\"\",'Блок 1'!AB78)","v":0},{"$f":"IF('Блок 1'!AC78=\"\",\"\",'Блок 1'!AC78)","v":0},{"$f":"IF('Блок 1'!AD78=\"\",\"\",'Блок 1'!AD78)","v":0},{"$f":"IF('Блок 1'!AE78=\"\",\"\",'Блок 1'!AE78)","v":0},{"$f":"IF('Блок 1'!AF78=\"\",\"\",'Блок 1'!AF78)","v":0},{"$f":"IF('Блок 1'!AG78=\"\",\"\",'Блок 1'!AG78)","v":0},{"$f":"IF('Блок 1'!AH78=\"\",\"\",'Блок 1'!AH78)","v":0},{"$f":"IF('Блок 1'!AI78=\"\",\"\",'Блок 1'!AI78)","v":{"$error":"#REF!"}},{"$f":"IF('Блок 1'!AJ78=\"\",\"\",'Блок 1'!AJ78)","v":{"$error":"#REF!"}},{"$f":"IF('Блок 1'!AK78=\"\",\"\",'Блок 1'!AK78)","v":""},{"$f":"IF('Блок 1'!AL78=\"\",\"\",'Блок 1'!AL78)","v":""},{"$f":"IF('Блок 1'!AM78=\"\",\"\",'Блок 1'!AM78)","v":""},{"$f":"IF('Блок 1'!AN78=\"\",\"\",'Блок 1'!AN78)","v":""},{"$f":"IF('Блок 1'!AO78=\"\",\"\",'Блок 1'!AO78)","v":""},{"$f":"IF('Блок 1'!AP78=\"\",\"\",'Блок 1'!AP78)","v":""},{"$f":"IF('Блок 1'!AQ78=\"\",\"\",'Блок 1'!AQ78)","v":""},{"$f":"IF('Блок 1'!AR78=\"\",\"\",'Блок 1'!AR78)","v":""},{"$f":"IF('Блок 1'!AS78=\"\",\"\",'Блок 1'!AS78)","v":""},{"$f":"IF('Блок 1'!AT78=\"\",\"\",'Блок 1'!AT78)","v":""},{"$f":"IF('Блок 1'!AU78=\"\",\"\",'Блок 1'!AU78)","v":""},{"$f":"IF('Блок 1'!AV78=\"\",\"\",'Блок 1'!AV78)","v":""},{"$f":"IF('Блок 1'!AW78=\"\",\"\",'Блок 1'!AW78)","v":""},{"$f":"IF('Блок 1'!AX78=\"\",\"\",'Блок 1'!AX78)","v":""},{"$f":"IF('Блок 1'!AY78=\"\",\"\",'Блок 1'!AY78)","v":""},{"$f":"IF('Блок 1'!AZ78=\"\",\"\",'Блок 1'!AZ78)","v":""},{"$f":"IF('Блок 1'!BA78=\"\",\"\",'Блок 1'!BA78)","v":""},{"$f":"IF('Блок 1'!BB78=\"\",\"\",'Блок 1'!BB78)","v":""},{"$f":"IF('Блок 1'!BC78=\"\",\"\",'Блок 1'!BC78)","v":""},{"$f":"IF('Блок 1'!BD78=\"\",\"\",'Блок 1'!BD78)","v":""},{"$f":"IF('Блок 1'!BE78=\"\",\"\",'Блок 1'!BE78)","v":""},{"$f":"IF('Блок 1'!BF78=\"\",\"\",'Блок 1'!BF78)","v":""},{"$f":"IF('Блок 1'!BG78=\"\",\"\",'Блок 1'!BG78)","v":""},{"$f":"IF('Блок 1'!BH78=\"\",\"\",'Блок 1'!BH78)","v":""}]
[null,{"$f":"IF('Блок 1'!B79=\"\",\"\",'Блок 1'!B79)","v":"В.1.00"},{"$f":"IF('Блок 1'!C79=\"\",\"\",'Блок 1'!C79)","v":"Вариативная часть"},null,null,null,null,null,null,null,null,null,null,null,null,null,null,null,null,null,null,null,null,null,null,null,{"$f":"IF('Блок 1'!AA79=\"\",\"\",'Блок 1'!AA79)","v":""},{"$f":"IF('Блок 1'!AB79=\"\",\"\",'Блок 1'!AB79)","v":0},{"$f":"IF('Блок 1'!AC79=\"\",\"\",'Блок 1'!AC79)","v":0},{"$f":"IF('Блок 1'!AD79=\"\",\"\",'Блок 1'!AD79)","v":0},{"$f":"IF('Блок 1'!AE79=\"\",\"\",'Блок 1'!AE79)","v":0},{"$f":"IF('Блок 1'!AF79=\"\",\"\",'Блок 1'!AF79)","v":0},{"$f":"IF('Блок 1'!AG79=\"\",\"\",'Блок 1'!AG79)","v":0},{"$f":"IF('Блок 1'!AH79=\"\",\"\",'Блок 1'!AH79)","v":0},{"$f":"IF('Блок 1'!AI79=\"\",\"\",'Блок 1'!AI79)","v":{"$error":"#VALUE!"}},{"$f":"IF('Блок 1'!AJ79=\"\",\"\",'Блок 1'!AJ79)","v":{"$error":"#VALUE!"}},{"$f":"IF('Блок 1'!AK79=\"\",\"\",'Блок 1'!AK79)","v":""},{"$f":"IF('Блок 1'!AL79=\"\",\"\",'Блок 1'!AL79)","v":""},{"$f":"IF('Блок 1'!AM79=\"\",\"\",'Блок 1'!AM79)","v":""},{"$f":"IF('Блок 1'!AN79=\"\",\"\",'Блок 1'!AN79)","v":""},{"$f":"IF('Блок 1'!AO79=\"\",\"\",'Блок 1'!AO79)","v":""},{"$f":"IF('Блок 1'!AP79=\"\",\"\",'Блок 1'!AP79)","v":""},{"$f":"IF('Блок 1'!AQ79=\"\",\"\",'Блок 1'!AQ79)","v":""},{"$f":"IF('Блок 1'!AR79=\"\",\"\",'Блок 1'!AR79)","v":""},{"$f":"IF('Блок 1'!AS79=\"\",\"\",'Блок 1'!AS79)","v":""},{"$f":"IF('Блок 1'!AT79=\"\",\"\",'Блок 1'!AT79)","v":""},{"$f":"IF('Блок 1'!AU79=\"\",\"\",'Блок 1'!AU79)","v":""},{"$f":"IF('Блок 1'!AV79=\"\",\"\",'Блок 1'!AV79)","v":""},{"$f":"IF('Блок 1'!AW79=\"\",\"\",'Блок 1'!AW79)","v":""},{"$f":"IF('Блок 1'!AX79=\"\",\"\",'Блок 1'!AX79)","v":""},{"$f":"IF('Блок 1'!AY79=\"\",\"\",'Блок 1'!AY79)","v":""},{"$f":"IF('Блок 1'!AZ79=\"\",\"\",'Блок 1'!AZ79)","v":""},{"$f":"IF('Блок 1'!BA79=\"\",\"\",'Блок 1'!BA79)","v":""},{"$f":"IF('Блок 1'!BB79=\"\",\"\",'Блок 1'!BB79)","v":""},{"$f":"IF('Блок 1'!BC79=\"\",\"\",'Блок 1'!BC79)","v":""},{"$f":"IF('Блок 1'!BD79=\"\",\"\",'Блок 1'!BD79)","v":""},{"$f":"IF('Блок 1'!BE79=\"\",\"\",'Блок 1'!BE79)","v":""},{"$f":"IF('Блок 1'!BF79=\"\",\"\",'Блок 1'!BF79)","v":""},{"$f":"IF('Блок 1'!BG79=\"\",\"\",'Блок 1'!BG79)","v":""},{"$f":"IF('Блок 1'!BH79=\"\",\"\",'Блок 1'!BH79)","v":""}]
[null,{"$f":"IF('Блок 1'!B80=\"\",\"\",'Блок 1'!B80)","v":""},{"$f":"IF('Блок 1'!C80=\"\",\"\",'Блок 1'!C80)","v":"Модуль \"Общенаучные дисциплины\""},null,null,null,null,null,null,null,null,null,null,null,null,null,null,null,null,null,null,null,null,null,null,null,null,{"$f":"IF('Блок 1'!AB80=\"\",\"\",'Блок 1'!AB80)","v":0},{"$f":"IF('Блок 1'!AC80=\"\",\"\",'Блок 1'!AC80)","v":0},{"$f":"IF('Блок 1'!AD80=\"\",\"\",'Блок 1'!AD80)","v":0},{"$f":"IF('Блок 1'!AE80=\"\",\"\",'Блок 1'!AE80)","v":0},{"$f":"IF('Блок 1'!AF80=\"\",\"\",'Блок 1'!AF80)","v":0},{"$f":"IF('Блок 1'!AG80=\"\",\"\",'Блок 1'!AG80)","v":0},{"$f":"IF('Блок 1'!AH80=\"\",\"\",'Блок 1'!AH80)","v":0},{"$f":"IF('Блок 1'!AI80=\"\",\"\",'Блок 1'!AI80)","v":0},{"$f":"IF('Блок 1'!AJ80=\"\",\"\",'Блок 1'!AJ80)","v":0},{"$f":"IF('Блок 1'!AK80=\"\",\"\",'Блок 1'!AK80)","v":""},{"$f":"IF('Блок 1'!AL80=\"\",\"\",'Блок 1'!AL80)","v":""},{"$f":"IF('Блок 1'!AM80=\"\",\"\",'Блок 1'!AM80)","v":""},{"$f":"IF('Блок 1'!AN80=\"\",\"\",'Блок 1'!AN80)","v":""},{"$f":"IF('Блок 1'!AO80=\"\",\"\",'Блок 1'!AO80)","v":""},{"$f":"IF('Блок 1'!AP80=\"\",\"\",'Блок 1'!AP80)","v":""},{"$f":"IF('Блок 1'!AQ80=\"\",\"\",'Блок 1'!AQ80)","v":""},{"$f":"IF('Блок 1'!AR80=\"\",\"\",'Блок 1'!AR80)","v":""},{"$f":"IF('Блок 1'!AS80=\"\",\"\",'Блок 1'!AS80)","v":""},{"$f":"IF('Блок 1'!AT80=\"\",\"\",'Блок 1'!AT80)","v":""},{"$f":"IF('Блок 1'!AU80=\"\",\"\",'Блок 1'!AU80)","v":""},{"$f":"IF('Блок 1'!AV80=\"\",\"\",'Блок 1'!AV80)","v":""},{"$f":"IF('Блок 1'!AW80=\"\",\"\",'Блок 1'!AW80)","v":""},{"$f":"IF('Блок 1'!AX80=\"\",\"\",'Блок 1'!AX80)","v":""},{"$f":"IF('Блок 1'!AY80=\"\",\"\",'Блок 1'!AY80)","v":""},{"$f":"IF('Блок 1'!AZ80=\"\",\"\",'Блок 1'!AZ80)","v":""},{"$f":"IF('Блок 1'!BA80=\"\",\"\",'Блок 1'!BA80)","v":""},{"$f":"IF('Блок 1'!BB80=\"\",\"\",'Блок 1'!BB80)","v":""},{"$f":"IF('Блок 1'!BC80=\"\",\"\",'Блок 1'!BC80)","v":""},{"$f":"IF('Блок 1'!BD80=\"\",\"\",'Блок 1'!BD80)","v":""},{"$f":"IF('Блок 1'!BE80=\"\",\"\",'Блок 1'!BE80)","v":""},{"$f":"IF('Блок 1'!BF80=\"\",\"\",'Блок 1'!BF80)","v":""},{"$f":"IF('Блок 1'!BG80=\"\",\"\",'Блок 1'!BG80)","v":""},{"$f":"IF('Блок 1'!BH80=\"\",\"\",'Блок 1'!BH80)","v":""}]
[null,{"$f":"IF('Блок 1'!B81=\"\",\"\",'Блок 1'!B81)","v":"В.1.01"},{"$f":"IF('Блок 1'!C81=\"\",\"\",'Блок 1'!C81)","v":""},{"$f":"IF('Блок 1'!D81=\"\",\"\",'Блок 1'!D81)","v":""},{"$f":"IF('Блок 1'!E81=\"\",\"\",'Блок 1'!E81)","v":""},{"$f":"IF('Блок 1'!F81=\"\",\"\",'Блок 1'!F81)","v":""},{"$f":"IF('Блок 1'!G81=\"\",\"\",'Блок 1'!G81)","v":""},{"$f":"IF('Блок 1'!H81=\"\",\"\",'Блок 1'!H81)","v":""},{"$f":"IF('Блок 1'!I81=\"\",\"\",'Блок 1'!I81)","v":""},{"$f":"IF('Блок 1'!J81=\"\",\"\",'Блок 1'!J81)","v":""},{"$f":"IF('Блок 1'!K81=\"\",\"\",'Блок 1'!K81)","v":""},{"$f":"IF('Блок 1'!L81=\"\",\"\",'Блок 1'!L81)","v":""},{"$f":"IF('Блок 1'!M81=\"\",\"\",'Блок 1'!M81)","v":""},{"$f":"IF('Блок 1'!N81=\"\",\"\",'Блок 1'!N81)","v":""},{"$f":"IF('Блок 1'!O81=\"\",\"\",'Блок 1'!O81)","v":""},{"$f":"IF('Блок 1'!P81=\"\",\"\",'Блок 1'!P81)","v":""},{"$f":"IF('Блок 1'!Q81=\"\",\"\",'Блок 1'!Q81)","v":""},{"$f":"IF('Блок 1'!R81=\"\",\"\",'Блок 1'!R81)","v":""},{"$f":"IF('Блок 1'!S81=\"\",\"\",'Блок 1'!S81)","v":""},{"$f":"IF('Блок 1'!T81=\"\",\"\",'Блок 1'!T81)","v":""},{"$f":"IF('Блок 1'!U81=\"\",\"\",'Блок 1'!U81)","v":""},{"$f":"IF('Блок 1'!V81=\"\",\"\",'Блок 1'!V81)","v":""},{"$f":"IF('Блок 1'!W81=\"\",\"\",'Блок 1'!W81)","v":""},{"$f":"IF('Блок 1'!X81=\"\",\"\",'Блок 1'!X81)","v":""},{"$f":"IF('Блок 1'!Y81=\"\",\"\",'Блок 1'!Y81)","v":""},{"$f":"IF('Блок 1'!Z81=\"\",\"\",'Блок 1'!Z81)","v":""},{"$f":"IF('Блок 1'!AA81=\"\",\"\",'Блок 1'!AA81)","v":""},{"$f":"IF('Блок 1'!AB81=\"\",\"\",'Блок 1'!AB81)","v":""},{"$f":"IF('Блок 1'!AC81=\"\",\"\",'Блок 1'!AC81)","v":""},{"$f":"IF('Блок 1'!AD81=\"\",\"\",'Блок 1'!AD81)","v":""},{"$f":"IF('Блок 1'!AE81=\"\",\"\",'Блок 1'!AE81)","v":""},{"$f":"IF('Блок 1'!AF81=\"\",\"\",'Блок 1'!AF81)","v":""},{"$f":"IF('Блок 1'!AG81=\"\",\"\",'Блок 1'!AG81)","v":""},{"$f":"IF('Блок 1'!AH81=\"\",\"\",'Блок 1'!AH81)","v":""},{"$f":"IF('Блок 1'!AI81=\"\",\"\",'Блок 1'!AI81)","v":""},{"$f":"IF('Блок 1'!AJ81=\"\",\"\",'Блок 1'!AJ81)","v":""},{"$f":"IF('Блок 1'!AK81=\"\",\"\",'Блок 1'!AK81)","v":""},{"$f":"IF('Блок 1'!AL81=\"\",\"\",'Блок 1'!AL81)","v":""},{"$f":"IF('Блок 1'!AM81=\"\",\"\",'Блок 1'!AM81)","v":""},{"$f":"IF('Блок 1'!AN81=\"\",\"\",'Блок 1'!AN81)","v":""},{"$f":"IF('Блок 1'!AO81=\"\",\"\",'Блок 1'!AO81)","v":""},{"$f":"IF('Блок 1'!AP81=\"\",\"\",'Блок 1'!AP81)","v":""},{"$f":"IF('Блок 1'!AQ81=\"\",\"\",'Блок 1'!AQ81)","v":""},{"$f":"IF('Блок 1'!AR81=\"\",\"\",'Блок 1'!AR81)","v":""},{"$f":"IF('Блок 1'!AS81=\"\",\"\",'Блок 1'!AS81)","v":""},{"$f":"IF('Блок 1'!AT81=\"\",\"\",'Блок 1'!AT81)","v":""},{"$f":"IF('Блок 1'!AU81=\"\",\"\",'Блок 1'!AU81)","v":""},{"$f":"IF('Блок 1'!AV81=\"\",\"\",'Блок 1'!AV81)","v":""},{"$f":"IF('Блок 1'!AW81=\"\",\"\",'Блок 1'!AW81)","v":""},{"$f":"IF('Блок 1'!AX81=\"\",\"\",'Блок 1'!AX81)","v":""},{"$f":"IF('Блок 1'!AY81=\"\",\"\",'Блок 1'!AY81)","v":""},{"$f":"IF('Блок 1'!AZ81=\"\",\"\",'Блок 1'!AZ81)","v":""},{"$f":"IF('Блок 1'!BA81=\"\",\"\",'Блок 1'!BA81)","v":""},{"$f":"IF('Блок 1'!BB81=\"\",\"\",'Блок 1'!BB81)","v":""},{"$f":"IF('Блок 1'!BC81=\"\",\"\",'Блок 1'!BC81)","v":""},{"$f":"IF('Блок 1'!BD81=\"\",\"\",'Блок 1'!BD81)","v":""},{"$f":"IF('Блок 1'!BE81=\"\",\"\",'Блок 1'!BE81)","v":""},{"$f":"IF('Блок 1'!BF81=\"\",\"\",'Блок 1'!BF81)","v":""},{"$f":"IF('Блок 1'!BG81=\"\",\"\",'Блок 1'!BG81)","v":""},{"$f":"IF('Блок 1'!BH81=\"\",\"\",'Блок 1'!BH81)","v":""}]
[null,{"$f":"IF('Блок 1'!B82=\"\",\"\",'Блок 1'!B82)","v":"В.1.02"},{"$f":"IF('Блок 1'!C82=\"\",\"\",'Блок 1'!C82)","v":""},{"$f":"IF('Блок 1'!D82=\"\",\"\",'Блок 1'!D82)","v":""},{"$f":"IF('Блок 1'!E82=\"\",\"\",'Блок 1'!E82)","v":""},{"$f":"IF('Блок 1'!F82=\"\",\"\",'Блок 1'!F82)","v":""},{"$f":"IF('Блок 1'!G82=\"\",\"\",'Блок 1'!G82)","v":""},{"$f":"IF('Блок 1'!H82=\"\",\"\",'Блок 1'!H82)","v":""},{"$f":"IF('Блок 1'!I82=\"\",\"\",'Блок 1'!I82)","v":""},{"$f":"IF('Блок 1'!J82=\"\",\"\",'Блок 1'!J82)","v":""},{"$f":"IF('Блок 1'!K82=\"\",\"\",'Блок 1'!K82)","v":""},{"$f":"IF('Блок 1'!L82=\"\",\"\",'Блок 1'!L82)","v":""},{"$f":"IF('Блок 1'!M82=\"\",\"\",'Блок 1'!M82)","v":""},{"$f":"IF('Блок 1'!N82=\"\",\"\",'Блок 1'!N82)","v":""},{"$f":"IF('Блок 1'!O82=\"\",\"\",'Блок 1'!O82)","v":""},{"$f":"IF('Блок 1'!P82=\"\",\"\",'Блок 1'!P82)","v":""},{"$f":"IF('Блок 1'!Q82=\"\",\"\",'Блок 1'!Q82)","v":""},{"$f":"IF('Блок 1'!R82=\"\",\"\",'Блок 1'!R82)","v":""},{"$f":"IF('Блок 1'!S82=\"\",\"\",'Блок 1'!S82)","v":""},{"$f":"IF('Блок 1'!T82=\"\",\"\",'Блок 1'!T82)","v":""},{"$f":"IF('Блок 1'!U82=\"\",\"\",'Блок 1'!U82)","v":""},{"$f":"IF('Блок 1'!V82=\"\",\"\",'Блок 1'!V82)","v":""},{"$f":"IF('Блок 1'!W82=\"\",\"\",'Блок 1'!W82)","v":""},{"$f":"IF('Блок 1'!X82=\"\",\"\",'Блок 1'!X82)","v":""},{"$f":"IF('Блок 1'!Y82=\"\",\"\",'Блок 1'!Y82)","v":""},{"$f":"IF('Блок 1'!Z82=\"\",\"\",'Блок 1'!Z82)","v":""},{"$f":"IF('Блок 1'!AA82=\"\",\"\",'Блок 1'!AA82)","v":""},{"$f":"IF('Блок 1'!AB82=\"\",\"\",'Блок 1'!AB82)","v":""},{"$f":"IF('Блок 1'!AC82=\"\",\"\",'Блок 1'!AC82)","v":""},{"$f":"IF('Блок 1'!AD82=\"\",\"\",'Блок 1'!AD82)","v":""},{"$f":"IF('Блок 1'!AE82=\"\",\"\",'Блок 1'!AE82)","v":""},{"$f":"IF('Блок 1'!AF82=\"\",\"\",'Блок 1'!AF82)","v":""},{"$f":"IF('Блок 1'!AG82=\"\",\"\",'Блок 1'!AG82)","v":""},{"$f":"IF('Блок 1'!AH82=\"\",\"\",'Блок 1'!AH82)","v":""},{"$f":"IF('Блок 1'!AI82=\"\",\"\",'Блок 1'!AI82)","v":""},{"$f":"IF('Блок 1'!AJ82=\"\",\"\",'Блок 1'!AJ82)","v":""},{"$f":"IF('Блок 1'!AK82=\"\",\"\",'Блок 1'!AK82)","v":""},{"$f":"IF('Блок 1'!AL82=\"\",\"\",'Блок 1'!AL82)","v":""},{"$f":"IF('Блок 1'!AM82=\"\",\"\",'Блок 1'!AM82)","v":""},{"$f":"IF('Блок 1'!AN82=\"\",\"\",'Блок 1'!AN82)","v":""},{"$f":"IF('Блок 1'!AO82=\"\",\"\",'Блок 1'!AO82)","v":""},{"$f":"IF('Блок 1'!AP82=\"\",\"\",'Блок 1'!AP82)","v":""},{"$f":"IF('Блок 1'!AQ82=\"\",\"\",'Блок 1'!AQ82)","v":""},{"$f":"IF('Блок 1'!AR82=\"\",\"\",'Блок 1'!AR82)","v":""},{"$f":"IF('Блок 1'!AS82=\"\",\"\",'Блок 1'!AS82)","v":""},{"$f":"IF('Блок 1'!AT82=\"\",\"\",'Блок 1'!AT82)","v":""},{"$f":"IF('Блок 1'!AU82=\"\",\"\",'Блок 1'!AU82)","v":""},{"$f":"IF('Блок 1'!AV82=\"\",\"\",'Блок 1'!AV82)","v":""},{"$f":"IF('Блок 1'!AW82=\"\",\"\",'Блок 1'!AW82)","v":""},{"$f":"IF('Блок 1'!AX82=\"\",\"\",'Блок 1'!AX82)","v":""},{"$f":"IF('Блок 1'!AY82=\"\",\"\",'Блок 1'!AY82)","v":""},{"$f":"IF('Блок 1'!AZ82=\"\",\"\",'Блок 1'!AZ82)","v":""},{"$f":"IF('Блок 1'!BA82=\"\",\"\",'Блок 1'!BA82)","v":""},{"$f":"IF('Блок 1'!BB82=\"\",\"\",'Блок 1'!BB82)","v":""},{"$f":"IF('Блок 1'!BC82=\"\",\"\",'Блок 1'!BC82)","v":""},{"$f":"IF('Блок 1'!BD82=\"\",\"\",'Блок 1'!BD82)","v":""},{"$f":"IF('Блок 1'!BE82=\"\",\"\",'Блок 1'!BE82)","v":""},{"$f":"IF('Блок 1'!BF82=\"\",\"\",'Блок 1'!BF82)","v":""},{"$f":"IF('Блок 1'!BG82=\"\",\"\",'Блок 1'!BG82)","v":""},{"$f":"IF('Блок 1'!BH82=\"\",\"\",'Блок 1'!BH82)","v":""}]
[null,{"$f":"IF('Блок 1'!B83=\"\",\"\",'Блок 1'!B83)","v":"В.1.03"},{"$f":"IF('Блок 1'!C83=\"\",\"\",'Блок 1'!C83)","v":""},{"$f":"IF('Блок 1'!D83=\"\",\"\",'Блок 1'!D83)","v":""},{"$f":"IF('Блок 1'!E83=\"\",\"\",'Блок 1'!E83)","v":""},{"$f":"IF('Блок 1'!F83=\"\",\"\",'Блок 1'!F83)","v":""},{"$f":"IF('Блок 1'!G83=\"\",\"\",'Блок 1'!G83)","v":""},{"$f":"IF('Блок 1'!H83=\"\",\"\",'Блок 1'!H83)","v":""},{"$f":"IF('Блок 1'!I83=\"\",\"\",'Блок 1'!I83)","v":""},{"$f":"IF('Блок 1'!J83=\"\",\"\",'Блок 1'!J83)","v":""},{"$f":"IF('Блок 1'!K83=\"\",\"\",'Блок 1'!K83)","v":""},{"$f":"IF('Блок 1'!L83=\"\",\"\",'Блок 1'!L83)","v":""},{"$f":"IF('Блок 1'!M83=\"\",\"\",'Блок 1'!M83)","v":""},{"$f":"IF('Блок 1'!N83=\"\",\"\",'Блок 1'!N83)","v":""},{"$f":"IF('Блок 1'!O83=\"\",\"\",'Блок 1'!O83)","v":""},{"$f":"IF('Блок 1'!P83=\"\",\"\",'Блок 1'!P83)","v":""},{"$f":"IF('Блок 1'!Q83=\"\",\"\",'Блок 1'!Q83)","v":""},{"$f":"IF('Блок 1'!R83=\"\",\"\",'Блок 1'!R83)","v":""},{"$f":"IF('Блок 1'!S83=\"\",\"\",'Блок 1'!S83)","v":""},{"$f":"IF('Блок 1'!T83=\"\",\"\",'Блок 1'!T83)","v":""},{"$f":"IF('Блок 1'!U83=\"\",\"\",'Блок 1'!U83)","v":""},{"$f":"IF('Блок 1'!V83=\"\",\"\",'Блок 1'!V83)","v":""},{"$f":"IF('Блок 1'!W83=\"\",\"\",'Блок 1'!W83)","v":""},{"$f":"IF('Блок 1'!X83=\"\",\"\",'Блок 1'!X83)","v":""},{"$f":"IF('Блок 1'!Y83=\"\",\"\",'Блок 1'!Y83)","v":""},{"$f":"IF('Блок 1'!Z83=\"\",\"\",'Блок 1'!Z83)","v":""},{"$f":"IF('Блок 1'!AA83=\"\",\"\",'Блок 1'!AA83)","v":""},{"$f":"IF('Блок 1'!AB83=\"\",\"\",'Блок 1'!AB83)","v":""},{"$f":"IF('Блок 1'!AC83=\"\",\"\",'Блок 1'!AC83)","v":""},{"$f":"IF('Блок 1'!AD83=\"\",\"\",'Блок 1'!AD83)","v":""},{"$f":"IF('Блок 1'!AE83=\"\",\"\",'Блок 1'!AE83)","v":""},{"$f":"IF('Блок 1'!AF83=\"\",\"\",'Блок 1'!AF83)","v":""},{"$f":"IF('Блок 1'!AG83=\"\",\"\",'Блок 1'!AG83)","v":""},{"$f":"IF('Блок 1'!AH83=\"\",\"\",'Блок 1'!AH83)","v":""},{"$f":"IF('Блок 1'!AI83=\"\",\"\",'Блок 1'!AI83)","v":""},{"$f":"IF('Блок 1'!AJ83=\"\",\"\",'Блок 1'!AJ83)","v":""},{"$f":"IF('Блок 1'!AK83=\"\",\"\",'Блок 1'!AK83)","v":""},{"$f":"IF('Блок 1'!AL83=\"\",\"\",'Блок 1'!AL83)","v":""},{"$f":"IF('Блок 1'!AM83=\"\",\"\",'Блок 1'!AM83)","v":""},{"$f":"IF('Блок 1'!AN83=\"\",\"\",'Блок 1'!AN83)","v":""},{"$f":"IF('Блок 1'!AO83=\"\",\"\",'Блок 1'!AO83)","v":""},{"$f":"IF('Блок 1'!AP83=\"\",\"\",'Блок 1'!AP83)","v":""},{"$f":"IF('Блок 1'!AQ83=\"\",\"\",'Блок 1'!AQ83)","v":""},{"$f":"IF('Блок 1'!AR83=\"\",\"\",'Блок 1'!AR83)","v":""},{"$f":"IF('Блок 1'!AS83=\"\",\"\",'Блок 1'!AS83)","v":""},{"$f":"IF('Блок 1'!AT83=\"\",\"\",'Блок 1'!AT83)","v":""},{"$f":"IF('Блок 1'!AU83=\"\",\"\",'Блок 1'!AU83)","v":""},{"$f":"IF('Блок 1'!AV83=\"\",\"\",'Блок 1'!AV83)","v":""},{"$f":"IF('Блок 1'!AW83=\"\",\"\",'Блок 1'!AW83)","v":""},{"$f":"IF('Блок 1'!AX83=\"\",\"\",'Блок 1'!AX83)","v":""},{"$f":"IF('Блок 1'!AY83=\"\",\"\",'Блок 1'!AY83)","v":""},{"$f":"IF('Блок 1'!AZ83=\"\",\"\",'Блок 1'!AZ83)","v":""},{"$f":"IF('Блок 1'!BA83=\"\",\"\",'Блок 1'!BA83)","v":""},{"$f":"IF('Блок 1'!BB83=\"\",\"\",'Блок 1'!BB83)","v":""},{"$f":"IF('Блок 1'!BC83=\"\",\"\",'Блок 1'!BC83)","v":""},{"$f":"IF('Блок 1'!BD83=\"\",\"\",'Блок 1'!BD83)","v":""},{"$f":"IF('Блок 1'!BE83=\"\",\"\",'Блок 1'!BE83)","v":""},{"$f":"IF('Блок 1'!BF83=\"\",\"\",'Блок 1'!BF83)","v":""},{"$f":"IF('Блок 1'!BG83=\"\",\"\",'Блок 1'!BG83)","v":""},{"$f":"IF('Блок 1'!BH83=\"\",\"\",'Блок 1'!BH83)","v":""}]
[null,{"$f":"IF('Блок 1'!B84=\"\",\"\",'Блок 1'!B84)","v":"В.1.04"},{"$f":"IF('Блок 1'!C84=\"\",\"\",'Блок 1'!C84)","v":""},{"$f":"IF('Блок 1'!D84=\"\",\"\",'Блок 1'!D84)","v":""},{"$f":"IF('Блок 1'!E84=\"\",\"\",'Блок 1'!E84)","v":""},{"$f":"IF('Блок 1'!F84=\"\",\"\",'Блок 1'!F84)","v":""},{"$f":"IF('Блок 1'!G84=\"\",\"\",'Блок 1'!G84)","v":""},{"$f":"IF('Блок 1'!H84=\"\",\"\",'Блок 1'!H84)","v":""},{"$f":"IF('Блок 1'!I84=\"\",\"\",'Блок 1'!I84)","v":""},{"$f":"IF('Блок 1'!J84=\"\",\"\",'Блок 1'!J84)","v":""},{"$f":"IF('Блок 1'!K84=\"\",\"\",'Блок 1'!K84)","v":""},{"$f":"IF('Блок 1'!L84=\"\",\"\",'Блок 1'!L84)","v":""},{"$f":"IF('Блок 1'!M84=\"\",\"\",'Блок 1'!M84)","v":""},{"$f":"IF('Блок 1'!N84=\"\",\"\",'Блок 1'!N84)","v":""},{"$f":"IF('Блок 1'!O84=\"\",\"\",'Блок 1'!O84)","v":""},{"$f":"IF('Блок 1'!P84=\"\",\"\",'Блок 1'!P84)","v":""},{"$f":"IF('Блок 1'!Q84=\"\",\"\",'Блок 1'!Q84)","v":""},{"$f":"IF('Блок 1'!R84=\"\",\"\",'Блок 1'!R84)","v":""},{"$f":"IF('Блок 1'!S84=\"\",\"\",'Блок 1'!S84)","v":""},{"$f":"IF('Блок 1'!T84=\"\",\"\",'Блок 1'!T84)","v":""},{"$f":"IF('Блок 1'!U84=\"\",\"\",'Блок 1'!U84)","v":""},{"$f":"IF('Блок 1'!V84=\"\",\"\",'Блок 1'!V84)","v":""},{"$f":"IF('Блок 1'!W84=\"\",\"\",'Блок 1'!W84)","v":""},{"$f":"IF('Блок 1'!X84=\"\",\"\",'Блок 1'!X84)","v":""},{"$f":"IF('Блок 1'!Y84=\"\",\"\",'Блок 1'!Y84)","v":""},{"$f":"IF('Блок 1'!Z84=\"\",\"\",'Блок 1'!Z84)","v":""},{"$f":"IF('Блок 1'!AA84=\"\",\"\",'Блок 1'!AA84)","v":""},{"$f":"IF('Блок 1'!AB84=\"\",\"\",'Блок 1'!AB84)","v":""},{"$f":"IF('Блок 1'!AC84=\"\",\"\",'Блок 1'!AC84)","v":""},{"$f":"IF('Блок 1'!AD84=\"\",\"\",'Блок 1'!AD84)","v":""},{"$f":"IF('Блок 1'!AE84=\"\",\"\",'Блок 1'!AE84)","v":""},{"$f":"IF('Блок 1'!AF84=\"\",\"\",'Блок 1'!AF84)","v":""},{"$f":"IF('Блок 1'!AG84=\"\",\"\",'Блок 1'!AG84)","v":""},{"$f":"IF('Блок 1'!AH84=\"\",\"\",'Блок 1'!AH84)","v":""},{"$f":"IF('Блок 1'!AI84=\"\",\"\",'Блок 1'!AI84)","v":""},{"$f":"IF('Блок 1'!AJ84=\"\",\"\",'Блок 1'!AJ84)","v":""},{"$f":"IF('Блок 1'!AK84=\"\",\"\",'Блок 1'!AK84)","v":""},{"$f":"IF('Блок 1'!AL84=\"\",\"\",'Блок 1'!AL84)","v":""},{"$f":"IF('Блок 1'!AM84=\"\",\"\",'Блок 1'!AM84)","v":""},{"$f":"IF('Блок 1'!AN84=\"\",\"\",'Блок 1'!AN84)","v":""},{"$f":"IF('Блок 1'!AO84=\"\",\"\",'Блок 1'!AO84)","v":""},{"$f":"IF('Блок 1'!AP84=\"\",\"\",'Блок 1'!AP84)","v":""},{"$f":"IF('Блок 1'!AQ84=\"\",\"\",'Блок 1'!AQ84)","v":""},{"$f":"IF('Блок 1'!AR84=\"\",\"\",'Блок 1'!AR84)","v":""},{"$f":"IF('Блок 1'!AS84=\"\",\"\",'Блок 1'!AS84)","v":""},{"$f":"IF('Блок 1'!AT84=\"\",\"\",'Блок 1'!AT84)","v":""},{"$f":"IF('Блок 1'!AU84=\"\",\"\",'Блок 1'!AU84)","v":""},{"$f":"IF('Блок 1'!AV84=\"\",\"\",'Блок 1'!AV84)","v":""},{"$f":"IF('Блок 1'!AW84=\"\",\"\",'Блок 1'!AW84)","v":""},{"$f":"IF('Блок 1'!AX84=\"\",\"\",'Блок 1'!AX84)","v":""},{"$f":"IF('Блок 1'!AY84=\"\",\"\",'Блок 1'!AY84)","v":""},{"$f":"IF('Блок 1'!AZ84=\"\",\"\",'Блок 1'!AZ84)","v":""},{"$f":"IF('Блок 1'!BA84=\"\",\"\",'Блок 1'!BA84)","v":""},{"$f":"IF('Блок 1'!BB84=\"\",\"\",'Блок 1'!BB84)","v":""},{"$f":"IF('Блок 1'!BC84=\"\",\"\",'Блок 1'!BC84)","v":""},{"$f":"IF('Блок 1'!BD84=\"\",\"\",'Блок 1'!BD84)","v":""},{"$f":"IF('Блок 1'!BE84=\"\",\"\",'Блок 1'!BE84)","v":""},{"$f":"IF('Блок 1'!BF84=\"\",\"\",'Блок 1'!BF84)","v":""},{"$f":"IF('Блок 1'!BG84=\"\",\"\",'Блок 1'!BG84)","v":""},{"$f":"IF('Блок 1'!BH84=\"\",\"\",'Блок 1'!BH84)","v":""}]
[null,{"$f":"IF('Блок 1'!B85=\"\",\"\",'Блок 1'!B85)","v":"В.1.05"},{"$f":"IF('Блок 1'!C85=\"\",\"\",'Блок 1'!C85)","v":""},{"$f":"IF('Блок 1'!D85=\"\",\"\",'Блок 1'!D85)","v":""},{"$f":"IF('Блок 1'!E85=\"\",\"\",'Блок 1'!E85)","v":""},{"$f":"IF('Блок 1'!F85=\"\",\"\",'Блок 1'!F85)","v":""},{"$f":"IF('Блок 1'!G85=\"\",\"\",'Блок 1'!G85)","v":""},{"$f":"IF('Блок 1'!H85=\"\",\"\",'Блок 1'!H85)","v":""},{"$f":"IF('Блок 1'!I85=\"\",\"\",'Блок 1'!I85)","v":""},{"$f":"IF('Блок 1'!J85=\"\",\"\",'Блок 1'!J85)","v":""},{"$f":"IF('Блок 1'!K85=\"\",\"\",'Блок 1'!K85)","v":""},{"$f":"IF('Блок 1'!L85=\"\",\"\",'Блок 1'!L85)","v":""},{"$f":"IF('Блок 1'!M85=\"\",\"\",'Блок 1'!M85)","v":""},{"$f":"IF('Блок 1'!N85=\"\",\"\",'Блок 1'!N85)","v":""},{"$f":"IF('Блок 1'!O85=\"\",\"\",'Блок 1'!O85)","v":""},{"$f":"IF('Блок 1'!P85=\"\",\"\",'Блок 1'!P85)","v":""},{"$f":"IF('Блок 1'!Q85=\"\",\"\",'Блок 1'!Q85)","v":""},{"$f":"IF('Блок 1'!R85=\"\",\"\",'Блок 1'!R85)","v":""},{"$f":"IF('Блок 1'!S85=\"\",\"\",'Блок 1'!S85)","v":""},{"$f":"IF('Блок 1'!T85=\"\",\"\",'Блок 1'!T85)","v":""},{"$f":"IF('Блок 1'!U85=\"\",\"\",'Блок 1'!U85)","v":""},{"$f":"IF('Блок 1'!V85=\"\",\"\",'Блок 1'!V85)","v":""},{"$f":"IF('Блок 1'!W85=\"\",\"\",'Блок 1'!W85)","v":""},{"$f":"IF('Блок 1'!X85=\"\",\"\",'Блок 1'!X85)","v":""},{"$f":"IF('Блок 1'!Y85=\"\",\"\",'Блок 1'!Y85)","v":""},{"$f":"IF('Блок 1'!Z85=\"\",\"\",'Блок 1'!Z85)","v":""},{"$f":"IF('Блок 1'!AA85=\"\",\"\",'Блок 1'!AA85)","v":""},{"$f":"IF('Блок 1'!AB85=\"\",\"\",'Блок 1'!AB85)","v":""},{"$f":"IF('Блок 1'!AC85=\"\",\"\",'Блок 1'!AC85)","v":""},{"$f":"IF('Блок 1'!AD85=\"\",\"\",'Блок 1'!AD85)","v":""},{"$f":"IF('Блок 1'!AE85=\"\",\"\",'Блок 1'!AE85)","v":""},{"$f":"IF('Блок 1'!AF85=\"\",\"\",'Блок 1'!AF85)","v":""},{"$f":"IF('Блок 1'!AG85=\"\",\"\",'Блок 1'!AG85)","v":""},{"$f":"IF('Блок 1'!AH85=\"\",\"\",'Блок 1'!AH85)","v":""},{"$f":"IF('Блок 1'!AI85=\"\",\"\",'Блок 1'!AI85)","v":""},{"$f":"IF('Блок 1'!AJ85=\"\",\"\",'Блок 1'!AJ85)","v":""},{"$f":"IF('Блок 1'!AK85=\"\",\"\",'Блок 1'!AK85)","v":""},{"$f":"IF('Блок 1'!AL85=\"\",\"\",'Блок 1'!AL85)","v":""},{"$f":"IF('Блок 1'!AM85=\"\",\"\",'Блок 1'!AM85)","v":""},{"$f":"IF('Блок 1'!AN85=\"\",\"\",'Блок 1'!AN85)","v":""},{"$f":"IF('Блок 1'!AO85=\"\",\"\",'Блок 1'!AO85)","v":""},{"$f":"IF('Блок 1'!AP85=\"\",\"\",'Блок 1'!AP85)","v":""},{"$f":"IF('Блок 1'!AQ85=\"\",\"\",'Блок 1'!AQ85)","v":""},{"$f":"IF('Блок 1'!AR85=\"\",\"\",'Блок 1'!AR85)","v":""},{"$f":"IF('Блок 1'!AS85=\"\",\"\",'Блок 1'!AS85)","v":""},{"$f":"IF('Блок 1'!AT85=\"\",\"\",'Блок 1'!AT85)","v":""},{"$f":"IF('Блок 1'!AU85=\"\",\"\",'Блок 1'!AU85)","v":""},{"$f":"IF('Блок 1'!AV85=\"\",\"\",'Блок 1'!AV85)","v":""},{"$f":"IF('Блок 1'!AW85=\"\",\"\",'Блок 1'!AW85)","v":""},{"$f":"IF('Блок 1'!AX85=\"\",\"\",'Блок 1'!AX85)","v":""},{"$f":"IF('Блок 1'!AY85=\"\",\"\",'Блок 1'!AY85)","v":""},{"$f":"IF('Блок 1'!AZ85=\"\",\"\",'Блок 1'!AZ85)","v":""},{"$f":"IF('Блок 1'!BA85=\"\",\"\",'Блок 1'!BA85)","v":""},{"$f":"IF('Блок 1'!BB85=\"\",\"\",'Блок 1'!BB85)","v":""},{"$f":"IF('Блок 1'!BC85=\"\",\"\",'Блок 1'!BC85)","v":""},{"$f":"IF('Блок 1'!BD85=\"\",\"\",'Блок 1'!BD85)","v":""},{"$f":"IF('Блок 1'!BE85=\"\",\"\",'Блок 1'!BE85)","v":""},{"$f":"IF('Блок 1'!BF85=\"\",\"\",'Блок 1'!BF85)","v":""},{"$f":"IF('Блок 1'!BG85=\"\",\"\",'Блок 1'!BG85)","v":""},{"$f":"IF('Блок 1'!BH85=\"\",\"\",'Блок 1'!BH85)","v":""}]
[null,{"$f":"IF('Блок 1'!B86=\"\",\"\",'Блок 1'!B86)","v":"В.1.06"},{"$f":"IF('Блок 1'!C86=\"\",\"\",'Блок 1'!C86)","v":""},{"$f":"IF('Блок 1'!D86=\"\",\"\",'Блок 1'!D86)","v":""},{"$f":"IF('Блок 1'!E86=\"\",\"\",'Блок 1'!E86)","v":""},{"$f":"IF('Блок 1'!F86=\"\",\"\",'Блок 1'!F86)","v":""},{"$f":"IF('Блок 1'!G86=\"\",\"\",'Блок 1'!G86)","v":""},{"$f":"IF('Блок 1'!H86=\"\",\"\",'Блок 1'!H86)","v":""},{"$f":"IF('Блок 1'!I86=\"\",\"\",'Блок 1'!I86)","v":""},{"$f":"IF('Блок 1'!J86=\"\",\"\",'Блок 1'!J86)","v":""},{"$f":"IF('Блок 1'!K86=\"\",\"\",'Блок 1'!K86)","v":""},{"$f":"IF('Блок 1'!L86=\"\",\"\",'Блок 1'!L86)","v":""},{"$f":"IF('Блок 1'!M86=\"\",\"\",'Блок 1'!M86)","v":""},{"$f":"IF('Блок 1'!N86=\"\",\"\",'Блок 1'!N86)","v":""},{"$f":"IF('Блок 1'!O86=\"\",\"\",'Блок 1'!O86)","v":""},{"$f":"IF('Блок 1'!P86=\"\",\"\",'Блок 1'!P86)","v":""},{"$f":"IF('Блок 1'!Q86=\"\",\"\",'Блок 1'!Q86)","v":""},{"$f":"IF('Блок 1'!R86=\"\",\"\",'Блок 1'!R86)","v":""},{"$f":"IF('Блок 1'!S86=\"\",\"\",'Блок 1'!S86)","v":""},{"$f":"IF('Блок 1'!T86=\"\",\"\",'Блок 1'!T86)","v":""},{"$f":"IF('Блок 1'!U86=\"\",\"\",'Блок 1'!U86)","v":""},{"$f":"IF('Блок 1'!V86=\"\",\"\",'Блок 1'!V86)","v":""},{"$f":"IF('Блок 1'!W86=\"\",\"\",'Блок 1'!W86)","v":""},{"$f":"IF('Блок 1'!X86=\"\",\"\",'Блок 1'!X86)","v":""},{"$f":"IF('Блок 1'!Y86=\"\",\"\",'Блок 1'!Y86)","v":""},{"$f":"IF('Блок 1'!Z86=\"\",\"\",'Блок 1'!Z86)","v":""},{"$f":"IF('Блок 1'!AA86=\"\",\"\",'Блок 1'!AA86)","v":""},{"$f":"IF('Блок 1'!AB86=\"\",\"\",'Блок 1'!AB86)","v":""},{"$f":"IF('Блок 1'!AC86=\"\",\"\",'Блок 1'!AC86)","v":""},{"$f":"IF('Блок 1'!AD86=\"\",\"\",'Блок 1'!AD86)","v":""},{"$f":"IF('Блок 1'!AE86=\"\",\"\",'Блок 1'!AE86)","v":""},{"$f":"IF('Блок 1'!AF86=\"\",\"\",'Блок 1'!AF86)","v":""},{"$f":"IF('Блок 1'!AG86=\"\",\"\",'Блок 1'!AG86)","v":""},{"$f":"IF('Блок 1'!AH86=\"\",\"\",'Блок 1'!AH86)","v":""},{"$f":"IF('Блок 1'!AI86=\"\",\"\",'Блок 1'!AI86)","v":""},{"$f":"IF('Блок 1'!AJ86=\"\",\"\",'Блок 1'!AJ86)","v":""},{"$f":"IF('Блок 1'!AK86=\"\",\"\",'Блок 1'!AK86)","v":""},{"$f":"IF('Блок 1'!AL86=\"\",\"\",'Блок 1'!AL86)","v":""},{"$f":"IF('Блок 1'!AM86=\"\",\"\",'Блок 1'!AM86)","v":""},{"$f":"IF('Блок 1'!AN86=\"\",\"\",'Блок 1'!AN86)","v":""},{"$f":"IF('Блок 1'!AO86=\"\",\"\",'Блок 1'!AO86)","v":""},{"$f":"IF('Блок 1'!AP86=\"\",\"\",'Блок 1'!AP86)","v":""},{"$f":"IF('Блок 1'!AQ86=\"\",\"\",'Блок 1'!AQ86)","v":""},{"$f":"IF('Блок 1'!AR86=\"\",\"\",'Блок 1'!AR86)","v":""},{"$f":"IF('Блок 1'!AS86=\"\",\"\",'Блок 1'!AS86)","v":""},{"$f":"IF('Блок 1'!AT86=\"\",\"\",'Блок 1'!AT86)","v":""},{"$f":"IF('Блок 1'!AU86=\"\",\"\",'Блок 1'!AU86)","v":""},{"$f":"IF('Блок 1'!AV86=\"\",\"\",'Блок 1'!AV86)","v":""},{"$f":"IF('Блок 1'!AW86=\"\",\"\",'Блок 1'!AW86)","v":""},{"$f":"IF('Блок 1'!AX86=\"\",\"\",'Блок 1'!AX86)","v":""},{"$f":"IF('Блок 1'!AY86=\"\",\"\",'Блок 1'!AY86)","v":""},{"$f":"IF('Блок 1'!AZ86=\"\",\"\",'Блок 1'!AZ86)","v":""},{"$f":"IF('Блок 1'!BA86=\"\",\"\",'Блок 1'!BA86)","v":""},{"$f":"IF('Блок 1'!BB86=\"\",\"\",'Блок 1'!BB86)","v":""},{"$f":"IF('Блок 1'!BC86=\"\",\"\",'Блок 1'!BC86)","v":""},{"$f":"IF('Блок 1'!BD86=\"\",\"\",'Блок 1'!BD86)","v":""},{"$f":"IF('Блок 1'!BE86=\"\",\"\",'Блок 1'!BE86)","v":""},{"$f":"IF('Блок 1'!BF86=\"\",\"\",'Блок 1'!BF86)","v":""},{"$f":"IF('Блок 1'!BG86=\"\",\"\",'Блок 1'!BG86)","v":""},{"$f":"IF('Блок 1'!BH86=\"\",\"\",'Блок 1'!BH86)","v":""}]
[null,{"$f":"IF('Блок 1'!B87=\"\",\"\",'Блок 1'!B87)","v":""},{"$f":"IF('Блок 1'!C87=\"\",\"\",'Блок 1'!C87)","v":""},{"$f":"IF('Блок 1'!D87=\"\",\"\",'Блок 1'!D87)","v":""},{"$f":"IF('Блок 1'!E87=\"\",\"\",'Блок 1'!E87)","v":""},{"$f":"IF('Блок 1'!F87=\"\",\"\",'Блок 1'!F87)","v":""},{"$f":"IF('Блок 1'!G87=\"\",\"\",'Блок 1'!G87)","v":""},{"$f":"IF('Блок 1'!H87=\"\",\"\",'Блок 1'!H87)","v":""},{"$f":"IF('Блок 1'!I87=\"\",\"\",'Блок 1'!I87)","v":""},{"$f":"IF('Блок 1'!J87=\"\",\"\",'Блок 1'!J87)","v":""},{"$f":"IF('Блок 1'!K87=\"\",\"\",'Блок 1'!K87)","v":""},{"$f":"IF('Блок 1'!L87=\"\",\"\",'Блок 1'!L87)","v":""},{"$f":"IF('Блок 1'!M87=\"\",\"\",'Блок 1'!M87)","v":""},{"$f":"IF('Блок 1'!N87=\"\",\"\",'Блок 1'!N87)","v":""},{"$f":"IF('Блок 1'!O87=\"\",\"\",'Блок 1'!O87)","v":""},{"$f":"IF('Блок 1'!P87=\"\",\"\",'Блок 1'!P87)","v":""},{"$f":"IF('Блок 1'!Q87=\"\",\"\",'Блок 1'!Q87)","v":""},{"$f":"IF('Блок 1'!R87=\"\",\"\",'Блок 1'!R87)","v":""},{"$f":"IF('Блок 1'!S87=\"\",\"\",'Блок 1'!S87)","v":""},{"$f":"IF('Блок 1'!T87=\"\",\"\",'Блок 1'!T87)","v":""},{"$f":"IF('Блок 1'!U87=\"\",\"\",'Блок 1'!U87)","v":""},{"$f":"IF('Блок 1'!V87=\"\",\"\",'Блок 1'!V87)","v":""},{"$f":"IF('Блок 1'!W87=\"\",\"\",'Блок 1'!W87)","v":""},{"$f":"IF('Блок 1'!X87=\"\",\"\",'Блок 1'!X87)","v":""},{"$f":"IF('Блок 1'!Y87=\"\",\"\",'Блок 1'!Y87)","v":""},{"$f":"IF('Блок 1'!Z87=\"\",\"\",'Блок 1'!Z87)","v":""},{"$f":"IF('Блок 1'!AA87=\"\",\"\",'Блок 1'!AA87)","v":""},{"$f":"IF('Блок 1'!AB87=\"\",\"\",'Блок 1'!AB87)","v":""},{"$f":"IF('Блок 1'!AC87=\"\",\"\",'Блок 1'!AC87)","v":""},{"$f":"IF('Блок 1'!AD87=\"\",\"\",'Блок 1'!AD87)","v":""},{"$f":"IF('Блок 1'!AE87=\"\",\"\",'Блок 1'!AE87)","v":""},{"$f":"IF('Блок 1'!AF87=\"\",\"\",'Блок 1'!AF87)","v":""},{"$f":"IF('Блок 1'!AG87=\"\",\"\",'Блок 1'!AG87)","v":""},{"$f":"IF('Блок 1'!AH87=\"\",\"\",'Блок 1'!AH87)","v":""},{"$f":"IF('Блок 1'!AI87=\"\",\"\",'Блок 1'!AI87)","v":""},{"$f":"IF('Блок 1'!AJ87=\"\",\"\",'Блок 1'!AJ87)","v":""},{"$f":"IF('Блок 1'!AK87=\"\",\"\",'Блок 1'!AK87)","v":""},{"$f":"IF('Блок 1'!AL87=\"\",\"\",'Блок 1'!AL87)","v":""},{"$f":"IF('Блок 1'!AM87=\"\",\"\",'Блок 1'!AM87)","v":""},{"$f":"IF('Блок 1'!AN87=\"\",\"\",'Блок 1'!AN87)","v":""},{"$f":"IF('Блок 1'!AO87=\"\",\"\",'Блок 1'!AO87)","v":""},{"$f":"IF('Блок 1'!AP87=\"\",\"\",'Блок 1'!AP87)","v":""},{"$f":"IF('Блок 1'!AQ87=\"\",\"\",'Блок 1'!AQ87)","v":""},{"$f":"IF('Блок 1'!AR87=\"\",\"\",'Блок 1'!AR87)","v":""},{"$f":"IF('Блок 1'!AS87=\"\",\"\",'Блок 1'!AS87)","v":""},{"$f":"IF('Блок 1'!AT87=\"\",\"\",'Блок 1'!AT87)","v":""},{"$f":"IF('Блок 1'!AU87=\"\",\"\",'Блок 1'!AU87)","v":""},{"$f":"IF('Блок 1'!AV87=\"\",\"\",'Блок 1'!AV87)","v":""},{"$f":"IF('Блок 1'!AW87=\"\",\"\",'Блок 1'!AW87)","v":""},{"$f":"IF('Блок 1'!AX87=\"\",\"\",'Блок 1'!AX87)","v":""},{"$f":"IF('Блок 1'!AY87=\"\",\"\",'Блок 1'!AY87)","v":""},{"$f":"IF('Блок 1'!AZ87=\"\",\"\",'Блок 1'!AZ87)","v":""},{"$f":"IF('Блок 1'!BA87=\"\",\"\",'Блок 1'!BA87)","v":""},{"$f":"IF('Блок 1'!BB87=\"\",\"\",'Блок 1'!BB87)","v":""},{"$f":"IF('Блок 1'!BC87=\"\",\"\",'Блок 1'!BC87)","v":""},{"$f":"IF('Блок 1'!BD87=\"\",\"\",'Блок 1'!BD87)","v":""},{"$f":"IF('Блок 1'!BE87=\"\",\"\",'Блок 1'!BE87)","v":""},{"$f":"IF('Блок 1'!BF87=\"\",\"\",'Блок 1'!BF87)","v":""},{"$f":"IF('Блок 1'!BG87=\"\",\"\",'Блок 1'!BG87)","v":""},{"$f":"IF('Блок 1'!BH87=\"\",\"\",'Блок 1'!BH87)","v":""}]
[null,{"$f":"IF('Блок 1'!B88=\"\",\"\",'Блок 1'!B88)","v":""},{"$f":"IF('Блок 1'!C88=\"\",\"\",'Блок 1'!C88)","v":""},{"$f":"IF('Блок 1'!D88=\"\",\"\",'Блок 1'!D88)","v":""},{"$f":"IF('Блок 1'!E88=\"\",\"\",'Блок 1'!E88)","v":""},{"$f":"IF('Блок 1'!F88=\"\",\"\",'Блок 1'!F88)","v":""},{"$f":"IF('Блок 1'!G88=\"\",\"\",'Блок 1'!G88)","v":""},{"$f":"IF('Блок 1'!H88=\"\",\"\",'Блок 1'!H88)","v":""},{"$f":"IF('Блок 1'!I88=\"\",\"\",'Блок 1'!I88)","v":""},{"$f":"IF('Блок 1'!J88=\"\",\"\",'Блок 1'!J88)","v":""},{"$f":"IF('Блок 1'!K88=\"\",\"\",'Блок 1'!K88)","v":""},{"$f":"IF('Блок 1'!L88=\"\",\"\",'Блок 1'!L88)","v":""},{"$f":"IF('Блок 1'!M88=\"\",\"\",'Блок 1'!M88)","v":""},{"$f":"IF('Блок 1'!N88=\"\",\"\",'Блок 1'!N88)","v":""},{"$f":"IF('Блок 1'!O88=\"\",\"\",'Блок 1'!O88)","v":""},{"$f":"IF('Блок 1'!P88=\"\",\"\",'Блок 1'!P88)","v":""},{"$f":"IF('Блок 1'!Q88=\"\",\"\",'Блок 1'!Q88)","v":""},{"$f":"IF('Блок 1'!R88=\"\",\"\",'Блок 1'!R88)","v":""},{"$f":"IF('Блок 1'!S88=\"\",\"\",'Блок 1'!S88)","v":""},{"$f":"IF('Блок 1'!T88=\"\",\"\",'Блок 1'!T88)","v":""},{"$f":"IF('Блок 1'!U88=\"\",\"\",'Блок 1'!U88)","v":""},{"$f":"IF('Блок 1'!V88=\"\",\"\",'Блок 1'!V88)","v":""},{"$f":"IF('Блок 1'!W88=\"\",\"\",'Блок 1'!W88)","v":""},{"$f":"IF('Блок 1'!X88=\"\",\"\",'Блок 1'!X88)","v":""},{"$f":"IF('Блок 1'!Y88=\"\",\"\",'Блок 1'!Y88)","v":""},{"$f":"IF('Блок 1'!Z88=\"\",\"\",'Блок 1'!Z88)","v":""},{"$f":"IF('Блок 1'!AA88=\"\",\"\",'Блок 1'!AA88)","v":""},{"$f":"IF('Блок 1'!AB88=\"\",\"\",'Блок 1'!AB88)","v":""},{"$f":"IF('Блок 1'!AC88=\"\",\"\",'Блок 1'!AC88)","v":""},{"$f":"IF('Блок 1'!AD88=\"\",\"\",'Блок 1'!AD88)","v":""},{"$f":"IF('Блок 1'!AE88=\"\",\"\",'Блок 1'!AE88)","v":""},{"$f":"IF('Блок 1'!AF88=\"\",\"\",'Блок 1'!AF88)","v":""},{"$f":"IF('Блок 1'!AG88=\"\",\"\",'Блок 1'!AG88)","v":""},{"$f":"IF('Блок 1'!AH88=\"\",\"\",'Блок 1'!AH88)","v":""},{"$f":"IF('Блок 1'!AI88=\"\",\"\",'Блок 1'!AI88)","v":""},{"$f":"IF('Блок 1'!AJ88=\"\",\"\",'Блок 1'!AJ88)","v":""},{"$f":"IF('Блок 1'!AK88=\"\",\"\",'Блок 1'!AK88)","v":""},{"$f":"IF('Блок 1'!AL88=\"\",\"\",'Блок 1'!AL88)","v":""},{"$f":"IF('Блок 1'!AM88=\"\",\"\",'Блок 1'!AM88)","v":""},{"$f":"IF('Блок 1'!AN88=\"\",\"\",'Блок 1'!AN88)","v":""},{"$f":"IF('Блок 1'!AO88=\"\",\"\",'Блок 1'!AO88)","v":""},{"$f":"IF('Блок 1'!AP88=\"\",\"\",'Блок 1'!AP88)","v":""},{"$f":"IF('Блок 1'!AQ88=\"\",\"\",'Блок 1'!AQ88)","v":""},{"$f":"IF('Блок 1'!AR88=\"\",\"\",'Блок 1'!AR88)","v":""},{"$f":"IF('Блок 1'!AS88=\"\",\"\",'Блок 1'!AS88)","v":""},{"$f":"IF('Блок 1'!AT88=\"\",\"\",'Блок 1'!AT88)","v":""},{"$f":"IF('Блок 1'!AU88=\"\",\"\",'Блок 1'!AU88)","v":""},{"$f":"IF('Блок 1'!AV88=\"\",\"\",'Блок 1'!AV88)","v":""},{"$f":"IF('Блок 1'!AW88=\"\",\"\",'Блок 1'!AW88)","v":""},{"$f":"IF('Блок 1'!AX88=\"\",\"\",'Блок 1'!AX88)","v":""},{"$f":"IF('Блок 1'!AY88=\"\",\"\",'Блок 1'!AY88)","v":""},{"$f":"IF('Блок 1'!AZ88=\"\",\"\",'Блок 1'!AZ88)","v":""},{"$f":"IF('Блок 1'!BA88=\"\",\"\",'Блок 1'!BA88)","v":""},{"$f":"IF('Блок 1'!BB88=\"\",\"\",'Блок 1'!BB88)","v":""},{"$f":"IF('Блок 1'!BC88=\"\",\"\",'Блок 1'!BC88)","v":""},{"$f":"IF('Блок 1'!BD88=\"\",\"\",'Блок 1'!BD88)","v":""},{"$f":"IF('Блок 1'!BE88=\"\",\"\",'Блок 1'!BE88)","v":""},{"$f":"IF('Блок 1'!BF88=\"\",\"\",'Блок 1'!BF88)","v":""},{"$f":"IF('Блок 1'!BG88=\"\",\"\",'Блок 1'!BG88)","v":""},{"$f":"IF('Блок 1'!BH88=\"\",\"\",'Блок 1'!BH88)","v":""}]
[null,{"$f":"IF('Блок 1'!B89=\"\",\"\",'Блок 1'!B89)","v":""},{"$f":"IF('Блок 1'!C89=\"\",\"\",'Блок 1'!C89)","v":""},{"$f":"IF('Блок 1'!D89=\"\",\"\",'Блок 1'!D89)","v":""},{"$f":"IF('Блок 1'!E89=\"\",\"\",'Блок 1'!E89)","v":""},{"$f":"IF('Блок 1'!F89=\"\",\"\",'Блок 1'!F89)","v":""},{"$f":"IF('Блок 1'!G89=\"\",\"\",'Блок 1'!G89)","v":""},{"$f":"IF('Блок 1'!H89=\"\",\"\",'Блок 1'!H89)","v":""},{"$f":"IF('Блок 1'!I89=\"\",\"\",'Блок 1'!I89)","v":""},{"$f":"IF('Блок 1'!J89=\"\",\"\",'Блок 1'!J89)","v":""},{"$f":"IF('Блок 1'!K89=\"\",\"\",'Блок 1'!K89)","v":""},{"$f":"IF('Блок 1'!L89=\"\",\"\",'Блок 1'!L89)","v":""},{"$f":"IF('Блок 1'!M89=\"\",\"\",'Блок 1'!M89)","v":""},{"$f":"IF('Блок 1'!N89=\"\",\"\",'Блок 1'!N89)","v":""},{"$f":"IF('Блок 1'!O89=\"\",\"\",'Блок 1'!O89)","v":""},{"$f":"IF('Блок 1'!P89=\"\",\"\",'Блок 1'!P89)","v":""},{"$f":"IF('Блок 1'!Q89=\"\",\"\",'Блок 1'!Q89)","v":""},{"$f":"IF('Блок 1'!R89=\"\",\"\",'Блок 1'!R89)","v":""},{"$f":"IF('Блок 1'!S89=\"\",\"\",'Блок 1'!S89)","v":""},{"$f":"IF('Блок 1'!T89=\"\",\"\",'Блок 1'!T89)","v":""},{"$f":"IF('Блок 1'!U89=\"\",\"\",'Блок 1'!U89)","v":""},{"$f":"IF('Блок 1'!V89=\"\",\"\",'Блок 1'!V89)","v":""},{"$f":"IF('Блок 1'!W89=\"\",\"\",'Блок 1'!W89)","v":""},{"$f":"IF('Блок 1'!X89=\"\",\"\",'Блок 1'!X89)","v":""},{"$f":"IF('Блок 1'!Y89=\"\",\"\",'Блок 1'!Y89)","v":""},{"$f":"IF('Блок 1'!Z89=\"\",\"\",'Блок 1'!Z89)","v":""},{"$f":"IF('Блок 1'!AA89=\"\",\"\",'Блок 1'!AA89)","v":""},{"$f":"IF('Блок 1'!AB89=\"\",\"\",'Блок 1'!AB89)","v":""},{"$f":"IF('Блок 1'!AC89=\"\",\"\",'Блок 1'!AC89)","v":""},{"$f":"IF('Блок 1'!AD89=\"\",\"\",'Блок 1'!AD89)","v":""},{"$f":"IF('Блок 1'!AE89=\"\",\"\",'Блок 1'!AE89)","v":""},{"$f":"IF('Блок 1'!AF89=\"\",\"\",'Блок 1'!AF89)","v":""},{"$f":"IF('Блок 1'!AG89=\"\",\"\",'Блок 1'!AG89)","v":""},{"$f":"IF('Блок 1'!AH89=\"\",\"\",'Блок 1'!AH89)","v":""},{"$f":"IF('Блок 1'!AI89=\"\",\"\",'Блок 1'!AI89)","v":""},{"$f":"IF('Блок 1'!AJ89=\"\",\"\",'Блок 1'!AJ89)","v":""},{"$f":"IF('Блок 1'!AK89=\"\",\"\",'Блок 1'!AK89)","v":""},{"$f":"IF('Блок 1'!AL89=\"\",\"\",'Блок 1'!AL89)","v":""},{"$f":"IF('Блок 1'!AM89=\"\",\"\",'Блок 1'!AM89)","v":""},{"$f":"IF('Блок 1'!AN89=\"\",\"\",'Блок 1'!AN89)","v":""},{"$f":"IF('Блок 1'!AO89=\"\",\"\",'Блок 1'!AO89)","v":""},{"$f":"IF('Блок 1'!AP89=\"\",\"\",'Блок 1'!AP89)","v":""},{"$f":"IF('Блок 1'!AQ89=\"\",\"\",'Блок 1'!AQ89)","v":""},{"$f":"IF('Блок 1'!AR89=\"\",\"\",'Блок 1'!AR89)","v":""},{"$f":"IF('Блок 1'!AS89=\"\",\"\",'Блок 1'!AS89)","v":""},{"$f":"IF('Блок 1'!AT89=\"\",\"\",'Блок 1'!AT89)","v":""},{"$f":"IF('Блок 1'!AU89=\"\",\"\",'Блок 1'!AU89)","v":""},{"$f":"IF('Блок 1'!AV89=\"\",\"\",'Блок 1'!AV89)","v":""},{"$f":"IF('Блок 1'!AW89=\"\",\"\",'Блок 1'!AW89)","v":""},{"$f":"IF('Блок 1'!AX89=\"\",\"\",'Блок 1'!AX89)","v":""},{"$f":"IF('Блок 1'!AY89=\"\",\"\",'Блок 1'!AY89)","v":""},{"$f":"IF('Блок 1'!AZ89=\"\",\"\",'Блок 1'!AZ89)","v":""},{"$f":"IF('Блок 1'!BA89=\"\",\"\",'Блок 1'!BA89)","v":""},{"$f":"IF('Блок 1'!BB89=\"\",\"\",'Блок 1'!BB89)","v":""},{"$f":"IF('Блок 1'!BC89=\"\",\"\",'Блок 1'!BC89)","v":""},{"$f":"IF('Блок 1'!BD89=\"\",\"\",'Блок 1'!BD89)","v":""},{"$f":"IF('Блок 1'!BE89=\"\",\"\",'Блок 1'!BE89)","v":""},{"$f":"IF('Блок 1'!BF89=\"\",\"\",'Блок 1'!BF89)","v":""},{"$f":"IF('Блок 1'!BG89=\"\",\"\",'Блок 1'!BG89)","v":""},{"$f":"IF('Блок 1'!BH89=\"\",\"\",'Блок 1'!BH89)","v":""}]
[null,{"$f":"IF('Блок 1'!B90=\"\",\"\",'Блок 1'!B90)","v":""},{"$f":"IF('Блок 1'!C90=\"\",\"\",'Блок 1'!C90)","v":""},{"$f":"IF('Блок 1'!D90=\"\",\"\",'Блок 1'!D90)","v":""},{"$f":"IF('Блок 1'!E90=\"\",\"\",'Блок 1'!E90)","v":""},{"$f":"IF('Блок 1'!F90=\"\",\"\",'Блок 1'!F90)","v":""},{"$f":"IF('Блок 1'!G90=\"\",\"\",'Блок 1'!G90)","v":""},{"$f":"IF('Блок 1'!H90=\"\",\"\",'Блок 1'!H90)","v":""},{"$f":"IF('Блок 1'!I90=\"\",\"\",'Блок 1'!I90)","v":""},{"$f":"IF('Блок 1'!J90=\"\",\"\",'Блок 1'!J90)","v":""},{"$f":"IF('Блок 1'!K90=\"\",\"\",'Блок 1'!K90)","v":""},{"$f":"IF('Блок 1'!L90=\"\",\"\",'Блок 1'!L90)","v":""},{"$f":"IF('Блок 1'!M90=\"\",\"\",'Блок 1'!M90)","v":""},{"$f":"IF('Блок 1'!N90=\"\",\"\",'Блок 1'!N90)","v":""},{"$f":"IF('Блок 1'!O90=\"\",\"\",'Блок 1'!O90)","v":""},{"$f":"IF('Блок 1'!P90=\"\",\"\",'Блок 1'!P90)","v":""},{"$f":"IF('Блок 1'!Q90=\"\",\"\",'Блок 1'!Q90)","v":""},{"$f":"IF('Блок 1'!R90=\"\",\"\",'Блок 1'!R90)","v":""},{"$f":"IF('Блок 1'!S90=\"\",\"\",'Блок 1'!S90)","v":""},{"$f":"IF('Блок 1'!T90=\"\",\"\",'Блок 1'!T90)","v":""},{"$f":"IF('Блок 1'!U90=\"\",\"\",'Блок 1'!U90)","v":""},{"$f":"IF('Блок 1'!V90=\"\",\"\",'Блок 1'!V90)","v":""},{"$f":"IF('Блок 1'!W90=\"\",\"\",'Блок 1'!W90)","v":""},{"$f":"IF('Блок 1'!X90=\"\",\"\",'Блок 1'!X90)","v":""},{"$f":"IF('Блок 1'!Y90=\"\",\"\",'Блок 1'!Y90)","v":""},{"$f":"IF('Блок 1'!Z90=\"\",\"\",'Блок 1'!Z90)","v":""},{"$f":"IF('Блок 1'!AA90=\"\",\"\",'Блок 1'!AA90)","v":""},{"$f":"IF('Блок 1'!AB90=\"\",\"\",'Блок 1'!AB90)","v":""},{"$f":"IF('Блок 1'!AC90=\"\",\"\",'Блок 1'!AC90)","v":""},{"$f":"IF('Блок 1'!AD90=\"\",\"\",'Блок 1'!AD90)","v":""},{"$f":"IF('Блок 1'!AE90=\"\",\"\",'Блок 1'!AE90)","v":""},{"$f":"IF('Блок 1'!AF90=\"\",\"\",'Блок 1'!AF90)","v":""},{"$f":"IF('Блок 1'!AG90=\"\",\"\",'Блок 1'!AG90)","v":""},{"$f":"IF('Блок 1'!AH90=\"\",\"\",'Блок 1'!AH90)","v":""},{"$f":"IF('Блок 1'!AI90=\"\",\"\",'Блок 1'!AI90)","v":""},{"$f":"IF('Блок 1'!AJ90=\"\",\"\",'Блок 1'!AJ90)","v":""},{"$f":"IF('Блок 1'!AK90=\"\",\"\",'Блок 1'!AK90)","v":""},{"$f":"IF('Блок 1'!AL90=\"\",\"\",'Блок 1'!AL90)","v":""},{"$f":"IF('Блок 1'!AM90=\"\",\"\",'Блок 1'!AM90)","v":""},{"$f":"IF('Блок 1'!AN90=\"\",\"\",'Блок 1'!AN90)","v":""},{"$f":"IF('Блок 1'!AO90=\"\",\"\",'Блок 1'!AO90)","v":""},{"$f":"IF('Блок 1'!AP90=\"\",\"\",'Блок 1'!AP90)","v":""},{"$f":"IF('Блок 1'!AQ90=\"\",\"\",'Блок 1'!AQ90)","v":""},{"$f":"IF('Блок 1'!AR90=\"\",\"\",'Блок 1'!AR90)","v":""},{"$f":"IF('Блок 1'!AS90=\"\",\"\",'Блок 1'!AS90)","v":""},{"$f":"IF('Блок 1'!AT90=\"\",\"\",'Блок 1'!AT90)","v":""},{"$f":"IF('Блок 1'!AU90=\"\",\"\",'Блок 1'!AU90)","v":""},{"$f":"IF('Блок 1'!AV90=\"\",\"\",'Блок 1'!AV90)","v":""},{"$f":"IF('Блок 1'!AW90=\"\",\"\",'Блок 1'!AW90)","v":""},{"$f":"IF('Блок 1'!AX90=\"\",\"\",'Блок 1'!AX90)","v":""},{"$f":"IF('Блок 1'!AY90=\"\",\"\",'Блок 1'!AY90)","v":""},{"$f":"IF('Блок 1'!AZ90=\"\",\"\",'Блок 1'!AZ90)","v":""},{"$f":"IF('Блок 1'!BA90=\"\",\"\",'Блок 1'!BA90)","v":""},{"$f":"IF('Блок 1'!BB90=\"\",\"\",'Блок 1'!BB90)","v":""},{"$f":"IF('Блок 1'!BC90=\"\",\"\",'Блок 1'!BC90)","v":""},{"$f":"IF('Блок 1'!BD90=\"\",\"\",'Блок 1'!BD90)","v":""},{"$f":"IF('Блок 1'!BE90=\"\",\"\",'Блок 1'!BE90)","v":""},{"$f":"IF('Блок 1'!BF90=\"\",\"\",'Блок 1'!BF90)","v":""},{"$f":"IF('Блок 1'!BG90=\"\",\"\",'Блок 1'!BG90)","v":""},{"$f":"IF('Блок 1'!BH90=\"\",\"\",'Блок 1'!BH90)","v":""}]
[null,{"$f":"IF('Блок 1'!B91=\"\",\"\",'Блок 1'!B91)","v":""},{"$f":"IF('Блок 1'!C91=\"\",\"\",'Блок 1'!C91)","v":""},{"$f":"IF('Блок 1'!D91=\"\",\"\",'Блок 1'!D91)","v":""},{"$f":"IF('Блок 1'!E91=\"\",\"\",'Блок 1'!E91)","v":""},{"$f":"IF('Блок 1'!F91=\"\",\"\",'Блок 1'!F91)","v":""},{"$f":"IF('Блок 1'!G91=\"\",\"\",'Блок 1'!G91)","v":""},{"$f":"IF('Блок 1'!H91=\"\",\"\",'Блок 1'!H91)","v":""},{"$f":"IF('Блок 1'!I91=\"\",\"\",'Блок 1'!I91)","v":""},{"$f":"IF('Блок 1'!J91=\"\",\"\",'Блок 1'!J91)","v":""},{"$f":"IF('Блок 1'!K91=\"\",\"\",'Блок 1'!K91)","v":""},{"$f":"IF('Блок 1'!L91=\"\",\"\",'Блок 1'!L91)","v":""},{"$f":"IF('Блок 1'!M91=\"\",\"\",'Блок 1'!M91)","v":""},{"$f":"IF('Блок 1'!N91=\"\",\"\",'Блок 1'!N91)","v":""},{"$f":"IF('Блок 1'!O91=\"\",\"\",'Блок 1'!O91)","v":""},{"$f":"IF('Блок 1'!P91=\"\",\"\",'Блок 1'!P91)","v":""},{"$f":"IF('Блок 1'!Q91=\"\",\"\",'Блок 1'!Q91)","v":""},{"$f":"IF('Блок 1'!R91=\"\",\"\",'Блок 1'!R91)","v":""},{"$f":"IF('Блок 1'!S91=\"\",\"\",'Блок 1'!S91)","v":""},{"$f":"IF('Блок 1'!T91=\"\",\"\",'Блок 1'!T91)","v":""},{"$f":"IF('Блок 1'!U91=\"\",\"\",'Блок 1'!U91)","v":""},{"$f":"IF('Блок 1'!V91=\"\",\"\",'Блок 1'!V91)","v":""},{"$f":"IF('Блок 1'!W91=\"\",\"\",'Блок 1'!W91)","v":""},{"$f":"IF('Блок 1'!X91=\"\",\"\",'Блок 1'!X91)","v":""},{"$f":"IF('Блок 1'!Y91=\"\",\"\",'Блок 1'!Y91)","v":""},{"$f":"IF('Блок 1'!Z91=\"\",\"\",'Блок 1'!Z91)","v":""},{"$f":"IF('Блок 1'!AA91=\"\",\"\",'Блок 1'!AA91)","v":""},{"$f":"IF('Блок 1'!AB91=\"\",\"\",'Блок 1'!AB91)","v":""},{"$f":"IF('Блок 1'!AC91=\"\",\"\",'Блок 1'!AC91)","v":""},{"$f":"IF('Блок 1'!AD91=\"\",\"\",'Блок 1'!AD91)","v":""},{"$f":"IF('Блок 1'!AE91=\"\",\"\",'Блок 1'!AE91)","v":""},{"$f":"IF('Блок 1'!AF91=\"\",\"\",'Блок 1'!AF91)","v":""},{"$f":"IF('Блок 1'!AG91=\"\",\"\",'Блок 1'!AG91)","v":""},{"$f":"IF('Блок 1'!AH91=\"\",\"\",'Блок 1'!AH91)","v":""},{"$f":"IF('Блок 1'!AI91=\"\",\"\",'Блок 1'!AI91)","v":""},{"$f":"IF('Блок 1'!AJ91=\"\",\"\",'Блок 1'!AJ91)","v":""},{"$f":"IF('Блок 1'!AK91=\"\",\"\",'Блок 1'!AK91)","v":""},{"$f":"IF('Блок 1'!AL91=\"\",\"\",'Блок 1'!AL91)","v":""},{"$f":"IF('Блок 1'!AM91=\"\",\"\",'Блок 1'!AM91)","v":""},{"$f":"IF('Блок 1'!AN91=\"\",\"\",'Блок 1'!AN91)","v":""},{"$f":"IF('Блок 1'!AO91=\"\",\"\",'Блок 1'!AO91)","v":""},{"$f":"IF('Блок 1'!AP91=\"\",\"\",'Блок 1'!AP91)","v":""},{"$f":"IF('Блок 1'!AQ91=\"\",\"\",'Блок 1'!AQ91)","v":""},{"$f":"IF('Блок 1'!AR91=\"\",\"\",'Блок 1'!AR91)","v":""},{"$f":"IF('Блок 1'!AS91=\"\",\"\",'Блок 1'!AS91)","v":""},{"$f":"IF('Блок 1'!AT91=\"\",\"\",'Блок 1'!AT91)","v":""},{"$f":"IF('Блок 1'!AU91=\"\",\"\",'Блок 1'!AU91)","v":""},{"$f":"IF('Блок 1'!AV91=\"\",\"\",'Блок 1'!AV91)","v":""},{"$f":"IF('Блок 1'!AW91=\"\",\"\",'Блок 1'!AW91)","v":""},{"$f":"IF('Блок 1'!AX91=\"\",\"\",'Блок 1'!AX91)","v":""},{"$f":"IF('Блок 1'!AY91=\"\",\"\",'Блок 1'!AY91)","v":""},{"$f":"IF('Блок 1'!AZ91=\"\",\"\",'Блок 1'!AZ91)","v":""},{"$f":"IF('Блок 1'!BA91=\"\",\"\",'Блок 1'!BA91)","v":""},{"$f":"IF('Блок 1'!BB91=\"\",\"\",'Блок 1'!BB91)","v":""},{"$f":"IF('Блок 1'!BC91=\"\",\"\",'Блок 1'!BC91)","v":""},{"$f":"IF('Блок 1'!BD91=\"\",\"\",'Блок 1'!BD91)","v":""},{"$f":"IF('Блок 1'!BE91=\"\",\"\",'Блок 1'!BE91)","v":""},{"$f":"IF('Блок 1'!BF91=\"\",\"\",'Блок 1'!BF91)","v":""},{"$f":"IF('Блок 1'!BG91=\"\",\"\",'Блок 1'!BG91)","v":""},{"$f":"IF('Блок 1'!BH91=\"\",\"\",'Блок 1'!BH91)","v":""}]
[null,{"$f":"IF('Блок 1'!B92=\"\",\"\",'Блок 1'!B92)","v":""},{"$f":"IF('Блок 1'!C92=\"\",\"\",'Блок 1'!C92)","v":""},{"$f":"IF('Блок 1'!D92=\"\",\"\",'Блок 1'!D92)","v":""},{"$f":"IF('Блок 1'!E92=\"\",\"\",'Блок 1'!E92)","v":""},{"$f":"IF('Блок 1'!F92=\"\",\"\",'Блок 1'!F92)","v":""},{"$f":"IF('Блок 1'!G92=\"\",\"\",'Блок 1'!G92)","v":""},{"$f":"IF('Блок 1'!H92=\"\",\"\",'Блок 1'!H92)","v":""},{"$f":"IF('Блок 1'!I92=\"\",\"\",'Блок 1'!I92)","v":""},{"$f":"IF('Блок 1'!J92=\"\",\"\",'Блок 1'!J92)","v":""},{"$f":"IF('Блок 1'!K92=\"\",\"\",'Блок 1'!K92)","v":""},{"$f":"IF('Блок 1'!L92=\"\",\"\",'Блок 1'!L92)","v":""},{"$f":"IF('Блок 1'!M92=\"\",\"\",'Блок 1'!M92)","v":""},{"$f":"IF('Блок 1'!N92=\"\",\"\",'Блок 1'!N92)","v":""},{"$f":"IF('Блок 1'!O92=\"\",\"\",'Блок 1'!O92)","v":""},{"$f":"IF('Блок 1'!P92=\"\",\"\",'Блок 1'!P92)","v":""},{"$f":"IF('Блок 1'!Q92=\"\",\"\",'Блок 1'!Q92)","v":""},{"$f":"IF('Блок 1'!R92=\"\",\"\",'Блок 1'!R92)","v":""},{"$f":"IF('Блок 1'!S92=\"\",\"\",'Блок 1'!S92)","v":""},{"$f":"IF('Блок 1'!T92=\"\",\"\",'Блок 1'!T92)","v":""},{"$f":"IF('Блок 1'!U92=\"\",\"\",'Блок 1'!U92)","v":""},{"$f":"IF('Блок 1'!V92=\"\",\"\",'Блок 1'!V92)","v":""},{"$f":"IF('Блок 1'!W92=\"\",\"\",'Блок 1'!W92)","v":""},{"$f":"IF('Блок 1'!X92=\"\",\"\",'Блок 1'!X92)","v":""},{"$f":"IF('Блок 1'!Y92=\"\",\"\",'Блок 1'!Y92)","v":""},{"$f":"IF('Блок 1'!Z92=\"\",\"\",'Блок 1'!Z92)","v":""},{"$f":"IF('Блок 1'!AA92=\"\",\"\",'Блок 1'!AA92)","v":""},{"$f":"IF('Блок 1'!AB92=\"\",\"\",'Блок 1'!AB92)","v":""},{"$f":"IF('Блок 1'!AC92=\"\",\"\",'Блок 1'!AC92)","v":""},{"$f":"IF('Блок 1'!AD92=\"\",\"\",'Блок 1'!AD92)","v":""},{"$f":"IF('Блок 1'!AE92=\"\",\"\",'Блок 1'!AE92)","v":""},{"$f":"IF('Блок 1'!AF92=\"\",\"\",'Блок 1'!AF92)","v":""},{"$f":"IF('Блок 1'!AG92=\"\",\"\",'Блок 1'!AG92)","v":""},{"$f":"IF('Блок 1'!AH92=\"\",\"\",'Блок 1'!AH92)","v":""},{"$f":"IF('Блок 1'!AI92=\"\",\"\",'Блок 1'!AI92)","v":""},{"$f":"IF('Блок 1'!AJ92=\"\",\"\",'Блок 1'!AJ92)","v":""},{"$f":"IF('Блок 1'!AK92=\"\",\"\",'Блок 1'!AK92)","v":""},{"$f":"IF('Блок 1'!AL92=\"\",\"\",'Блок 1'!AL92)","v":""},{"$f":"IF('Блок 1'!AM92=\"\",\"\",'Блок 1'!AM92)","v":""},{"$f":"IF('Блок 1'!AN92=\"\",\"\",'Блок 1'!AN92)","v":""},{"$f":"IF('Блок 1'!AO92=\"\",\"\",'Блок 1'!AO92)","v":""},{"$f":"IF('Блок 1'!AP92=\"\",\"\",'Блок 1'!AP92)","v":""},{"$f":"IF('Блок 1'!AQ92=\"\",\"\",'Блок 1'!AQ92)","v":""},{"$f":"IF('Блок 1'!AR92=\"\",\"\",'Блок 1'!AR92)","v":""},{"$f":"IF('Блок 1'!AS92=\"\",\"\",'Блок 1'!AS92)","v":""},{"$f":"IF('Блок 1'!AT92=\"\",\"\",'Блок 1'!AT92)","v":""},{"$f":"IF('Блок 1'!AU92=\"\",\"\",'Блок 1'!AU92)","v":""},{"$f":"IF('Блок 1'!AV92=\"\",\"\",'Блок 1'!AV92)","v":""},{"$f":"IF('Блок 1'!AW92=\"\",\"\",'Блок 1'!AW92)","v":""},{"$f":"IF('Блок 1'!AX92=\"\",\"\",'Блок 1'!AX92)","v":""},{"$f":"IF('Блок 1'!AY92=\"\",\"\",'Блок 1'!AY92)","v":""},{"$f":"IF('Блок 1'!AZ92=\"\",\"\",'Блок 1'!AZ92)","v":""},{"$f":"IF('Блок 1'!BA92=\"\",\"\",'Блок 1'!BA92)","v":""},{"$f":"IF('Блок 1'!BB92=\"\",\"\",'Блок 1'!BB92)","v":""},{"$f":"IF('Блок 1'!BC92=\"\",\"\",'Блок 1'!BC92)","v":""},{"$f":"IF('Блок 1'!BD92=\"\",\"\",'Блок 1'!BD92)","v":""},{"$f":"IF('Блок 1'!BE92=\"\",\"\",'Блок 1'!BE92)","v":""},{"$f":"IF('Блок 1'!BF92=\"\",\"\",'Блок 1'!BF92)","v":""},{"$f":"IF('Блок 1'!BG92=\"\",\"\",'Блок 1'!BG92)","v":""},{"$f":"IF('Блок 1'!BH92=\"\",\"\",'Блок 1'!BH92)","v":""}]
[null,{"$f":"IF('Блок 1'!B93=\"\",\"\",'Блок 1'!B93)","v":""},{"$f":"IF('Блок 1'!C93=\"\",\"\",'Блок 1'!C93)","v":""},{"$f":"IF('Блок 1'!D93=\"\",\"\",'Блок 1'!D93)","v":""},{"$f":"IF('Блок 1'!E93=\"\",\"\",'Блок 1'!E93)","v":""},{"$f":"IF('Блок 1'!F93=\"\",\"\",'Блок 1'!F93)","v":""},{"$f":"IF('Блок 1'!G93=\"\",\"\",'Блок 1'!G93)","v":""},{"$f":"IF('Блок 1'!H93=\"\",\"\",'Блок 1'!H93)","v":""},{"$f":"IF('Блок 1'!I93=\"\",\"\",'Блок 1'!I93)","v":""},{"$f":"IF('Блок 1'!J93=\"\",\"\",'Блок 1'!J93)","v":""},{"$f":"IF('Блок 1'!K93=\"\",\"\",'Блок 1'!K93)","v":""},{"$f":"IF('Блок 1'!L93=\"\",\"\",'Блок 1'!L93)","v":""},{"$f":"IF('Блок 1'!M93=\"\",\"\",'Блок 1'!M93)","v":""},{"$f":"IF('Блок 1'!N93=\"\",\"\",'Блок 1'!N93)","v":""},{"$f":"IF('Блок 1'!O93=\"\",\"\",'Блок 1'!O93)","v":""},{"$f":"IF('Блок 1'!P93=\"\",\"\",'Блок 1'!P93)","v":""},{"$f":"IF('Блок 1'!Q93=\"\",\"\",'Блок 1'!Q93)","v":""},{"$f":"IF('Блок 1'!R93=\"\",\"\",'Блок 1'!R93)","v":""},{"$f":"IF('Блок 1'!S93=\"\",\"\",'Блок 1'!S93)","v":""},{"$f":"IF('Блок 1'!T93=\"\",\"\",'Блок 1'!T93)","v":""},{"$f":"IF('Блок 1'!U93=\"\",\"\",'Блок 1'!U93)","v":""},{"$f":"IF('Блок 1'!V93=\"\",\"\",'Блок 1'!V93)","v":""},{"$f":"IF('Блок 1'!W93=\"\",\"\",'Блок 1'!W93)","v":""},{"$f":"IF('Блок 1'!X93=\"\",\"\",'Блок 1'!X93)","v":""},{"$f":"IF('Блок 1'!Y93=\"\",\"\",'Блок 1'!Y93)","v":""},{"$f":"IF('Блок 1'!Z93=\"\",\"\",'Блок 1'!Z93)","v":""},{"$f":"IF('Блок 1'!AA93=\"\",\"\",'Блок 1'!AA93)","v":""},{"$f":"IF('Блок 1'!AB93=\"\",\"\",'Блок 1'!AB93)","v":""},{"$f":"IF('Блок 1'!AC93=\"\",\"\",'Блок 1'!AC93)","v":""},{"$f":"IF('Блок 1'!AD93=\"\",\"\",'Блок 1'!AD93)","v":""},{"$f":"IF('Блок 1'!AE93=\"\",\"\",'Блок 1'!AE93)","v":""},{"$f":"IF('Блок 1'!AF93=\"\",\"\",'Блок 1'!AF93)","v":""},{"$f":"IF('Блок 1'!AG93=\"\",\"\",'Блок 1'!AG93)","v":""},{"$f":"IF('Блок 1'!AH93=\"\",\"\",'Блок 1'!AH93)","v":""},{"$f":"IF('Блок 1'!AI93=\"\",\"\",'Блок 1'!AI93)","v":""},{"$f":"IF('Блок 1'!AJ93=\"\",\"\",'Блок 1'!AJ93)","v":""},{"$f":"IF('Блок 1'!AK93=\"\",\"\",'Блок 1'!AK93)","v":""},{"$f":"IF('Блок 1'!AL93=\"\",\"\",'Блок 1'!AL93)","v":""},{"$f":"IF('Блок 1'!AM93=\"\",\"\",'Блок 1'!AM93)","v":""},{"$f":"IF('Блок 1'!AN93=\"\",\"\",'Блок 1'!AN93)","v":""},{"$f":"IF('Блок 1'!AO93=\"\",\"\",'Блок 1'!AO93)","v":""},{"$f":"IF('Блок 1'!AP93=\"\",\"\",'Блок 1'!AP93)","v":""},{"$f":"IF('Блок 1'!AQ93=\"\",\"\",'Блок 1'!AQ93)","v":""},{"$f":"IF('Блок 1'!AR93=\"\",\"\",'Блок 1'!AR93)","v":""},{"$f":"IF('Блок 1'!AS93=\"\",\"\",'Блок 1'!AS93)","v":""},{"$f":"IF('Блок 1'!AT93=\"\",\"\",'Блок 1'!AT93)","v":""},{"$f":"IF('Блок 1'!AU93=\"\",\"\",'Блок 1'!AU93)","v":""},{"$f":"IF('Блок 1'!AV93=\"\",\"\",'Блок 1'!AV93)","v":""},{"$f":"IF('Блок 1'!AW93=\"\",\"\",'Блок 1'!AW93)","v":""},{"$f":"IF('Блок 1'!AX93=\"\",\"\",'Блок 1'!AX93)","v":""},{"$f":"IF('Блок 1'!AY93=\"\",\"\",'Блок 1'!AY93)","v":""},{"$f":"IF('Блок 1'!AZ93=\"\",\"\",'Блок 1'!AZ93)","v":""},{"$f":"IF('Блок 1'!BA93=\"\",\"\",'Блок 1'!BA93)","v":""},{"$f":"IF('Блок 1'!BB93=\"\",\"\",'Блок 1'!BB93)","v":""},{"$f":"IF('Блок 1'!BC93=\"\",\"\",'Блок 1'!BC93)","v":""},{"$f":"IF('Блок 1'!BD93=\"\",\"\",'Блок 1'!BD93)","v":""},{"$f":"IF('Блок 1'!BE93=\"\",\"\",'Блок 1'!BE93)","v":""},{"$f":"IF('Блок 1'!BF93=\"\",\"\",'Блок 1'!BF93)","v":""},{"$f":"IF('Блок 1'!BG93=\"\",\"\",'Блок 1'!BG93)","v":""},{"$f":"IF('Блок 1'!BH93=\"\",\"\",'Блок 1'!BH93)","v":""}]
[null,{"$f":"IF('Блок 1'!B94=\"\",\"\",'Блок 1'!B94)","v":""},{"$f":"IF('Блок 1'!C94=\"\",\"\",'Блок 1'!C94)","v":""},{"$f":"IF('Блок 1'!D94=\"\",\"\",'Блок 1'!D94)","v":""},{"$f":"IF('Блок 1'!E94=\"\",\"\",'Блок 1'!E94)","v":""},{"$f":"IF('Блок 1'!F94=\"\",\"\",'Блок 1'!F94)","v":""},{"$f":"IF('Блок 1'!G94=\"\",\"\",'Блок 1'!G94)","v":""},{"$f":"IF('Блок 1'!H94=\"\",\"\",'Блок 1'!H94)","v":""},{"$f":"IF('Блок 1'!I94=\"\",\"\",'Блок 1'!I94)","v":""},{"$f":"IF('Блок 1'!J94=\"\",\"\",'Блок 1'!J94)","v":""},{"$f":"IF('Блок 1'!K94=\"\",\"\",'Блок 1'!K94)","v":""},{"$f":"IF('Блок 1'!L94=\"\",\"\",'Блок 1'!L94)","v":""},{"$f":"IF('Блок 1'!M94=\"\",\"\",'Блок 1'!M94)","v":""},{"$f":"IF('Блок 1'!N94=\"\",\"\",'Блок 1'!N94)","v":""},{"$f":"IF('Блок 1'!O94=\"\",\"\",'Блок 1'!O94)","v":""},{"$f":"IF('Блок 1'!P94=\"\",\"\",'Блок 1'!P94)","v":""},{"$f":"IF('Блок 1'!Q94=\"\",\"\",'Блок 1'!Q94)","v":""},{"$f":"IF('Блок 1'!R94=\"\",\"\",'Блок 1'!R94)","v":""},{"$f":"IF('Блок 1'!S94=\"\",\"\",'Блок 1'!S94)","v":""},{"$f":"IF('Блок 1'!T94=\"\",\"\",'Блок 1'!T94)","v":""},{"$f":"IF('Блок 1'!U94=\"\",\"\",'Блок 1'!U94)","v":""},{"$f":"IF('Блок 1'!V94=\"\",\"\",'Блок 1'!V94)","v":""},{"$f":"IF('Блок 1'!W94=\"\",\"\",'Блок 1'!W94)","v":""},{"$f":"IF('Блок 1'!X94=\"\",\"\",'Блок 1'!X94)","v":""},{"$f":"IF('Блок 1'!Y94=\"\",\"\",'Блок 1'!Y94)","v":""},{"$f":"IF('Блок 1'!Z94=\"\",\"\",'Блок 1'!Z94)","v":""},{"$f":"IF('Блок 1'!AA94=\"\",\"\",'Блок 1'!AA94)","v":""},{"$f":"IF('Блок 1'!AB94=\"\",\"\",'Блок 1'!AB94)","v":""},{"$f":"IF('Блок 1'!AC94=\"\",\"\",'Блок 1'!AC94)","v":""},{"$f":"IF('Блок 1'!AD94=\"\",\"\",'Блок 1'!AD94)","v":""},{"$f":"IF('Блок 1'!AE94=\"\",\"\",'Блок 1'!AE94)","v":""},{"$f":"IF('Блок 1'!AF94=\"\",\"\",'Блок 1'!AF94)","v":""},{"$f":"IF('Блок 1'!AG94=\"\",\"\",'Блок 1'!AG94)","v":""},{"$f":"IF('Блок 1'!AH94=\"\",\"\",'Блок 1'!AH94)","v":""},{"$f":"IF('Блок 1'!AI94=\"\",\"\",'Блок 1'!AI94)","v":""},{"$f":"IF('Блок 1'!AJ94=\"\",\"\",'Блок 1'!AJ94)","v":""},{"$f":"IF('Блок 1'!AK94=\"\",\"\",'Блок 1'!AK94)","v":""},{"$f":"IF('Блок 1'!AL94=\"\",\"\",'Блок 1'!AL94)","v":""},{"$f":"IF('Блок 1'!AM94=\"\",\"\",'Блок 1'!AM94)","v":""},{"$f":"IF('Блок 1'!AN94=\"\",\"\",'Блок 1'!AN94)","v":""},{"$f":"IF('Блок 1'!AO94=\"\",\"\",'Блок 1'!AO94)","v":""},{"$f":"IF('Блок 1'!AP94=\"\",\"\",'Блок 1'!AP94)","v":""},{"$f":"IF('Блок 1'!AQ94=\"\",\"\",'Блок 1'!AQ94)","v":""},{"$f":"IF('Блок 1'!AR94=\"\",\"\",'Блок 1'!AR94)","v":""},{"$f":"IF('Блок 1'!AS94=\"\",\"\",'Блок 1'!AS94)","v":""},{"$f":"IF('Блок 1'!AT94=\"\",\"\",'Блок 1'!AT94)","v":""},{"$f":"IF('Блок 1'!AU94=\"\",\"\",'Блок 1'!AU94)","v":""},{"$f":"IF('Блок 1'!AV94=\"\",\"\",'Блок 1'!AV94)","v":""},{"$f":"IF('Блок 1'!AW94=\"\",\"\",'Блок 1'!AW94)","v":""},{"$f":"IF('Блок 1'!AX94=\"\",\"\",'Блок 1'!AX94)","v":""},{"$f":"IF('Блок 1'!AY94=\"\",\"\",'Блок 1'!AY94)","v":""},{"$f":"IF('Блок 1'!AZ94=\"\",\"\",'Блок 1'!AZ94)","v":""},{"$f":"IF('Блок 1'!BA94=\"\",\"\",'Блок 1'!BA94)","v":""},{"$f":"IF('Блок 1'!BB94=\"\",\"\",'Блок 1'!BB94)","v":""},{"$f":"IF('Блок 1'!BC94=\"\",\"\",'Блок 1'!BC94)","v":""},{"$f":"IF('Блок 1'!BD94=\"\",\"\",'Блок 1'!BD94)","v":""},{"$f":"IF('Блок 1'!BE94=\"\",\"\",'Блок 1'!BE94)","v":""},{"$f":"IF('Блок 1'!BF94=\"\",\"\",'Блок 1'!BF94)","v":""},{"$f":"IF('Блок 1'!BG94=\"\",\"\",'Блок 1'!BG94)","v":""},{"$f":"IF('Блок 1'!BH94=\"\",\"\",'Блок 1'!BH94)","v":""}]
[null,{"$f":"IF('Блок 1'!B95=\"\",\"\",'Блок 1'!B95)","v":""},{"$f":"IF('Блок 1'!C95=\"\",\"\",'Блок 1'!C95)","v":""},{"$f":"IF('Блок 1'!D95=\"\",\"\",'Блок 1'!D95)","v":""},{"$f":"IF('Блок 1'!E95=\"\",\"\",'Блок 1'!E95)","v":""},{"$f":"IF('Блок 1'!F95=\"\",\"\",'Блок 1'!F95)","v":""},{"$f":"IF('Блок 1'!G95=\"\",\"\",'Блок 1'!G95)","v":""},{"$f":"IF('Блок 1'!H95=\"\",\"\",'Блок 1'!H95)","v":""},{"$f":"IF('Блок 1'!I95=\"\",\"\",'Блок 1'!I95)","v":""},{"$f":"IF('Блок 1'!J95=\"\",\"\",'Блок 1'!J95)","v":""},{"$f":"IF('Блок 1'!K95=\"\",\"\",'Блок 1'!K95)","v":""},{"$f":"IF('Блок 1'!L95=\"\",\"\",'Блок 1'!L95)","v":""},{"$f":"IF('Блок 1'!M95=\"\",\"\",'Блок 1'!M95)","v":""},{"$f":"IF('Блок 1'!N95=\"\",\"\",'Блок 1'!N95)","v":""},{"$f":"IF('Блок 1'!O95=\"\",\"\",'Блок 1'!O95)","v":""},{"$f":"IF('Блок 1'!P95=\"\",\"\",'Блок 1'!P95)","v":""},{"$f":"IF('Блок 1'!Q95=\"\",\"\",'Блок 1'!Q95)","v":""},{"$f":"IF('Блок 1'!R95=\"\",\"\",'Блок 1'!R95)","v":""},{"$f":"IF('Блок 1'!S95=\"\",\"\",'Блок 1'!S95)","v":""},{"$f":"IF('Блок 1'!T95=\"\",\"\",'Блок 1'!T95)","v":""},{"$f":"IF('Блок 1'!U95=\"\",\"\",'Блок 1'!U95)","v":""},{"$f":"IF('Блок 1'!V95=\"\",\"\",'Блок 1'!V95)","v":""},{"$f":"IF('Блок 1'!W95=\"\",\"\",'Блок 1'!W95)","v":""},{"$f":"IF('Блок 1'!X95=\"\",\"\",'Блок 1'!X95)","v":""},{"$f":"IF('Блок 1'!Y95=\"\",\"\",'Блок 1'!Y95)","v":""},{"$f":"IF('Блок 1'!Z95=\"\",\"\",'Блок 1'!Z95)","v":""},{"$f":"IF('Блок 1'!AA95=\"\",\"\",'Блок 1'!AA95)","v":""},{"$f":"IF('Блок 1'!AB95=\"\",\"\",'Блок 1'!AB95)","v":""},{"$f":"IF('Блок 1'!AC95=\"\",\"\",'Блок 1'!AC95)","v":""},{"$f":"IF('Блок 1'!AD95=\"\",\"\",'Блок 1'!AD95)","v":""},{"$f":"IF('Блок 1'!AE95=\"\",\"\",'Блок 1'!AE95)","v":""},{"$f":"IF('Блок 1'!AF95=\"\",\"\",'Блок 1'!AF95)","v":""},{"$f":"IF('Блок 1'!AG95=\"\",\"\",'Блок 1'!AG95)","v":""},{"$f":"IF('Блок 1'!AH95=\"\",\"\",'Блок 1'!AH95)","v":""},{"$f":"IF('Блок 1'!AI95=\"\",\"\",'Блок 1'!AI95)","v":""},{"$f":"IF('Блок 1'!AJ95=\"\",\"\",'Блок 1'!AJ95)","v":""},{"$f":"IF('Блок 1'!AK95=\"\",\"\",'Блок 1'!AK95)","v":""},{"$f":"IF('Блок 1'!AL95=\"\",\"\",'Блок 1'!AL95)","v":""},{"$f":"IF('Блок 1'!AM95=\"\",\"\",'Блок 1'!AM95)","v":""},{"$f":"IF('Блок 1'!AN95=\"\",\"\",'Блок 1'!AN95)","v":""},{"$f":"IF('Блок 1'!AO95=\"\",\"\",'Блок 1'!AO95)","v":""},{"$f":"IF('Блок 1'!AP95=\"\",\"\",'Блок 1'!AP95)","v":""},{"$f":"IF('Блок 1'!AQ95=\"\",\"\",'Блок 1'!AQ95)","v":""},{"$f":"IF('Блок 1'!AR95=\"\",\"\",'Блок 1'!AR95)","v":""},{"$f":"IF('Блок 1'!AS95=\"\",\"\",'Блок 1'!AS95)","v":""},{"$f":"IF('Блок 1'!AT95=\"\",\"\",'Блок 1'!AT95)","v":""},{"$f":"IF('Блок 1'!AU95=\"\",\"\",'Блок 1'!AU95)","v":""},{"$f":"IF('Блок 1'!AV95=\"\",\"\",'Блок 1'!AV95)","v":""},{"$f":"IF('Блок 1'!AW95=\"\",\"\",'Блок 1'!AW95)","v":""},{"$f":"IF('Блок 1'!AX95=\"\",\"\",'Блок 1'!AX95)","v":""},{"$f":"IF('Блок 1'!AY95=\"\",\"\",'Блок 1'!AY95)","v":""},{"$f":"IF('Блок 1'!AZ95=\"\",\"\",'Блок 1'!AZ95)","v":""},{"$f":"IF('Блок 1'!BA95=\"\",\"\",'Блок 1'!BA95)","v":""},{"$f":"IF('Блок 1'!BB95=\"\",\"\",'Блок 1'!BB95)","v":""},{"$f":"IF('Блок 1'!BC95=\"\",\"\",'Блок 1'!BC95)","v":""},{"$f":"IF('Блок 1'!BD95=\"\",\"\",'Блок 1'!BD95)","v":""},{"$f":"IF('Блок 1'!BE95=\"\",\"\",'Блок 1'!BE95)","v":""},{"$f":"IF('Блок 1'!BF95=\"\",\"\",'Блок 1'!BF95)","v":""},{"$f":"IF('Блок 1'!BG95=\"\",\"\",'Блок 1'!BG95)","v":""},{"$f":"IF('Блок 1'!BH95=\"\",\"\",'Блок 1'!BH95)","v":""}]
[null,{"$f":"IF('Блок 1'!B96=\"\",\"\",'Блок 1'!B96)","v":""},{"$f":"IF('Блок 1'!C96=\"\",\"\",'Блок 1'!C96)","v":""},{"$f":"IF('Блок 1'!D96=\"\",\"\",'Блок 1'!D96)","v":""},{"$f":"IF('Блок 1'!E96=\"\",\"\",'Блок 1'!E96)","v":""},{"$f":"IF('Блок 1'!F96=\"\",\"\",'Блок 1'!F96)","v":""},{"$f":"IF('Блок 1'!G96=\"\",\"\",'Блок 1'!G96)","v":""},{"$f":"IF('Блок 1'!H96=\"\",\"\",'Блок 1'!H96)","v":""},{"$f":"IF('Блок 1'!I96=\"\",\"\",'Блок 1'!I96)","v":""},{"$f":"IF('Блок 1'!J96=\"\",\"\",'Блок 1'!J96)","v":""},{"$f":"IF('Блок 1'!K96=\"\",\"\",'Блок 1'!K96)","v":""},{"$f":"IF('Блок 1'!L96=\"\",\"\",'Блок 1'!L96)","v":""},{"$f":"IF('Блок 1'!M96=\"\",\"\",'Блок 1'!M96)","v":""},{"$f":"IF('Блок 1'!N96=\"\",\"\",'Блок 1'!N96)","v":""},{"$f":"IF('Блок 1'!O96=\"\",\"\",'Блок 1'!O96)","v":""},{"$f":"IF('Блок 1'!P96=\"\",\"\",'Блок 1'!P96)","v":""},{"$f":"IF('Блок 1'!Q96=\"\",\"\",'Блок 1'!Q96)","v":""},{"$f":"IF('Блок 1'!R96=\"\",\"\",'Блок 1'!R96)","v":""},{"$f":"IF('Блок 1'!S96=\"\",\"\",'Блок 1'!S96)","v":""},{"$f":"IF('Блок 1'!T96=\"\",\"\",'Блок 1'!T96)","v":""},{"$f":"IF('Блок 1'!U96=\"\",\"\",'Блок 1'!U96)","v":""},{"$f":"IF('Блок 1'!V96=\"\",\"\",'Блок 1'!V96)","v":""},{"$f":"IF('Блок 1'!W96=\"\",\"\",'Блок 1'!W96)","v":""},{"$f":"IF('Блок 1'!X96=\"\",\"\",'Блок 1'!X96)","v":""},{"$f":"IF('Блок 1'!Y96=\"\",\"\",'Блок 1'!Y96)","v":""},{"$f":"IF('Блок 1'!Z96=\"\",\"\",'Блок 1'!Z96)","v":""},{"$f":"IF('Блок 1'!AA96=\"\",\"\",'Блок 1'!AA96)","v":""},{"$f":"IF('Блок 1'!AB96=\"\",\"\",'Блок 1'!AB96)","v":""},{"$f":"IF('Блок 1'!AC96=\"\",\"\",'Блок 1'!AC96)","v":""},{"$f":"IF('Блок 1'!AD96=\"\",\"\",'Блок 1'!AD96)","v":""},{"$f":"IF('Блок 1'!AE96=\"\",\"\",'Блок 1'!AE96)","v":""},{"$f":"IF('Блок 1'!AF96=\"\",\"\",'Блок 1'!AF96)","v":""},{"$f":"IF('Блок 1'!AG96=\"\",\"\",'Блок 1'!AG96)","v":""},{"$f":"IF('Блок 1'!AH96=\"\",\"\",'Блок 1'!AH96)","v":""},{"$f":"IF('Блок 1'!AI96=\"\",\"\",'Блок 1'!AI96)","v":""},{"$f":"IF('Блок 1'!AJ96=\"\",\"\",'Блок 1'!AJ96)","v":""},{"$f":"IF('Блок 1'!AK96=\"\",\"\",'Блок 1'!AK96)","v":""},{"$f":"IF('Блок 1'!AL96=\"\",\"\",'Блок 1'!AL96)","v":""},{"$f":"IF('Блок 1'!AM96=\"\",\"\",'Блок 1'!AM96)","v":""},{"$f":"IF('Блок 1'!AN96=\"\",\"\",'Блок 1'!AN96)","v":""},{"$f":"IF('Блок 1'!AO96=\"\",\"\",'Блок 1'!AO96)","v":""},{"$f":"IF('Блок 1'!AP96=\"\",\"\",'Блок 1'!AP96)","v":""},{"$f":"IF('Блок 1'!AQ96=\"\",\"\",'Блок 1'!AQ96)","v":""},{"$f":"IF('Блок 1'!AR96=\"\",\"\",'Блок 1'!AR96)","v":""},{"$f":"IF('Блок 1'!AS96=\"\",\"\",'Блок 1'!AS96)","v":""},{"$f":"IF('Блок 1'!AT96=\"\",\"\",'Блок 1'!AT96)","v":""},{"$f":"IF('Блок 1'!AU96=\"\",\"\",'Блок 1'!AU96)","v":""},{"$f":"IF('Блок 1'!AV96=\"\",\"\",'Блок 1'!AV96)","v":""},{"$f":"IF('Блок 1'!AW96=\"\",\"\",'Блок 1'!AW96)","v":""},{"$f":"IF('Блок 1'!AX96=\"\",\"\",'Блок 1'!AX96)","v":""},{"$f":"IF('Блок 1'!AY96=\"\",\"\",'Блок 1'!AY96)","v":""},{"$f":"IF('Блок 1'!AZ96=\"\",\"\",'Блок 1'!AZ96)","v":""},{"$f":"IF('Блок 1'!BA96=\"\",\"\",'Блок 1'!BA96)","v":""},{"$f":"IF('Блок 1'!BB96=\"\",\"\",'Блок 1'!BB96)","v":""},{"$f":"IF('Блок 1'!BC96=\"\",\"\",'Блок 1'!BC96)","v":""},{"$f":"IF('Блок 1'!BD96=\"\",\"\",'Блок 1'!BD96)","v":""},{"$f":"IF('Блок 1'!BE96=\"\",\"\",'Блок 1'!BE96)","v":""},{"$f":"IF('Блок 1'!BF96=\"\",\"\",'Блок 1'!BF96)","v":""},{"$f":"IF('Блок 1'!BG96=\"\",\"\",'Блок 1'!BG96)","v":""},{"$f":"IF('Блок 1'!BH96=\"\",\"\",'Блок 1'!BH96)","v":""}]
[null,{"$f":"IF('Блок 1'!B97=\"\",\"\",'Блок 1'!B97)","v":""},{"$f":"IF('Блок 1'!C97=\"\",\"\",'Блок 1'!C97)","v":""},{"$f":"IF('Блок 1'!D97=\"\",\"\",'Блок 1'!D97)","v":""},{"$f":"IF('Блок 1'!E97=\"\",\"\",'Блок 1'!E97)","v":""},{"$f":"IF('Блок 1'!F97=\"\",\"\",'Блок 1'!F97)","v":""},{"$f":"IF('Блок 1'!G97=\"\",\"\",'Блок 1'!G97)","v":""},{"$f":"IF('Блок 1'!H97=\"\",\"\",'Блок 1'!H97)","v":""},{"$f":"IF('Блок 1'!I97=\"\",\"\",'Блок 1'!I97)","v":""},{"$f":"IF('Блок 1'!J97=\"\",\"\",'Блок 1'!J97)","v":""},{"$f":"IF('Блок 1'!K97=\"\",\"\",'Блок 1'!K97)","v":""},{"$f":"IF('Блок 1'!L97=\"\",\"\",'Блок 1'!L97)","v":""},{"$f":"IF('Блок 1'!M97=\"\",\"\",'Блок 1'!M97)","v":""},{"$f":"IF('Блок 1'!N97=\"\",\"\",'Блок 1'!N97)","v":""},{"$f":"IF('Блок 1'!O97=\"\",\"\",'Блок 1'!O97)","v":""},{"$f":"IF('Блок 1'!P97=\"\",\"\",'Блок 1'!P97)","v":""},{"$f":"IF('Блок 1'!Q97=\"\",\"\",'Блок 1'!Q97)","v":""},{"$f":"IF('Блок 1'!R97=\"\",\"\",'Блок 1'!R97)","v":""},{"$f":"IF('Блок 1'!S97=\"\",\"\",'Блок 1'!S97)","v":""},{"$f":"IF('Блок 1'!T97=\"\",\"\",'Блок 1'!T97)","v":""},{"$f":"IF('Блок 1'!U97=\"\",\"\",'Блок 1'!U97)","v":""},{"$f":"IF('Блок 1'!V97=\"\",\"\",'Блок 1'!V97)","v":""},{"$f":"IF('Блок 1'!W97=\"\",\"\",'Блок 1'!W97)","v":""},{"$f":"IF('Блок 1'!X97=\"\",\"\",'Блок 1'!X97)","v":""},{"$f":"IF('Блок 1'!Y97=\"\",\"\",'Блок 1'!Y97)","v":""},{"$f":"IF('Блок 1'!Z97=\"\",\"\",'Блок 1'!Z97)","v":""},{"$f":"IF('Блок 1'!AA97=\"\",\"\",'Блок 1'!AA97)","v":""},{"$f":"IF('Блок 1'!AB97=\"\",\"\",'Блок 1'!AB97)","v":""},{"$f":"IF('Блок 1'!AC97=\"\",\"\",'Блок 1'!AC97)","v":""},{"$f":"IF('Блок 1'!AD97=\"\",\"\",'Блок 1'!AD97)","v":""},{"$f":"IF('Блок 1'!AE97=\"\",\"\",'Блок 1'!AE97)","v":""},{"$f":"IF('Блок 1'!AF97=\"\",\"\",'Блок 1'!AF97)","v":""},{"$f":"IF('Блок 1'!AG97=\"\",\"\",'Блок 1'!AG97)","v":""},{"$f":"IF('Блок 1'!AH97=\"\",\"\",'Блок 1'!AH97)","v":""},{"$f":"IF('Блок 1'!AI97=\"\",\"\",'Блок 1'!AI97)","v":""},{"$f":"IF('Блок 1'!AJ97=\"\",\"\",'Блок 1'!AJ97)","v":""},{"$f":"IF('Блок 1'!AK97=\"\",\"\",'Блок 1'!AK97)","v":""},{"$f":"IF('Блок 1'!AL97=\"\",\"\",'Блок 1'!AL97)","v":""},{"$f":"IF('Блок 1'!AM97=\"\",\"\",'Блок 1'!AM97)","v":""},{"$f":"IF('Блок 1'!AN97=\"\",\"\",'Блок 1'!AN97)","v":""},{"$f":"IF('Блок 1'!AO97=\"\",\"\",'Блок 1'!AO97)","v":""},{"$f":"IF('Блок 1'!AP97=\"\",\"\",'Блок 1'!AP97)","v":""},{"$f":"IF('Блок 1'!AQ97=\"\",\"\",'Блок 1'!AQ97)","v":""},{"$f":"IF('Блок 1'!AR97=\"\",\"\",'Блок 1'!AR97)","v":""},{"$f":"IF('Блок 1'!AS97=\"\",\"\",'Блок 1'!AS97)","v":""},{"$f":"IF('Блок 1'!AT97=\"\",\"\",'Блок 1'!AT97)","v":""},{"$f":"IF('Блок 1'!AU97=\"\",\"\",'Блок 1'!AU97)","v":""},{"$f":"IF('Блок 1'!AV97=\"\",\"\",'Блок 1'!AV97)","v":""},{"$f":"IF('Блок 1'!AW97=\"\",\"\",'Блок 1'!AW97)","v":""},{"$f":"IF('Блок 1'!AX97=\"\",\"\",'Блок 1'!AX97)","v":""},{"$f":"IF('Блок 1'!AY97=\"\",\"\",'Блок 1'!AY97)","v":""},{"$f":"IF('Блок 1'!AZ97=\"\",\"\",'Блок 1'!AZ97)","v":""},{"$f":"IF('Блок 1'!BA97=\"\",\"\",'Блок 1'!BA97)","v":""},{"$f":"IF('Блок 1'!BB97=\"\",\"\",'Блок 1'!BB97)","v":""},{"$f":"IF('Блок 1'!BC97=\"\",\"\",'Блок 1'!BC97)","v":""},{"$f":"IF('Блок 1'!BD97=\"\",\"\",'Блок 1'!BD97)","v":""},{"$f":"IF('Блок 1'!BE97=\"\",\"\",'Блок 1'!BE97)","v":""},{"$f":"IF('Блок 1'!BF97=\"\",\"\",'Блок 1'!BF97)","v":""},{"$f":"IF('Блок 1'!BG97=\"\",\"\",'Блок 1'!BG97)","v":""},{"$f":"IF('Блок 1'!BH97=\"\",\"\",'Блок 1'!BH97)","v":""}]
[null,{"$f":"IF('Блок 1'!B98=\"\",\"\",'Блок 1'!B98)","v":""},{"$f":"IF('Блок 1'!C98=\"\",\"\",'Блок 1'!C98)","v":""},{"$f":"IF('Блок 1'!D98=\"\",\"\",'Блок 1'!D98)","v":""},{"$f":"IF('Блок 1'!E98=\"\",\"\",'Блок 1'!E98)","v":""},{"$f":"IF('Блок 1'!F98=\"\",\"\",'Блок 1'!F98)","v":""},{"$f":"IF('Блок 1'!G98=\"\",\"\",'Блок 1'!G98)","v":""},{"$f":"IF('Блок 1'!H98=\"\",\"\",'Блок 1'!H98)","v":""},{"$f":"IF('Блок 1'!I98=\"\",\"\",'Блок 1'!I98)","v":""},{"$f":"IF('Блок 1'!J98=\"\",\"\",'Блок 1'!J98)","v":""},{"$f":"IF('Блок 1'!K98=\"\",\"\",'Блок 1'!K98)","v":""},{"$f":"IF('Блок 1'!L98=\"\",\"\",'Блок 1'!L98)","v":""},{"$f":"IF('Блок 1'!M98=\"\",\"\",'Блок 1'!M98)","v":""},{"$f":"IF('Блок 1'!N98=\"\",\"\",'Блок 1'!N98)","v":""},{"$f":"IF('Блок 1'!O98=\"\",\"\",'Блок 1'!O98)","v":""},{"$f":"IF('Блок 1'!P98=\"\",\"\",'Блок 1'!P98)","v":""},{"$f":"IF('Блок 1'!Q98=\"\",\"\",'Блок 1'!Q98)","v":""},{"$f":"IF('Блок 1'!R98=\"\",\"\",'Блок 1'!R98)","v":""},{"$f":"IF('Блок 1'!S98=\"\",\"\",'Блок 1'!S98)","v":""},{"$f":"IF('Блок 1'!T98=\"\",\"\",'Блок 1'!T98)","v":""},{"$f":"IF('Блок 1'!U98=\"\",\"\",'Блок 1'!U98)","v":""},{"$f":"IF('Блок 1'!V98=\"\",\"\",'Блок 1'!V98)","v":""},{"$f":"IF('Блок 1'!W98=\"\",\"\",'Блок 1'!W98)","v":""},{"$f":"IF('Блок 1'!X98=\"\",\"\",'Блок 1'!X98)","v":""},{"$f":"IF('Блок 1'!Y98=\"\",\"\",'Блок 1'!Y98)","v":""},{"$f":"IF('Блок 1'!Z98=\"\",\"\",'Блок 1'!Z98)","v":""},{"$f":"IF('Блок 1'!AA98=\"\",\"\",'Блок 1'!AA98)","v":""},{"$f":"IF('Блок 1'!AB98=\"\",\"\",'Блок 1'!AB98)","v":""},{"$f":"IF('Блок 1'!AC98=\"\",\"\",'Блок 1'!AC98)","v":""},{"$f":"IF('Блок 1'!AD98=\"\",\"\",'Блок 1'!AD98)","v":""},{"$f":"IF('Блок 1'!AE98=\"\",\"\",'Блок 1'!AE98)","v":""},{"$f":"IF('Блок 1'!AF98=\"\",\"\",'Блок 1'!AF98)","v":""},{"$f":"IF('Блок 1'!AG98=\"\",\"\",'Блок 1'!AG98)","v":""},{"$f":"IF('Блок 1'!AH98=\"\",\"\",'Блок 1'!AH98)","v":""},{"$f":"IF('Блок 1'!AI98=\"\",\"\",'Блок 1'!AI98)","v":""},{"$f":"IF('Блок 1'!AJ98=\"\",\"\",'Блок 1'!AJ98)","v":""},{"$f":"IF('Блок 1'!AK98=\"\",\"\",'Блок 1'!AK98)","v":""},{"$f":"IF('Блок 1'!AL98=\"\",\"\",'Блок 1'!AL98)","v":""},{"$f":"IF('Блок 1'!AM98=\"\",\"\",'Блок 1'!AM98)","v":""},{"$f":"IF('Блок 1'!AN98=\"\",\"\",'Блок 1'!AN98)","v":""},{"$f":"IF('Блок 1'!AO98=\"\",\"\",'Блок 1'!AO98)","v":""},{"$f":"IF('Блок 1'!AP98=\"\",\"\",'Блок 1'!AP98)","v":""},{"$f":"IF('Блок 1'!AQ98=\"\",\"\",'Блок 1'!AQ98)","v":""},{"$f":"IF('Блок 1'!AR98=\"\",\"\",'Блок 1'!AR98)","v":""},{"$f":"IF('Блок 1'!AS98=\"\",\"\",'Блок 1'!AS98)","v":""},{"$f":"IF('Блок 1'!AT98=\"\",\"\",'Блок 1'!AT98)","v":""},{"$f":"IF('Блок 1'!AU98=\"\",\"\",'Блок 1'!AU98)","v":""},{"$f":"IF('Блок 1'!AV98=\"\",\"\",'Блок 1'!AV98)","v":""},{"$f":"IF('Блок 1'!AW98=\"\",\"\",'Блок 1'!AW98)","v":""},{"$f":"IF('Блок 1'!AX98=\"\",\"\",'Блок 1'!AX98)","v":""},{"$f":"IF('Блок 1'!AY98=\"\",\"\",'Блок 1'!AY98)","v":""},{"$f":"IF('Блок 1'!AZ98=\"\",\"\",'Блок 1'!AZ98)","v":""},{"$f":"IF('Блок 1'!BA98=\"\",\"\",'Блок 1'!BA98)","v":""},{"$f":"IF('Блок 1'!BB98=\"\",\"\",'Блок 1'!BB98)","v":""},{"$f":"IF('Блок 1'!BC98=\"\",\"\",'Блок 1'!BC98)","v":""},{"$f":"IF('Блок 1'!BD98=\"\",\"\",'Блок 1'!BD98)","v":""},{"$f":"IF('Блок 1'!BE98=\"\",\"\",'Блок 1'!BE98)","v":""},{"$f":"IF('Блок 1'!BF98=\"\",\"\",'Блок 1'!BF98)","v":""},{"$f":"IF('Блок 1'!BG98=\"\",\"\",'Блок 1'!BG98)","v":""},{"$f":"IF('Блок 1'!BH98=\"\",\"\",'Блок 1'!BH98)","v":""}]
[null,{"$f":"IF('Блок 1'!B99=\"\",\"\",'Блок 1'!B99)","v":""},{"$f":"IF('Блок 1'!C99=\"\",\"\",'Блок 1'!C99)","v":""},{"$f":"IF('Блок 1'!D99=\"\",\"\",'Блок 1'!D99)","v":""},{"$f":"IF('Блок 1'!E99=\"\",\"\",'Блок 1'!E99)","v":""},{"$f":"IF('Блок 1'!F99=\"\",\"\",'Блок 1'!F99)","v":""},{"$f":"IF('Блок 1'!G99=\"\",\"\",'Блок 1'!G99)","v":""},{"$f":"IF('Блок 1'!H99=\"\",\"\",'Блок 1'!H99)","v":""},{"$f":"IF('Блок 1'!I99=\"\",\"\",'Блок 1'!I99)","v":""},{"$f":"IF('Блок 1'!J99=\"\",\"\",'Блок 1'!J99)","v":""},{"$f":"IF('Блок 1'!K99=\"\",\"\",'Блок 1'!K99)","v":""},{"$f":"IF('Блок 1'!L99=\"\",\"\",'Блок 1'!L99)","v":""},{"$f":"IF('Блок 1'!M99=\"\",\"\",'Блок 1'!M99)","v":""},{"$f":"IF('Блок 1'!N99=\"\",\"\",'Блок 1'!N99)","v":""},{"$f":"IF('Блок 1'!O99=\"\",\"\",'Блок 1'!O99)","v":""},{"$f":"IF('Блок 1'!P99=\"\",\"\",'Блок 1'!P99)","v":""},{"$f":"IF('Блок 1'!Q99=\"\",\"\",'Блок 1'!Q99)","v":""},{"$f":"IF('Блок 1'!R99=\"\",\"\",'Блок 1'!R99)","v":""},{"$f":"IF('Блок 1'!S99=\"\",\"\",'Блок 1'!S99)","v":""},{"$f":"IF('Блок 1'!T99=\"\",\"\",'Блок 1'!T99)","v":""},{"$f":"IF('Блок 1'!U99=\"\",\"\",'Блок 1'!U99)","v":""},{"$f":"IF('Блок 1'!V99=\"\",\"\",'Блок 1'!V99)","v":""},{"$f":"IF('Блок 1'!W99=\"\",\"\",'Блок 1'!W99)","v":""},{"$f":"IF('Блок 1'!X99=\"\",\"\",'Блок 1'!X99)","v":""},{"$f":"IF('Блок 1'!Y99=\"\",\"\",'Блок 1'!Y99)","v":""},{"$f":"IF('Блок 1'!Z99=\"\",\"\",'Блок 1'!Z99)","v":""},{"$f":"IF('Блок 1'!AA99=\"\",\"\",'Блок 1'!AA99)","v":""},{"$f":"IF('Блок 1'!AB99=\"\",\"\",'Блок 1'!AB99)","v":""},{"$f":"IF('Блок 1'!AC99=\"\",\"\",'Блок 1'!AC99)","v":""},{"$f":"IF('Блок 1'!AD99=\"\",\"\",'Блок 1'!AD99)","v":""},{"$f":"IF('Блок 1'!AE99=\"\",\"\",'Блок 1'!AE99)","v":""},{"$f":"IF('Блок 1'!AF99=\"\",\"\",'Блок 1'!AF99)","v":""},{"$f":"IF('Блок 1'!AG99=\"\",\"\",'Блок 1'!AG99)","v":""},{"$f":"IF('Блок 1'!AH99=\"\",\"\",'Блок 1'!AH99)","v":""},{"$f":"IF('Блок 1'!AI99=\"\",\"\",'Блок 1'!AI99)","v":""},{"$f":"IF('Блок 1'!AJ99=\"\",\"\",'Блок 1'!AJ99)","v":""},{"$f":"IF('Блок 1'!AK99=\"\",\"\",'Блок 1'!AK99)","v":""},{"$f":"IF('Блок 1'!AL99=\"\",\"\",'Блок 1'!AL99)","v":""},{"$f":"IF('Блок 1'!AM99=\"\",\"\",'Блок 1'!AM99)","v":""},{"$f":"IF('Блок 1'!AN99=\"\",\"\",'Блок 1'!AN99)","v":""},{"$f":"IF('Блок 1'!AO99=\"\",\"\",'Блок 1'!AO99)","v":""},{"$f":"IF('Блок 1'!AP99=\"\",\"\",'Блок 1'!AP99)","v":""},{"$f":"IF('Блок 1'!AQ99=\"\",\"\",'Блок 1'!AQ99)","v":""},{"$f":"IF('Блок 1'!AR99=\"\",\"\",'Блок 1'!AR99)","v":""},{"$f":"IF('Блок 1'!AS99=\"\",\"\",'Блок 1'!AS99)","v":""},{"$f":"IF('Блок 1'!AT99=\"\",\"\",'Блок 1'!AT99)","v":""},{"$f":"IF('Блок 1'!AU99=\"\",\"\",'Блок 1'!AU99)","v":""},{"$f":"IF('Блок 1'!AV99=\"\",\"\",'Блок 1'!AV99)","v":""},{"$f":"IF('Блок 1'!AW99=\"\",\"\",'Блок 1'!AW99)","v":""},{"$f":"IF('Блок 1'!AX99=\"\",\"\",'Блок 1'!AX99)","v":""},{"$f":"IF('Блок 1'!AY99=\"\",\"\",'Блок 1'!AY99)","v":""},{"$f":"IF('Блок 1'!AZ99=\"\",\"\",'Блок 1'!AZ99)","v":""},{"$f":"IF('Блок 1'!BA99=\"\",\"\",'Блок 1'!BA99)","v":""},{"$f":"IF('Блок 1'!BB99=\"\",\"\",'Блок 1'!BB99)","v":""},{"$f":"IF('Блок 1'!BC99=\"\",\"\",'Блок 1'!BC99)","v":""},{"$f":"IF('Блок 1'!BD99=\"\",\"\",'Блок 1'!BD99)","v":""},{"$f":"IF('Блок 1'!BE99=\"\",\"\",'Блок 1'!BE99)","v":""},{"$f":"IF('Блок 1'!BF99=\"\",\"\",'Блок 1'!BF99)","v":""},{"$f":"IF('Блок 1'!BG99=\"\",\"\",'Блок 1'!BG99)","v":""},{"$f":"IF('Блок 1'!BH99=\"\",\"\",'Блок 1'!BH99)","v":""}]
[null,{"$f":"IF('Блок 1'!B100=\"\",\"\",'Блок 1'!B100)","v":""},{"$f":"IF('Блок 1'!C100=\"\",\"\",'Блок 1'!C100)","v":""},{"$f":"IF('Блок 1'!D100=\"\",\"\",'Блок 1'!D100)","v":""},{"$f":"IF('Блок 1'!E100=\"\",\"\",'Блок 1'!E100)","v":""},{"$f":"IF('Блок 1'!F100=\"\",\"\",'Блок 1'!F100)","v":""},{"$f":"IF('Блок 1'!G100=\"\",\"\",'Блок 1'!G100)","v":""},{"$f":"IF('Блок 1'!H100=\"\",\"\",'Блок 1'!H100)","v":""},{"$f":"IF('Блок 1'!I100=\"\",\"\",'Блок 1'!I100)","v":""},{"$f":"IF('Блок 1'!J100=\"\",\"\",'Блок 1'!J100)","v":""},{"$f":"IF('Блок 1'!K100=\"\",\"\",'Блок 1'!K100)","v":""},{"$f":"IF('Блок 1'!L100=\"\",\"\",'Блок 1'!L100)","v":""},{"$f":"IF('Блок 1'!M100=\"\",\"\",'Блок 1'!M100)","v":""},{"$f":"IF('Блок 1'!N100=\"\",\"\",'Блок 1'!N100)","v":""},{"$f":"IF('Блок 1'!O100=\"\",\"\",'Блок 1'!O100)","v":""},{"$f":"IF('Блок 1'!P100=\"\",\"\",'Блок 1'!P100)","v":""},{"$f":"IF('Блок 1'!Q100=\"\",\"\",'Блок 1'!Q100)","v":""},{"$f":"IF('Блок 1'!R100=\"\",\"\",'Блок 1'!R100)","v":""},{"$f":"IF('Блок 1'!S100=\"\",\"\",'Блок 1'!S100)","v":""},{"$f":"IF('Блок 1'!T100=\"\",\"\",'Блок 1'!T100)","v":""},{"$f":"IF('Блок 1'!U100=\"\",\"\",'Блок 1'!U100)","v":""},{"$f":"IF('Блок 1'!V100=\"\",\"\",'Блок 1'!V100)","v":""},{"$f":"IF('Блок 1'!W100=\"\",\"\",'Блок 1'!W100)","v":""},{"$f":"IF('Блок 1'!X100=\"\",\"\",'Блок 1'!X100)","v":""},{"$f":"IF('Блок 1'!Y100=\"\",\"\",'Блок 1'!Y100)","v":""},{"$f":"IF('Блок 1'!Z100=\"\",\"\",'Блок 1'!Z100)","v":""},{"$f":"IF('Блок 1'!AA100=\"\",\"\",'Блок 1'!AA100)","v":""},{"$f":"IF('Блок 1'!AB100=\"\",\"\",'Блок 1'!AB100)","v":""},{"$f":"IF('Блок 1'!AC100=\"\",\"\",'Блок 1'!AC100)","v":""},{"$f":"IF('Блок 1'!AD100=\"\",\"\",'Блок 1'!AD100)","v":""},{"$f":"IF('Блок 1'!AE100=\"\",\"\",'Блок 1'!AE100)","v":""},{"$f":"IF('Блок 1'!AF100=\"\",\"\",'Блок 1'!AF100)","v":""},{"$f":"IF('Блок 1'!AG100=\"\",\"\",'Блок 1'!AG100)","v":""},{"$f":"IF('Блок 1'!AH100=\"\",\"\",'Блок 1'!AH100)","v":""},{"$f":"IF('Блок 1'!AI100=\"\",\"\",'Блок 1'!AI100)","v":""},{"$f":"IF('Блок 1'!AJ100=\"\",\"\",'Блок 1'!AJ100)","v":""},{"$f":"IF('Блок 1'!AK100=\"\",\"\",'Блок 1'!AK100)","v":""},{"$f":"IF('Блок 1'!AL100=\"\",\"\",'Блок 1'!AL100)","v":""},{"$f":"IF('Блок 1'!AM100=\"\",\"\",'Блок 1'!AM100)","v":""},{"$f":"IF('Блок 1'!AN100=\"\",\"\",'Блок 1'!AN100)","v":""},{"$f":"IF('Блок 1'!AO100=\"\",\"\",'Блок 1'!AO100)","v":""},{"$f":"IF('Блок 1'!AP100=\"\",\"\",'Блок 1'!AP100)","v":""},{"$f":"IF('Блок 1'!AQ100=\"\",\"\",'Блок 1'!AQ100)","v":""},{"$f":"IF('Блок 1'!AR100=\"\",\"\",'Блок 1'!AR100)","v":""},{"$f":"IF('Блок 1'!AS100=\"\",\"\",'Блок 1'!AS100)","v":""},{"$f":"IF('Блок 1'!AT100=\"\",\"\",'Блок 1'!AT100)","v":""},{"$f":"IF('Блок 1'!AU100=\"\",\"\",'Блок 1'!AU100)","v":""},{"$f":"IF('Блок 1'!AV100=\"\",\"\",'Блок 1'!AV100)","v":""},{"$f":"IF('Блок 1'!AW100=\"\",\"\",'Блок 1'!AW100)","v":""},{"$f":"IF('Блок 1'!AX100=\"\",\"\",'Блок 1'!AX100)","v":""},{"$f":"IF('Блок 1'!AY100=\"\",\"\",'Блок 1'!AY100)","v":""},{"$f":"IF('Блок 1'!AZ100=\"\",\"\",'Блок 1'!AZ100)","v":""},{"$f":"IF('Блок 1'!BA100=\"\",\"\",'Блок 1'!BA100)","v":""},{"$f":"IF('Блок 1'!BB100=\"\",\"\",'Блок 1'!BB100)","v":""},{"$f":"IF('Блок 1'!BC100=\"\",\"\",'Блок 1'!BC100)","v":""},{"$f":"IF('Блок 1'!BD100=\"\",\"\",'Блок 1'!BD100)","v":""},{"$f":"IF('Блок 1'!BE100=\"\",\"\",'Блок 1'!BE100)","v":""},{"$f":"IF('Блок 1'!BF100=\"\",\"\",'Блок 1'!BF100)","v":""},{"$f":"IF('Блок 1'!BG100=\"\",\"\",'Блок 1'!BG100)","v":""},{"$f":"IF('Блок 1'!BH100=\"\",\"\",'Блок 1'!BH100)","v":""}]
[null,{"$f":"IF('Блок 1'!B101=\"\",\"\",'Блок 1'!B101)","v":""},{"$f":"IF('Блок 1'!C101=\"\",\"\",'Блок 1'!C101)","v":""},null,null,null,null,null,null,null,null,null,null,null,null,null,null,null,null,null,null,null,{"$f":"IF('Блок 1'!W101=\"\",\"\",'Блок 1'!W101)","v":""},{"$f":"IF('Блок 1'!X101=\"\",\"\",'Блок 1'!X101)","v":""},{"$f":"IF('Блок 1'!Y101=\"\",\"\",'Блок 1'!Y101)","v":""},{"$f":"IF('Блок 1'!Z101=\"\",\"\",'Блок 1'!Z101)","v":""},{"$f":"IF('Блок 1'!AA101=\"\",\"\",'Блок 1'!AA101)","v":""},{"$f":"IF('Блок 1'!AB101=\"\",\"\",'Блок 1'!AB101)","v":0},{"$f":"IF('Блок 1'!AC101=\"\",\"\",'Блок 1'!AC101)","v":0},{"$f":"IF('Блок 1'!AD101=\"\",\"\",'Блок 1'!AD101)","v":0},{"$f":"IF('Блок 1'!AE101=\"\",\"\",'Блок 1'!AE101)","v":0},{"$f":"IF('Блок 1'!AF101=\"\",\"\",'Блок 1'!AF101)","v":0},{"$f":"IF('Блок 1'!AG101=\"\",\"\",'Блок 1'!AG101)","v":0},{"$f":"IF('Блок 1'!AH101=\"\",\"\",'Блок 1'!AH101)","v":0},{"$f":"IF('Блок 1'!AI101=\"\",\"\",'Блок 1'!AI101)","v":0},{"$f":"IF('Блок 1'!AJ101=\"\",\"\",'Блок 1'!AJ101)","v":0},{"$f":"IF('Блок 1'!AK101=\"\",\"\",'Блок 1'!AK101)","v":""},{"$f":"IF('Блок 1'!AL101=\"\",\"\",'Блок 1'!AL101)","v":""},{"$f":"IF('Блок 1'!AM101=\"\",\"\",'Блок 1'!AM101)","v":""},{"$f":"IF('Блок 1'!AN101=\"\",\"\",'Блок 1'!AN101)","v":""},{"$f":"IF('Блок 1'!AO101=\"\",\"\",'Блок 1'!AO101)","v":""},{"$f":"IF('Блок 1'!AP101=\"\",\"\",'Блок 1'!AP101)","v":""},{"$f":"IF('Блок 1'!AQ101=\"\",\"\",'Блок 1'!AQ101)","v":""},{"$f":"IF('Блок 1'!AR101=\"\",\"\",'Блок 1'!AR101)","v":""},{"$f":"IF('Блок 1'!AS101=\"\",\"\",'Блок 1'!AS101)","v":""},{"$f":"IF('Блок 1'!AT101=\"\",\"\",'Блок 1'!AT101)","v":""},{"$f":"IF('Блок 1'!AU101=\"\",\"\",'Блок 1'!AU101)","v":""},{"$f":"IF('Блок 1'!AV101=\"\",\"\",'Блок 1'!AV101)","v":""},{"$f":"IF('Блок 1'!AW101=\"\",\"\",'Блок 1'!AW101)","v":""},{"$f":"IF('Блок 1'!AX101=\"\",\"\",'Блок 1'!AX101)","v":""},{"$f":"IF('Блок 1'!AY101=\"\",\"\",'Блок 1'!AY101)","v":""},{"$f":"IF('Блок 1'!AZ101=\"\",\"\",'Блок 1'!AZ101)","v":""},{"$f":"IF('Блок 1'!BA101=\"\",\"\",'Блок 1'!BA101)","v":""},{"$f":"IF('Блок 1'!BB101=\"\",\"\",'Блок 1'!BB101)","v":""},{"$f":"IF('Блок 1'!BC101=\"\",\"\",'Блок 1'!BC101)","v":""},{"$f":"IF('Блок 1'!BD101=\"\",\"\",'Блок 1'!BD101)","v":""},{"$f":"IF('Блок 1'!BE101=\"\",\"\",'Блок 1'!BE101)","v":""},{"$f":"IF('Блок 1'!BF101=\"\",\"\",'Блок 1'!BF101)","v":""},{"$f":"IF('Блок 1'!BG101=\"\",\"\",'Блок 1'!BG101)","v":""},{"$f":"IF('Блок 1'!BH101=\"\",\"\",'Блок 1'!BH101)","v":""}]
[null,{"$f":"IF('Блок 1'!B102=\"\",\"\",'Блок 1'!B102)","v":""},{"$f":"IF('Блок 1'!C102=\"\",\"\",'Блок 1'!C102)","v":""},{"$f":"IF('Блок 1'!D102=\"\",\"\",'Блок 1'!D102)","v":""},{"$f":"IF('Блок 1'!E102=\"\",\"\",'Блок 1'!E102)","v":""},{"$f":"IF('Блок 1'!F102=\"\",\"\",'Блок 1'!F102)","v":""},{"$f":"IF('Блок 1'!G102=\"\",\"\",'Блок 1'!G102)","v":""},{"$f":"IF('Блок 1'!H102=\"\",\"\",'Блок 1'!H102)","v":""},{"$f":"IF('Блок 1'!I102=\"\",\"\",'Блок 1'!I102)","v":""},{"$f":"IF('Блок 1'!J102=\"\",\"\",'Блок 1'!J102)","v":""},{"$f":"IF('Блок 1'!K102=\"\",\"\",'Блок 1'!K102)","v":""},{"$f":"IF('Блок 1'!L102=\"\",\"\",'Блок 1'!L102)","v":""},{"$f":"IF('Блок 1'!M102=\"\",\"\",'Блок 1'!M102)","v":""},{"$f":"IF('Блок 1'!N102=\"\",\"\",'Блок 1'!N102)","v":""},{"$f":"IF('Блок 1'!O102=\"\",\"\",'Блок 1'!O102)","v":""},{"$f":"IF('Блок 1'!P102=\"\",\"\",'Блок 1'!P102)","v":""},{"$f":"IF('Блок 1'!Q102=\"\",\"\",'Блок 1'!Q102)","v":""},{"$f":"IF('Блок 1'!R102=\"\",\"\",'Блок 1'!R102)","v":""},{"$f":"IF('Блок 1'!S102=\"\",\"\",'Блок 1'!S102)","v":""},{"$f":"IF('Блок 1'!T102=\"\",\"\",'Блок 1'!T102)","v":""},{"$f":"IF('Блок 1'!U102=\"\",\"\",'Блок 1'!U102)","v":""},{"$f":"IF('Блок 1'!V102=\"\",\"\",'Блок 1'!V102)","v":""},{"$f":"IF('Блок 1'!W102=\"\",\"\",'Блок 1'!W102)","v":""},{"$f":"IF('Блок 1'!X102=\"\",\"\",'Блок 1'!X102)","v":""},{"$f":"IF('Блок 1'!Y102=\"\",\"\",'Блок 1'!Y102)","v":""},{"$f":"IF('Блок 1'!Z102=\"\",\"\",'Блок 1'!Z102)","v":""},{"$f":"IF('Блок 1'!AA102=\"\",\"\",'Блок 1'!AA102)","v":""},{"$f":"IF('Блок 1'!AB102=\"\",\"\",'Блок 1'!AB102)","v":""},{"$f":"IF('Блок 1'!AC102=\"\",\"\",'Блок 1'!AC102)","v":""},{"$f":"IF('Блок 1'!AD102=\"\",\"\",'Блок 1'!AD102)","v":""},{"$f":"IF('Блок 1'!AE102=\"\",\"\",'Блок 1'!AE102)","v":""},{"$f":"IF('Блок 1'!AF102=\"\",\"\",'Блок 1'!AF102)","v":""},{"$f":"IF('Блок 1'!AG102=\"\",\"\",'Блок 1'!AG102)","v":""},{"$f":"IF('Блок 1'!AH102=\"\",\"\",'Блок 1'!AH102)","v":""},{"$f":"IF('Блок 1'!AI102=\"\",\"\",'Блок 1'!AI102)","v":""},{"$f":"IF('Блок 1'!AJ102=\"\",\"\",'Блок 1'!AJ102)","v":""},{"$f":"IF('Блок 1'!AK102=\"\",\"\",'Блок 1'!AK102)","v":""},{"$f":"IF('Блок 1'!AL102=\"\",\"\",'Блок 1'!AL102)","v":""},{"$f":"IF('Блок 1'!AM102=\"\",\"\",'Блок 1'!AM102)","v":""},{"$f":"IF('Блок 1'!AN102=\"\",\"\",'Блок 1'!AN102)","v":""},{"$f":"IF('Блок 1'!AO102=\"\",\"\",'Блок 1'!AO102)","v":""},{"$f":"IF('Блок 1'!AP102=\"\",\"\",'Блок 1'!AP102)","v":""},{"$f":"IF('Блок 1'!AQ102=\"\",\"\",'Блок 1'!AQ102)","v":""},{"$f":"IF('Блок 1'!AR102=\"\",\"\",'Блок 1'!AR102)","v":""},{"$f":"IF('Блок 1'!AS102=\"\",\"\",'Блок 1'!AS102)","v":""},{"$f":"IF('Блок 1'!AT102=\"\",\"\",'Блок 1'!AT102)","v":""},{"$f":"IF('Блок 1'!AU102=\"\",\"\",'Блок 1'!AU102)","v":""},{"$f":"IF('Блок 1'!AV102=\"\",\"\",'Блок 1'!AV102)","v":""},{"$f":"IF('Блок 1'!AW102=\"\",\"\",'Блок 1'!AW102)","v":""},{"$f":"IF('Блок 1'!AX102=\"\",\"\",'Блок 1'!AX102)","v":""},{"$f":"IF('Блок 1'!AY102=\"\",\"\",'Блок 1'!AY102)","v":""},{"$f":"IF('Блок 1'!AZ102=\"\",\"\",'Блок 1'!AZ102)","v":""},{"$f":"IF('Блок 1'!BA102=\"\",\"\",'Блок 1'!BA102)","v":""},{"$f":"IF('Блок 1'!BB102=\"\",\"\",'Блок 1'!BB102)","v":""},{"$f":"IF('Блок 1'!BC102=\"\",\"\",'Блок 1'!BC102)","v":""},{"$f":"IF('Блок 1'!BD102=\"\",\"\",'Блок 1'!BD102)","v":""},{"$f":"IF('Блок 1'!BE102=\"\",\"\",'Блок 1'!BE102)","v":""},{"$f":"IF('Блок 1'!BF102=\"\",\"\",'Блок 1'!BF102)","v":""},{"$f":"IF('Блок 1'!BG102=\"\",\"\",'Блок 1'!BG102)","v":""},{"$f":"IF('Блок 1'!BH102=\"\",\"\",'Блок 1'!BH102)","v":""}]
[null,{"$f":"IF('Блок 1'!B103=\"\",\"\",'Блок 1'!B103)","v":""},{"$f":"IF('Блок 1'!C103=\"\",\"\",'Блок 1'!C103)","v":""},{"$f":"IF('Блок 1'!D103=\"\",\"\",'Блок 1'!D103)","v":""},{"$f":"IF('Блок 1'!E103=\"\",\"\",'Блок 1'!E103)","v":""},{"$f":"IF('Блок 1'!F103=\"\",\"\",'Блок 1'!F103)","v":""},{"$f":"IF('Блок 1'!G103=\"\",\"\",'Блок 1'!G103)","v":""},{"$f":"IF('Блок 1'!H103=\"\",\"\",'Блок 1'!H103)","v":""},{"$f":"IF('Блок 1'!I103=\"\",\"\",'Блок 1'!I103)","v":""},{"$f":"IF('Блок 1'!J103=\"\",\"\",'Блок 1'!J103)","v":""},{"$f":"IF('Блок 1'!K103=\"\",\"\",'Блок 1'!K103)","v":""},{"$f":"IF('Блок 1'!L103=\"\",\"\",'Блок 1'!L103)","v":""},{"$f":"IF('Блок 1'!M103=\"\",\"\",'Блок 1'!M103)","v":""},{"$f":"IF('Блок 1'!N103=\"\",\"\",'Блок 1'!N103)","v":""},{"$f":"IF('Блок 1'!O103=\"\",\"\",'Блок 1'!O103)","v":""},{"$f":"IF('Блок 1'!P103=\"\",\"\",'Блок 1'!P103)","v":""},{"$f":"IF('Блок 1'!Q103=\"\",\"\",'Блок 1'!Q103)","v":""},{"$f":"IF('Блок 1'!R103=\"\",\"\",'Блок 1'!R103)","v":""},{"$f":"IF('Блок 1'!S103=\"\",\"\",'Блок 1'!S103)","v":""},{"$f":"IF('Блок 1'!T103=\"\",\"\",'Блок 1'!T103)","v":""},{"$f":"IF('Блок 1'!U103=\"\",\"\",'Блок 1'!U103)","v":""},{"$f":"IF('Блок 1'!V103=\"\",\"\",'Блок 1'!V103)","v":""},{"$f":"IF('Блок 1'!W103=\"\",\"\",'Блок 1'!W103)","v":""},{"$f":"IF('Блок 1'!X103=\"\",\"\",'Блок 1'!X103)","v":""},{"$f":"IF('Блок 1'!Y103=\"\",\"\",'Блок 1'!Y103)","v":""},{"$f":"IF('Блок 1'!Z103=\"\",\"\",'Блок 1'!Z103)","v":""},{"$f":"IF('Блок 1'!AA103=\"\",\"\",'Блок 1'!AA103)","v":""},{"$f":"IF('Блок 1'!AB103=\"\",\"\",'Блок 1'!AB103)","v":""},{"$f":"IF('Блок 1'!AC103=\"\",\"\",'Блок 1'!AC103)","v":""},{"$f":"IF('Блок 1'!AD103=\"\",\"\",'Блок 1'!AD103)","v":""},{"$f":"IF('Блок 1'!AE103=\"\",\"\",'Блок 1'!AE103)","v":""},{"$f":"IF('Блок 1'!AF103=\"\",\"\",'Блок 1'!AF103)","v":""},{"$f":"IF('Блок 1'!AG103=\"\",\"\",'Блок 1'!AG103)","v":""},{"$f":"IF('Блок 1'!AH103=\"\",\"\",'Блок 1'!AH103)","v":""},{"$f":"IF('Блок 1'!AI103=\"\",\"\",'Блок 1'!AI103)","v":""},{"$f":"IF('Блок 1'!AJ103=\"\",\"\",'Блок 1'!AJ103)","v":""},{"$f":"IF('Блок 1'!AK103=\"\",\"\",'Блок 1'!AK103)","v":""},{"$f":"IF('Блок 1'!AL103=\"\",\"\",'Блок 1'!AL103)","v":""},{"$f":"IF('Блок 1'!AM103=\"\",\"\",'Блок 1'!AM103)","v":""},{"$f":"IF('Блок 1'!AN103=\"\",\"\",'Блок 1'!AN103)","v":""},{"$f":"IF('Блок 1'!AO103=\"\",\"\",'Блок 1'!AO103)","v":""},{"$f":"IF('Блок 1'!AP103=\"\",\"\",'Блок 1'!AP103)","v":""},{"$f":"IF('Блок 1'!AQ103=\"\",\"\",'Блок 1'!AQ103)","v":""},{"$f":"IF('Блок 1'!AR103=\"\",\"\",'Блок 1'!AR103)","v":""},{"$f":"IF('Блок 1'!AS103=\"\",\"\",'Блок 1'!AS103)","v":""},{"$f":"IF('Блок 1'!AT103=\"\",\"\",'Блок 1'!AT103)","v":""},{"$f":"IF('Блок 1'!AU103=\"\",\"\",'Блок 1'!AU103)","v":""},{"$f":"IF('Блок 1'!AV103=\"\",\"\",'Блок 1'!AV103)","v":""},{"$f":"IF('Блок 1'!AW103=\"\",\"\",'Блок 1'!AW103)","v":""},{"$f":"IF('Блок 1'!AX103=\"\",\"\",'Блок 1'!AX103)","v":""},{"$f":"IF('Блок 1'!AY103=\"\",\"\",'Блок 1'!AY103)","v":""},{"$f":"IF('Блок 1'!AZ103=\"\",\"\",'Блок 1'!AZ103)","v":""},{"$f":"IF('Блок 1'!BA103=\"\",\"\",'Блок 1'!BA103)","v":""},{"$f":"IF('Блок 1'!BB103=\"\",\"\",'Блок 1'!BB103)","v":""},{"$f":"IF('Блок 1'!BC103=\"\",\"\",'Блок 1'!BC103)","v":""},{"$f":"IF('Блок 1'!BD103=\"\",\"\",'Блок 1'!BD103)","v":""},{"$f":"IF('Блок 1'!BE103=\"\",\"\",'Блок 1'!BE103)","v":""},{"$f":"IF('Блок 1'!BF103=\"\",\"\",'Блок 1'!BF103)","v":""},{"$f":"IF('Блок 1'!BG103=\"\",\"\",'Блок 1'!BG103)","v":""},{"$f":"IF('Блок 1'!BH103=\"\",\"\",'Блок 1'!BH103)","v":""}]
[null,{"$f":"IF('Блок 1'!B104=\"\",\"\",'Блок 1'!B104)","v":""},{"$f":"IF('Блок 1'!C104=\"\",\"\",'Блок 1'!C104)","v":""},{"$f":"IF('Блок 1'!D104=\"\",\"\",'Блок 1'!D104)","v":""},{"$f":"IF('Блок 1'!E104=\"\",\"\",'Блок 1'!E104)","v":""},{"$f":"IF('Блок 1'!F104=\"\",\"\",'Блок 1'!F104)","v":""},{"$f":"IF('Блок 1'!G104=\"\",\"\",'Блок 1'!G104)","v":""},{"$f":"IF('Блок 1'!H104=\"\",\"\",'Блок 1'!H104)","v":""},{"$f":"IF('Блок 1'!I104=\"\",\"\",'Блок 1'!I104)","v":""},{"$f":"IF('Блок 1'!J104=\"\",\"\",'Блок 1'!J104)","v":""},{"$f":"IF('Блок 1'!K104=\"\",\"\",'Блок 1'!K104)","v":""},{"$f":"IF('Блок 1'!L104=\"\",\"\",'Блок 1'!L104)","v":""},{"$f":"IF('Блок 1'!M104=\"\",\"\",'Блок 1'!M104)","v":""},{"$f":"IF('Блок 1'!N104=\"\",\"\",'Блок 1'!N104)","v":""},{"$f":"IF('Блок 1'!O104=\"\",\"\",'Блок 1'!O104)","v":""},{"$f":"IF('Блок 1'!P104=\"\",\"\",'Блок 1'!P104)","v":""},{"$f":"IF('Блок 1'!Q104=\"\",\"\",'Блок 1'!Q104)","v":""},{"$f":"IF('Блок 1'!R104=\"\",\"\",'Блок 1'!R104)","v":""},{"$f":"IF('Блок 1'!S104=\"\",\"\",'Блок 1'!S104)","v":""},{"$f":"IF('Блок 1'!T104=\"\",\"\",'Блок 1'!T104)","v":""},{"$f":"IF('Блок 1'!U104=\"\",\"\",'Блок 1'!U104)","v":""},{"$f":"IF('Блок 1'!V104=\"\",\"\",'Блок 1'!V104)","v":""},{"$f":"IF('Блок 1'!W104=\"\",\"\",'Блок 1'!W104)","v":""},{"$f":"IF('Блок 1'!X104=\"\",\"\",'Блок 1'!X104)","v":""},{"$f":"IF('Блок 1'!Y104=\"\",\"\",'Блок 1'!Y104)","v":""},{"$f":"IF('Блок 1'!Z104=\"\",\"\",'Блок 1'!Z104)","v":""},{"$f":"IF('Блок 1'!AA104=\"\",\"\",'Блок 1'!AA104)","v":""},{"$f":"IF('Блок 1'!AB104=\"\",\"\",'Блок 1'!AB104)","v":""},{"$f":"IF('Блок 1'!AC104=\"\",\"\",'Блок 1'!AC104)","v":""},{"$f":"IF('Блок 1'!AD104=\"\",\"\",'Блок 1'!AD104)","v":""},{"$f":"IF('Блок 1'!AE104=\"\",\"\",'Блок 1'!AE104)","v":""},{"$f":"IF('Блок 1'!AF104=\"\",\"\",'Блок 1'!AF104)","v":""},{"$f":"IF('Блок 1'!AG104=\"\",\"\",'Блок 1'!AG104)","v":""},{"$f":"IF('Блок 1'!AH104=\"\",\"\",'Блок 1'!AH104)","v":""},{"$f":"IF('Блок 1'!AI104=\"\",\"\",'Блок 1'!AI104)","v":""},{"$f":"IF('Блок 1'!AJ104=\"\",\"\",'Блок 1'!AJ104)","v":""},{"$f":"IF('Блок 1'!AK104=\"\",\"\",'Блок 1'!AK104)","v":""},{"$f":"IF('Блок 1'!AL104=\"\",\"\",'Блок 1'!AL104)","v":""},{"$f":"IF('Блок 1'!AM104=\"\",\"\",'Блок 1'!AM104)","v":""},{"$f":"IF('Блок 1'!AN104=\"\",\"\",'Блок 1'!AN104)","v":""},{"$f":"IF('Блок 1'!AO104=\"\",\"\",'Блок 1'!AO104)","v":""},{"$f":"IF('Блок 1'!AP104=\"\",\"\",'Блок 1'!AP104)","v":""},{"$f":"IF('Блок 1'!AQ104=\"\",\"\",'Блок 1'!AQ104)","v":""},{"$f":"IF('Блок 1'!AR104=\"\",\"\",'Блок 1'!AR104)","v":""},{"$f":"IF('Блок 1'!AS104=\"\",\"\",'Блок 1'!AS104)","v":""},{"$f":"IF('Блок 1'!AT104=\"\",\"\",'Блок 1'!AT104)","v":""},{"$f":"IF('Блок 1'!AU104=\"\",\"\",'Блок 1'!AU104)","v":""},{"$f":"IF('Блок 1'!AV104=\"\",\"\",'Блок 1'!AV104)","v":""},{"$f":"IF('Блок 1'!AW104=\"\",\"\",'Блок 1'!AW104)","v":""},{"$f":"IF('Блок 1'!AX104=\"\",\"\",'Блок 1'!AX104)","v":""},{"$f":"IF('Блок 1'!AY104=\"\",\"\",'Блок 1'!AY104)","v":""},{"$f":"IF('Блок 1'!AZ104=\"\",\"\",'Блок 1'!AZ104)","v":""},{"$f":"IF('Блок 1'!BA104=\"\",\"\",'Блок 1'!BA104)","v":""},{"$f":"IF('Блок 1'!BB104=\"\",\"\",'Блок 1'!BB104)","v":""},{"$f":"IF('Блок 1'!BC104=\"\",\"\",'Блок 1'!BC104)","v":""},{"$f":"IF('Блок 1'!BD104=\"\",\"\",'Блок 1'!BD104)","v":""},{"$f":"IF('Блок 1'!BE104=\"\",\"\",'Блок 1'!BE104)","v":""},{"$f":"IF('Блок 1'!BF104=\"\",\"\",'Блок 1'!BF104)","v":""},{"$f":"IF('Блок 1'!BG104=\"\",\"\",'Блок 1'!BG104)","v":""},{"$f":"IF('Блок 1'!BH104=\"\",\"\",'Блок 1'!BH104)","v":""}]
[null,{"$f":"IF('Блок 1'!B105=\"\",\"\",'Блок 1'!B105)","v":""},{"$f":"IF('Блок 1'!C105=\"\",\"\",'Блок 1'!C105)","v":""},{"$f":"IF('Блок 1'!D105=\"\",\"\",'Блок 1'!D105)","v":""},{"$f":"IF('Блок 1'!E105=\"\",\"\",'Блок 1'!E105)","v":""},{"$f":"IF('Блок 1'!F105=\"\",\"\",'Блок 1'!F105)","v":""},{"$f":"IF('Блок 1'!G105=\"\",\"\",'Блок 1'!G105)","v":""},{"$f":"IF('Блок 1'!H105=\"\",\"\",'Блок 1'!H105)","v":""},{"$f":"IF('Блок 1'!I105=\"\",\"\",'Блок 1'!I105)","v":""},{"$f":"IF('Блок 1'!J105=\"\",\"\",'Блок 1'!J105)","v":""},{"$f":"IF('Блок 1'!K105=\"\",\"\",'Блок 1'!K105)","v":""},{"$f":"IF('Блок 1'!L105=\"\",\"\",'Блок 1'!L105)","v":""},{"$f":"IF('Блок 1'!M105=\"\",\"\",'Блок 1'!M105)","v":""},{"$f":"IF('Блок 1'!N105=\"\",\"\",'Блок 1'!N105)","v":""},{"$f":"IF('Блок 1'!O105=\"\",\"\",'Блок 1'!O105)","v":""},{"$f":"IF('Блок 1'!P105=\"\",\"\",'Блок 1'!P105)","v":""},{"$f":"IF('Блок 1'!Q105=\"\",\"\",'Блок 1'!Q105)","v":""},{"$f":"IF('Блок 1'!R105=\"\",\"\",'Блок 1'!R105)","v":""},{"$f":"IF('Блок 1'!S105=\"\",\"\",'Блок 1'!S105)","v":""},{"$f":"IF('Блок 1'!T105=\"\",\"\",'Блок 1'!T105)","v":""},{"$f":"IF('Блок 1'!U105=\"\",\"\",'Блок 1'!U105)","v":""},{"$f":"IF('Блок 1'!V105=\"\",\"\",'Блок 1'!V105)","v":""},{"$f":"IF('Блок 1'!W105=\"\",\"\",'Блок 1'!W105)","v":""},{"$f":"IF('Блок 1'!X105=\"\",\"\",'Блок 1'!X105)","v":""},{"$f":"IF('Блок 1'!Y105=\"\",\"\",'Блок 1'!Y105)","v":""},{"$f":"IF('Блок 1'!Z105=\"\",\"\",'Блок 1'!Z105)","v":""},{"$f":"IF('Блок 1'!AA105=\"\",\"\",'Блок 1'!AA105)","v":""},{"$f":"IF('Блок 1'!AB105=\"\",\"\",'Блок 1'!AB105)","v":""},{"$f":"IF('Блок 1'!AC105=\"\",\"\",'Блок 1'!AC105)","v":""},{"$f":"IF('Блок 1'!AD105=\"\",\"\",'Блок 1'!AD105)","v":""},{"$f":"IF('Блок 1'!AE105=\"\",\"\",'Блок 1'!AE105)","v":""},{"$f":"IF('Блок 1'!AF105=\"\",\"\",'Блок 1'!AF105)","v":""},{"$f":"IF('Блок 1'!AG105=\"\",\"\",'Блок 1'!AG105)","v":""},{"$f":"IF('Блок 1'!AH105=\"\",\"\",'Блок 1'!AH105)","v":""},{"$f":"IF('Блок 1'!AI105=\"\",\"\",'Блок 1'!AI105)","v":""},{"$f":"IF('Блок 1'!AJ105=\"\",\"\",'Блок 1'!AJ105)","v":""},{"$f":"IF('Блок 1'!AK105=\"\",\"\",'Блок 1'!AK105)","v":""},{"$f":"IF('Блок 1'!AL105=\"\",\"\",'Блок 1'!AL105)","v":""},{"$f":"IF('Блок 1'!AM105=\"\",\"\",'Блок 1'!AM105)","v":""},{"$f":"IF('Блок 1'!AN105=\"\",\"\",'Блок 1'!AN105)","v":""},{"$f":"IF('Блок 1'!AO105=\"\",\"\",'Блок 1'!AO105)","v":""},{"$f":"IF('Блок 1'!AP105=\"\",\"\",'Блок 1'!AP105)","v":""},{"$f":"IF('Блок 1'!AQ105=\"\",\"\",'Блок 1'!AQ105)","v":""},{"$f":"IF('Блок 1'!AR105=\"\",\"\",'Блок 1'!AR105)","v":""},{"$f":"IF('Блок 1'!AS105=\"\",\"\",'Блок 1'!AS105)","v":""},{"$f":"IF('Блок 1'!AT105=\"\",\"\",'Блок 1'!AT105)","v":""},{"$f":"IF('Блок 1'!AU105=\"\",\"\",'Блок 1'!AU105)","v":""},{"$f":"IF('Блок 1'!AV105=\"\",\"\",'Блок 1'!AV105)","v":""},{"$f":"IF('Блок 1'!AW105=\"\",\"\",'Блок 1'!AW105)","v":""},{"$f":"IF('Блок 1'!AX105=\"\",\"\",'Блок 1'!AX105)","v":""},{"$f":"IF('Блок 1'!AY105=\"\",\"\",'Блок 1'!AY105)","v":""},{"$f":"IF('Блок 1'!AZ105=\"\",\"\",'Блок 1'!AZ105)","v":""},{"$f":"IF('Блок 1'!BA105=\"\",\"\",'Блок 1'!BA105)","v":""},{"$f":"IF('Блок 1'!BB105=\"\",\"\",'Блок 1'!BB105)","v":""},{"$f":"IF('Блок 1'!BC105=\"\",\"\",'Блок 1'!BC105)","v":""},{"$f":"IF('Блок 1'!BD105=\"\",\"\",'Блок 1'!BD105)","v":""},{"$f":"IF('Блок 1'!BE105=\"\",\"\",'Блок 1'!BE105)","v":""},{"$f":"IF('Блок 1'!BF105=\"\",\"\",'Блок 1'!BF105)","v":""},{"$f":"IF('Блок 1'!BG105=\"\",\"\",'Блок 1'!BG105)","v":""},{"$f":"IF('Блок 1'!BH105=\"\",\"\",'Блок 1'!BH105)","v":""}]
[null,{"$f":"IF('Блок 1'!B106=\"\",\"\",'Блок 1'!B106)","v":""},{"$f":"IF('Блок 1'!C106=\"\",\"\",'Блок 1'!C106)","v":""},{"$f":"IF('Блок 1'!D106=\"\",\"\",'Блок 1'!D106)","v":""},{"$f":"IF('Блок 1'!E106=\"\",\"\",'Блок 1'!E106)","v":""},{"$f":"IF('Блок 1'!F106=\"\",\"\",'Блок 1'!F106)","v":""},{"$f":"IF('Блок 1'!G106=\"\",\"\",'Блок 1'!G106)","v":""},{"$f":"IF('Блок 1'!H106=\"\",\"\",'Блок 1'!H106)","v":""},{"$f":"IF('Блок 1'!I106=\"\",\"\",'Блок 1'!I106)","v":""},{"$f":"IF('Блок 1'!J106=\"\",\"\",'Блок 1'!J106)","v":""},{"$f":"IF('Блок 1'!K106=\"\",\"\",'Блок 1'!K106)","v":""},{"$f":"IF('Блок 1'!L106=\"\",\"\",'Блок 1'!L106)","v":""},{"$f":"IF('Блок 1'!M106=\"\",\"\",'Блок 1'!M106)","v":""},{"$f":"IF('Блок 1'!N106=\"\",\"\",'Блок 1'!N106)","v":""},{"$f":"IF('Блок 1'!O106=\"\",\"\",'Блок 1'!O106)","v":""},{"$f":"IF('Блок 1'!P106=\"\",\"\",'Блок 1'!P106)","v":""},{"$f":"IF('Блок 1'!Q106=\"\",\"\",'Блок 1'!Q106)","v":""},{"$f":"IF('Блок 1'!R106=\"\",\"\",'Блок 1'!R106)","v":""},{"$f":"IF('Блок 1'!S106=\"\",\"\",'Блок 1'!S106)","v":""},{"$f":"IF('Блок 1'!T106=\"\",\"\",'Блок 1'!T106)","v":""},{"$f":"IF('Блок 1'!U106=\"\",\"\",'Блок 1'!U106)","v":""},{"$f":"IF('Блок 1'!V106=\"\",\"\",'Блок 1'!V106)","v":""},{"$f":"IF('Блок 1'!W106=\"\",\"\",'Блок 1'!W106)","v":""},{"$f":"IF('Блок 1'!X106=\"\",\"\",'Блок 1'!X106)","v":""},{"$f":"IF('Блок 1'!Y106=\"\",\"\",'Блок 1'!Y106)","v":""},{"$f":"IF('Блок 1'!Z106=\"\",\"\",'Блок 1'!Z106)","v":""},{"$f":"IF('Блок 1'!AA106=\"\",\"\",'Блок 1'!AA106)","v":""},{"$f":"IF('Блок 1'!AB106=\"\",\"\",'Блок 1'!AB106)","v":""},{"$f":"IF('Блок 1'!AC106=\"\",\"\",'Блок 1'!AC106)","v":""},{"$f":"IF('Блок 1'!AD106=\"\",\"\",'Блок 1'!AD106)","v":""},{"$f":"IF('Блок 1'!AE106=\"\",\"\",'Блок 1'!AE106)","v":""},{"$f":"IF('Блок 1'!AF106=\"\",\"\",'Блок 1'!AF106)","v":""},{"$f":"IF('Блок 1'!AG106=\"\",\"\",'Блок 1'!AG106)","v":""},{"$f":"IF('Блок 1'!AH106=\"\",\"\",'Блок 1'!AH106)","v":""},{"$f":"IF('Блок 1'!AI106=\"\",\"\",'Блок 1'!AI106)","v":""},{"$f":"IF('Блок 1'!AJ106=\"\",\"\",'Блок 1'!AJ106)","v":""},{"$f":"IF('Блок 1'!AK106=\"\",\"\",'Блок 1'!AK106)","v":""},{"$f":"IF('Блок 1'!AL106=\"\",\"\",'Блок 1'!AL106)","v":""},{"$f":"IF('Блок 1'!AM106=\"\",\"\",'Блок 1'!AM106)","v":""},{"$f":"IF('Блок 1'!AN106=\"\",\"\",'Блок 1'!AN106)","v":""},{"$f":"IF('Блок 1'!AO106=\"\",\"\",'Блок 1'!AO106)","v":""},{"$f":"IF('Блок 1'!AP106=\"\",\"\",'Блок 1'!AP106)","v":""},{"$f":"IF('Блок 1'!AQ106=\"\",\"\",'Блок 1'!AQ106)","v":""},{"$f":"IF('Блок 1'!AR106=\"\",\"\",'Блок 1'!AR106)","v":""},{"$f":"IF('Блок 1'!AS106=\"\",\"\",'Блок 1'!AS106)","v":""},{"$f":"IF('Блок 1'!AT106=\"\",\"\",'Блок 1'!AT106)","v":""},{"$f":"IF('Блок 1'!AU106=\"\",\"\",'Блок 1'!AU106)","v":""},{"$f":"IF('Блок 1'!AV106=\"\",\"\",'Блок 1'!AV106)","v":""},{"$f":"IF('Блок 1'!AW106=\"\",\"\",'Блок 1'!AW106)","v":""},{"$f":"IF('Блок 1'!AX106=\"\",\"\",'Блок 1'!AX106)","v":""},{"$f":"IF('Блок 1'!AY106=\"\",\"\",'Блок 1'!AY106)","v":""},{"$f":"IF('Блок 1'!AZ106=\"\",\"\",'Блок 1'!AZ106)","v":""},{"$f":"IF('Блок 1'!BA106=\"\",\"\",'Блок 1'!BA106)","v":""},{"$f":"IF('Блок 1'!BB106=\"\",\"\",'Блок 1'!BB106)","v":""},{"$f":"IF('Блок 1'!BC106=\"\",\"\",'Блок 1'!BC106)","v":""},{"$f":"IF('Блок 1'!BD106=\"\",\"\",'Блок 1'!BD106)","v":""},{"$f":"IF('Блок 1'!BE106=\"\",\"\",'Блок 1'!BE106)","v":""},{"$f":"IF('Блок 1'!BF106=\"\",\"\",'Блок 1'!BF106)","v":""},{"$f":"IF('Блок 1'!BG106=\"\",\"\",'Блок 1'!BG106)","v":""},{"$f":"IF('Блок 1'!BH106=\"\",\"\",'Блок 1'!BH106)","v":""}]
[null,{"$f":"IF('Блок 1'!B107=\"\",\"\",'Блок 1'!B107)","v":""},{"$f":"IF('Блок 1'!C107=\"\",\"\",'Блок 1'!C107)","v":""},{"$f":"IF('Блок 1'!D107=\"\",\"\",'Блок 1'!D107)","v":""},{"$f":"IF('Блок 1'!E107=\"\",\"\",'Блок 1'!E107)","v":""},{"$f":"IF('Блок 1'!F107=\"\",\"\",'Блок 1'!F107)","v":""},{"$f":"IF('Блок 1'!G107=\"\",\"\",'Блок 1'!G107)","v":""},{"$f":"IF('Блок 1'!H107=\"\",\"\",'Блок 1'!H107)","v":""},{"$f":"IF('Блок 1'!I107=\"\",\"\",'Блок 1'!I107)","v":""},{"$f":"IF('Блок 1'!J107=\"\",\"\",'Блок 1'!J107)","v":""},{"$f":"IF('Блок 1'!K107=\"\",\"\",'Блок 1'!K107)","v":""},{"$f":"IF('Блок 1'!L107=\"\",\"\",'Блок 1'!L107)","v":""},{"$f":"IF('Блок 1'!M107=\"\",\"\",'Блок 1'!M107)","v":""},{"$f":"IF('Блок 1'!N107=\"\",\"\",'Блок 1'!N107)","v":""},{"$f":"IF('Блок 1'!O107=\"\",\"\",'Блок 1'!O107)","v":""},{"$f":"IF('Блок 1'!P107=\"\",\"\",'Блок 1'!P107)","v":""},{"$f":"IF('Блок 1'!Q107=\"\",\"\",'Блок 1'!Q107)","v":""},{"$f":"IF('Блок 1'!R107=\"\",\"\",'Блок 1'!R107)","v":""},{"$f":"IF('Блок 1'!S107=\"\",\"\",'Блок 1'!S107)","v":""},{"$f":"IF('Блок 1'!T107=\"\",\"\",'Блок 1'!T107)","v":""},{"$f":"IF('Блок 1'!U107=\"\",\"\",'Блок 1'!U107)","v":""},{"$f":"IF('Блок 1'!V107=\"\",\"\",'Блок 1'!V107)","v":""},{"$f":"IF('Блок 1'!W107=\"\",\"\",'Блок 1'!W107)","v":""},{"$f":"IF('Блок 1'!X107=\"\",\"\",'Блок 1'!X107)","v":""},{"$f":"IF('Блок 1'!Y107=\"\",\"\",'Блок 1'!Y107)","v":""},{"$f":"IF('Блок 1'!Z107=\"\",\"\",'Блок 1'!Z107)","v":""},{"$f":"IF('Блок 1'!AA107=\"\",\"\",'Блок 1'!AA107)","v":""},{"$f":"IF('Блок 1'!AB107=\"\",\"\",'Блок 1'!AB107)","v":""},{"$f":"IF('Блок 1'!AC107=\"\",\"\",'Блок 1'!AC107)","v":""},{"$f":"IF('Блок 1'!AD107=\"\",\"\",'Блок 1'!AD107)","v":""},{"$f":"IF('Блок 1'!AE107=\"\",\"\",'Блок 1'!AE107)","v":""},{"$f":"IF('Блок 1'!AF107=\"\",\"\",'Блок 1'!AF107)","v":""},{"$f":"IF('Блок 1'!AG107=\"\",\"\",'Блок 1'!AG107)","v":""},{"$f":"IF('Блок 1'!AH107=\"\",\"\",'Блок 1'!AH107)","v":""},{"$f":"IF('Блок 1'!AI107=\"\",\"\",'Блок 1'!AI107)","v":""},{"$f":"IF('Блок 1'!AJ107=\"\",\"\",'Блок 1'!AJ107)","v":""},{"$f":"IF('Блок 1'!AK107=\"\",\"\",'Блок 1'!AK107)","v":""},{"$f":"IF('Блок 1'!AL107=\"\",\"\",'Блок 1'!AL107)","v":""},{"$f":"IF('Блок 1'!AM107=\"\",\"\",'Блок 1'!AM107)","v":""},{"$f":"IF('Блок 1'!AN107=\"\",\"\",'Блок 1'!AN107)","v":""},{"$f":"IF('Блок 1'!AO107=\"\",\"\",'Блок 1'!AO107)","v":""},{"$f":"IF('Блок 1'!AP107=\"\",\"\",'Блок 1'!AP107)","v":""},{"$f":"IF('Блок 1'!AQ107=\"\",\"\",'Блок 1'!AQ107)","v":""},{"$f":"IF('Блок 1'!AR107=\"\",\"\",'Блок 1'!AR107)","v":""},{"$f":"IF('Блок 1'!AS107=\"\",\"\",'Блок 1'!AS107)","v":""},{"$f":"IF('Блок 1'!AT107=\"\",\"\",'Блок 1'!AT107)","v":""},{"$f":"IF('Блок 1'!AU107=\"\",\"\",'Блок 1'!AU107)","v":""},{"$f":"IF('Блок 1'!AV107=\"\",\"\",'Блок 1'!AV107)","v":""},{"$f":"IF('Блок 1'!AW107=\"\",\"\",'Блок 1'!AW107)","v":""},{"$f":"IF('Блок 1'!AX107=\"\",\"\",'Блок 1'!AX107)","v":""},{"$f":"IF('Блок 1'!AY107=\"\",\"\",'Блок 1'!AY107)","v":""},{"$f":"IF('Блок 1'!AZ107=\"\",\"\",'Блок 1'!AZ107)","v":""},{"$f":"IF('Блок 1'!BA107=\"\",\"\",'Блок 1'!BA107)","v":""},{"$f":"IF('Блок 1'!BB107=\"\",\"\",'Блок 1'!BB107)","v":""},{"$f":"IF('Блок 1'!BC107=\"\",\"\",'Блок 1'!BC107)","v":""},{"$f":"IF('Блок 1'!BD107=\"\",\"\",'Блок 1'!BD107)","v":""},{"$f":"IF('Блок 1'!BE107=\"\",\"\",'Блок 1'!BE107)","v":""},{"$f":"IF('Блок 1'!BF107=\"\",\"\",'Блок 1'!BF107)","v":""},{"$f":"IF('Блок 1'!BG107=\"\",\"\",'Блок 1'!BG107)","v":""},{"$f":"IF('Блок 1'!BH107=\"\",\"\",'Блок 1'!BH107)","v":""}]
[null,{"$f":"IF('Блок 1'!B108=\"\",\"\",'Блок 1'!B108)","v":""},{"$f":"IF('Блок 1'!C108=\"\",\"\",'Блок 1'!C108)","v":""},{"$f":"IF('Блок 1'!D108=\"\",\"\",'Блок 1'!D108)","v":""},{"$f":"IF('Блок 1'!E108=\"\",\"\",'Блок 1'!E108)","v":""},{"$f":"IF('Блок 1'!F108=\"\",\"\",'Блок 1'!F108)","v":""},{"$f":"IF('Блок 1'!G108=\"\",\"\",'Блок 1'!G108)","v":""},{"$f":"IF('Блок 1'!H108=\"\",\"\",'Блок 1'!H108)","v":""},{"$f":"IF('Блок 1'!I108=\"\",\"\",'Блок 1'!I108)","v":""},{"$f":"IF('Блок 1'!J108=\"\",\"\",'Блок 1'!J108)","v":""},{"$f":"IF('Блок 1'!K108=\"\",\"\",'Блок 1'!K108)","v":""},{"$f":"IF('Блок 1'!L108=\"\",\"\",'Блок 1'!L108)","v":""},{"$f":"IF('Блок 1'!M108=\"\",\"\",'Блок 1'!M108)","v":""},{"$f":"IF('Блок 1'!N108=\"\",\"\",'Блок 1'!N108)","v":""},{"$f":"IF('Блок 1'!O108=\"\",\"\",'Блок 1'!O108)","v":""},{"$f":"IF('Блок 1'!P108=\"\",\"\",'Блок 1'!P108)","v":""},{"$f":"IF('Блок 1'!Q108=\"\",\"\",'Блок 1'!Q108)","v":""},{"$f":"IF('Блок 1'!R108=\"\",\"\",'Блок 1'!R108)","v":""},{"$f":"IF('Блок 1'!S108=\"\",\"\",'Блок 1'!S108)","v":""},{"$f":"IF('Блок 1'!T108=\"\",\"\",'Блок 1'!T108)","v":""},{"$f":"IF('Блок 1'!U108=\"\",\"\",'Блок 1'!U108)","v":""},{"$f":"IF('Блок 1'!V108=\"\",\"\",'Блок 1'!V108)","v":""},{"$f":"IF('Блок 1'!W108=\"\",\"\",'Блок 1'!W108)","v":""},{"$f":"IF('Блок 1'!X108=\"\",\"\",'Блок 1'!X108)","v":""},{"$f":"IF('Блок 1'!Y108=\"\",\"\",'Блок 1'!Y108)","v":""},{"$f":"IF('Блок 1'!Z108=\"\",\"\",'Блок 1'!Z108)","v":""},{"$f":"IF('Блок 1'!AA108=\"\",\"\",'Блок 1'!AA108)","v":""},{"$f":"IF('Блок 1'!AB108=\"\",\"\",'Блок 1'!AB108)","v":""},{"$f":"IF('Блок 1'!AC108=\"\",\"\",'Блок 1'!AC108)","v":""},{"$f":"IF('Блок 1'!AD108=\"\",\"\",'Блок 1'!AD108)","v":""},{"$f":"IF('Блок 1'!AE108=\"\",\"\",'Блок 1'!AE108)","v":""},{"$f":"IF('Блок 1'!AF108=\"\",\"\",'Блок 1'!AF108)","v":""},{"$f":"IF('Блок 1'!AG108=\"\",\"\",'Блок 1'!AG108)","v":""},{"$f":"IF('Блок 1'!AH108=\"\",\"\",'Блок 1'!AH108)","v":""},{"$f":"IF('Блок 1'!AI108=\"\",\"\",'Блок 1'!AI108)","v":""},{"$f":"IF('Блок 1'!AJ108=\"\",\"\",'Блок 1'!AJ108)","v":""},{"$f":"IF('Блок 1'!AK108=\"\",\"\",'Блок 1'!AK108)","v":""},{"$f":"IF('Блок 1'!AL108=\"\",\"\",'Блок 1'!AL108)","v":""},{"$f":"IF('Блок 1'!AM108=\"\",\"\",'Блок 1'!AM108)","v":""},{"$f":"IF('Блок 1'!AN108=\"\",\"\",'Блок 1'!AN108)","v":""},{"$f":"IF('Блок 1'!AO108=\"\",\"\",'Блок 1'!AO108)","v":""},{"$f":"IF('Блок 1'!AP108=\"\",\"\",'Блок 1'!AP108)","v":""},{"$f":"IF('Блок 1'!AQ108=\"\",\"\",'Блок 1'!AQ108)","v":""},{"$f":"IF('Блок 1'!AR108=\"\",\"\",'Блок 1'!AR108)","v":""},{"$f":"IF('Блок 1'!AS108=\"\",\"\",'Блок 1'!AS108)","v":""},{"$f":"IF('Блок 1'!AT108=\"\",\"\",'Блок 1'!AT108)","v":""},{"$f":"IF('Блок 1'!AU108=\"\",\"\",'Блок 1'!AU108)","v":""},{"$f":"IF('Блок 1'!AV108=\"\",\"\",'Блок 1'!AV108)","v":""},{"$f":"IF('Блок 1'!AW108=\"\",\"\",'Блок 1'!AW108)","v":""},{"$f":"IF('Блок 1'!AX108=\"\",\"\",'Блок 1'!AX108)","v":""},{"$f":"IF('Блок 1'!AY108=\"\",\"\",'Блок 1'!AY108)","v":""},{"$f":"IF('Блок 1'!AZ108=\"\",\"\",'Блок 1'!AZ108)","v":""},{"$f":"IF('Блок 1'!BA108=\"\",\"\",'Блок 1'!BA108)","v":""},{"$f":"IF('Блок 1'!BB108=\"\",\"\",'Блок 1'!BB108)","v":""},{"$f":"IF('Блок 1'!BC108=\"\",\"\",'Блок 1'!BC108)","v":""},{"$f":"IF('Блок 1'!BD108=\"\",\"\",'Блок 1'!BD108)","v":""},{"$f":"IF('Блок 1'!BE108=\"\",\"\",'Блок 1'!BE108)","v":""},{"$f":"IF('Блок 1'!BF108=\"\",\"\",'Блок 1'!BF108)","v":""},{"$f":"IF('Блок 1'!BG108=\"\",\"\",'Блок 1'!BG108)","v":""},{"$f":"IF('Блок 1'!BH108=\"\",\"\",'Блок 1'!BH108)","v":""}]
[null,{"$f":"IF('Блок 1'!B109=\"\",\"\",'Блок 1'!B109)","v":""},{"$f":"IF('Блок 1'!C109=\"\",\"\",'Блок 1'!C109)","v":""},{"$f":"IF('Блок 1'!D109=\"\",\"\",'Блок 1'!D109)","v":""},{"$f":"IF('Блок 1'!E109=\"\",\"\",'Блок 1'!E109)","v":""},{"$f":"IF('Блок 1'!F109=\"\",\"\",'Блок 1'!F109)","v":""},{"$f":"IF('Блок 1'!G109=\"\",\"\",'Блок 1'!G109)","v":""},{"$f":"IF('Блок 1'!H109=\"\",\"\",'Блок 1'!H109)","v":""},{"$f":"IF('Блок 1'!I109=\"\",\"\",'Блок 1'!I109)","v":""},{"$f":"IF('Блок 1'!J109=\"\",\"\",'Блок 1'!J109)","v":""},{"$f":"IF('Блок 1'!K109=\"\",\"\",'Блок 1'!K109)","v":""},{"$f":"IF('Блок 1'!L109=\"\",\"\",'Блок 1'!L109)","v":""},{"$f":"IF('Блок 1'!M109=\"\",\"\",'Блок 1'!M109)","v":""},{"$f":"IF('Блок 1'!N109=\"\",\"\",'Блок 1'!N109)","v":""},{"$f":"IF('Блок 1'!O109=\"\",\"\",'Блок 1'!O109)","v":""},{"$f":"IF('Блок 1'!P109=\"\",\"\",'Блок 1'!P109)","v":""},{"$f":"IF('Блок 1'!Q109=\"\",\"\",'Блок 1'!Q109)","v":""},{"$f":"IF('Блок 1'!R109=\"\",\"\",'Блок 1'!R109)","v":""},{"$f":"IF('Блок 1'!S109=\"\",\"\",'Блок 1'!S109)","v":""},{"$f":"IF('Блок 1'!T109=\"\",\"\",'Блок 1'!T109)","v":""},{"$f":"IF('Блок 1'!U109=\"\",\"\",'Блок 1'!U109)","v":""},{"$f":"IF('Блок 1'!V109=\"\",\"\",'Блок 1'!V109)","v":""},{"$f":"IF('Блок 1'!W109=\"\",\"\",'Блок 1'!W109)","v":""},{"$f":"IF('Блок 1'!X109=\"\",\"\",'Блок 1'!X109)","v":""},{"$f":"IF('Блок 1'!Y109=\"\",\"\",'Блок 1'!Y109)","v":""},{"$f":"IF('Блок 1'!Z109=\"\",\"\",'Блок 1'!Z109)","v":""},{"$f":"IF('Блок 1'!AA109=\"\",\"\",'Блок 1'!AA109)","v":""},{"$f":"IF('Блок 1'!AB109=\"\",\"\",'Блок 1'!AB109)","v":""},{"$f":"IF('Блок 1'!AC109=\"\",\"\",'Блок 1'!AC109)","v":""},{"$f":"IF('Блок 1'!AD109=\"\",\"\",'Блок 1'!AD109)","v":""},{"$f":"IF('Блок 1'!AE109=\"\",\"\",'Блок 1'!AE109)","v":""},{"$f":"IF('Блок 1'!AF109=\"\",\"\",'Блок 1'!AF109)","v":""},{"$f":"IF('Блок 1'!AG109=\"\",\"\",'Блок 1'!AG109)","v":""},{"$f":"IF('Блок 1'!AH109=\"\",\"\",'Блок 1'!AH109)","v":""},{"$f":"IF('Блок 1'!AI109=\"\",\"\",'Блок 1'!AI109)","v":""},{"$f":"IF('Блок 1'!AJ109=\"\",\"\",'Блок 1'!AJ109)","v":""},{"$f":"IF('Блок 1'!AK109=\"\",\"\",'Блок 1'!AK109)","v":""},{"$f":"IF('Блок 1'!AL109=\"\",\"\",'Блок 1'!AL109)","v":""},{"$f":"IF('Блок 1'!AM109=\"\",\"\",'Блок 1'!AM109)","v":""},{"$f":"IF('Блок 1'!AN109=\"\",\"\",'Блок 1'!AN109)","v":""},{"$f":"IF('Блок 1'!AO109=\"\",\"\",'Блок 1'!AO109)","v":""},{"$f":"IF('Блок 1'!AP109=\"\",\"\",'Блок 1'!AP109)","v":""},{"$f":"IF('Блок 1'!AQ109=\"\",\"\",'Блок 1'!AQ109)","v":""},{"$f":"IF('Блок 1'!AR109=\"\",\"\",'Блок 1'!AR109)","v":""},{"$f":"IF('Блок 1'!AS109=\"\",\"\",'Блок 1'!AS109)","v":""},{"$f":"IF('Блок 1'!AT109=\"\",\"\",'Блок 1'!AT109)","v":""},{"$f":"IF('Блок 1'!AU109=\"\",\"\",'Блок 1'!AU109)","v":""},{"$f":"IF('Блок 1'!AV109=\"\",\"\",'Блок 1'!AV109)","v":""},{"$f":"IF('Блок 1'!AW109=\"\",\"\",'Блок 1'!AW109)","v":""},{"$f":"IF('Блок 1'!AX109=\"\",\"\",'Блок 1'!AX109)","v":""},{"$f":"IF('Блок 1'!AY109=\"\",\"\",'Блок 1'!AY109)","v":""},{"$f":"IF('Блок 1'!AZ109=\"\",\"\",'Блок 1'!AZ109)","v":""},{"$f":"IF('Блок 1'!BA109=\"\",\"\",'Блок 1'!BA109)","v":""},{"$f":"IF('Блок 1'!BB109=\"\",\"\",'Блок 1'!BB109)","v":""},{"$f":"IF('Блок 1'!BC109=\"\",\"\",'Блок 1'!BC109)","v":""},{"$f":"IF('Блок 1'!BD109=\"\",\"\",'Блок 1'!BD109)","v":""},{"$f":"IF('Блок 1'!BE109=\"\",\"\",'Блок 1'!BE109)","v":""},{"$f":"IF('Блок 1'!BF109=\"\",\"\",'Блок 1'!BF109)","v":""},{"$f":"IF('Блок 1'!BG109=\"\",\"\",'Блок 1'!BG109)","v":""},{"$f":"IF('Блок 1'!BH109=\"\",\"\",'Блок 1'!BH109)","v":""}]
[null,{"$f":"IF('Блок 1'!B110=\"\",\"\",'Блок 1'!B110)","v":""},{"$f":"IF('Блок 1'!C110=\"\",\"\",'Блок 1'!C110)","v":""},{"$f":"IF('Блок 1'!D110=\"\",\"\",'Блок 1'!D110)","v":""},{"$f":"IF('Блок 1'!E110=\"\",\"\",'Блок 1'!E110)","v":""},{"$f":"IF('Блок 1'!F110=\"\",\"\",'Блок 1'!F110)","v":""},{"$f":"IF('Блок 1'!G110=\"\",\"\",'Блок 1'!G110)","v":""},{"$f":"IF('Блок 1'!H110=\"\",\"\",'Блок 1'!H110)","v":""},{"$f":"IF('Блок 1'!I110=\"\",\"\",'Блок 1'!I110)","v":""},{"$f":"IF('Блок 1'!J110=\"\",\"\",'Блок 1'!J110)","v":""},{"$f":"IF('Блок 1'!K110=\"\",\"\",'Блок 1'!K110)","v":""},{"$f":"IF('Блок 1'!L110=\"\",\"\",'Блок 1'!L110)","v":""},{"$f":"IF('Блок 1'!M110=\"\",\"\",'Блок 1'!M110)","v":""},{"$f":"IF('Блок 1'!N110=\"\",\"\",'Блок 1'!N110)","v":""},{"$f":"IF('Блок 1'!O110=\"\",\"\",'Блок 1'!O110)","v":""},{"$f":"IF('Блок 1'!P110=\"\",\"\",'Блок 1'!P110)","v":""},{"$f":"IF('Блок 1'!Q110=\"\",\"\",'Блок 1'!Q110)","v":""},{"$f":"IF('Блок 1'!R110=\"\",\"\",'Блок 1'!R110)","v":""},{"$f":"IF('Блок 1'!S110=\"\",\"\",'Блок 1'!S110)","v":""},{"$f":"IF('Блок 1'!T110=\"\",\"\",'Блок 1'!T110)","v":""},{"$f":"IF('Блок 1'!U110=\"\",\"\",'Блок 1'!U110)","v":""},{"$f":"IF('Блок 1'!V110=\"\",\"\",'Блок 1'!V110)","v":""},{"$f":"IF('Блок 1'!W110=\"\",\"\",'Блок 1'!W110)","v":""},{"$f":"IF('Блок 1'!X110=\"\",\"\",'Блок 1'!X110)","v":""},{"$f":"IF('Блок 1'!Y110=\"\",\"\",'Блок 1'!Y110)","v":""},{"$f":"IF('Блок 1'!Z110=\"\",\"\",'Блок 1'!Z110)","v":""},{"$f":"IF('Блок 1'!AA110=\"\",\"\",'Блок 1'!AA110)","v":""},{"$f":"IF('Блок 1'!AB110=\"\",\"\",'Блок 1'!AB110)","v":""},{"$f":"IF('Блок 1'!AC110=\"\",\"\",'Блок 1'!AC110)","v":""},{"$f":"IF('Блок 1'!AD110=\"\",\"\",'Блок 1'!AD110)","v":""},{"$f":"IF('Блок 1'!AE110=\"\",\"\",'Блок 1'!AE110)","v":""},{"$f":"IF('Блок 1'!AF110=\"\",\"\",'Блок 1'!AF110)","v":""},{"$f":"IF('Блок 1'!AG110=\"\",\"\",'Блок 1'!AG110)","v":""},{"$f":"IF('Блок 1'!AH110=\"\",\"\",'Блок 1'!AH110)","v":""},{"$f":"IF('Блок 1'!AI110=\"\",\"\",'Блок 1'!AI110)","v":""},{"$f":"IF('Блок 1'!AJ110=\"\",\"\",'Блок 1'!AJ110)","v":""},{"$f":"IF('Блок 1'!AK110=\"\",\"\",'Блок 1'!AK110)","v":""},{"$f":"IF('Блок 1'!AL110=\"\",\"\",'Блок 1'!AL110)","v":""},{"$f":"IF('Блок 1'!AM110=\"\",\"\",'Блок 1'!AM110)","v":""},{"$f":"IF('Блок 1'!AN110=\"\",\"\",'Блок 1'!AN110)","v":""},{"$f":"IF('Блок 1'!AO110=\"\",\"\",'Блок 1'!AO110)","v":""},{"$f":"IF('Блок 1'!AP110=\"\",\"\",'Блок 1'!AP110)","v":""},{"$f":"IF('Блок 1'!AQ110=\"\",\"\",'Блок 1'!AQ110)","v":""},{"$f":"IF('Блок 1'!AR110=\"\",\"\",'Блок 1'!AR110)","v":""},{"$f":"IF('Блок 1'!AS110=\"\",\"\",'Блок 1'!AS110)","v":""},{"$f":"IF('Блок 1'!AT110=\"\",\"\",'Блок 1'!AT110)","v":""},{"$f":"IF('Блок 1'!AU110=\"\",\"\",'Блок 1'!AU110)","v":""},{"$f":"IF('Блок 1'!AV110=\"\",\"\",'Блок 1'!AV110)","v":""},{"$f":"IF('Блок 1'!AW110=\"\",\"\",'Блок 1'!AW110)","v":""},{"$f":"IF('Блок 1'!AX110=\"\",\"\",'Блок 1'!AX110)","v":""},{"$f":"IF('Блок 1'!AY110=\"\",\"\",'Блок 1'!AY110)","v":""},{"$f":"IF('Блок 1'!AZ110=\"\",\"\",'Блок 1'!AZ110)","v":""},{"$f":"IF('Блок 1'!BA110=\"\",\"\",'Блок 1'!BA110)","v":""},{"$f":"IF('Блок 1'!BB110=\"\",\"\",'Блок 1'!BB110)","v":""},{"$f":"IF('Блок 1'!BC110=\"\",\"\",'Блок 1'!BC110)","v":""},{"$f":"IF('Блок 1'!BD110=\"\",\"\",'Блок 1'!BD110)","v":""},{"$f":"IF('Блок 1'!BE110=\"\",\"\",'Блок 1'!BE110)","v":""},{"$f":"IF('Блок 1'!BF110=\"\",\"\",'Блок 1'!BF110)","v":""},{"$f":"IF('Блок 1'!BG110=\"\",\"\",'Блок 1'!BG110)","v":""},{"$f":"IF('Блок 1'!BH110=\"\",\"\",'Блок 1'!BH110)","v":""}]
[null,{"$f":"IF('Блок 1'!B111=\"\",\"\",'Блок 1'!B111)","v":""},{"$f":"IF('Блок 1'!C111=\"\",\"\",'Блок 1'!C111)","v":""},{"$f":"IF('Блок 1'!D111=\"\",\"\",'Блок 1'!D111)","v":""},{"$f":"IF('Блок 1'!E111=\"\",\"\",'Блок 1'!E111)","v":""},{"$f":"IF('Блок 1'!F111=\"\",\"\",'Блок 1'!F111)","v":""},{"$f":"IF('Блок 1'!G111=\"\",\"\",'Блок 1'!G111)","v":""},{"$f":"IF('Блок 1'!H111=\"\",\"\",'Блок 1'!H111)","v":""},{"$f":"IF('Блок 1'!I111=\"\",\"\",'Блок 1'!I111)","v":""},{"$f":"IF('Блок 1'!J111=\"\",\"\",'Блок 1'!J111)","v":""},{"$f":"IF('Блок 1'!K111=\"\",\"\",'Блок 1'!K111)","v":""},{"$f":"IF('Блок 1'!L111=\"\",\"\",'Блок 1'!L111)","v":""},{"$f":"IF('Блок 1'!M111=\"\",\"\",'Блок 1'!M111)","v":""},{"$f":"IF('Блок 1'!N111=\"\",\"\",'Блок 1'!N111)","v":""},{"$f":"IF('Блок 1'!O111=\"\",\"\",'Блок 1'!O111)","v":""},{"$f":"IF('Блок 1'!P111=\"\",\"\",'Блок 1'!P111)","v":""},{"$f":"IF('Блок 1'!Q111=\"\",\"\",'Блок 1'!Q111)","v":""},{"$f":"IF('Блок 1'!R111=\"\",\"\",'Блок 1'!R111)","v":""},{"$f":"IF('Блок 1'!S111=\"\",\"\",'Блок 1'!S111)","v":""},{"$f":"IF('Блок 1'!T111=\"\",\"\",'Блок 1'!T111)","v":""},{"$f":"IF('Блок 1'!U111=\"\",\"\",'Блок 1'!U111)","v":""},{"$f":"IF('Блок 1'!V111=\"\",\"\",'Блок 1'!V111)","v":""},{"$f":"IF('Блок 1'!W111=\"\",\"\",'Блок 1'!W111)","v":""},{"$f":"IF('Блок 1'!X111=\"\",\"\",'Блок 1'!X111)","v":""},{"$f":"IF('Блок 1'!Y111=\"\",\"\",'Блок 1'!Y111)","v":""},{"$f":"IF('Блок 1'!Z111=\"\",\"\",'Блок 1'!Z111)","v":""},{"$f":"IF('Блок 1'!AA111=\"\",\"\",'Блок 1'!AA111)","v":""},{"$f":"IF('Блок 1'!AB111=\"\",\"\",'Блок 1'!AB111)","v":""},{"$f":"IF('Блок 1'!AC111=\"\",\"\",'Блок 1'!AC111)","v":""},{"$f":"IF('Блок 1'!AD111=\"\",\"\",'Блок 1'!AD111)","v":""},{"$f":"IF('Блок 1'!AE111=\"\",\"\",'Блок 1'!AE111)","v":""},{"$f":"IF('Блок 1'!AF111=\"\",\"\",'Блок 1'!AF111)","v":""},{"$f":"IF('Блок 1'!AG111=\"\",\"\",'Блок 1'!AG111)","v":""},{"$f":"IF('Блок 1'!AH111=\"\",\"\",'Блок 1'!AH111)","v":""},{"$f":"IF('Блок 1'!AI111=\"\",\"\",'Блок 1'!AI111)","v":""},{"$f":"IF('Блок 1'!AJ111=\"\",\"\",'Блок 1'!AJ111)","v":""},{"$f":"IF('Блок 1'!AK111=\"\",\"\",'Блок 1'!AK111)","v":""},{"$f":"IF('Блок 1'!AL111=\"\",\"\",'Блок 1'!AL111)","v":""},{"$f":"IF('Блок 1'!AM111=\"\",\"\",'Блок 1'!AM111)","v":""},{"$f":"IF('Блок 1'!AN111=\"\",\"\",'Блок 1'!AN111)","v":""},{"$f":"IF('Блок 1'!AO111=\"\",\"\",'Блок 1'!AO111)","v":""},{"$f":"IF('Блок 1'!AP111=\"\",\"\",'Блок 1'!AP111)","v":""},{"$f":"IF('Блок 1'!AQ111=\"\",\"\",'Блок 1'!AQ111)","v":""},{"$f":"IF('Блок 1'!AR111=\"\",\"\",'Блок 1'!AR111)","v":""},{"$f":"IF('Блок 1'!AS111=\"\",\"\",'Блок 1'!AS111)","v":""},{"$f":"IF('Блок 1'!AT111=\"\",\"\",'Блок 1'!AT111)","v":""},{"$f":"IF('Блок 1'!AU111=\"\",\"\",'Блок 1'!AU111)","v":""},{"$f":"IF('Блок 1'!AV111=\"\",\"\",'Блок 1'!AV111)","v":""},{"$f":"IF('Блок 1'!AW111=\"\",\"\",'Блок 1'!AW111)","v":""},{"$f":"IF('Блок 1'!AX111=\"\",\"\",'Блок 1'!AX111)","v":""},{"$f":"IF('Блок 1'!AY111=\"\",\"\",'Блок 1'!AY111)","v":""},{"$f":"IF('Блок 1'!AZ111=\"\",\"\",'Блок 1'!AZ111)","v":""},{"$f":"IF('Блок 1'!BA111=\"\",\"\",'Блок 1'!BA111)","v":""},{"$f":"IF('Блок 1'!BB111=\"\",\"\",'Блок 1'!BB111)","v":""},{"$f":"IF('Блок 1'!BC111=\"\",\"\",'Блок 1'!BC111)","v":""},{"$f":"IF('Блок 1'!BD111=\"\",\"\",'Блок 1'!BD111)","v":""},{"$f":"IF('Блок 1'!BE111=\"\",\"\",'Блок 1'!BE111)","v":""},{"$f":"IF('Блок 1'!BF111=\"\",\"\",'Блок 1'!BF111)","v":""},{"$f":"IF('Блок 1'!BG111=\"\",\"\",'Блок 1'!BG111)","v":""},{"$f":"IF('Блок 1'!BH111=\"\",\"\",'Блок 1'!BH111)","v":""}]
[null,{"$f":"IF('Блок 1'!B112=\"\",\"\",'Блок 1'!B112)","v":""},{"$f":"IF('Блок 1'!C112=\"\",\"\",'Блок 1'!C112)","v":""},{"$f":"IF('Блок 1'!D112=\"\",\"\",'Блок 1'!D112)","v":""},{"$f":"IF('Блок 1'!E112=\"\",\"\",'Блок 1'!E112)","v":""},{"$f":"IF('Блок 1'!F112=\"\",\"\",'Блок 1'!F112)","v":""},{"$f":"IF('Блок 1'!G112=\"\",\"\",'Блок 1'!G112)","v":""},{"$f":"IF('Блок 1'!H112=\"\",\"\",'Блок 1'!H112)","v":""},{"$f":"IF('Блок 1'!I112=\"\",\"\",'Блок 1'!I112)","v":""},{"$f":"IF('Блок 1'!J112=\"\",\"\",'Блок 1'!J112)","v":""},{"$f":"IF('Блок 1'!K112=\"\",\"\",'Блок 1'!K112)","v":""},{"$f":"IF('Блок 1'!L112=\"\",\"\",'Блок 1'!L112)","v":""},{"$f":"IF('Блок 1'!M112=\"\",\"\",'Блок 1'!M112)","v":""},{"$f":"IF('Блок 1'!N112=\"\",\"\",'Блок 1'!N112)","v":""},{"$f":"IF('Блок 1'!O112=\"\",\"\",'Блок 1'!O112)","v":""},{"$f":"IF('Блок 1'!P112=\"\",\"\",'Блок 1'!P112)","v":""},{"$f":"IF('Блок 1'!Q112=\"\",\"\",'Блок 1'!Q112)","v":""},{"$f":"IF('Блок 1'!R112=\"\",\"\",'Блок 1'!R112)","v":""},{"$f":"IF('Блок 1'!S112=\"\",\"\",'Блок 1'!S112)","v":""},{"$f":"IF('Блок 1'!T112=\"\",\"\",'Блок 1'!T112)","v":""},{"$f":"IF('Блок 1'!U112=\"\",\"\",'Блок 1'!U112)","v":""},{"$f":"IF('Блок 1'!V112=\"\",\"\",'Блок 1'!V112)","v":""},{"$f":"IF('Блок 1'!W112=\"\",\"\",'Блок 1'!W112)","v":""},{"$f":"IF('Блок 1'!X112=\"\",\"\",'Блок 1'!X112)","v":""},{"$f":"IF('Блок 1'!Y112=\"\",\"\",'Блок 1'!Y112)","v":""},{"$f":"IF('Блок 1'!Z112=\"\",\"\",'Блок 1'!Z112)","v":""},{"$f":"IF('Блок 1'!AA112=\"\",\"\",'Блок 1'!AA112)","v":""},{"$f":"IF('Блок 1'!AB112=\"\",\"\",'Блок 1'!AB112)","v":""},{"$f":"IF('Блок 1'!AC112=\"\",\"\",'Блок 1'!AC112)","v":""},{"$f":"IF('Блок 1'!AD112=\"\",\"\",'Блок 1'!AD112)","v":""},{"$f":"IF('Блок 1'!AE112=\"\",\"\",'Блок 1'!AE112)","v":""},{"$f":"IF('Блок 1'!AF112=\"\",\"\",'Блок 1'!AF112)","v":""},{"$f":"IF('Блок 1'!AG112=\"\",\"\",'Блок 1'!AG112)","v":""},{"$f":"IF('Блок 1'!AH112=\"\",\"\",'Блок 1'!AH112)","v":""},{"$f":"IF('Блок 1'!AI112=\"\",\"\",'Блок 1'!AI112)","v":""},{"$f":"IF('Блок 1'!AJ112=\"\",\"\",'Блок 1'!AJ112)","v":""},{"$f":"IF('Блок 1'!AK112=\"\",\"\",'Блок 1'!AK112)","v":""},{"$f":"IF('Блок 1'!AL112=\"\",\"\",'Блок 1'!AL112)","v":""},{"$f":"IF('Блок 1'!AM112=\"\",\"\",'Блок 1'!AM112)","v":""},{"$f":"IF('Блок 1'!AN112=\"\",\"\",'Блок 1'!AN112)","v":""},{"$f":"IF('Блок 1'!AO112=\"\",\"\",'Блок 1'!AO112)","v":""},{"$f":"IF('Блок 1'!AP112=\"\",\"\",'Блок 1'!AP112)","v":""},{"$f":"IF('Блок 1'!AQ112=\"\",\"\",'Блок 1'!AQ112)","v":""},{"$f":"IF('Блок 1'!AR112=\"\",\"\",'Блок 1'!AR112)","v":""},{"$f":"IF('Блок 1'!AS112=\"\",\"\",'Блок 1'!AS112)","v":""},{"$f":"IF('Блок 1'!AT112=\"\",\"\",'Блок 1'!AT112)","v":""},{"$f":"IF('Блок 1'!AU112=\"\",\"\",'Блок 1'!AU112)","v":""},{"$f":"IF('Блок 1'!AV112=\"\",\"\",'Блок 1'!AV112)","v":""},{"$f":"IF('Блок 1'!AW112=\"\",\"\",'Блок 1'!AW112)","v":""},{"$f":"IF('Блок 1'!AX112=\"\",\"\",'Блок 1'!AX112)","v":""},{"$f":"IF('Блок 1'!AY112=\"\",\"\",'Блок 1'!AY112)","v":""},{"$f":"IF('Блок 1'!AZ112=\"\",\"\",'Блок 1'!AZ112)","v":""},{"$f":"IF('Блок 1'!BA112=\"\",\"\",'Блок 1'!BA112)","v":""},{"$f":"IF('Блок 1'!BB112=\"\",\"\",'Блок 1'!BB112)","v":""},{"$f":"IF('Блок 1'!BC112=\"\",\"\",'Блок 1'!BC112)","v":""},{"$f":"IF('Блок 1'!BD112=\"\",\"\",'Блок 1'!BD112)","v":""},{"$f":"IF('Блок 1'!BE112=\"\",\"\",'Блок 1'!BE112)","v":""},{"$f":"IF('Блок 1'!BF112=\"\",\"\",'Блок 1'!BF112)","v":""},{"$f":"IF('Блок 1'!BG112=\"\",\"\",'Блок 1'!BG112)","v":""},{"$f":"IF('Блок 1'!BH112=\"\",\"\",'Блок 1'!BH112)","v":""}]
[null,{"$f":"IF('Блок 1'!B113=\"\",\"\",'Блок 1'!B113)","v":""},{"$f":"IF('Блок 1'!C113=\"\",\"\",'Блок 1'!C113)","v":""},{"$f":"IF('Блок 1'!D113=\"\",\"\",'Блок 1'!D113)","v":""},{"$f":"IF('Блок 1'!E113=\"\",\"\",'Блок 1'!E113)","v":""},{"$f":"IF('Блок 1'!F113=\"\",\"\",'Блок 1'!F113)","v":""},{"$f":"IF('Блок 1'!G113=\"\",\"\",'Блок 1'!G113)","v":""},{"$f":"IF('Блок 1'!H113=\"\",\"\",'Блок 1'!H113)","v":""},{"$f":"IF('Блок 1'!I113=\"\",\"\",'Блок 1'!I113)","v":""},{"$f":"IF('Блок 1'!J113=\"\",\"\",'Блок 1'!J113)","v":""},{"$f":"IF('Блок 1'!K113=\"\",\"\",'Блок 1'!K113)","v":""},{"$f":"IF('Блок 1'!L113=\"\",\"\",'Блок 1'!L113)","v":""},{"$f":"IF('Блок 1'!M113=\"\",\"\",'Блок 1'!M113)","v":""},{"$f":"IF('Блок 1'!N113=\"\",\"\",'Блок 1'!N113)","v":""},{"$f":"IF('Блок 1'!O113=\"\",\"\",'Блок 1'!O113)","v":""},{"$f":"IF('Блок 1'!P113=\"\",\"\",'Блок 1'!P113)","v":""},{"$f":"IF('Блок 1'!Q113=\"\",\"\",'Блок 1'!Q113)","v":""},{"$f":"IF('Блок 1'!R113=\"\",\"\",'Блок 1'!R113)","v":""},{"$f":"IF('Блок 1'!S113=\"\",\"\",'Блок 1'!S113)","v":""},{"$f":"IF('Блок 1'!T113=\"\",\"\",'Блок 1'!T113)","v":""},{"$f":"IF('Блок 1'!U113=\"\",\"\",'Блок 1'!U113)","v":""},{"$f":"IF('Блок 1'!V113=\"\",\"\",'Блок 1'!V113)","v":""},{"$f":"IF('Блок 1'!W113=\"\",\"\",'Блок 1'!W113)","v":""},{"$f":"IF('Блок 1'!X113=\"\",\"\",'Блок 1'!X113)","v":""},{"$f":"IF('Блок 1'!Y113=\"\",\"\",'Блок 1'!Y113)","v":""},{"$f":"IF('Блок 1'!Z113=\"\",\"\",'Блок 1'!Z113)","v":""},{"$f":"IF('Блок 1'!AA113=\"\",\"\",'Блок 1'!AA113)","v":""},{"$f":"IF('Блок 1'!AB113=\"\",\"\",'Блок 1'!AB113)","v":""},{"$f":"IF('Блок 1'!AC113=\"\",\"\",'Блок 1'!AC113)","v":""},{"$f":"IF('Блок 1'!AD113=\"\",\"\",'Блок 1'!AD113)","v":""},{"$f":"IF('Блок 1'!AE113=\"\",\"\",'Блок 1'!AE113)","v":""},{"$f":"IF('Блок 1'!AF113=\"\",\"\",'Блок 1'!AF113)","v":""},{"$f":"IF('Блок 1'!AG113=\"\",\"\",'Блок 1'!AG113)","v":""},{"$f":"IF('Блок 1'!AH113=\"\",\"\",'Блок 1'!AH113)","v":""},{"$f":"IF('Блок 1'!AI113=\"\",\"\",'Блок 1'!AI113)","v":""},{"$f":"IF('Блок 1'!AJ113=\"\",\"\",'Блок 1'!AJ113)","v":""},{"$f":"IF('Блок 1'!AK113=\"\",\"\",'Блок 1'!AK113)","v":""},{"$f":"IF('Блок 1'!AL113=\"\",\"\",'Блок 1'!AL113)","v":""},{"$f":"IF('Блок 1'!AM113=\"\",\"\",'Блок 1'!AM113)","v":""},{"$f":"IF('Блок 1'!AN113=\"\",\"\",'Блок 1'!AN113)","v":""},{"$f":"IF('Блок 1'!AO113=\"\",\"\",'Блок 1'!AO113)","v":""},{"$f":"IF('Блок 1'!AP113=\"\",\"\",'Блок 1'!AP113)","v":""},{"$f":"IF('Блок 1'!AQ113=\"\",\"\",'Блок 1'!AQ113)","v":""},{"$f":"IF('Блок 1'!AR113=\"\",\"\",'Блок 1'!AR113)","v":""},{"$f":"IF('Блок 1'!AS113=\"\",\"\",'Блок 1'!AS113)","v":""},{"$f":"IF('Блок 1'!AT113=\"\",\"\",'Блок 1'!AT113)","v":""},{"$f":"IF('Блок 1'!AU113=\"\",\"\",'Блок 1'!AU113)","v":""},{"$f":"IF('Блок 1'!AV113=\"\",\"\",'Блок 1'!AV113)","v":""},{"$f":"IF('Блок 1'!AW113=\"\",\"\",'Блок 1'!AW113)","v":""},{"$f":"IF('Блок 1'!AX113=\"\",\"\",'Блок 1'!AX113)","v":""},{"$f":"IF('Блок 1'!AY113=\"\",\"\",'Блок 1'!AY113)","v":""},{"$f":"IF('Блок 1'!AZ113=\"\",\"\",'Блок 1'!AZ113)","v":""},{"$f":"IF('Блок 1'!BA113=\"\",\"\",'Блок 1'!BA113)","v":""},{"$f":"IF('Блок 1'!BB113=\"\",\"\",'Блок 1'!BB113)","v":""},{"$f":"IF('Блок 1'!BC113=\"\",\"\",'Блок 1'!BC113)","v":""},{"$f":"IF('Блок 1'!BD113=\"\",\"\",'Блок 1'!BD113)","v":""},{"$f":"IF('Блок 1'!BE113=\"\",\"\",'Блок 1'!BE113)","v":""},{"$f":"IF('Блок 1'!BF113=\"\",\"\",'Блок 1'!BF113)","v":""},{"$f":"IF('Блок 1'!BG113=\"\",\"\",'Блок 1'!BG113)","v":""},{"$f":"IF('Блок 1'!BH113=\"\",\"\",'Блок 1'!BH113)","v":""}]
[null,{"$f":"IF('Блок 1'!B114=\"\",\"\",'Блок 1'!B114)","v":""},{"$f":"IF('Блок 1'!C114=\"\",\"\",'Блок 1'!C114)","v":""},{"$f":"IF('Блок 1'!D114=\"\",\"\",'Блок 1'!D114)","v":""},{"$f":"IF('Блок 1'!E114=\"\",\"\",'Блок 1'!E114)","v":""},{"$f":"IF('Блок 1'!F114=\"\",\"\",'Блок 1'!F114)","v":""},{"$f":"IF('Блок 1'!G114=\"\",\"\",'Блок 1'!G114)","v":""},{"$f":"IF('Блок 1'!H114=\"\",\"\",'Блок 1'!H114)","v":""},{"$f":"IF('Блок 1'!I114=\"\",\"\",'Блок 1'!I114)","v":""},{"$f":"IF('Блок 1'!J114=\"\",\"\",'Блок 1'!J114)","v":""},{"$f":"IF('Блок 1'!K114=\"\",\"\",'Блок 1'!K114)","v":""},{"$f":"IF('Блок 1'!L114=\"\",\"\",'Блок 1'!L114)","v":""},{"$f":"IF('Блок 1'!M114=\"\",\"\",'Блок 1'!M114)","v":""},{"$f":"IF('Блок 1'!N114=\"\",\"\",'Блок 1'!N114)","v":""},{"$f":"IF('Блок 1'!O114=\"\",\"\",'Блок 1'!O114)","v":""},{"$f":"IF('Блок 1'!P114=\"\",\"\",'Блок 1'!P114)","v":""},{"$f":"IF('Блок 1'!Q114=\"\",\"\",'Блок 1'!Q114)","v":""},{"$f":"IF('Блок 1'!R114=\"\",\"\",'Блок 1'!R114)","v":""},{"$f":"IF('Блок 1'!S114=\"\",\"\",'Блок 1'!S114)","v":""},{"$f":"IF('Блок 1'!T114=\"\",\"\",'Блок 1'!T114)","v":""},{"$f":"IF('Блок 1'!U114=\"\",\"\",'Блок 1'!U114)","v":""},{"$f":"IF('Блок 1'!V114=\"\",\"\",'Блок 1'!V114)","v":""},{"$f":"IF('Блок 1'!W114=\"\",\"\",'Блок 1'!W114)","v":""},{"$f":"IF('Блок 1'!X114=\"\",\"\",'Блок 1'!X114)","v":""},{"$f":"IF('Блок 1'!Y114=\"\",\"\",'Блок 1'!Y114)","v":""},{"$f":"IF('Блок 1'!Z114=\"\",\"\",'Блок 1'!Z114)","v":""},{"$f":"IF('Блок 1'!AA114=\"\",\"\",'Блок 1'!AA114)","v":""},{"$f":"IF('Блок 1'!AB114=\"\",\"\",'Блок 1'!AB114)","v":""},{"$f":"IF('Блок 1'!AC114=\"\",\"\",'Блок 1'!AC114)","v":""},{"$f":"IF('Блок 1'!AD114=\"\",\"\",'Блок 1'!AD114)","v":""},{"$f":"IF('Блок 1'!AE114=\"\",\"\",'Блок 1'!AE114)","v":""},{"$f":"IF('Блок 1'!AF114=\"\",\"\",'Блок 1'!AF114)","v":""},{"$f":"IF('Блок 1'!AG114=\"\",\"\",'Блок 1'!AG114)","v":""},{"$f":"IF('Блок 1'!AH114=\"\",\"\",'Блок 1'!AH114)","v":""},{"$f":"IF('Блок 1'!AI114=\"\",\"\",'Блок 1'!AI114)","v":""},{"$f":"IF('Блок 1'!AJ114=\"\",\"\",'Блок 1'!AJ114)","v":""},{"$f":"IF('Блок 1'!AK114=\"\",\"\",'Блок 1'!AK114)","v":""},{"$f":"IF('Блок 1'!AL114=\"\",\"\",'Блок 1'!AL114)","v":""},{"$f":"IF('Блок 1'!AM114=\"\",\"\",'Блок 1'!AM114)","v":""},{"$f":"IF('Блок 1'!AN114=\"\",\"\",'Блок 1'!AN114)","v":""},{"$f":"IF('Блок 1'!AO114=\"\",\"\",'Блок 1'!AO114)","v":""},{"$f":"IF('Блок 1'!AP114=\"\",\"\",'Блок 1'!AP114)","v":""},{"$f":"IF('Блок 1'!AQ114=\"\",\"\",'Блок 1'!AQ114)","v":""},{"$f":"IF('Блок 1'!AR114=\"\",\"\",'Блок 1'!AR114)","v":""},{"$f":"IF('Блок 1'!AS114=\"\",\"\",'Блок 1'!AS114)","v":""},{"$f":"IF('Блок 1'!AT114=\"\",\"\",'Блок 1'!AT114)","v":""},{"$f":"IF('Блок 1'!AU114=\"\",\"\",'Блок 1'!AU114)","v":""},{"$f":"IF('Блок 1'!AV114=\"\",\"\",'Блок 1'!AV114)","v":""},{"$f":"IF('Блок 1'!AW114=\"\",\"\",'Блок 1'!AW114)","v":""},{"$f":"IF('Блок 1'!AX114=\"\",\"\",'Блок 1'!AX114)","v":""},{"$f":"IF('Блок 1'!AY114=\"\",\"\",'Блок 1'!AY114)","v":""},{"$f":"IF('Блок 1'!AZ114=\"\",\"\",'Блок 1'!AZ114)","v":""},{"$f":"IF('Блок 1'!BA114=\"\",\"\",'Блок 1'!BA114)","v":""},{"$f":"IF('Блок 1'!BB114=\"\",\"\",'Блок 1'!BB114)","v":""},{"$f":"IF('Блок 1'!BC114=\"\",\"\",'Блок 1'!BC114)","v":""},{"$f":"IF('Блок 1'!BD114=\"\",\"\",'Блок 1'!BD114)","v":""},{"$f":"IF('Блок 1'!BE114=\"\",\"\",'Блок 1'!BE114)","v":""},{"$f":"IF('Блок 1'!BF114=\"\",\"\",'Блок 1'!BF114)","v":""},{"$f":"IF('Блок 1'!BG114=\"\",\"\",'Блок 1'!BG114)","v":""},{"$f":"IF('Блок 1'!BH114=\"\",\"\",'Блок 1'!BH114)","v":""}]
[null,{"$f":"IF('Блок 1'!B115=\"\",\"\",'Блок 1'!B115)","v":""},{"$f":"IF('Блок 1'!C115=\"\",\"\",'Блок 1'!C115)","v":""},{"$f":"IF('Блок 1'!D115=\"\",\"\",'Блок 1'!D115)","v":""},{"$f":"IF('Блок 1'!E115=\"\",\"\",'Блок 1'!E115)","v":""},{"$f":"IF('Блок 1'!F115=\"\",\"\",'Блок 1'!F115)","v":""},{"$f":"IF('Блок 1'!G115=\"\",\"\",'Блок 1'!G115)","v":""},{"$f":"IF('Блок 1'!H115=\"\",\"\",'Блок 1'!H115)","v":""},{"$f":"IF('Блок 1'!I115=\"\",\"\",'Блок 1'!I115)","v":""},{"$f":"IF('Блок 1'!J115=\"\",\"\",'Блок 1'!J115)","v":""},{"$f":"IF('Блок 1'!K115=\"\",\"\",'Блок 1'!K115)","v":""},{"$f":"IF('Блок 1'!L115=\"\",\"\",'Блок 1'!L115)","v":""},{"$f":"IF('Блок 1'!M115=\"\",\"\",'Блок 1'!M115)","v":""},{"$f":"IF('Блок 1'!N115=\"\",\"\",'Блок 1'!N115)","v":""},{"$f":"IF('Блок 1'!O115=\"\",\"\",'Блок 1'!O115)","v":""},{"$f":"IF('Блок 1'!P115=\"\",\"\",'Блок 1'!P115)","v":""},{"$f":"IF('Блок 1'!Q115=\"\",\"\",'Блок 1'!Q115)","v":""},{"$f":"IF('Блок 1'!R115=\"\",\"\",'Блок 1'!R115)","v":""},{"$f":"IF('Блок 1'!S115=\"\",\"\",'Блок 1'!S115)","v":""},{"$f":"IF('Блок 1'!T115=\"\",\"\",'Блок 1'!T115)","v":""},{"$f":"IF('Блок 1'!U115=\"\",\"\",'Блок 1'!U115)","v":""},{"$f":"IF('Блок 1'!V115=\"\",\"\",'Блок 1'!V115)","v":""},{"$f":"IF('Блок 1'!W115=\"\",\"\",'Блок 1'!W115)","v":""},{"$f":"IF('Блок 1'!X115=\"\",\"\",'Блок 1'!X115)","v":""},{"$f":"IF('Блок 1'!Y115=\"\",\"\",'Блок 1'!Y115)","v":""},{"$f":"IF('Блок 1'!Z115=\"\",\"\",'Блок 1'!Z115)","v":""},{"$f":"IF('Блок 1'!AA115=\"\",\"\",'Блок 1'!AA115)","v":""},{"$f":"IF('Блок 1'!AB115=\"\",\"\",'Блок 1'!AB115)","v":""},{"$f":"IF('Блок 1'!AC115=\"\",\"\",'Блок 1'!AC115)","v":""},{"$f":"IF('Блок 1'!AD115=\"\",\"\",'Блок 1'!AD115)","v":""},{"$f":"IF('Блок 1'!AE115=\"\",\"\",'Блок 1'!AE115)","v":""},{"$f":"IF('Блок 1'!AF115=\"\",\"\",'Блок 1'!AF115)","v":""},{"$f":"IF('Блок 1'!AG115=\"\",\"\",'Блок 1'!AG115)","v":""},{"$f":"IF('Блок 1'!AH115=\"\",\"\",'Блок 1'!AH115)","v":""},{"$f":"IF('Блок 1'!AI115=\"\",\"\",'Блок 1'!AI115)","v":""},{"$f":"IF('Блок 1'!AJ115=\"\",\"\",'Блок 1'!AJ115)","v":""},{"$f":"IF('Блок 1'!AK115=\"\",\"\",'Блок 1'!AK115)","v":""},{"$f":"IF('Блок 1'!AL115=\"\",\"\",'Блок 1'!AL115)","v":""},{"$f":"IF('Блок 1'!AM115=\"\",\"\",'Блок 1'!AM115)","v":""},{"$f":"IF('Блок 1'!AN115=\"\",\"\",'Блок 1'!AN115)","v":""},{"$f":"IF('Блок 1'!AO115=\"\",\"\",'Блок 1'!AO115)","v":""},{"$f":"IF('Блок 1'!AP115=\"\",\"\",'Блок 1'!AP115)","v":""},{"$f":"IF('Блок 1'!AQ115=\"\",\"\",'Блок 1'!AQ115)","v":""},{"$f":"IF('Блок 1'!AR115=\"\",\"\",'Блок 1'!AR115)","v":""},{"$f":"IF('Блок 1'!AS115=\"\",\"\",'Блок 1'!AS115)","v":""},{"$f":"IF('Блок 1'!AT115=\"\",\"\",'Блок 1'!AT115)","v":""},{"$f":"IF('Блок 1'!AU115=\"\",\"\",'Блок 1'!AU115)","v":""},{"$f":"IF('Блок 1'!AV115=\"\",\"\",'Блок 1'!AV115)","v":""},{"$f":"IF('Блок 1'!AW115=\"\",\"\",'Блок 1'!AW115)","v":""},{"$f":"IF('Блок 1'!AX115=\"\",\"\",'Блок 1'!AX115)","v":""},{"$f":"IF('Блок 1'!AY115=\"\",\"\",'Блок 1'!AY115)","v":""},{"$f":"IF('Блок 1'!AZ115=\"\",\"\",'Блок 1'!AZ115)","v":""},{"$f":"IF('Блок 1'!BA115=\"\",\"\",'Блок 1'!BA115)","v":""},{"$f":"IF('Блок 1'!BB115=\"\",\"\",'Блок 1'!BB115)","v":""},{"$f":"IF('Блок 1'!BC115=\"\",\"\",'Блок 1'!BC115)","v":""},{"$f":"IF('Блок 1'!BD115=\"\",\"\",'Блок 1'!BD115)","v":""},{"$f":"IF('Блок 1'!BE115=\"\",\"\",'Блок 1'!BE115)","v":""},{"$f":"IF('Блок 1'!BF115=\"\",\"\",'Блок 1'!BF115)","v":""},{"$f":"IF('Блок 1'!BG115=\"\",\"\",'Блок 1'!BG115)","v":""},{"$f":"IF('Блок 1'!BH115=\"\",\"\",'Блок 1'!BH115)","v":""}]
[null,{"$f":"IF('Блок 1'!B116=\"\",\"\",'Блок 1'!B116)","v":""},{"$f":"IF('Блок 1'!C116=\"\",\"\",'Блок 1'!C116)","v":""},{"$f":"IF('Блок 1'!D116=\"\",\"\",'Блок 1'!D116)","v":""},{"$f":"IF('Блок 1'!E116=\"\",\"\",'Блок 1'!E116)","v":""},{"$f":"IF('Блок 1'!F116=\"\",\"\",'Блок 1'!F116)","v":""},{"$f":"IF('Блок 1'!G116=\"\",\"\",'Блок 1'!G116)","v":""},{"$f":"IF('Блок 1'!H116=\"\",\"\",'Блок 1'!H116)","v":""},{"$f":"IF('Блок 1'!I116=\"\",\"\",'Блок 1'!I116)","v":""},{"$f":"IF('Блок 1'!J116=\"\",\"\",'Блок 1'!J116)","v":""},{"$f":"IF('Блок 1'!K116=\"\",\"\",'Блок 1'!K116)","v":""},{"$f":"IF('Блок 1'!L116=\"\",\"\",'Блок 1'!L116)","v":""},{"$f":"IF('Блок 1'!M116=\"\",\"\",'Блок 1'!M116)","v":""},{"$f":"IF('Блок 1'!N116=\"\",\"\",'Блок 1'!N116)","v":""},{"$f":"IF('Блок 1'!O116=\"\",\"\",'Блок 1'!O116)","v":""},{"$f":"IF('Блок 1'!P116=\"\",\"\",'Блок 1'!P116)","v":""},{"$f":"IF('Блок 1'!Q116=\"\",\"\",'Блок 1'!Q116)","v":""},{"$f":"IF('Блок 1'!R116=\"\",\"\",'Блок 1'!R116)","v":""},{"$f":"IF('Блок 1'!S116=\"\",\"\",'Блок 1'!S116)","v":""},{"$f":"IF('Блок 1'!T116=\"\",\"\",'Блок 1'!T116)","v":""},{"$f":"IF('Блок 1'!U116=\"\",\"\",'Блок 1'!U116)","v":""},{"$f":"IF('Блок 1'!V116=\"\",\"\",'Блок 1'!V116)","v":""},{"$f":"IF('Блок 1'!W116=\"\",\"\",'Блок 1'!W116)","v":""},{"$f":"IF('Блок 1'!X116=\"\",\"\",'Блок 1'!X116)","v":""},{"$f":"IF('Блок 1'!Y116=\"\",\"\",'Блок 1'!Y116)","v":""},{"$f":"IF('Блок 1'!Z116=\"\",\"\",'Блок 1'!Z116)","v":""},{"$f":"IF('Блок 1'!AA116=\"\",\"\",'Блок 1'!AA116)","v":""},{"$f":"IF('Блок 1'!AB116=\"\",\"\",'Блок 1'!AB116)","v":""},{"$f":"IF('Блок 1'!AC116=\"\",\"\",'Блок 1'!AC116)","v":""},{"$f":"IF('Блок 1'!AD116=\"\",\"\",'Блок 1'!AD116)","v":""},{"$f":"IF('Блок 1'!AE116=\"\",\"\",'Блок 1'!AE116)","v":""},{"$f":"IF('Блок 1'!AF116=\"\",\"\",'Блок 1'!AF116)","v":""},{"$f":"IF('Блок 1'!AG116=\"\",\"\",'Блок 1'!AG116)","v":""},{"$f":"IF('Блок 1'!AH116=\"\",\"\",'Блок 1'!AH116)","v":""},{"$f":"IF('Блок 1'!AI116=\"\",\"\",'Блок 1'!AI116)","v":""},{"$f":"IF('Блок 1'!AJ116=\"\",\"\",'Блок 1'!AJ116)","v":""},{"$f":"IF('Блок 1'!AK116=\"\",\"\",'Блок 1'!AK116)","v":""},{"$f":"IF('Блок 1'!AL116=\"\",\"\",'Блок 1'!AL116)","v":""},{"$f":"IF('Блок 1'!AM116=\"\",\"\",'Блок 1'!AM116)","v":""},{"$f":"IF('Блок 1'!AN116=\"\",\"\",'Блок 1'!AN116)","v":""},{"$f":"IF('Блок 1'!AO116=\"\",\"\",'Блок 1'!AO116)","v":""},{"$f":"IF('Блок 1'!AP116=\"\",\"\",'Блок 1'!AP116)","v":""},{"$f":"IF('Блок 1'!AQ116=\"\",\"\",'Блок 1'!AQ116)","v":""},{"$f":"IF('Блок 1'!AR116=\"\",\"\",'Блок 1'!AR116)","v":""},{"$f":"IF('Блок 1'!AS116=\"\",\"\",'Блок 1'!AS116)","v":""},{"$f":"IF('Блок 1'!AT116=\"\",\"\",'Блок 1'!AT116)","v":""},{"$f":"IF('Блок 1'!AU116=\"\",\"\",'Блок 1'!AU116)","v":""},{"$f":"IF('Блок 1'!AV116=\"\",\"\",'Блок 1'!AV116)","v":""},{"$f":"IF('Блок 1'!AW116=\"\",\"\",'Блок 1'!AW116)","v":""},{"$f":"IF('Блок 1'!AX116=\"\",\"\",'Блок 1'!AX116)","v":""},{"$f":"IF('Блок 1'!AY116=\"\",\"\",'Блок 1'!AY116)","v":""},{"$f":"IF('Блок 1'!AZ116=\"\",\"\",'Блок 1'!AZ116)","v":""},{"$f":"IF('Блок 1'!BA116=\"\",\"\",'Блок 1'!BA116)","v":""},{"$f":"IF('Блок 1'!BB116=\"\",\"\",'Блок 1'!BB116)","v":""},{"$f":"IF('Блок 1'!BC116=\"\",\"\",'Блок 1'!BC116)","v":""},{"$f":"IF('Блок 1'!BD116=\"\",\"\",'Блок 1'!BD116)","v":""},{"$f":"IF('Блок 1'!BE116=\"\",\"\",'Блок 1'!BE116)","v":""},{"$f":"IF('Блок 1'!BF116=\"\",\"\",'Блок 1'!BF116)","v":""},{"$f":"IF('Блок 1'!BG116=\"\",\"\",'Блок 1'!BG116)","v":""},{"$f":"IF('Блок 1'!BH116=\"\",\"\",'Блок 1'!BH116)","v":""}]
[null,{"$f":"IF('Блок 1'!B117=\"\",\"\",'Блок 1'!B117)","v":""},{"$f":"IF('Блок 1'!C117=\"\",\"\",'Блок 1'!C117)","v":""},{"$f":"IF('Блок 1'!D117=\"\",\"\",'Блок 1'!D117)","v":""},{"$f":"IF('Блок 1'!E117=\"\",\"\",'Блок 1'!E117)","v":""},{"$f":"IF('Блок 1'!F117=\"\",\"\",'Блок 1'!F117)","v":""},{"$f":"IF('Блок 1'!G117=\"\",\"\",'Блок 1'!G117)","v":""},{"$f":"IF('Блок 1'!H117=\"\",\"\",'Блок 1'!H117)","v":""},{"$f":"IF('Блок 1'!I117=\"\",\"\",'Блок 1'!I117)","v":""},{"$f":"IF('Блок 1'!J117=\"\",\"\",'Блок 1'!J117)","v":""},{"$f":"IF('Блок 1'!K117=\"\",\"\",'Блок 1'!K117)","v":""},{"$f":"IF('Блок 1'!L117=\"\",\"\",'Блок 1'!L117)","v":""},{"$f":"IF('Блок 1'!M117=\"\",\"\",'Блок 1'!M117)","v":""},{"$f":"IF('Блок 1'!N117=\"\",\"\",'Блок 1'!N117)","v":""},{"$f":"IF('Блок 1'!O117=\"\",\"\",'Блок 1'!O117)","v":""},{"$f":"IF('Блок 1'!P117=\"\",\"\",'Блок 1'!P117)","v":""},{"$f":"IF('Блок 1'!Q117=\"\",\"\",'Блок 1'!Q117)","v":""},{"$f":"IF('Блок 1'!R117=\"\",\"\",'Блок 1'!R117)","v":""},{"$f":"IF('Блок 1'!S117=\"\",\"\",'Блок 1'!S117)","v":""},{"$f":"IF('Блок 1'!T117=\"\",\"\",'Блок 1'!T117)","v":""},{"$f":"IF('Блок 1'!U117=\"\",\"\",'Блок 1'!U117)","v":""},{"$f":"IF('Блок 1'!V117=\"\",\"\",'Блок 1'!V117)","v":""},{"$f":"IF('Блок 1'!W117=\"\",\"\",'Блок 1'!W117)","v":""},{"$f":"IF('Блок 1'!X117=\"\",\"\",'Блок 1'!X117)","v":""},{"$f":"IF('Блок 1'!Y117=\"\",\"\",'Блок 1'!Y117)","v":""},{"$f":"IF('Блок 1'!Z117=\"\",\"\",'Блок 1'!Z117)","v":""},{"$f":"IF('Блок 1'!AA117=\"\",\"\",'Блок 1'!AA117)","v":""},{"$f":"IF('Блок 1'!AB117=\"\",\"\",'Блок 1'!AB117)","v":""},{"$f":"IF('Блок 1'!AC117=\"\",\"\",'Блок 1'!AC117)","v":""},{"$f":"IF('Блок 1'!AD117=\"\",\"\",'Блок 1'!AD117)","v":""},{"$f":"IF('Блок 1'!AE117=\"\",\"\",'Блок 1'!AE117)","v":""},{"$f":"IF('Блок 1'!AF117=\"\",\"\",'Блок 1'!AF117)","v":""},{"$f":"IF('Блок 1'!AG117=\"\",\"\",'Блок 1'!AG117)","v":""},{"$f":"IF('Блок 1'!AH117=\"\",\"\",'Блок 1'!AH117)","v":""},{"$f":"IF('Блок 1'!AI117=\"\",\"\",'Блок 1'!AI117)","v":""},{"$f":"IF('Блок 1'!AJ117=\"\",\"\",'Блок 1'!AJ117)","v":""},{"$f":"IF('Блок 1'!AK117=\"\",\"\",'Блок 1'!AK117)","v":""},{"$f":"IF('Блок 1'!AL117=\"\",\"\",'Блок 1'!AL117)","v":""},{"$f":"IF('Блок 1'!AM117=\"\",\"\",'Блок 1'!AM117)","v":""},{"$f":"IF('Блок 1'!AN117=\"\",\"\",'Блок 1'!AN117)","v":""},{"$f":"IF('Блок 1'!AO117=\"\",\"\",'Блок 1'!AO117)","v":""},{"$f":"IF('Блок 1'!AP117=\"\",\"\",'Блок 1'!AP117)","v":""},{"$f":"IF('Блок 1'!AQ117=\"\",\"\",'Блок 1'!AQ117)","v":""},{"$f":"IF('Блок 1'!AR117=\"\",\"\",'Блок 1'!AR117)","v":""},{"$f":"IF('Блок 1'!AS117=\"\",\"\",'Блок 1'!AS117)","v":""},{"$f":"IF('Блок 1'!AT117=\"\",\"\",'Блок 1'!AT117)","v":""},{"$f":"IF('Блок 1'!AU117=\"\",\"\",'Блок 1'!AU117)","v":""},{"$f":"IF('Блок 1'!AV117=\"\",\"\",'Блок 1'!AV117)","v":""},{"$f":"IF('Блок 1'!AW117=\"\",\"\",'Блок 1'!AW117)","v":""},{"$f":"IF('Блок 1'!AX117=\"\",\"\",'Блок 1'!AX117)","v":""},{"$f":"IF('Блок 1'!AY117=\"\",\"\",'Блок 1'!AY117)","v":""},{"$f":"IF('Блок 1'!AZ117=\"\",\"\",'Блок 1'!AZ117)","v":""},{"$f":"IF('Блок 1'!BA117=\"\",\"\",'Блок 1'!BA117)","v":""},{"$f":"IF('Блок 1'!BB117=\"\",\"\",'Блок 1'!BB117)","v":""},{"$f":"IF('Блок 1'!BC117=\"\",\"\",'Блок 1'!BC117)","v":""},{"$f":"IF('Блок 1'!BD117=\"\",\"\",'Блок 1'!BD117)","v":""},{"$f":"IF('Блок 1'!BE117=\"\",\"\",'Блок 1'!BE117)","v":""},{"$f":"IF('Блок 1'!BF117=\"\",\"\",'Блок 1'!BF117)","v":""},{"$f":"IF('Блок 1'!BG117=\"\",\"\",'Блок 1'!BG117)","v":""},{"$f":"IF('Блок 1'!BH117=\"\",\"\",'Блок 1'!BH117)","v":""}]
[null,{"$f":"IF('Блок 1'!B118=\"\",\"\",'Блок 1'!B118)","v":""},{"$f":"IF('Блок 1'!C118=\"\",\"\",'Блок 1'!C118)","v":""},{"$f":"IF('Блок 1'!D118=\"\",\"\",'Блок 1'!D118)","v":""},{"$f":"IF('Блок 1'!E118=\"\",\"\",'Блок 1'!E118)","v":""},{"$f":"IF('Блок 1'!F118=\"\",\"\",'Блок 1'!F118)","v":""},{"$f":"IF('Блок 1'!G118=\"\",\"\",'Блок 1'!G118)","v":""},{"$f":"IF('Блок 1'!H118=\"\",\"\",'Блок 1'!H118)","v":""},{"$f":"IF('Блок 1'!I118=\"\",\"\",'Блок 1'!I118)","v":""},{"$f":"IF('Блок 1'!J118=\"\",\"\",'Блок 1'!J118)","v":""},{"$f":"IF('Блок 1'!K118=\"\",\"\",'Блок 1'!K118)","v":""},{"$f":"IF('Блок 1'!L118=\"\",\"\",'Блок 1'!L118)","v":""},{"$f":"IF('Блок 1'!M118=\"\",\"\",'Блок 1'!M118)","v":""},{"$f":"IF('Блок 1'!N118=\"\",\"\",'Блок 1'!N118)","v":""},{"$f":"IF('Блок 1'!O118=\"\",\"\",'Блок 1'!O118)","v":""},{"$f":"IF('Блок 1'!P118=\"\",\"\",'Блок 1'!P118)","v":""},{"$f":"IF('Блок 1'!Q118=\"\",\"\",'Блок 1'!Q118)","v":""},{"$f":"IF('Блок 1'!R118=\"\",\"\",'Блок 1'!R118)","v":""},{"$f":"IF('Блок 1'!S118=\"\",\"\",'Блок 1'!S118)","v":""},{"$f":"IF('Блок 1'!T118=\"\",\"\",'Блок 1'!T118)","v":""},{"$f":"IF('Блок 1'!U118=\"\",\"\",'Блок 1'!U118)","v":""},{"$f":"IF('Блок 1'!V118=\"\",\"\",'Блок 1'!V118)","v":""},{"$f":"IF('Блок 1'!W118=\"\",\"\",'Блок 1'!W118)","v":""},{"$f":"IF('Блок 1'!X118=\"\",\"\",'Блок 1'!X118)","v":""},{"$f":"IF('Блок 1'!Y118=\"\",\"\",'Блок 1'!Y118)","v":""},{"$f":"IF('Блок 1'!Z118=\"\",\"\",'Блок 1'!Z118)","v":""},{"$f":"IF('Блок 1'!AA118=\"\",\"\",'Блок 1'!AA118)","v":""},{"$f":"IF('Блок 1'!AB118=\"\",\"\",'Блок 1'!AB118)","v":""},{"$f":"IF('Блок 1'!AC118=\"\",\"\",'Блок 1'!AC118)","v":""},{"$f":"IF('Блок 1'!AD118=\"\",\"\",'Блок 1'!AD118)","v":""},{"$f":"IF('Блок 1'!AE118=\"\",\"\",'Блок 1'!AE118)","v":""},{"$f":"IF('Блок 1'!AF118=\"\",\"\",'Блок 1'!AF118)","v":""},{"$f":"IF('Блок 1'!AG118=\"\",\"\",'Блок 1'!AG118)","v":""},{"$f":"IF('Блок 1'!AH118=\"\",\"\",'Блок 1'!AH118)","v":""},{"$f":"IF('Блок 1'!AI118=\"\",\"\",'Блок 1'!AI118)","v":""},{"$f":"IF('Блок 1'!AJ118=\"\",\"\",'Блок 1'!AJ118)","v":""},{"$f":"IF('Блок 1'!AK118=\"\",\"\",'Блок 1'!AK118)","v":""},{"$f":"IF('Блок 1'!AL118=\"\",\"\",'Блок 1'!AL118)","v":""},{"$f":"IF('Блок 1'!AM118=\"\",\"\",'Блок 1'!AM118)","v":""},{"$f":"IF('Блок 1'!AN118=\"\",\"\",'Блок 1'!AN118)","v":""},{"$f":"IF('Блок 1'!AO118=\"\",\"\",'Блок 1'!AO118)","v":""},{"$f":"IF('Блок 1'!AP118=\"\",\"\",'Блок 1'!AP118)","v":""},{"$f":"IF('Блок 1'!AQ118=\"\",\"\",'Блок 1'!AQ118)","v":""},{"$f":"IF('Блок 1'!AR118=\"\",\"\",'Блок 1'!AR118)","v":""},{"$f":"IF('Блок 1'!AS118=\"\",\"\",'Блок 1'!AS118)","v":""},{"$f":"IF('Блок 1'!AT118=\"\",\"\",'Блок 1'!AT118)","v":""},{"$f":"IF('Блок 1'!AU118=\"\",\"\",'Блок 1'!AU118)","v":""},{"$f":"IF('Блок 1'!AV118=\"\",\"\",'Блок 1'!AV118)","v":""},{"$f":"IF('Блок 1'!AW118=\"\",\"\",'Блок 1'!AW118)","v":""},{"$f":"IF('Блок 1'!AX118=\"\",\"\",'Блок 1'!AX118)","v":""},{"$f":"IF('Блок 1'!AY118=\"\",\"\",'Блок 1'!AY118)","v":""},{"$f":"IF('Блок 1'!AZ118=\"\",\"\",'Блок 1'!AZ118)","v":""},{"$f":"IF('Блок 1'!BA118=\"\",\"\",'Блок 1'!BA118)","v":""},{"$f":"IF('Блок 1'!BB118=\"\",\"\",'Блок 1'!BB118)","v":""},{"$f":"IF('Блок 1'!BC118=\"\",\"\",'Блок 1'!BC118)","v":""},{"$f":"IF('Блок 1'!BD118=\"\",\"\",'Блок 1'!BD118)","v":""},{"$f":"IF('Блок 1'!BE118=\"\",\"\",'Блок 1'!BE118)","v":""},{"$f":"IF('Блок 1'!BF118=\"\",\"\",'Блок 1'!BF118)","v":""},{"$f":"IF('Блок 1'!BG118=\"\",\"\",'Блок 1'!BG118)","v":""},{"$f":"IF('Блок 1'!BH118=\"\",\"\",'Блок 1'!BH118)","v":""}]
[null,{"$f":"IF('Блок 1'!B119=\"\",\"\",'Блок 1'!B119)","v":""},{"$f":"IF('Блок 1'!C119=\"\",\"\",'Блок 1'!C119)","v":""},{"$f":"IF('Блок 1'!D119=\"\",\"\",'Блок 1'!D119)","v":""},{"$f":"IF('Блок 1'!E119=\"\",\"\",'Блок 1'!E119)","v":""},{"$f":"IF('Блок 1'!F119=\"\",\"\",'Блок 1'!F119)","v":""},{"$f":"IF('Блок 1'!G119=\"\",\"\",'Блок 1'!G119)","v":""},{"$f":"IF('Блок 1'!H119=\"\",\"\",'Блок 1'!H119)","v":""},{"$f":"IF('Блок 1'!I119=\"\",\"\",'Блок 1'!I119)","v":""},{"$f":"IF('Блок 1'!J119=\"\",\"\",'Блок 1'!J119)","v":""},{"$f":"IF('Блок 1'!K119=\"\",\"\",'Блок 1'!K119)","v":""},{"$f":"IF('Блок 1'!L119=\"\",\"\",'Блок 1'!L119)","v":""},{"$f":"IF('Блок 1'!M119=\"\",\"\",'Блок 1'!M119)","v":""},{"$f":"IF('Блок 1'!N119=\"\",\"\",'Блок 1'!N119)","v":""},{"$f":"IF('Блок 1'!O119=\"\",\"\",'Блок 1'!O119)","v":""},{"$f":"IF('Блок 1'!P119=\"\",\"\",'Блок 1'!P119)","v":""},{"$f":"IF('Блок 1'!Q119=\"\",\"\",'Блок 1'!Q119)","v":""},{"$f":"IF('Блок 1'!R119=\"\",\"\",'Блок 1'!R119)","v":""},{"$f":"IF('Блок 1'!S119=\"\",\"\",'Блок 1'!S119)","v":""},{"$f":"IF('Блок 1'!T119=\"\",\"\",'Блок 1'!T119)","v":""},{"$f":"IF('Блок 1'!U119=\"\",\"\",'Блок 1'!U119)","v":""},{"$f":"IF('Блок 1'!V119=\"\",\"\",'Блок 1'!V119)","v":""},{"$f":"IF('Блок 1'!W119=\"\",\"\",'Блок 1'!W119)","v":""},{"$f":"IF('Блок 1'!X119=\"\",\"\",'Блок 1'!X119)","v":""},{"$f":"IF('Блок 1'!Y119=\"\",\"\",'Блок 1'!Y119)","v":""},{"$f":"IF('Блок 1'!Z119=\"\",\"\",'Блок 1'!Z119)","v":""},{"$f":"IF('Блок 1'!AA119=\"\",\"\",'Блок 1'!AA119)","v":""},{"$f":"IF('Блок 1'!AB119=\"\",\"\",'Блок 1'!AB119)","v":""},{"$f":"IF('Блок 1'!AC119=\"\",\"\",'Блок 1'!AC119)","v":""},{"$f":"IF('Блок 1'!AD119=\"\",\"\",'Блок 1'!AD119)","v":""},{"$f":"IF('Блок 1'!AE119=\"\",\"\",'Блок 1'!AE119)","v":""},{"$f":"IF('Блок 1'!AF119=\"\",\"\",'Блок 1'!AF119)","v":""},{"$f":"IF('Блок 1'!AG119=\"\",\"\",'Блок 1'!AG119)","v":""},{"$f":"IF('Блок 1'!AH119=\"\",\"\",'Блок 1'!AH119)","v":""},{"$f":"IF('Блок 1'!AI119=\"\",\"\",'Блок 1'!AI119)","v":""},{"$f":"IF('Блок 1'!AJ119=\"\",\"\",'Блок 1'!AJ119)","v":""},{"$f":"IF('Блок 1'!AK119=\"\",\"\",'Блок 1'!AK119)","v":""},{"$f":"IF('Блок 1'!AL119=\"\",\"\",'Блок 1'!AL119)","v":""},{"$f":"IF('Блок 1'!AM119=\"\",\"\",'Блок 1'!AM119)","v":""},{"$f":"IF('Блок 1'!AN119=\"\",\"\",'Блок 1'!AN119)","v":""},{"$f":"IF('Блок 1'!AO119=\"\",\"\",'Блок 1'!AO119)","v":""},{"$f":"IF('Блок 1'!AP119=\"\",\"\",'Блок 1'!AP119)","v":""},{"$f":"IF('Блок 1'!AQ119=\"\",\"\",'Блок 1'!AQ119)","v":""},{"$f":"IF('Блок 1'!AR119=\"\",\"\",'Блок 1'!AR119)","v":""},{"$f":"IF('Блок 1'!AS119=\"\",\"\",'Блок 1'!AS119)","v":""},{"$f":"IF('Блок 1'!AT119=\"\",\"\",'Блок 1'!AT119)","v":""},{"$f":"IF('Блок 1'!AU119=\"\",\"\",'Блок 1'!AU119)","v":""},{"$f":"IF('Блок 1'!AV119=\"\",\"\",'Блок 1'!AV119)","v":""},{"$f":"IF('Блок 1'!AW119=\"\",\"\",'Блок 1'!AW119)","v":""},{"$f":"IF('Блок 1'!AX119=\"\",\"\",'Блок 1'!AX119)","v":""},{"$f":"IF('Блок 1'!AY119=\"\",\"\",'Блок 1'!AY119)","v":""},{"$f":"IF('Блок 1'!AZ119=\"\",\"\",'Блок 1'!AZ119)","v":""},{"$f":"IF('Блок 1'!BA119=\"\",\"\",'Блок 1'!BA119)","v":""},{"$f":"IF('Блок 1'!BB119=\"\",\"\",'Блок 1'!BB119)","v":""},{"$f":"IF('Блок 1'!BC119=\"\",\"\",'Блок 1'!BC119)","v":""},{"$f":"IF('Блок 1'!BD119=\"\",\"\",'Блок 1'!BD119)","v":""},{"$f":"IF('Блок 1'!BE119=\"\",\"\",'Блок 1'!BE119)","v":""},{"$f":"IF('Блок 1'!BF119=\"\",\"\",'Блок 1'!BF119)","v":""},{"$f":"IF('Блок 1'!BG119=\"\",\"\",'Блок 1'!BG119)","v":""},{"$f":"IF('Блок 1'!BH119=\"\",\"\",'Блок 1'!BH119)","v":""}]
[null,{"$f":"IF('Блок 1'!B120=\"\",\"\",'Блок 1'!B120)","v":""},{"$f":"IF('Блок 1'!C120=\"\",\"\",'Блок 1'!C120)","v":""},{"$f":"IF('Блок 1'!D120=\"\",\"\",'Блок 1'!D120)","v":""},{"$f":"IF('Блок 1'!E120=\"\",\"\",'Блок 1'!E120)","v":""},{"$f":"IF('Блок 1'!F120=\"\",\"\",'Блок 1'!F120)","v":""},{"$f":"IF('Блок 1'!G120=\"\",\"\",'Блок 1'!G120)","v":""},{"$f":"IF('Блок 1'!H120=\"\",\"\",'Блок 1'!H120)","v":""},{"$f":"IF('Блок 1'!I120=\"\",\"\",'Блок 1'!I120)","v":""},{"$f":"IF('Блок 1'!J120=\"\",\"\",'Блок 1'!J120)","v":""},{"$f":"IF('Блок 1'!K120=\"\",\"\",'Блок 1'!K120)","v":""},{"$f":"IF('Блок 1'!L120=\"\",\"\",'Блок 1'!L120)","v":""},{"$f":"IF('Блок 1'!M120=\"\",\"\",'Блок 1'!M120)","v":""},{"$f":"IF('Блок 1'!N120=\"\",\"\",'Блок 1'!N120)","v":""},{"$f":"IF('Блок 1'!O120=\"\",\"\",'Блок 1'!O120)","v":""},{"$f":"IF('Блок 1'!P120=\"\",\"\",'Блок 1'!P120)","v":""},{"$f":"IF('Блок 1'!Q120=\"\",\"\",'Блок 1'!Q120)","v":""},{"$f":"IF('Блок 1'!R120=\"\",\"\",'Блок 1'!R120)","v":""},{"$f":"IF('Блок 1'!S120=\"\",\"\",'Блок 1'!S120)","v":""},{"$f":"IF('Блок 1'!T120=\"\",\"\",'Блок 1'!T120)","v":""},{"$f":"IF('Блок 1'!U120=\"\",\"\",'Блок 1'!U120)","v":""},{"$f":"IF('Блок 1'!V120=\"\",\"\",'Блок 1'!V120)","v":""},{"$f":"IF('Блок 1'!W120=\"\",\"\",'Блок 1'!W120)","v":""},{"$f":"IF('Блок 1'!X120=\"\",\"\",'Блок 1'!X120)","v":""},{"$f":"IF('Блок 1'!Y120=\"\",\"\",'Блок 1'!Y120)","v":""},{"$f":"IF('Блок 1'!Z120=\"\",\"\",'Блок 1'!Z120)","v":""},{"$f":"IF('Блок 1'!AA120=\"\",\"\",'Блок 1'!AA120)","v":""},{"$f":"IF('Блок 1'!AB120=\"\",\"\",'Блок 1'!AB120)","v":""},{"$f":"IF('Блок 1'!AC120=\"\",\"\",'Блок 1'!AC120)","v":""},{"$f":"IF('Блок 1'!AD120=\"\",\"\",'Блок 1'!AD120)","v":""},{"$f":"IF('Блок 1'!AE120=\"\",\"\",'Блок 1'!AE120)","v":""},{"$f":"IF('Блок 1'!AF120=\"\",\"\",'Блок 1'!AF120)","v":""},{"$f":"IF('Блок 1'!AG120=\"\",\"\",'Блок 1'!AG120)","v":""},{"$f":"IF('Блок 1'!AH120=\"\",\"\",'Блок 1'!AH120)","v":""},{"$f":"IF('Блок 1'!AI120=\"\",\"\",'Блок 1'!AI120)","v":""},{"$f":"IF('Блок 1'!AJ120=\"\",\"\",'Блок 1'!AJ120)","v":""},{"$f":"IF('Блок 1'!AK120=\"\",\"\",'Блок 1'!AK120)","v":""},{"$f":"IF('Блок 1'!AL120=\"\",\"\",'Блок 1'!AL120)","v":""},{"$f":"IF('Блок 1'!AM120=\"\",\"\",'Блок 1'!AM120)","v":""},{"$f":"IF('Блок 1'!AN120=\"\",\"\",'Блок 1'!AN120)","v":""},{"$f":"IF('Блок 1'!AO120=\"\",\"\",'Блок 1'!AO120)","v":""},{"$f":"IF('Блок 1'!AP120=\"\",\"\",'Блок 1'!AP120)","v":""},{"$f":"IF('Блок 1'!AQ120=\"\",\"\",'Блок 1'!AQ120)","v":""},{"$f":"IF('Блок 1'!AR120=\"\",\"\",'Блок 1'!AR120)","v":""},{"$f":"IF('Блок 1'!AS120=\"\",\"\",'Блок 1'!AS120)","v":""},{"$f":"IF('Блок 1'!AT120=\"\",\"\",'Блок 1'!AT120)","v":""},{"$f":"IF('Блок 1'!AU120=\"\",\"\",'Блок 1'!AU120)","v":""},{"$f":"IF('Блок 1'!AV120=\"\",\"\",'Блок 1'!AV120)","v":""},{"$f":"IF('Блок 1'!AW120=\"\",\"\",'Блок 1'!AW120)","v":""},{"$f":"IF('Блок 1'!AX120=\"\",\"\",'Блок 1'!AX120)","v":""},{"$f":"IF('Блок 1'!AY120=\"\",\"\",'Блок 1'!AY120)","v":""},{"$f":"IF('Блок 1'!AZ120=\"\",\"\",'Блок 1'!AZ120)","v":""},{"$f":"IF('Блок 1'!BA120=\"\",\"\",'Блок 1'!BA120)","v":""},{"$f":"IF('Блок 1'!BB120=\"\",\"\",'Блок 1'!BB120)","v":""},{"$f":"IF('Блок 1'!BC120=\"\",\"\",'Блок 1'!BC120)","v":""},{"$f":"IF('Блок 1'!BD120=\"\",\"\",'Блок 1'!BD120)","v":""},{"$f":"IF('Блок 1'!BE120=\"\",\"\",'Блок 1'!BE120)","v":""},{"$f":"IF('Блок 1'!BF120=\"\",\"\",'Блок 1'!BF120)","v":""},{"$f":"IF('Блок 1'!BG120=\"\",\"\",'Блок 1'!BG120)","v":""},{"$f":"IF('Блок 1'!BH120=\"\",\"\",'Блок 1'!BH120)","v":""}]
[null,{"$f":"IF('Блок 1'!B121=\"\",\"\",'Блок 1'!B121)","v":""},{"$f":"IF('Блок 1'!C121=\"\",\"\",'Блок 1'!C121)","v":""},{"$f":"IF('Блок 1'!D121=\"\",\"\",'Блок 1'!D121)","v":""},{"$f":"IF('Блок 1'!E121=\"\",\"\",'Блок 1'!E121)","v":""},{"$f":"IF('Блок 1'!F121=\"\",\"\",'Блок 1'!F121)","v":""},{"$f":"IF('Блок 1'!G121=\"\",\"\",'Блок 1'!G121)","v":""},{"$f":"IF('Блок 1'!H121=\"\",\"\",'Блок 1'!H121)","v":""},{"$f":"IF('Блок 1'!I121=\"\",\"\",'Блок 1'!I121)","v":""},{"$f":"IF('Блок 1'!J121=\"\",\"\",'Блок 1'!J121)","v":""},{"$f":"IF('Блок 1'!K121=\"\",\"\",'Блок 1'!K121)","v":""},{"$f":"IF('Блок 1'!L121=\"\",\"\",'Блок 1'!L121)","v":""},{"$f":"IF('Блок 1'!M121=\"\",\"\",'Блок 1'!M121)","v":""},{"$f":"IF('Блок 1'!N121=\"\",\"\",'Блок 1'!N121)","v":""},{"$f":"IF('Блок 1'!O121=\"\",\"\",'Блок 1'!O121)","v":""},{"$f":"IF('Блок 1'!P121=\"\",\"\",'Блок 1'!P121)","v":""},{"$f":"IF('Блок 1'!Q121=\"\",\"\",'Блок 1'!Q121)","v":""},{"$f":"IF('Блок 1'!R121=\"\",\"\",'Блок 1'!R121)","v":""},{"$f":"IF('Блок 1'!S121=\"\",\"\",'Блок 1'!S121)","v":""},{"$f":"IF('Блок 1'!T121=\"\",\"\",'Блок 1'!T121)","v":""},{"$f":"IF('Блок 1'!U121=\"\",\"\",'Блок 1'!U121)","v":""},{"$f":"IF('Блок 1'!V121=\"\",\"\",'Блок 1'!V121)","v":""},{"$f":"IF('Блок 1'!W121=\"\",\"\",'Блок 1'!W121)","v":""},{"$f":"IF('Блок 1'!X121=\"\",\"\",'Блок 1'!X121)","v":""},{"$f":"IF('Блок 1'!Y121=\"\",\"\",'Блок 1'!Y121)","v":""},{"$f":"IF('Блок 1'!Z121=\"\",\"\",'Блок 1'!Z121)","v":""},{"$f":"IF('Блок 1'!AA121=\"\",\"\",'Блок 1'!AA121)","v":""},{"$f":"IF('Блок 1'!AB121=\"\",\"\",'Блок 1'!AB121)","v":""},{"$f":"IF('Блок 1'!AC121=\"\",\"\",'Блок 1'!AC121)","v":""},{"$f":"IF('Блок 1'!AD121=\"\",\"\",'Блок 1'!AD121)","v":""},{"$f":"IF('Блок 1'!AE121=\"\",\"\",'Блок 1'!AE121)","v":""},{"$f":"IF('Блок 1'!AF121=\"\",\"\",'Блок 1'!AF121)","v":""},{"$f":"IF('Блок 1'!AG121=\"\",\"\",'Блок 1'!AG121)","v":""},{"$f":"IF('Блок 1'!AH121=\"\",\"\",'Блок 1'!AH121)","v":""},{"$f":"IF('Блок 1'!AI121=\"\",\"\",'Блок 1'!AI121)","v":""},{"$f":"IF('Блок 1'!AJ121=\"\",\"\",'Блок 1'!AJ121)","v":""},{"$f":"IF('Блок 1'!AK121=\"\",\"\",'Блок 1'!AK121)","v":""},{"$f":"IF('Блок 1'!AL121=\"\",\"\",'Блок 1'!AL121)","v":""},{"$f":"IF('Блок 1'!AM121=\"\",\"\",'Блок 1'!AM121)","v":""},{"$f":"IF('Блок 1'!AN121=\"\",\"\",'Блок 1'!AN121)","v":""},{"$f":"IF('Блок 1'!AO121=\"\",\"\",'Блок 1'!AO121)","v":""},{"$f":"IF('Блок 1'!AP121=\"\",\"\",'Блок 1'!AP121)","v":""},{"$f":"IF('Блок 1'!AQ121=\"\",\"\",'Блок 1'!AQ121)","v":""},{"$f":"IF('Блок 1'!AR121=\"\",\"\",'Блок 1'!AR121)","v":""},{"$f":"IF('Блок 1'!AS121=\"\",\"\",'Блок 1'!AS121)","v":""},{"$f":"IF('Блок 1'!AT121=\"\",\"\",'Блок 1'!AT121)","v":""},{"$f":"IF('Блок 1'!AU121=\"\",\"\",'Блок 1'!AU121)","v":""},{"$f":"IF('Блок 1'!AV121=\"\",\"\",'Блок 1'!AV121)","v":""},{"$f":"IF('Блок 1'!AW121=\"\",\"\",'Блок 1'!AW121)","v":""},{"$f":"IF('Блок 1'!AX121=\"\",\"\",'Блок 1'!AX121)","v":""},{"$f":"IF('Блок 1'!AY121=\"\",\"\",'Блок 1'!AY121)","v":""},{"$f":"IF('Блок 1'!AZ121=\"\",\"\",'Блок 1'!AZ121)","v":""},{"$f":"IF('Блок 1'!BA121=\"\",\"\",'Блок 1'!BA121)","v":""},{"$f":"IF('Блок 1'!BB121=\"\",\"\",'Блок 1'!BB121)","v":""},{"$f":"IF('Блок 1'!BC121=\"\",\"\",'Блок 1'!BC121)","v":""},{"$f":"IF('Блок 1'!BD121=\"\",\"\",'Блок 1'!BD121)","v":""},{"$f":"IF('Блок 1'!BE121=\"\",\"\",'Блок 1'!BE121)","v":""},{"$f":"IF('Блок 1'!BF121=\"\",\"\",'Блок 1'!BF121)","v":""},{"$f":"IF('Блок 1'!BG121=\"\",\"\",'Блок 1'!BG121)","v":""},{"$f":"IF('Блок 1'!BH121=\"\",\"\",'Блок 1'!BH121)","v":""}]
[null,{"$f":"IF('Блок 1'!B122=\"\",\"\",'Блок 1'!B122)","v":""},{"$f":"IF('Блок 1'!C122=\"\",\"\",'Блок 1'!C122)","v":"Модуль \"Профессиональные дисциплины\""},null,null,null,null,null,null,null,null,null,null,null,null,null,null,null,null,null,null,null,{"$f":"IF('Блок 1'!W122=\"\",\"\",'Блок 1'!W122)","v":""},{"$f":"IF('Блок 1'!X122=\"\",\"\",'Блок 1'!X122)","v":""},{"$f":"IF('Блок 1'!Y122=\"\",\"\",'Блок 1'!Y122)","v":""},{"$f":"IF('Блок 1'!Z122=\"\",\"\",'Блок 1'!Z122)","v":""},{"$f":"IF('Блок 1'!AA122=\"\",\"\",'Блок 1'!AA122)","v":""},{"$f":"IF('Блок 1'!AB122=\"\",\"\",'Блок 1'!AB122)","v":0},{"$f":"IF('Блок 1'!AC122=\"\",\"\",'Блок 1'!AC122)","v":0},{"$f":"IF('Блок 1'!AD122=\"\",\"\",'Блок 1'!AD122)","v":0},{"$f":"IF('Блок 1'!AE122=\"\",\"\",'Блок 1'!AE122)","v":0},{"$f":"IF('Блок 1'!AF122=\"\",\"\",'Блок 1'!AF122)","v":0},{"$f":"IF('Блок 1'!AG122=\"\",\"\",'Блок 1'!AG122)","v":0},{"$f":"IF('Блок 1'!AH122=\"\",\"\",'Блок 1'!AH122)","v":0},{"$f":"IF('Блок 1'!AI122=\"\",\"\",'Блок 1'!AI122)","v":0},{"$f":"IF('Блок 1'!AJ122=\"\",\"\",'Блок 1'!AJ122)","v":0},{"$f":"IF('Блок 1'!AK122=\"\",\"\",'Блок 1'!AK122)","v":""},{"$f":"IF('Блок 1'!AL122=\"\",\"\",'Блок 1'!AL122)","v":""},{"$f":"IF('Блок 1'!AM122=\"\",\"\",'Блок 1'!AM122)","v":""},{"$f":"IF('Блок 1'!AN122=\"\",\"\",'Блок 1'!AN122)","v":""},{"$f":"IF('Блок 1'!AO122=\"\",\"\",'Блок 1'!AO122)","v":""},{"$f":"IF('Блок 1'!AP122=\"\",\"\",'Блок 1'!AP122)","v":""},{"$f":"IF('Блок 1'!AQ122=\"\",\"\",'Блок 1'!AQ122)","v":""},{"$f":"IF('Блок 1'!AR122=\"\",\"\",'Блок 1'!AR122)","v":""},{"$f":"IF('Блок 1'!AS122=\"\",\"\",'Блок 1'!AS122)","v":""},{"$f":"IF('Блок 1'!AT122=\"\",\"\",'Блок 1'!AT122)","v":""},{"$f":"IF('Блок 1'!AU122=\"\",\"\",'Блок 1'!AU122)","v":""},{"$f":"IF('Блок 1'!AV122=\"\",\"\",'Блок 1'!AV122)","v":""},{"$f":"IF('Блок 1'!AW122=\"\",\"\",'Блок 1'!AW122)","v":""},{"$f":"IF('Блок 1'!AX122=\"\",\"\",'Блок 1'!AX122)","v":""},{"$f":"IF('Блок 1'!AY122=\"\",\"\",'Блок 1'!AY122)","v":""},{"$f":"IF('Блок 1'!AZ122=\"\",\"\",'Блок 1'!AZ122)","v":""},{"$f":"IF('Блок 1'!BA122=\"\",\"\",'Блок 1'!BA122)","v":""},{"$f":"IF('Блок 1'!BB122=\"\",\"\",'Блок 1'!BB122)","v":""},{"$f":"IF('Блок 1'!BC122=\"\",\"\",'Блок 1'!BC122)","v":""},{"$f":"IF('Блок 1'!BD122=\"\",\"\",'Блок 1'!BD122)","v":""},{"$f":"IF('Блок 1'!BE122=\"\",\"\",'Блок 1'!BE122)","v":""},{"$f":"IF('Блок 1'!BF122=\"\",\"\",'Блок 1'!BF122)","v":""},{"$f":"IF('Блок 1'!BG122=\"\",\"\",'Блок 1'!BG122)","v":""},{"$f":"IF('Блок 1'!BH122=\"\",\"\",'Блок 1'!BH122)","v":""}]
[null,{"$f":"IF('Блок 1'!B123=\"\",\"\",'Блок 1'!B123)","v":"В.1.09"},{"$f":"IF('Блок 1'!C123=\"\",\"\",'Блок 1'!C123)","v":""},{"$f":"IF('Блок 1'!D123=\"\",\"\",'Блок 1'!D123)","v":""},{"$f":"IF('Блок 1'!E123=\"\",\"\",'Блок 1'!E123)","v":""},{"$f":"IF('Блок 1'!F123=\"\",\"\",'Блок 1'!F123)","v":""},{"$f":"IF('Блок 1'!G123=\"\",\"\",'Блок 1'!G123)","v":""},{"$f":"IF('Блок 1'!H123=\"\",\"\",'Блок 1'!H123)","v":""},{"$f":"IF('Блок 1'!I123=\"\",\"\",'Блок 1'!I123)","v":""},{"$f":"IF('Блок 1'!J123=\"\",\"\",'Блок 1'!J123)","v":""},{"$f":"IF('Блок 1'!K123=\"\",\"\",'Блок 1'!K123)","v":""},{"$f":"IF('Блок 1'!L123=\"\",\"\",'Блок 1'!L123)","v":""},{"$f":"IF('Блок 1'!M123=\"\",\"\",'Блок 1'!M123)","v":""},{"$f":"IF('Блок 1'!N123=\"\",\"\",'Блок 1'!N123)","v":""},{"$f":"IF('Блок 1'!O123=\"\",\"\",'Блок 1'!O123)","v":""},{"$f":"IF('Блок 1'!P123=\"\",\"\",'Блок 1'!P123)","v":""},{"$f":"IF('Блок 1'!Q123=\"\",\"\",'Блок 1'!Q123)","v":""},{"$f":"IF('Блок 1'!R123=\"\",\"\",'Блок 1'!R123)","v":""},{"$f":"IF('Блок 1'!S123=\"\",\"\",'Блок 1'!S123)","v":""},{"$f":"IF('Блок 1'!T123=\"\",\"\",'Блок 1'!T123)","v":""},{"$f":"IF('Блок 1'!U123=\"\",\"\",'Блок 1'!U123)","v":""},{"$f":"IF('Блок 1'!V123=\"\",\"\",'Блок 1'!V123)","v":""},{"$f":"IF('Блок 1'!W123=\"\",\"\",'Блок 1'!W123)","v":""},{"$f":"IF('Блок 1'!X123=\"\",\"\",'Блок 1'!X123)","v":""},{"$f":"IF('Блок 1'!Y123=\"\",\"\",'Блок 1'!Y123)","v":""},{"$f":"IF('Блок 1'!Z123=\"\",\"\",'Блок 1'!Z123)","v":""},{"$f":"IF('Блок 1'!AA123=\"\",\"\",'Блок 1'!AA123)","v":""},{"$f":"IF('Блок 1'!AB123=\"\",\"\",'Блок 1'!AB123)","v":""},{"$f":"IF('Блок 1'!AC123=\"\",\"\",'Блок 1'!AC123)","v":""},{"$f":"IF('Блок 1'!AD123=\"\",\"\",'Блок 1'!AD123)","v":""},{"$f":"IF('Блок 1'!AE123=\"\",\"\",'Блок 1'!AE123)","v":""},{"$f":"IF('Блок 1'!AF123=\"\",\"\",'Блок 1'!AF123)","v":""},{"$f":"IF('Блок 1'!AG123=\"\",\"\",'Блок 1'!AG123)","v":""},{"$f":"IF('Блок 1'!AH123=\"\",\"\",'Блок 1'!AH123)","v":""},{"$f":"IF('Блок 1'!AI123=\"\",\"\",'Блок 1'!AI123)","v":""},{"$f":"IF('Блок 1'!AJ123=\"\",\"\",'Блок 1'!AJ123)","v":""},{"$f":"IF('Блок 1'!AK123=\"\",\"\",'Блок 1'!AK123)","v":""},{"$f":"IF('Блок 1'!AL123=\"\",\"\",'Блок 1'!AL123)","v":""},{"$f":"IF('Блок 1'!AM123=\"\",\"\",'Блок 1'!AM123)","v":""},{"$f":"IF('Блок 1'!AN123=\"\",\"\",'Блок 1'!AN123)","v":""},{"$f":"IF('Блок 1'!AO123=\"\",\"\",'Блок 1'!AO123)","v":""},{"$f":"IF('Блок 1'!AP123=\"\",\"\",'Блок 1'!AP123)","v":""},{"$f":"IF('Блок 1'!AQ123=\"\",\"\",'Блок 1'!AQ123)","v":""},{"$f":"IF('Блок 1'!AR123=\"\",\"\",'Блок 1'!AR123)","v":""},{"$f":"IF('Блок 1'!AS123=\"\",\"\",'Блок 1'!AS123)","v":""},{"$f":"IF('Блок 1'!AT123=\"\",\"\",'Блок 1'!AT123)","v":""},{"$f":"IF('Блок 1'!AU123=\"\",\"\",'Блок 1'!AU123)","v":""},{"$f":"IF('Блок 1'!AV123=\"\",\"\",'Блок 1'!AV123)","v":""},{"$f":"IF('Блок 1'!AW123=\"\",\"\",'Блок 1'!AW123)","v":""},{"$f":"IF('Блок 1'!AX123=\"\",\"\",'Блок 1'!AX123)","v":""},{"$f":"IF('Блок 1'!AY123=\"\",\"\",'Блок 1'!AY123)","v":""},{"$f":"IF('Блок 1'!AZ123=\"\",\"\",'Блок 1'!AZ123)","v":""},{"$f":"IF('Блок 1'!BA123=\"\",\"\",'Блок 1'!BA123)","v":""},{"$f":"IF('Блок 1'!BB123=\"\",\"\",'Блок 1'!BB123)","v":""},{"$f":"IF('Блок 1'!BC123=\"\",\"\",'Блок 1'!BC123)","v":""},{"$f":"IF('Блок 1'!BD123=\"\",\"\",'Блок 1'!BD123)","v":""},{"$f":"IF('Блок 1'!BE123=\"\",\"\",'Блок 1'!BE123)","v":""},{"$f":"IF('Блок 1'!BF123=\"\",\"\",'Блок 1'!BF123)","v":""},{"$f":"IF('Блок 1'!BG123=\"\",\"\",'Блок 1'!BG123)","v":""},{"$f":"IF('Блок 1'!BH123=\"\",\"\",'Блок 1'!BH123)","v":""}]
[null,{"$f":"IF('Блок 1'!B124=\"\",\"\",'Блок 1'!B124)","v":"В.1.10"},{"$f":"IF('Блок 1'!C124=\"\",\"\",'Блок 1'!C124)","v":""},{"$f":"IF('Блок 1'!D124=\"\",\"\",'Блок 1'!D124)","v":""},{"$f":"IF('Блок 1'!E124=\"\",\"\",'Блок 1'!E124)","v":""},{"$f":"IF('Блок 1'!F124=\"\",\"\",'Блок 1'!F124)","v":""},{"$f":"IF('Блок 1'!G124=\"\",\"\",'Блок 1'!G124)","v":""},{"$f":"IF('Блок 1'!H124=\"\",\"\",'Блок 1'!H124)","v":""},{"$f":"IF('Блок 1'!I124=\"\",\"\",'Блок 1'!I124)","v":""},{"$f":"IF('Блок 1'!J124=\"\",\"\",'Блок 1'!J124)","v":""},{"$f":"IF('Блок 1'!K124=\"\",\"\",'Блок 1'!K124)","v":""},{"$f":"IF('Блок 1'!L124=\"\",\"\",'Блок 1'!L124)","v":""},{"$f":"IF('Блок 1'!M124=\"\",\"\",'Блок 1'!M124)","v":""},{"$f":"IF('Блок 1'!N124=\"\",\"\",'Блок 1'!N124)","v":""},{"$f":"IF('Блок 1'!O124=\"\",\"\",'Блок 1'!O124)","v":""},{"$f":"IF('Блок 1'!P124=\"\",\"\",'Блок 1'!P124)","v":""},{"$f":"IF('Блок 1'!Q124=\"\",\"\",'Блок 1'!Q124)","v":""},{"$f":"IF('Блок 1'!R124=\"\",\"\",'Блок 1'!R124)","v":""},{"$f":"IF('Блок 1'!S124=\"\",\"\",'Блок 1'!S124)","v":""},{"$f":"IF('Блок 1'!T124=\"\",\"\",'Блок 1'!T124)","v":""},{"$f":"IF('Блок 1'!U124=\"\",\"\",'Блок 1'!U124)","v":""},{"$f":"IF('Блок 1'!V124=\"\",\"\",'Блок 1'!V124)","v":""},{"$f":"IF('Блок 1'!W124=\"\",\"\",'Блок 1'!W124)","v":""},{"$f":"IF('Блок 1'!X124=\"\",\"\",'Блок 1'!X124)","v":""},{"$f":"IF('Блок 1'!Y124=\"\",\"\",'Блок 1'!Y124)","v":""},{"$f":"IF('Блок 1'!Z124=\"\",\"\",'Блок 1'!Z124)","v":""},{"$f":"IF('Блок 1'!AA124=\"\",\"\",'Блок 1'!AA124)","v":""},{"$f":"IF('Блок 1'!AB124=\"\",\"\",'Блок 1'!AB124)","v":""},{"$f":"IF('Блок 1'!AC124=\"\",\"\",'Блок 1'!AC124)","v":""},{"$f":"IF('Блок 1'!AD124=\"\",\"\",'Блок 1'!AD124)","v":""},{"$f":"IF('Блок 1'!AE124=\"\",\"\",'Блок 1'!AE124)","v":""},{"$f":"IF('Блок 1'!AF124=\"\",\"\",'Блок 1'!AF124)","v":""},{"$f":"IF('Блок 1'!AG124=\"\",\"\",'Блок 1'!AG124)","v":""},{"$f":"IF('Блок 1'!AH124=\"\",\"\",'Блок 1'!AH124)","v":""},{"$f":"IF('Блок 1'!AI124=\"\",\"\",'Блок 1'!AI124)","v":""},{"$f":"IF('Блок 1'!AJ124=\"\",\"\",'Блок 1'!AJ124)","v":""},{"$f":"IF('Блок 1'!AK124=\"\",\"\",'Блок 1'!AK124)","v":""},{"$f":"IF('Блок 1'!AL124=\"\",\"\",'Блок 1'!AL124)","v":""},{"$f":"IF('Блок 1'!AM124=\"\",\"\",'Блок 1'!AM124)","v":""},{"$f":"IF('Блок 1'!AN124=\"\",\"\",'Блок 1'!AN124)","v":""},{"$f":"IF('Блок 1'!AO124=\"\",\"\",'Блок 1'!AO124)","v":""},{"$f":"IF('Блок 1'!AP124=\"\",\"\",'Блок 1'!AP124)","v":""},{"$f":"IF('Блок 1'!AQ124=\"\",\"\",'Блок 1'!AQ124)","v":""},{"$f":"IF('Блок 1'!AR124=\"\",\"\",'Блок 1'!AR124)","v":""},{"$f":"IF('Блок 1'!AS124=\"\",\"\",'Блок 1'!AS124)","v":""},{"$f":"IF('Блок 1'!AT124=\"\",\"\",'Блок 1'!AT124)","v":""},{"$f":"IF('Блок 1'!AU124=\"\",\"\",'Блок 1'!AU124)","v":""},{"$f":"IF('Блок 1'!AV124=\"\",\"\",'Блок 1'!AV124)","v":""},{"$f":"IF('Блок 1'!AW124=\"\",\"\",'Блок 1'!AW124)","v":""},{"$f":"IF('Блок 1'!AX124=\"\",\"\",'Блок 1'!AX124)","v":""},{"$f":"IF('Блок 1'!AY124=\"\",\"\",'Блок 1'!AY124)","v":""},{"$f":"IF('Блок 1'!AZ124=\"\",\"\",'Блок 1'!AZ124)","v":""},{"$f":"IF('Блок 1'!BA124=\"\",\"\",'Блок 1'!BA124)","v":""},{"$f":"IF('Блок 1'!BB124=\"\",\"\",'Блок 1'!BB124)","v":""},{"$f":"IF('Блок 1'!BC124=\"\",\"\",'Блок 1'!BC124)","v":""},{"$f":"IF('Блок 1'!BD124=\"\",\"\",'Блок 1'!BD124)","v":""},{"$f":"IF('Блок 1'!BE124=\"\",\"\",'Блок 1'!BE124)","v":""},{"$f":"IF('Блок 1'!BF124=\"\",\"\",'Блок 1'!BF124)","v":""},{"$f":"IF('Блок 1'!BG124=\"\",\"\",'Блок 1'!BG124)","v":""},{"$f":"IF('Блок 1'!BH124=\"\",\"\",'Блок 1'!BH124)","v":""}]
[null,{"$f":"IF('Блок 1'!B125=\"\",\"\",'Блок 1'!B125)","v":"В.1.11"},{"$f":"IF('Блок 1'!C125=\"\",\"\",'Блок 1'!C125)","v":""},{"$f":"IF('Блок 1'!D125=\"\",\"\",'Блок 1'!D125)","v":""},{"$f":"IF('Блок 1'!E125=\"\",\"\",'Блок 1'!E125)","v":""},{"$f":"IF('Блок 1'!F125=\"\",\"\",'Блок 1'!F125)","v":""},{"$f":"IF('Блок 1'!G125=\"\",\"\",'Блок 1'!G125)","v":""},{"$f":"IF('Блок 1'!H125=\"\",\"\",'Блок 1'!H125)","v":""},{"$f":"IF('Блок 1'!I125=\"\",\"\",'Блок 1'!I125)","v":""},{"$f":"IF('Блок 1'!J125=\"\",\"\",'Блок 1'!J125)","v":""},{"$f":"IF('Блок 1'!K125=\"\",\"\",'Блок 1'!K125)","v":""},{"$f":"IF('Блок 1'!L125=\"\",\"\",'Блок 1'!L125)","v":""},{"$f":"IF('Блок 1'!M125=\"\",\"\",'Блок 1'!M125)","v":""},{"$f":"IF('Блок 1'!N125=\"\",\"\",'Блок 1'!N125)","v":""},{"$f":"IF('Блок 1'!O125=\"\",\"\",'Блок 1'!O125)","v":""},{"$f":"IF('Блок 1'!P125=\"\",\"\",'Блок 1'!P125)","v":""},{"$f":"IF('Блок 1'!Q125=\"\",\"\",'Блок 1'!Q125)","v":""},{"$f":"IF('Блок 1'!R125=\"\",\"\",'Блок 1'!R125)","v":""},{"$f":"IF('Блок 1'!S125=\"\",\"\",'Блок 1'!S125)","v":""},{"$f":"IF('Блок 1'!T125=\"\",\"\",'Блок 1'!T125)","v":""},{"$f":"IF('Блок 1'!U125=\"\",\"\",'Блок 1'!U125)","v":""},{"$f":"IF('Блок 1'!V125=\"\",\"\",'Блок 1'!V125)","v":""},{"$f":"IF('Блок 1'!W125=\"\",\"\",'Блок 1'!W125)","v":""},{"$f":"IF('Блок 1'!X125=\"\",\"\",'Блок 1'!X125)","v":""},{"$f":"IF('Блок 1'!Y125=\"\",\"\",'Блок 1'!Y125)","v":""},{"$f":"IF('Блок 1'!Z125=\"\",\"\",'Блок 1'!Z125)","v":""},{"$f":"IF('Блок 1'!AA125=\"\",\"\",'Блок 1'!AA125)","v":""},{"$f":"IF('Блок 1'!AB125=\"\",\"\",'Блок 1'!AB125)","v":""},{"$f":"IF('Блок 1'!AC125=\"\",\"\",'Блок 1'!AC125)","v":""},{"$f":"IF('Блок 1'!AD125=\"\",\"\",'Блок 1'!AD125)","v":""},{"$f":"IF('Блок 1'!AE125=\"\",\"\",'Блок 1'!AE125)","v":""},{"$f":"IF('Блок 1'!AF125=\"\",\"\",'Блок 1'!AF125)","v":""},{"$f":"IF('Блок 1'!AG125=\"\",\"\",'Блок 1'!AG125)","v":""},{"$f":"IF('Блок 1'!AH125=\"\",\"\",'Блок 1'!AH125)","v":""},{"$f":"IF('Блок 1'!AI125=\"\",\"\",'Блок 1'!AI125)","v":""},{"$f":"IF('Блок 1'!AJ125=\"\",\"\",'Блок 1'!AJ125)","v":""},{"$f":"IF('Блок 1'!AK125=\"\",\"\",'Блок 1'!AK125)","v":""},{"$f":"IF('Блок 1'!AL125=\"\",\"\",'Блок 1'!AL125)","v":""},{"$f":"IF('Блок 1'!AM125=\"\",\"\",'Блок 1'!AM125)","v":""},{"$f":"IF('Блок 1'!AN125=\"\",\"\",'Блок 1'!AN125)","v":""},{"$f":"IF('Блок 1'!AO125=\"\",\"\",'Блок 1'!AO125)","v":""},{"$f":"IF('Блок 1'!AP125=\"\",\"\",'Блок 1'!AP125)","v":""},{"$f":"IF('Блок 1'!AQ125=\"\",\"\",'Блок 1'!AQ125)","v":""},{"$f":"IF('Блок 1'!AR125=\"\",\"\",'Блок 1'!AR125)","v":""},{"$f":"IF('Блок 1'!AS125=\"\",\"\",'Блок 1'!AS125)","v":""},{"$f":"IF('Блок 1'!AT125=\"\",\"\",'Блок 1'!AT125)","v":""},{"$f":"IF('Блок 1'!AU125=\"\",\"\",'Блок 1'!AU125)","v":""},{"$f":"IF('Блок 1'!AV125=\"\",\"\",'Блок 1'!AV125)","v":""},{"$f":"IF('Блок 1'!AW125=\"\",\"\",'Блок 1'!AW125)","v":""},{"$f":"IF('Блок 1'!AX125=\"\",\"\",'Блок 1'!AX125)","v":""},{"$f":"IF('Блок 1'!AY125=\"\",\"\",'Блок 1'!AY125)","v":""},{"$f":"IF('Блок 1'!AZ125=\"\",\"\",'Блок 1'!AZ125)","v":""},{"$f":"IF('Блок 1'!BA125=\"\",\"\",'Блок 1'!BA125)","v":""},{"$f":"IF('Блок 1'!BB125=\"\",\"\",'Блок 1'!BB125)","v":""},{"$f":"IF('Блок 1'!BC125=\"\",\"\",'Блок 1'!BC125)","v":""},{"$f":"IF('Блок 1'!BD125=\"\",\"\",'Блок 1'!BD125)","v":""},{"$f":"IF('Блок 1'!BE125=\"\",\"\",'Блок 1'!BE125)","v":""},{"$f":"IF('Блок 1'!BF125=\"\",\"\",'Блок 1'!BF125)","v":""},{"$f":"IF('Блок 1'!BG125=\"\",\"\",'Блок 1'!BG125)","v":""},{"$f":"IF('Блок 1'!BH125=\"\",\"\",'Блок 1'!BH125)","v":""}]
[null,{"$f":"IF('Блок 1'!B126=\"\",\"\",'Блок 1'!B126)","v":"В.1.12"},{"$f":"IF('Блок 1'!C126=\"\",\"\",'Блок 1'!C126)","v":""},{"$f":"IF('Блок 1'!D126=\"\",\"\",'Блок 1'!D126)","v":""},{"$f":"IF('Блок 1'!E126=\"\",\"\",'Блок 1'!E126)","v":""},{"$f":"IF('Блок 1'!F126=\"\",\"\",'Блок 1'!F126)","v":""},{"$f":"IF('Блок 1'!G126=\"\",\"\",'Блок 1'!G126)","v":""},{"$f":"IF('Блок 1'!H126=\"\",\"\",'Блок 1'!H126)","v":""},{"$f":"IF('Блок 1'!I126=\"\",\"\",'Блок 1'!I126)","v":""},{"$f":"IF('Блок 1'!J126=\"\",\"\",'Блок 1'!J126)","v":""},{"$f":"IF('Блок 1'!K126=\"\",\"\",'Блок 1'!K126)","v":""},{"$f":"IF('Блок 1'!L126=\"\",\"\",'Блок 1'!L126)","v":""},{"$f":"IF('Блок 1'!M126=\"\",\"\",'Блок 1'!M126)","v":""},{"$f":"IF('Блок 1'!N126=\"\",\"\",'Блок 1'!N126)","v":""},{"$f":"IF('Блок 1'!O126=\"\",\"\",'Блок 1'!O126)","v":""},{"$f":"IF('Блок 1'!P126=\"\",\"\",'Блок 1'!P126)","v":""},{"$f":"IF('Блок 1'!Q126=\"\",\"\",'Блок 1'!Q126)","v":""},{"$f":"IF('Блок 1'!R126=\"\",\"\",'Блок 1'!R126)","v":""},{"$f":"IF('Блок 1'!S126=\"\",\"\",'Блок 1'!S126)","v":""},{"$f":"IF('Блок 1'!T126=\"\",\"\",'Блок 1'!T126)","v":""},{"$f":"IF('Блок 1'!U126=\"\",\"\",'Блок 1'!U126)","v":""},{"$f":"IF('Блок 1'!V126=\"\",\"\",'Блок 1'!V126)","v":""},{"$f":"IF('Блок 1'!W126=\"\",\"\",'Блок 1'!W126)","v":""},{"$f":"IF('Блок 1'!X126=\"\",\"\",'Блок 1'!X126)","v":""},{"$f":"IF('Блок 1'!Y126=\"\",\"\",'Блок 1'!Y126)","v":""},{"$f":"IF('Блок 1'!Z126=\"\",\"\",'Блок 1'!Z126)","v":""},{"$f":"IF('Блок 1'!AA126=\"\",\"\",'Блок 1'!AA126)","v":""},{"$f":"IF('Блок 1'!AB126=\"\",\"\",'Блок 1'!AB126)","v":""},{"$f":"IF('Блок 1'!AC126=\"\",\"\",'Блок 1'!AC126)","v":""},{"$f":"IF('Блок 1'!AD126=\"\",\"\",'Блок 1'!AD126)","v":""},{"$f":"IF('Блок 1'!AE126=\"\",\"\",'Блок 1'!AE126)","v":""},{"$f":"IF('Блок 1'!AF126=\"\",\"\",'Блок 1'!AF126)","v":""},{"$f":"IF('Блок 1'!AG126=\"\",\"\",'Блок 1'!AG126)","v":""},{"$f":"IF('Блок 1'!AH126=\"\",\"\",'Блок 1'!AH126)","v":""},{"$f":"IF('Блок 1'!AI126=\"\",\"\",'Блок 1'!AI126)","v":""},{"$f":"IF('Блок 1'!AJ126=\"\",\"\",'Блок 1'!AJ126)","v":""},{"$f":"IF('Блок 1'!AK126=\"\",\"\",'Блок 1'!AK126)","v":""},{"$f":"IF('Блок 1'!AL126=\"\",\"\",'Блок 1'!AL126)","v":""},{"$f":"IF('Блок 1'!AM126=\"\",\"\",'Блок 1'!AM126)","v":""},{"$f":"IF('Блок 1'!AN126=\"\",\"\",'Блок 1'!AN126)","v":""},{"$f":"IF('Блок 1'!AO126=\"\",\"\",'Блок 1'!AO126)","v":""},{"$f":"IF('Блок 1'!AP126=\"\",\"\",'Блок 1'!AP126)","v":""},{"$f":"IF('Блок 1'!AQ126=\"\",\"\",'Блок 1'!AQ126)","v":""},{"$f":"IF('Блок 1'!AR126=\"\",\"\",'Блок 1'!AR126)","v":""},{"$f":"IF('Блок 1'!AS126=\"\",\"\",'Блок 1'!AS126)","v":""},{"$f":"IF('Блок 1'!AT126=\"\",\"\",'Блок 1'!AT126)","v":""},{"$f":"IF('Блок 1'!AU126=\"\",\"\",'Блок 1'!AU126)","v":""},{"$f":"IF('Блок 1'!AV126=\"\",\"\",'Блок 1'!AV126)","v":""},{"$f":"IF('Блок 1'!AW126=\"\",\"\",'Блок 1'!AW126)","v":""},{"$f":"IF('Блок 1'!AX126=\"\",\"\",'Блок 1'!AX126)","v":""},{"$f":"IF('Блок 1'!AY126=\"\",\"\",'Блок 1'!AY126)","v":""},{"$f":"IF('Блок 1'!AZ126=\"\",\"\",'Блок 1'!AZ126)","v":""},{"$f":"IF('Блок 1'!BA126=\"\",\"\",'Блок 1'!BA126)","v":""},{"$f":"IF('Блок 1'!BB126=\"\",\"\",'Блок 1'!BB126)","v":""},{"$f":"IF('Блок 1'!BC126=\"\",\"\",'Блок 1'!BC126)","v":""},{"$f":"IF('Блок 1'!BD126=\"\",\"\",'Блок 1'!BD126)","v":""},{"$f":"IF('Блок 1'!BE126=\"\",\"\",'Блок 1'!BE126)","v":""},{"$f":"IF('Блок 1'!BF126=\"\",\"\",'Блок 1'!BF126)","v":""},{"$f":"IF('Блок 1'!BG126=\"\",\"\",'Блок 1'!BG126)","v":""},{"$f":"IF('Блок 1'!BH126=\"\",\"\",'Блок 1'!BH126)","v":""}]
[null,{"$f":"IF('Блок 1'!B127=\"\",\"\",'Блок 1'!B127)","v":"В.1.13"},{"$f":"IF('Блок 1'!C127=\"\",\"\",'Блок 1'!C127)","v":""},{"$f":"IF('Блок 1'!D127=\"\",\"\",'Блок 1'!D127)","v":""},{"$f":"IF('Блок 1'!E127=\"\",\"\",'Блок 1'!E127)","v":""},{"$f":"IF('Блок 1'!F127=\"\",\"\",'Блок 1'!F127)","v":""},{"$f":"IF('Блок 1'!G127=\"\",\"\",'Блок 1'!G127)","v":""},{"$f":"IF('Блок 1'!H127=\"\",\"\",'Блок 1'!H127)","v":""},{"$f":"IF('Блок 1'!I127=\"\",\"\",'Блок 1'!I127)","v":""},{"$f":"IF('Блок 1'!J127=\"\",\"\",'Блок 1'!J127)","v":""},{"$f":"IF('Блок 1'!K127=\"\",\"\",'Блок 1'!K127)","v":""},{"$f":"IF('Блок 1'!L127=\"\",\"\",'Блок 1'!L127)","v":""},{"$f":"IF('Блок 1'!M127=\"\",\"\",'Блок 1'!M127)","v":""},{"$f":"IF('Блок 1'!N127=\"\",\"\",'Блок 1'!N127)","v":""},{"$f":"IF('Блок 1'!O127=\"\",\"\",'Блок 1'!O127)","v":""},{"$f":"IF('Блок 1'!P127=\"\",\"\",'Блок 1'!P127)","v":""},{"$f":"IF('Блок 1'!Q127=\"\",\"\",'Блок 1'!Q127)","v":""},{"$f":"IF('Блок 1'!R127=\"\",\"\",'Блок 1'!R127)","v":""},{"$f":"IF('Блок 1'!S127=\"\",\"\",'Блок 1'!S127)","v":""},{"$f":"IF('Блок 1'!T127=\"\",\"\",'Блок 1'!T127)","v":""},{"$f":"IF('Блок 1'!U127=\"\",\"\",'Блок 1'!U127)","v":""},{"$f":"IF('Блок 1'!V127=\"\",\"\",'Блок 1'!V127)","v":""},{"$f":"IF('Блок 1'!W127=\"\",\"\",'Блок 1'!W127)","v":""},{"$f":"IF('Блок 1'!X127=\"\",\"\",'Блок 1'!X127)","v":""},{"$f":"IF('Блок 1'!Y127=\"\",\"\",'Блок 1'!Y127)","v":""},{"$f":"IF('Блок 1'!Z127=\"\",\"\",'Блок 1'!Z127)","v":""},{"$f":"IF('Блок 1'!AA127=\"\",\"\",'Блок 1'!AA127)","v":""},{"$f":"IF('Блок 1'!AB127=\"\",\"\",'Блок 1'!AB127)","v":""},{"$f":"IF('Блок 1'!AC127=\"\",\"\",'Блок 1'!AC127)","v":""},{"$f":"IF('Блок 1'!AD127=\"\",\"\",'Блок 1'!AD127)","v":""},{"$f":"IF('Блок 1'!AE127=\"\",\"\",'Блок 1'!AE127)","v":""},{"$f":"IF('Блок 1'!AF127=\"\",\"\",'Блок 1'!AF127)","v":""},{"$f":"IF('Блок 1'!AG127=\"\",\"\",'Блок 1'!AG127)","v":""},{"$f":"IF('Блок 1'!AH127=\"\",\"\",'Блок 1'!AH127)","v":""},{"$f":"IF('Блок 1'!AI127=\"\",\"\",'Блок 1'!AI127)","v":""},{"$f":"IF('Блок 1'!AJ127=\"\",\"\",'Блок 1'!AJ127)","v":""},{"$f":"IF('Блок 1'!AK127=\"\",\"\",'Блок 1'!AK127)","v":""},{"$f":"IF('Блок 1'!AL127=\"\",\"\",'Блок 1'!AL127)","v":""},{"$f":"IF('Блок 1'!AM127=\"\",\"\",'Блок 1'!AM127)","v":""},{"$f":"IF('Блок 1'!AN127=\"\",\"\",'Блок 1'!AN127)","v":""},{"$f":"IF('Блок 1'!AO127=\"\",\"\",'Блок 1'!AO127)","v":""},{"$f":"IF('Блок 1'!AP127=\"\",\"\",'Блок 1'!AP127)","v":""},{"$f":"IF('Блок 1'!AQ127=\"\",\"\",'Блок 1'!AQ127)","v":""},{"$f":"IF('Блок 1'!AR127=\"\",\"\",'Блок 1'!AR127)","v":""},{"$f":"IF('Блок 1'!AS127=\"\",\"\",'Блок 1'!AS127)","v":""},{"$f":"IF('Блок 1'!AT127=\"\",\"\",'Блок 1'!AT127)","v":""},{"$f":"IF('Блок 1'!AU127=\"\",\"\",'Блок 1'!AU127)","v":""},{"$f":"IF('Блок 1'!AV127=\"\",\"\",'Блок 1'!AV127)","v":""},{"$f":"IF('Блок 1'!AW127=\"\",\"\",'Блок 1'!AW127)","v":""},{"$f":"IF('Блок 1'!AX127=\"\",\"\",'Блок 1'!AX127)","v":""},{"$f":"IF('Блок 1'!AY127=\"\",\"\",'Блок 1'!AY127)","v":""},{"$f":"IF('Блок 1'!AZ127=\"\",\"\",'Блок 1'!AZ127)","v":""},{"$f":"IF('Блок 1'!BA127=\"\",\"\",'Блок 1'!BA127)","v":""},{"$f":"IF('Блок 1'!BB127=\"\",\"\",'Блок 1'!BB127)","v":""},{"$f":"IF('Блок 1'!BC127=\"\",\"\",'Блок 1'!BC127)","v":""},{"$f":"IF('Блок 1'!BD127=\"\",\"\",'Блок 1'!BD127)","v":""},{"$f":"IF('Блок 1'!BE127=\"\",\"\",'Блок 1'!BE127)","v":""},{"$f":"IF('Блок 1'!BF127=\"\",\"\",'Блок 1'!BF127)","v":""},{"$f":"IF('Блок 1'!BG127=\"\",\"\",'Блок 1'!BG127)","v":""},{"$f":"IF('Блок 1'!BH127=\"\",\"\",'Блок 1'!BH127)","v":""}]
[null,{"$f":"IF('Блок 1'!B128=\"\",\"\",'Блок 1'!B128)","v":"В.1.14"},{"$f":"IF('Блок 1'!C128=\"\",\"\",'Блок 1'!C128)","v":""},{"$f":"IF('Блок 1'!D128=\"\",\"\",'Блок 1'!D128)","v":""},{"$f":"IF('Блок 1'!E128=\"\",\"\",'Блок 1'!E128)","v":""},{"$f":"IF('Блок 1'!F128=\"\",\"\",'Блок 1'!F128)","v":""},{"$f":"IF('Блок 1'!G128=\"\",\"\",'Блок 1'!G128)","v":""},{"$f":"IF('Блок 1'!H128=\"\",\"\",'Блок 1'!H128)","v":""},{"$f":"IF('Блок 1'!I128=\"\",\"\",'Блок 1'!I128)","v":""},{"$f":"IF('Блок 1'!J128=\"\",\"\",'Блок 1'!J128)","v":""},{"$f":"IF('Блок 1'!K128=\"\",\"\",'Блок 1'!K128)","v":""},{"$f":"IF('Блок 1'!L128=\"\",\"\",'Блок 1'!L128)","v":""},{"$f":"IF('Блок 1'!M128=\"\",\"\",'Блок 1'!M128)","v":""},{"$f":"IF('Блок 1'!N128=\"\",\"\",'Блок 1'!N128)","v":""},{"$f":"IF('Блок 1'!O128=\"\",\"\",'Блок 1'!O128)","v":""},{"$f":"IF('Блок 1'!P128=\"\",\"\",'Блок 1'!P128)","v":""},{"$f":"IF('Блок 1'!Q128=\"\",\"\",'Блок 1'!Q128)","v":""},{"$f":"IF('Блок 1'!R128=\"\",\"\",'Блок 1'!R128)","v":""},{"$f":"IF('Блок 1'!S128=\"\",\"\",'Блок 1'!S128)","v":""},{"$f":"IF('Блок 1'!T128=\"\",\"\",'Блок 1'!T128)","v":""},{"$f":"IF('Блок 1'!U128=\"\",\"\",'Блок 1'!U128)","v":""},{"$f":"IF('Блок 1'!V128=\"\",\"\",'Блок 1'!V128)","v":""},{"$f":"IF('Блок 1'!W128=\"\",\"\",'Блок 1'!W128)","v":""},{"$f":"IF('Блок 1'!X128=\"\",\"\",'Блок 1'!X128)","v":""},{"$f":"IF('Блок 1'!Y128=\"\",\"\",'Блок 1'!Y128)","v":""},{"$f":"IF('Блок 1'!Z128=\"\",\"\",'Блок 1'!Z128)","v":""},{"$f":"IF('Блок 1'!AA128=\"\",\"\",'Блок 1'!AA128)","v":""},{"$f":"IF('Блок 1'!AB128=\"\",\"\",'Блок 1'!AB128)","v":""},{"$f":"IF('Блок 1'!AC128=\"\",\"\",'Блок 1'!AC128)","v":""},{"$f":"IF('Блок 1'!AD128=\"\",\"\",'Блок 1'!AD128)","v":""},{"$f":"IF('Блок 1'!AE128=\"\",\"\",'Блок 1'!AE128)","v":""},{"$f":"IF('Блок 1'!AF128=\"\",\"\",'Блок 1'!AF128)","v":""},{"$f":"IF('Блок 1'!AG128=\"\",\"\",'Блок 1'!AG128)","v":""},{"$f":"IF('Блок 1'!AH128=\"\",\"\",'Блок 1'!AH128)","v":""},{"$f":"IF('Блок 1'!AI128=\"\",\"\",'Блок 1'!AI128)","v":""},{"$f":"IF('Блок 1'!AJ128=\"\",\"\",'Блок 1'!AJ128)","v":""},{"$f":"IF('Блок 1'!AK128=\"\",\"\",'Блок 1'!AK128)","v":""},{"$f":"IF('Блок 1'!AL128=\"\",\"\",'Блок 1'!AL128)","v":""},{"$f":"IF('Блок 1'!AM128=\"\",\"\",'Блок 1'!AM128)","v":""},{"$f":"IF('Блок 1'!AN128=\"\",\"\",'Блок 1'!AN128)","v":""},{"$f":"IF('Блок 1'!AO128=\"\",\"\",'Блок 1'!AO128)","v":""},{"$f":"IF('Блок 1'!AP128=\"\",\"\",'Блок 1'!AP128)","v":""},{"$f":"IF('Блок 1'!AQ128=\"\",\"\",'Блок 1'!AQ128)","v":""},{"$f":"IF('Блок 1'!AR128=\"\",\"\",'Блок 1'!AR128)","v":""},{"$f":"IF('Блок 1'!AS128=\"\",\"\",'Блок 1'!AS128)","v":""},{"$f":"IF('Блок 1'!AT128=\"\",\"\",'Блок 1'!AT128)","v":""},{"$f":"IF('Блок 1'!AU128=\"\",\"\",'Блок 1'!AU128)","v":""},{"$f":"IF('Блок 1'!AV128=\"\",\"\",'Блок 1'!AV128)","v":""},{"$f":"IF('Блок 1'!AW128=\"\",\"\",'Блок 1'!AW128)","v":""},{"$f":"IF('Блок 1'!AX128=\"\",\"\",'Блок 1'!AX128)","v":""},{"$f":"IF('Блок 1'!AY128=\"\",\"\",'Блок 1'!AY128)","v":""},{"$f":"IF('Блок 1'!AZ128=\"\",\"\",'Блок 1'!AZ128)","v":""},{"$f":"IF('Блок 1'!BA128=\"\",\"\",'Блок 1'!BA128)","v":""},{"$f":"IF('Блок 1'!BB128=\"\",\"\",'Блок 1'!BB128)","v":""},{"$f":"IF('Блок 1'!BC128=\"\",\"\",'Блок 1'!BC128)","v":""},{"$f":"IF('Блок 1'!BD128=\"\",\"\",'Блок 1'!BD128)","v":""},{"$f":"IF('Блок 1'!BE128=\"\",\"\",'Блок 1'!BE128)","v":""},{"$f":"IF('Блок 1'!BF128=\"\",\"\",'Блок 1'!BF128)","v":""},{"$f":"IF('Блок 1'!BG128=\"\",\"\",'Блок 1'!BG128)","v":""},{"$f":"IF('Блок 1'!BH128=\"\",\"\",'Блок 1'!BH128)","v":""}]
[null,{"$f":"IF('Блок 1'!B129=\"\",\"\",'Блок 1'!B129)","v":"В.1.15"},{"$f":"IF('Блок 1'!C129=\"\",\"\",'Блок 1'!C129)","v":""},{"$f":"IF('Блок 1'!D129=\"\",\"\",'Блок 1'!D129)","v":""},{"$f":"IF('Блок 1'!E129=\"\",\"\",'Блок 1'!E129)","v":""},{"$f":"IF('Блок 1'!F129=\"\",\"\",'Блок 1'!F129)","v":""},{"$f":"IF('Блок 1'!G129=\"\",\"\",'Блок 1'!G129)","v":""},{"$f":"IF('Блок 1'!H129=\"\",\"\",'Блок 1'!H129)","v":""},{"$f":"IF('Блок 1'!I129=\"\",\"\",'Блок 1'!I129)","v":""},{"$f":"IF('Блок 1'!J129=\"\",\"\",'Блок 1'!J129)","v":""},{"$f":"IF('Блок 1'!K129=\"\",\"\",'Блок 1'!K129)","v":""},{"$f":"IF('Блок 1'!L129=\"\",\"\",'Блок 1'!L129)","v":""},{"$f":"IF('Блок 1'!M129=\"\",\"\",'Блок 1'!M129)","v":""},{"$f":"IF('Блок 1'!N129=\"\",\"\",'Блок 1'!N129)","v":""},{"$f":"IF('Блок 1'!O129=\"\",\"\",'Блок 1'!O129)","v":""},{"$f":"IF('Блок 1'!P129=\"\",\"\",'Блок 1'!P129)","v":""},{"$f":"IF('Блок 1'!Q129=\"\",\"\",'Блок 1'!Q129)","v":""},{"$f":"IF('Блок 1'!R129=\"\",\"\",'Блок 1'!R129)","v":""},{"$f":"IF('Блок 1'!S129=\"\",\"\",'Блок 1'!S129)","v":""},{"$f":"IF('Блок 1'!T129=\"\",\"\",'Блок 1'!T129)","v":""},{"$f":"IF('Блок 1'!U129=\"\",\"\",'Блок 1'!U129)","v":""},{"$f":"IF('Блок 1'!V129=\"\",\"\",'Блок 1'!V129)","v":""},{"$f":"IF('Блок 1'!W129=\"\",\"\",'Блок 1'!W129)","v":""},{"$f":"IF('Блок 1'!X129=\"\",\"\",'Блок 1'!X129)","v":""},{"$f":"IF('Блок 1'!Y129=\"\",\"\",'Блок 1'!Y129)","v":""},{"$f":"IF('Блок 1'!Z129=\"\",\"\",'Блок 1'!Z129)","v":""},{"$f":"IF('Блок 1'!AA129=\"\",\"\",'Блок 1'!AA129)","v":""},{"$f":"IF('Блок 1'!AB129=\"\",\"\",'Блок 1'!AB129)","v":""},{"$f":"IF('Блок 1'!AC129=\"\",\"\",'Блок 1'!AC129)","v":""},{"$f":"IF('Блок 1'!AD129=\"\",\"\",'Блок 1'!AD129)","v":""},{"$f":"IF('Блок 1'!AE129=\"\",\"\",'Блок 1'!AE129)","v":""},{"$f":"IF('Блок 1'!AF129=\"\",\"\",'Блок 1'!AF129)","v":""},{"$f":"IF('Блок 1'!AG129=\"\",\"\",'Блок 1'!AG129)","v":""},{"$f":"IF('Блок 1'!AH129=\"\",\"\",'Блок 1'!AH129)","v":""},{"$f":"IF('Блок 1'!AI129=\"\",\"\",'Блок 1'!AI129)","v":""},{"$f":"IF('Блок 1'!AJ129=\"\",\"\",'Блок 1'!AJ129)","v":""},{"$f":"IF('Блок 1'!AK129=\"\",\"\",'Блок 1'!AK129)","v":""},{"$f":"IF('Блок 1'!AL129=\"\",\"\",'Блок 1'!AL129)","v":""},{"$f":"IF('Блок 1'!AM129=\"\",\"\",'Блок 1'!AM129)","v":""},{"$f":"IF('Блок 1'!AN129=\"\",\"\",'Блок 1'!AN129)","v":""},{"$f":"IF('Блок 1'!AO129=\"\",\"\",'Блок 1'!AO129)","v":""},{"$f":"IF('Блок 1'!AP129=\"\",\"\",'Блок 1'!AP129)","v":""},{"$f":"IF('Блок 1'!AQ129=\"\",\"\",'Блок 1'!AQ129)","v":""},{"$f":"IF('Блок 1'!AR129=\"\",\"\",'Блок 1'!AR129)","v":""},{"$f":"IF('Блок 1'!AS129=\"\",\"\",'Блок 1'!AS129)","v":""},{"$f":"IF('Блок 1'!AT129=\"\",\"\",'Блок 1'!AT129)","v":""},{"$f":"IF('Блок 1'!AU129=\"\",\"\",'Блок 1'!AU129)","v":""},{"$f":"IF('Блок 1'!AV129=\"\",\"\",'Блок 1'!AV129)","v":""},{"$f":"IF('Блок 1'!AW129=\"\",\"\",'Блок 1'!AW129)","v":""},{"$f":"IF('Блок 1'!AX129=\"\",\"\",'Блок 1'!AX129)","v":""},{"$f":"IF('Блок 1'!AY129=\"\",\"\",'Блок 1'!AY129)","v":""},{"$f":"IF('Блок 1'!AZ129=\"\",\"\",'Блок 1'!AZ129)","v":""},{"$f":"IF('Блок 1'!BA129=\"\",\"\",'Блок 1'!BA129)","v":""},{"$f":"IF('Блок 1'!BB129=\"\",\"\",'Блок 1'!BB129)","v":""},{"$f":"IF('Блок 1'!BC129=\"\",\"\",'Блок 1'!BC129)","v":""},{"$f":"IF('Блок 1'!BD129=\"\",\"\",'Блок 1'!BD129)","v":""},{"$f":"IF('Блок 1'!BE129=\"\",\"\",'Блок 1'!BE129)","v":""},{"$f":"IF('Блок 1'!BF129=\"\",\"\",'Блок 1'!BF129)","v":""},{"$f":"IF('Блок 1'!BG129=\"\",\"\",'Блок 1'!BG129)","v":""},{"$f":"IF('Блок 1'!BH129=\"\",\"\",'Блок 1'!BH129)","v":""}]
[null,{"$f":"IF('Блок 1'!B130=\"\",\"\",'Блок 1'!B130)","v":""},{"$f":"IF('Блок 1'!C130=\"\",\"\",'Блок 1'!C130)","v":""},{"$f":"IF('Блок 1'!D130=\"\",\"\",'Блок 1'!D130)","v":""},{"$f":"IF('Блок 1'!E130=\"\",\"\",'Блок 1'!E130)","v":""},{"$f":"IF('Блок 1'!F130=\"\",\"\",'Блок 1'!F130)","v":""},{"$f":"IF('Блок 1'!G130=\"\",\"\",'Блок 1'!G130)","v":""},{"$f":"IF('Блок 1'!H130=\"\",\"\",'Блок 1'!H130)","v":""},{"$f":"IF('Блок 1'!I130=\"\",\"\",'Блок 1'!I130)","v":""},{"$f":"IF('Блок 1'!J130=\"\",\"\",'Блок 1'!J130)","v":""},{"$f":"IF('Блок 1'!K130=\"\",\"\",'Блок 1'!K130)","v":""},{"$f":"IF('Блок 1'!L130=\"\",\"\",'Блок 1'!L130)","v":""},{"$f":"IF('Блок 1'!M130=\"\",\"\",'Блок 1'!M130)","v":""},{"$f":"IF('Блок 1'!N130=\"\",\"\",'Блок 1'!N130)","v":""},{"$f":"IF('Блок 1'!O130=\"\",\"\",'Блок 1'!O130)","v":""},{"$f":"IF('Блок 1'!P130=\"\",\"\",'Блок 1'!P130)","v":""},{"$f":"IF('Блок 1'!Q130=\"\",\"\",'Блок 1'!Q130)","v":""},{"$f":"IF('Блок 1'!R130=\"\",\"\",'Блок 1'!R130)","v":""},{"$f":"IF('Блок 1'!S130=\"\",\"\",'Блок 1'!S130)","v":""},{"$f":"IF('Блок 1'!T130=\"\",\"\",'Блок 1'!T130)","v":""},{"$f":"IF('Блок 1'!U130=\"\",\"\",'Блок 1'!U130)","v":""},{"$f":"IF('Блок 1'!V130=\"\",\"\",'Блок 1'!V130)","v":""},{"$f":"IF('Блок 1'!W130=\"\",\"\",'Блок 1'!W130)","v":""},{"$f":"IF('Блок 1'!X130=\"\",\"\",'Блок 1'!X130)","v":""},{"$f":"IF('Блок 1'!Y130=\"\",\"\",'Блок 1'!Y130)","v":""},{"$f":"IF('Блок 1'!Z130=\"\",\"\",'Блок 1'!Z130)","v":""},{"$f":"IF('Блок 1'!AA130=\"\",\"\",'Блок 1'!AA130)","v":""},{"$f":"IF('Блок 1'!AB130=\"\",\"\",'Блок 1'!AB130)","v":""},{"$f":"IF('Блок 1'!AC130=\"\",\"\",'Блок 1'!AC130)","v":""},{"$f":"IF('Блок 1'!AD130=\"\",\"\",'Блок 1'!AD130)","v":""},{"$f":"IF('Блок 1'!AE130=\"\",\"\",'Блок 1'!AE130)","v":""},{"$f":"IF('Блок 1'!AF130=\"\",\"\",'Блок 1'!AF130)","v":""},{"$f":"IF('Блок 1'!AG130=\"\",\"\",'Блок 1'!AG130)","v":""},{"$f":"IF('Блок 1'!AH130=\"\",\"\",'Блок 1'!AH130)","v":""},{"$f":"IF('Блок 1'!AI130=\"\",\"\",'Блок 1'!AI130)","v":""},{"$f":"IF('Блок 1'!AJ130=\"\",\"\",'Блок 1'!AJ130)","v":""},{"$f":"IF('Блок 1'!AK130=\"\",\"\",'Блок 1'!AK130)","v":""},{"$f":"IF('Блок 1'!AL130=\"\",\"\",'Блок 1'!AL130)","v":""},{"$f":"IF('Блок 1'!AM130=\"\",\"\",'Блок 1'!AM130)","v":""},{"$f":"IF('Блок 1'!AN130=\"\",\"\",'Блок 1'!AN130)","v":""},{"$f":"IF('Блок 1'!AO130=\"\",\"\",'Блок 1'!AO130)","v":""},{"$f":"IF('Блок 1'!AP130=\"\",\"\",'Блок 1'!AP130)","v":""},{"$f":"IF('Блок 1'!AQ130=\"\",\"\",'Блок 1'!AQ130)","v":""},{"$f":"IF('Блок 1'!AR130=\"\",\"\",'Блок 1'!AR130)","v":""},{"$f":"IF('Блок 1'!AS130=\"\",\"\",'Блок 1'!AS130)","v":""},{"$f":"IF('Блок 1'!AT130=\"\",\"\",'Блок 1'!AT130)","v":""},{"$f":"IF('Блок 1'!AU130=\"\",\"\",'Блок 1'!AU130)","v":""},{"$f":"IF('Блок 1'!AV130=\"\",\"\",'Блок 1'!AV130)","v":""},{"$f":"IF('Блок 1'!AW130=\"\",\"\",'Блок 1'!AW130)","v":""},{"$f":"IF('Блок 1'!AX130=\"\",\"\",'Блок 1'!AX130)","v":""},{"$f":"IF('Блок 1'!AY130=\"\",\"\",'Блок 1'!AY130)","v":""},{"$f":"IF('Блок 1'!AZ130=\"\",\"\",'Блок 1'!AZ130)","v":""},{"$f":"IF('Блок 1'!BA130=\"\",\"\",'Блок 1'!BA130)","v":""},{"$f":"IF('Блок 1'!BB130=\"\",\"\",'Блок 1'!BB130)","v":""},{"$f":"IF('Блок 1'!BC130=\"\",\"\",'Блок 1'!BC130)","v":""},{"$f":"IF('Блок 1'!BD130=\"\",\"\",'Блок 1'!BD130)","v":""},{"$f":"IF('Блок 1'!BE130=\"\",\"\",'Блок 1'!BE130)","v":""},{"$f":"IF('Блок 1'!BF130=\"\",\"\",'Блок 1'!BF130)","v":""},{"$f":"IF('Блок 1'!BG130=\"\",\"\",'Блок 1'!BG130)","v":""},{"$f":"IF('Блок 1'!BH130=\"\",\"\",'Блок 1'!BH130)","v":""}]
[null,{"$f":"IF('Блок 1'!B131=\"\",\"\",'Блок 1'!B131)","v":""},{"$f":"IF('Блок 1'!C131=\"\",\"\",'Блок 1'!C131)","v":""},{"$f":"IF('Блок 1'!D131=\"\",\"\",'Блок 1'!D131)","v":""},{"$f":"IF('Блок 1'!E131=\"\",\"\",'Блок 1'!E131)","v":""},{"$f":"IF('Блок 1'!F131=\"\",\"\",'Блок 1'!F131)","v":""},{"$f":"IF('Блок 1'!G131=\"\",\"\",'Блок 1'!G131)","v":""},{"$f":"IF('Блок 1'!H131=\"\",\"\",'Блок 1'!H131)","v":""},{"$f":"IF('Блок 1'!I131=\"\",\"\",'Блок 1'!I131)","v":""},{"$f":"IF('Блок 1'!J131=\"\",\"\",'Блок 1'!J131)","v":""},{"$f":"IF('Блок 1'!K131=\"\",\"\",'Блок 1'!K131)","v":""},{"$f":"IF('Блок 1'!L131=\"\",\"\",'Блок 1'!L131)","v":""},{"$f":"IF('Блок 1'!M131=\"\",\"\",'Блок 1'!M131)","v":""},{"$f":"IF('Блок 1'!N131=\"\",\"\",'Блок 1'!N131)","v":""},{"$f":"IF('Блок 1'!O131=\"\",\"\",'Блок 1'!O131)","v":""},{"$f":"IF('Блок 1'!P131=\"\",\"\",'Блок 1'!P131)","v":""},{"$f":"IF('Блок 1'!Q131=\"\",\"\",'Блок 1'!Q131)","v":""},{"$f":"IF('Блок 1'!R131=\"\",\"\",'Блок 1'!R131)","v":""},{"$f":"IF('Блок 1'!S131=\"\",\"\",'Блок 1'!S131)","v":""},{"$f":"IF('Блок 1'!T131=\"\",\"\",'Блок 1'!T131)","v":""},{"$f":"IF('Блок 1'!U131=\"\",\"\",'Блок 1'!U131)","v":""},{"$f":"IF('Блок 1'!V131=\"\",\"\",'Блок 1'!V131)","v":""},{"$f":"IF('Блок 1'!W131=\"\",\"\",'Блок 1'!W131)","v":""},{"$f":"IF('Блок 1'!X131=\"\",\"\",'Блок 1'!X131)","v":""},{"$f":"IF('Блок 1'!Y131=\"\",\"\",'Блок 1'!Y131)","v":""},{"$f":"IF('Блок 1'!Z131=\"\",\"\",'Блок 1'!Z131)","v":""},{"$f":"IF('Блок 1'!AA131=\"\",\"\",'Блок 1'!AA131)","v":""},{"$f":"IF('Блок 1'!AB131=\"\",\"\",'Блок 1'!AB131)","v":""},{"$f":"IF('Блок 1'!AC131=\"\",\"\",'Блок 1'!AC131)","v":""},{"$f":"IF('Блок 1'!AD131=\"\",\"\",'Блок 1'!AD131)","v":""},{"$f":"IF('Блок 1'!AE131=\"\",\"\",'Блок 1'!AE131)","v":""},{"$f":"IF('Блок 1'!AF131=\"\",\"\",'Блок 1'!AF131)","v":""},{"$f":"IF('Блок 1'!AG131=\"\",\"\",'Блок 1'!AG131)","v":""},{"$f":"IF('Блок 1'!AH131=\"\",\"\",'Блок 1'!AH131)","v":""},{"$f":"IF('Блок 1'!AI131=\"\",\"\",'Блок 1'!AI131)","v":""},{"$f":"IF('Блок 1'!AJ131=\"\",\"\",'Блок 1'!AJ131)","v":""},{"$f":"IF('Блок 1'!AK131=\"\",\"\",'Блок 1'!AK131)","v":""},{"$f":"IF('Блок 1'!AL131=\"\",\"\",'Блок 1'!AL131)","v":""},{"$f":"IF('Блок 1'!AM131=\"\",\"\",'Блок 1'!AM131)","v":""},{"$f":"IF('Блок 1'!AN131=\"\",\"\",'Блок 1'!AN131)","v":""},{"$f":"IF('Блок 1'!AO131=\"\",\"\",'Блок 1'!AO131)","v":""},{"$f":"IF('Блок 1'!AP131=\"\",\"\",'Блок 1'!AP131)","v":""},{"$f":"IF('Блок 1'!AQ131=\"\",\"\",'Блок 1'!AQ131)","v":""},{"$f":"IF('Блок 1'!AR131=\"\",\"\",'Блок 1'!AR131)","v":""},{"$f":"IF('Блок 1'!AS131=\"\",\"\",'Блок 1'!AS131)","v":""},{"$f":"IF('Блок 1'!AT131=\"\",\"\",'Блок 1'!AT131)","v":""},{"$f":"IF('Блок 1'!AU131=\"\",\"\",'Блок 1'!AU131)","v":""},{"$f":"IF('Блок 1'!AV131=\"\",\"\",'Блок 1'!AV131)","v":""},{"$f":"IF('Блок 1'!AW131=\"\",\"\",'Блок 1'!AW131)","v":""},{"$f":"IF('Блок 1'!AX131=\"\",\"\",'Блок 1'!AX131)","v":""},{"$f":"IF('Блок 1'!AY131=\"\",\"\",'Блок 1'!AY131)","v":""},{"$f":"IF('Блок 1'!AZ131=\"\",\"\",'Блок 1'!AZ131)","v":""},{"$f":"IF('Блок 1'!BA131=\"\",\"\",'Блок 1'!BA131)","v":""},{"$f":"IF('Блок 1'!BB131=\"\",\"\",'Блок 1'!BB131)","v":""},{"$f":"IF('Блок 1'!BC131=\"\",\"\",'Блок 1'!BC131)","v":""},{"$f":"IF('Блок 1'!BD131=\"\",\"\",'Блок 1'!BD131)","v":""},{"$f":"IF('Блок 1'!BE131=\"\",\"\",'Блок 1'!BE131)","v":""},{"$f":"IF('Блок 1'!BF131=\"\",\"\",'Блок 1'!BF131)","v":""},{"$f":"IF('Блок 1'!BG131=\"\",\"\",'Блок 1'!BG131)","v":""},{"$f":"IF('Блок 1'!BH131=\"\",\"\",'Блок 1'!BH131)","v":""}]
[null,{"$f":"IF('Блок 1'!B132=\"\",\"\",'Блок 1'!B132)","v":""},{"$f":"IF('Блок 1'!C132=\"\",\"\",'Блок 1'!C132)","v":""},{"$f":"IF('Блок 1'!D132=\"\",\"\",'Блок 1'!D132)","v":""},{"$f":"IF('Блок 1'!E132=\"\",\"\",'Блок 1'!E132)","v":""},{"$f":"IF('Блок 1'!F132=\"\",\"\",'Блок 1'!F132)","v":""},{"$f":"IF('Блок 1'!G132=\"\",\"\",'Блок 1'!G132)","v":""},{"$f":"IF('Блок 1'!H132=\"\",\"\",'Блок 1'!H132)","v":""},{"$f":"IF('Блок 1'!I132=\"\",\"\",'Блок 1'!I132)","v":""},{"$f":"IF('Блок 1'!J132=\"\",\"\",'Блок 1'!J132)","v":""},{"$f":"IF('Блок 1'!K132=\"\",\"\",'Блок 1'!K132)","v":""},{"$f":"IF('Блок 1'!L132=\"\",\"\",'Блок 1'!L132)","v":""},{"$f":"IF('Блок 1'!M132=\"\",\"\",'Блок 1'!M132)","v":""},{"$f":"IF('Блок 1'!N132=\"\",\"\",'Блок 1'!N132)","v":""},{"$f":"IF('Блок 1'!O132=\"\",\"\",'Блок 1'!O132)","v":""},{"$f":"IF('Блок 1'!P132=\"\",\"\",'Блок 1'!P132)","v":""},{"$f":"IF('Блок 1'!Q132=\"\",\"\",'Блок 1'!Q132)","v":""},{"$f":"IF('Блок 1'!R132=\"\",\"\",'Блок 1'!R132)","v":""},{"$f":"IF('Блок 1'!S132=\"\",\"\",'Блок 1'!S132)","v":""},{"$f":"IF('Блок 1'!T132=\"\",\"\",'Блок 1'!T132)","v":""},{"$f":"IF('Блок 1'!U132=\"\",\"\",'Блок 1'!U132)","v":""},{"$f":"IF('Блок 1'!V132=\"\",\"\",'Блок 1'!V132)","v":""},{"$f":"IF('Блок 1'!W132=\"\",\"\",'Блок 1'!W132)","v":""},{"$f":"IF('Блок 1'!X132=\"\",\"\",'Блок 1'!X132)","v":""},{"$f":"IF('Блок 1'!Y132=\"\",\"\",'Блок 1'!Y132)","v":""},{"$f":"IF('Блок 1'!Z132=\"\",\"\",'Блок 1'!Z132)","v":""},{"$f":"IF('Блок 1'!AA132=\"\",\"\",'Блок 1'!AA132)","v":""},{"$f":"IF('Блок 1'!AB132=\"\",\"\",'Блок 1'!AB132)","v":""},{"$f":"IF('Блок 1'!AC132=\"\",\"\",'Блок 1'!AC132)","v":""},{"$f":"IF('Блок 1'!AD132=\"\",\"\",'Блок 1'!AD132)","v":""},{"$f":"IF('Блок 1'!AE132=\"\",\"\",'Блок 1'!AE132)","v":""},{"$f":"IF('Блок 1'!AF132=\"\",\"\",'Блок 1'!AF132)","v":""},{"$f":"IF('Блок 1'!AG132=\"\",\"\",'Блок 1'!AG132)","v":""},{"$f":"IF('Блок 1'!AH132=\"\",\"\",'Блок 1'!AH132)","v":""},{"$f":"IF('Блок 1'!AI132=\"\",\"\",'Блок 1'!AI132)","v":""},{"$f":"IF('Блок 1'!AJ132=\"\",\"\",'Блок 1'!AJ132)","v":""},{"$f":"IF('Блок 1'!AK132=\"\",\"\",'Блок 1'!AK132)","v":""},{"$f":"IF('Блок 1'!AL132=\"\",\"\",'Блок 1'!AL132)","v":""},{"$f":"IF('Блок 1'!AM132=\"\",\"\",'Блок 1'!AM132)","v":""},{"$f":"IF('Блок 1'!AN132=\"\",\"\",'Блок 1'!AN132)","v":""},{"$f":"IF('Блок 1'!AO132=\"\",\"\",'Блок 1'!AO132)","v":""},{"$f":"IF('Блок 1'!AP132=\"\",\"\",'Блок 1'!AP132)","v":""},{"$f":"IF('Блок 1'!AQ132=\"\",\"\",'Блок 1'!AQ132)","v":""},{"$f":"IF('Блок 1'!AR132=\"\",\"\",'Блок 1'!AR132)","v":""},{"$f":"IF('Блок 1'!AS132=\"\",\"\",'Блок 1'!AS132)","v":""},{"$f":"IF('Блок 1'!AT132=\"\",\"\",'Блок 1'!AT132)","v":""},{"$f":"IF('Блок 1'!AU132=\"\",\"\",'Блок 1'!AU132)","v":""},{"$f":"IF('Блок 1'!AV132=\"\",\"\",'Блок 1'!AV132)","v":""},{"$f":"IF('Блок 1'!AW132=\"\",\"\",'Блок 1'!AW132)","v":""},{"$f":"IF('Блок 1'!AX132=\"\",\"\",'Блок 1'!AX132)","v":""},{"$f":"IF('Блок 1'!AY132=\"\",\"\",'Блок 1'!AY132)","v":""},{"$f":"IF('Блок 1'!AZ132=\"\",\"\",'Блок 1'!AZ132)","v":""},{"$f":"IF('Блок 1'!BA132=\"\",\"\",'Блок 1'!BA132)","v":""},{"$f":"IF('Блок 1'!BB132=\"\",\"\",'Блок 1'!BB132)","v":""},{"$f":"IF('Блок 1'!BC132=\"\",\"\",'Блок 1'!BC132)","v":""},{"$f":"IF('Блок 1'!BD132=\"\",\"\",'Блок 1'!BD132)","v":""},{"$f":"IF('Блок 1'!BE132=\"\",\"\",'Блок 1'!BE132)","v":""},{"$f":"IF('Блок 1'!BF132=\"\",\"\",'Блок 1'!BF132)","v":""},{"$f":"IF('Блок 1'!BG132=\"\",\"\",'Блок 1'!BG132)","v":""},{"$f":"IF('Блок 1'!BH132=\"\",\"\",'Блок 1'!BH132)","v":""}]
[null,{"$f":"IF('Блок 1'!B133=\"\",\"\",'Блок 1'!B133)","v":""},{"$f":"IF('Блок 1'!C133=\"\",\"\",'Блок 1'!C133)","v":""},{"$f":"IF('Блок 1'!D133=\"\",\"\",'Блок 1'!D133)","v":""},{"$f":"IF('Блок 1'!E133=\"\",\"\",'Блок 1'!E133)","v":""},{"$f":"IF('Блок 1'!F133=\"\",\"\",'Блок 1'!F133)","v":""},{"$f":"IF('Блок 1'!G133=\"\",\"\",'Блок 1'!G133)","v":""},{"$f":"IF('Блок 1'!H133=\"\",\"\",'Блок 1'!H133)","v":""},{"$f":"IF('Блок 1'!I133=\"\",\"\",'Блок 1'!I133)","v":""},{"$f":"IF('Блок 1'!J133=\"\",\"\",'Блок 1'!J133)","v":""},{"$f":"IF('Блок 1'!K133=\"\",\"\",'Блок 1'!K133)","v":""},{"$f":"IF('Блок 1'!L133=\"\",\"\",'Блок 1'!L133)","v":""},{"$f":"IF('Блок 1'!M133=\"\",\"\",'Блок 1'!M133)","v":""},{"$f":"IF('Блок 1'!N133=\"\",\"\",'Блок 1'!N133)","v":""},{"$f":"IF('Блок 1'!O133=\"\",\"\",'Блок 1'!O133)","v":""},{"$f":"IF('Блок 1'!P133=\"\",\"\",'Блок 1'!P133)","v":""},{"$f":"IF('Блок 1'!Q133=\"\",\"\",'Блок 1'!Q133)","v":""},{"$f":"IF('Блок 1'!R133=\"\",\"\",'Блок 1'!R133)","v":""},{"$f":"IF('Блок 1'!S133=\"\",\"\",'Блок 1'!S133)","v":""},{"$f":"IF('Блок 1'!T133=\"\",\"\",'Блок 1'!T133)","v":""},{"$f":"IF('Блок 1'!U133=\"\",\"\",'Блок 1'!U133)","v":""},{"$f":"IF('Блок 1'!V133=\"\",\"\",'Блок 1'!V133)","v":""},{"$f":"IF('Блок 1'!W133=\"\",\"\",'Блок 1'!W133)","v":""},{"$f":"IF('Блок 1'!X133=\"\",\"\",'Блок 1'!X133)","v":""},{"$f":"IF('Блок 1'!Y133=\"\",\"\",'Блок 1'!Y133)","v":""},{"$f":"IF('Блок 1'!Z133=\"\",\"\",'Блок 1'!Z133)","v":""},{"$f":"IF('Блок 1'!AA133=\"\",\"\",'Блок 1'!AA133)","v":""},{"$f":"IF('Блок 1'!AB133=\"\",\"\",'Блок 1'!AB133)","v":""},{"$f":"IF('Блок 1'!AC133=\"\",\"\",'Блок 1'!AC133)","v":""},{"$f":"IF('Блок 1'!AD133=\"\",\"\",'Блок 1'!AD133)","v":""},{"$f":"IF('Блок 1'!AE133=\"\",\"\",'Блок 1'!AE133)","v":""},{"$f":"IF('Блок 1'!AF133=\"\",\"\",'Блок 1'!AF133)","v":""},{"$f":"IF('Блок 1'!AG133=\"\",\"\",'Блок 1'!AG133)","v":""},{"$f":"IF('Блок 1'!AH133=\"\",\"\",'Блок 1'!AH133)","v":""},{"$f":"IF('Блок 1'!AI133=\"\",\"\",'Блок 1'!AI133)","v":""},{"$f":"IF('Блок 1'!AJ133=\"\",\"\",'Блок 1'!AJ133)","v":""},{"$f":"IF('Блок 1'!AK133=\"\",\"\",'Блок 1'!AK133)","v":""},{"$f":"IF('Блок 1'!AL133=\"\",\"\",'Блок 1'!AL133)","v":""},{"$f":"IF('Блок 1'!AM133=\"\",\"\",'Блок 1'!AM133)","v":""},{"$f":"IF('Блок 1'!AN133=\"\",\"\",'Блок 1'!AN133)","v":""},{"$f":"IF('Блок 1'!AO133=\"\",\"\",'Блок 1'!AO133)","v":""},{"$f":"IF('Блок 1'!AP133=\"\",\"\",'Блок 1'!AP133)","v":""},{"$f":"IF('Блок 1'!AQ133=\"\",\"\",'Блок 1'!AQ133)","v":""},{"$f":"IF('Блок 1'!AR133=\"\",\"\",'Блок 1'!AR133)","v":""},{"$f":"IF('Блок 1'!AS133=\"\",\"\",'Блок 1'!AS133)","v":""},{"$f":"IF('Блок 1'!AT133=\"\",\"\",'Блок 1'!AT133)","v":""},{"$f":"IF('Блок 1'!AU133=\"\",\"\",'Блок 1'!AU133)","v":""},{"$f":"IF('Блок 1'!AV133=\"\",\"\",'Блок 1'!AV133)","v":""},{"$f":"IF('Блок 1'!AW133=\"\",\"\",'Блок 1'!AW133)","v":""},{"$f":"IF('Блок 1'!AX133=\"\",\"\",'Блок 1'!AX133)","v":""},{"$f":"IF('Блок 1'!AY133=\"\",\"\",'Блок 1'!AY133)","v":""},{"$f":"IF('Блок 1'!AZ133=\"\",\"\",'Блок 1'!AZ133)","v":""},{"$f":"IF('Блок 1'!BA133=\"\",\"\",'Блок 1'!BA133)","v":""},{"$f":"IF('Блок 1'!BB133=\"\",\"\",'Блок 1'!BB133)","v":""},{"$f":"IF('Блок 1'!BC133=\"\",\"\",'Блок 1'!BC133)","v":""},{"$f":"IF('Блок 1'!BD133=\"\",\"\",'Блок 1'!BD133)","v":""},{"$f":"IF('Блок 1'!BE133=\"\",\"\",'Блок 1'!BE133)","v":""},{"$f":"IF('Блок 1'!BF133=\"\",\"\",'Блок 1'!BF133)","v":""},{"$f":"IF('Блок 1'!BG133=\"\",\"\",'Блок 1'!BG133)","v":""},{"$f":"IF('Блок 1'!BH133=\"\",\"\",'Блок 1'!BH133)","v":""}]
[null,{"$f":"IF('Блок 1'!B134=\"\",\"\",'Блок 1'!B134)","v":""},{"$f":"IF('Блок 1'!C134=\"\",\"\",'Блок 1'!C134)","v":""},{"$f":"IF('Блок 1'!D134=\"\",\"\",'Блок 1'!D134)","v":""},{"$f":"IF('Блок 1'!E134=\"\",\"\",'Блок 1'!E134)","v":""},{"$f":"IF('Блок 1'!F134=\"\",\"\",'Блок 1'!F134)","v":""},{"$f":"IF('Блок 1'!G134=\"\",\"\",'Блок 1'!G134)","v":""},{"$f":"IF('Блок 1'!H134=\"\",\"\",'Блок 1'!H134)","v":""},{"$f":"IF('Блок 1'!I134=\"\",\"\",'Блок 1'!I134)","v":""},{"$f":"IF('Блок 1'!J134=\"\",\"\",'Блок 1'!J134)","v":""},{"$f":"IF('Блок 1'!K134=\"\",\"\",'Блок 1'!K134)","v":""},{"$f":"IF('Блок 1'!L134=\"\",\"\",'Блок 1'!L134)","v":""},{"$f":"IF('Блок 1'!M134=\"\",\"\",'Блок 1'!M134)","v":""},{"$f":"IF('Блок 1'!N134=\"\",\"\",'Блок 1'!N134)","v":""},{"$f":"IF('Блок 1'!O134=\"\",\"\",'Блок 1'!O134)","v":""},{"$f":"IF('Блок 1'!P134=\"\",\"\",'Блок 1'!P134)","v":""},{"$f":"IF('Блок 1'!Q134=\"\",\"\",'Блок 1'!Q134)","v":""},{"$f":"IF('Блок 1'!R134=\"\",\"\",'Блок 1'!R134)","v":""},{"$f":"IF('Блок 1'!S134=\"\",\"\",'Блок 1'!S134)","v":""},{"$f":"IF('Блок 1'!T134=\"\",\"\",'Блок 1'!T134)","v":""},{"$f":"IF('Блок 1'!U134=\"\",\"\",'Блок 1'!U134)","v":""},{"$f":"IF('Блок 1'!V134=\"\",\"\",'Блок 1'!V134)","v":""},{"$f":"IF('Блок 1'!W134=\"\",\"\",'Блок 1'!W134)","v":""},{"$f":"IF('Блок 1'!X134=\"\",\"\",'Блок 1'!X134)","v":""},{"$f":"IF('Блок 1'!Y134=\"\",\"\",'Блок 1'!Y134)","v":""},{"$f":"IF('Блок 1'!Z134=\"\",\"\",'Блок 1'!Z134)","v":""},{"$f":"IF('Блок 1'!AA134=\"\",\"\",'Блок 1'!AA134)","v":""},{"$f":"IF('Блок 1'!AB134=\"\",\"\",'Блок 1'!AB134)","v":""},{"$f":"IF('Блок 1'!AC134=\"\",\"\",'Блок 1'!AC134)","v":""},{"$f":"IF('Блок 1'!AD134=\"\",\"\",'Блок 1'!AD134)","v":""},{"$f":"IF('Блок 1'!AE134=\"\",\"\",'Блок 1'!AE134)","v":""},{"$f":"IF('Блок 1'!AF134=\"\",\"\",'Блок 1'!AF134)","v":""},{"$f":"IF('Блок 1'!AG134=\"\",\"\",'Блок 1'!AG134)","v":""},{"$f":"IF('Блок 1'!AH134=\"\",\"\",'Блок 1'!AH134)","v":""},{"$f":"IF('Блок 1'!AI134=\"\",\"\",'Блок 1'!AI134)","v":""},{"$f":"IF('Блок 1'!AJ134=\"\",\"\",'Блок 1'!AJ134)","v":""},{"$f":"IF('Блок 1'!AK134=\"\",\"\",'Блок 1'!AK134)","v":""},{"$f":"IF('Блок 1'!AL134=\"\",\"\",'Блок 1'!AL134)","v":""},{"$f":"IF('Блок 1'!AM134=\"\",\"\",'Блок 1'!AM134)","v":""},{"$f":"IF('Блок 1'!AN134=\"\",\"\",'Блок 1'!AN134)","v":""},{"$f":"IF('Блок 1'!AO134=\"\",\"\",'Блок 1'!AO134)","v":""},{"$f":"IF('Блок 1'!AP134=\"\",\"\",'Блок 1'!AP134)","v":""},{"$f":"IF('Блок 1'!AQ134=\"\",\"\",'Блок 1'!AQ134)","v":""},{"$f":"IF('Блок 1'!AR134=\"\",\"\",'Блок 1'!AR134)","v":""},{"$f":"IF('Блок 1'!AS134=\"\",\"\",'Блок 1'!AS134)","v":""},{"$f":"IF('Блок 1'!AT134=\"\",\"\",'Блок 1'!AT134)","v":""},{"$f":"IF('Блок 1'!AU134=\"\",\"\",'Блок 1'!AU134)","v":""},{"$f":"IF('Блок 1'!AV134=\"\",\"\",'Блок 1'!AV134)","v":""},{"$f":"IF('Блок 1'!AW134=\"\",\"\",'Блок 1'!AW134)","v":""},{"$f":"IF('Блок 1'!AX134=\"\",\"\",'Блок 1'!AX134)","v":""},{"$f":"IF('Блок 1'!AY134=\"\",\"\",'Блок 1'!AY134)","v":""},{"$f":"IF('Блок 1'!AZ134=\"\",\"\",'Блок 1'!AZ134)","v":""},{"$f":"IF('Блок 1'!BA134=\"\",\"\",'Блок 1'!BA134)","v":""},{"$f":"IF('Блок 1'!BB134=\"\",\"\",'Блок 1'!BB134)","v":""},{"$f":"IF('Блок 1'!BC134=\"\",\"\",'Блок 1'!BC134)","v":""},{"$f":"IF('Блок 1'!BD134=\"\",\"\",'Блок 1'!BD134)","v":""},{"$f":"IF('Блок 1'!BE134=\"\",\"\",'Блок 1'!BE134)","v":""},{"$f":"IF('Блок 1'!BF134=\"\",\"\",'Блок 1'!BF134)","v":""},{"$f":"IF('Блок 1'!BG134=\"\",\"\",'Блок 1'!BG134)","v":""},{"$f":"IF('Блок 1'!BH134=\"\",\"\",'Блок 1'!BH134)","v":""}]
[null,{"$f":"IF('Блок 1'!B135=\"\",\"\",'Блок 1'!B135)","v":""},{"$f":"IF('Блок 1'!C135=\"\",\"\",'Блок 1'!C135)","v":""},{"$f":"IF('Блок 1'!D135=\"\",\"\",'Блок 1'!D135)","v":""},{"$f":"IF('Блок 1'!E135=\"\",\"\",'Блок 1'!E135)","v":""},{"$f":"IF('Блок 1'!F135=\"\",\"\",'Блок 1'!F135)","v":""},{"$f":"IF('Блок 1'!G135=\"\",\"\",'Блок 1'!G135)","v":""},{"$f":"IF('Блок 1'!H135=\"\",\"\",'Блок 1'!H135)","v":""},{"$f":"IF('Блок 1'!I135=\"\",\"\",'Блок 1'!I135)","v":""},{"$f":"IF('Блок 1'!J135=\"\",\"\",'Блок 1'!J135)","v":""},{"$f":"IF('Блок 1'!K135=\"\",\"\",'Блок 1'!K135)","v":""},{"$f":"IF('Блок 1'!L135=\"\",\"\",'Блок 1'!L135)","v":""},{"$f":"IF('Блок 1'!M135=\"\",\"\",'Блок 1'!M135)","v":""},{"$f":"IF('Блок 1'!N135=\"\",\"\",'Блок 1'!N135)","v":""},{"$f":"IF('Блок 1'!O135=\"\",\"\",'Блок 1'!O135)","v":""},{"$f":"IF('Блок 1'!P135=\"\",\"\",'Блок 1'!P135)","v":""},{"$f":"IF('Блок 1'!Q135=\"\",\"\",'Блок 1'!Q135)","v":""},{"$f":"IF('Блок 1'!R135=\"\",\"\",'Блок 1'!R135)","v":""},{"$f":"IF('Блок 1'!S135=\"\",\"\",'Блок 1'!S135)","v":""},{"$f":"IF('Блок 1'!T135=\"\",\"\",'Блок 1'!T135)","v":""},{"$f":"IF('Блок 1'!U135=\"\",\"\",'Блок 1'!U135)","v":""},{"$f":"IF('Блок 1'!V135=\"\",\"\",'Блок 1'!V135)","v":""},{"$f":"IF('Блок 1'!W135=\"\",\"\",'Блок 1'!W135)","v":""},{"$f":"IF('Блок 1'!X135=\"\",\"\",'Блок 1'!X135)","v":""},{"$f":"IF('Блок 1'!Y135=\"\",\"\",'Блок 1'!Y135)","v":""},{"$f":"IF('Блок 1'!Z135=\"\",\"\",'Блок 1'!Z135)","v":""},{"$f":"IF('Блок 1'!AA135=\"\",\"\",'Блок 1'!AA135)","v":""},{"$f":"IF('Блок 1'!AB135=\"\",\"\",'Блок 1'!AB135)","v":""},{"$f":"IF('Блок 1'!AC135=\"\",\"\",'Блок 1'!AC135)","v":""},{"$f":"IF('Блок 1'!AD135=\"\",\"\",'Блок 1'!AD135)","v":""},{"$f":"IF('Блок 1'!AE135=\"\",\"\",'Блок 1'!AE135)","v":""},{"$f":"IF('Блок 1'!AF135=\"\",\"\",'Блок 1'!AF135)","v":""},{"$f":"IF('Блок 1'!AG135=\"\",\"\",'Блок 1'!AG135)","v":""},{"$f":"IF('Блок 1'!AH135=\"\",\"\",'Блок 1'!AH135)","v":""},{"$f":"IF('Блок 1'!AI135=\"\",\"\",'Блок 1'!AI135)","v":""},{"$f":"IF('Блок 1'!AJ135=\"\",\"\",'Блок 1'!AJ135)","v":""},{"$f":"IF('Блок 1'!AK135=\"\",\"\",'Блок 1'!AK135)","v":""},{"$f":"IF('Блок 1'!AL135=\"\",\"\",'Блок 1'!AL135)","v":""},{"$f":"IF('Блок 1'!AM135=\"\",\"\",'Блок 1'!AM135)","v":""},{"$f":"IF('Блок 1'!AN135=\"\",\"\",'Блок 1'!AN135)","v":""},{"$f":"IF('Блок 1'!AO135=\"\",\"\",'Блок 1'!AO135)","v":""},{"$f":"IF('Блок 1'!AP135=\"\",\"\",'Блок 1'!AP135)","v":""},{"$f":"IF('Блок 1'!AQ135=\"\",\"\",'Блок 1'!AQ135)","v":""},{"$f":"IF('Блок 1'!AR135=\"\",\"\",'Блок 1'!AR135)","v":""},{"$f":"IF('Блок 1'!AS135=\"\",\"\",'Блок 1'!AS135)","v":""},{"$f":"IF('Блок 1'!AT135=\"\",\"\",'Блок 1'!AT135)","v":""},{"$f":"IF('Блок 1'!AU135=\"\",\"\",'Блок 1'!AU135)","v":""},{"$f":"IF('Блок 1'!AV135=\"\",\"\",'Блок 1'!AV135)","v":""},{"$f":"IF('Блок 1'!AW135=\"\",\"\",'Блок 1'!AW135)","v":""},{"$f":"IF('Блок 1'!AX135=\"\",\"\",'Блок 1'!AX135)","v":""},{"$f":"IF('Блок 1'!AY135=\"\",\"\",'Блок 1'!AY135)","v":""},{"$f":"IF('Блок 1'!AZ135=\"\",\"\",'Блок 1'!AZ135)","v":""},{"$f":"IF('Блок 1'!BA135=\"\",\"\",'Блок 1'!BA135)","v":""},{"$f":"IF('Блок 1'!BB135=\"\",\"\",'Блок 1'!BB135)","v":""},{"$f":"IF('Блок 1'!BC135=\"\",\"\",'Блок 1'!BC135)","v":""},{"$f":"IF('Блок 1'!BD135=\"\",\"\",'Блок 1'!BD135)","v":""},{"$f":"IF('Блок 1'!BE135=\"\",\"\",'Блок 1'!BE135)","v":""},{"$f":"IF('Блок 1'!BF135=\"\",\"\",'Блок 1'!BF135)","v":""},{"$f":"IF('Блок 1'!BG135=\"\",\"\",'Блок 1'!BG135)","v":""},{"$f":"IF('Блок 1'!BH135=\"\",\"\",'Блок 1'!BH135)","v":""}]
[null,{"$f":"IF('Блок 1'!B136=\"\",\"\",'Блок 1'!B136)","v":""},{"$f":"IF('Блок 1'!C136=\"\",\"\",'Блок 1'!C136)","v":""},{"$f":"IF('Блок 1'!D136=\"\",\"\",'Блок 1'!D136)","v":""},{"$f":"IF('Блок 1'!E136=\"\",\"\",'Блок 1'!E136)","v":""},{"$f":"IF('Блок 1'!F136=\"\",\"\",'Блок 1'!F136)","v":""},{"$f":"IF('Блок 1'!G136=\"\",\"\",'Блок 1'!G136)","v":""},{"$f":"IF('Блок 1'!H136=\"\",\"\",'Блок 1'!H136)","v":""},{"$f":"IF('Блок 1'!I136=\"\",\"\",'Блок 1'!I136)","v":""},{"$f":"IF('Блок 1'!J136=\"\",\"\",'Блок 1'!J136)","v":""},{"$f":"IF('Блок 1'!K136=\"\",\"\",'Блок 1'!K136)","v":""},{"$f":"IF('Блок 1'!L136=\"\",\"\",'Блок 1'!L136)","v":""},{"$f":"IF('Блок 1'!M136=\"\",\"\",'Блок 1'!M136)","v":""},{"$f":"IF('Блок 1'!N136=\"\",\"\",'Блок 1'!N136)","v":""},{"$f":"IF('Блок 1'!O136=\"\",\"\",'Блок 1'!O136)","v":""},{"$f":"IF('Блок 1'!P136=\"\",\"\",'Блок 1'!P136)","v":""},{"$f":"IF('Блок 1'!Q136=\"\",\"\",'Блок 1'!Q136)","v":""},{"$f":"IF('Блок 1'!R136=\"\",\"\",'Блок 1'!R136)","v":""},{"$f":"IF('Блок 1'!S136=\"\",\"\",'Блок 1'!S136)","v":""},{"$f":"IF('Блок 1'!T136=\"\",\"\",'Блок 1'!T136)","v":""},{"$f":"IF('Блок 1'!U136=\"\",\"\",'Блок 1'!U136)","v":""},{"$f":"IF('Блок 1'!V136=\"\",\"\",'Блок 1'!V136)","v":""},{"$f":"IF('Блок 1'!W136=\"\",\"\",'Блок 1'!W136)","v":""},{"$f":"IF('Блок 1'!X136=\"\",\"\",'Блок 1'!X136)","v":""},{"$f":"IF('Блок 1'!Y136=\"\",\"\",'Блок 1'!Y136)","v":""},{"$f":"IF('Блок 1'!Z136=\"\",\"\",'Блок 1'!Z136)","v":""},{"$f":"IF('Блок 1'!AA136=\"\",\"\",'Блок 1'!AA136)","v":""},{"$f":"IF('Блок 1'!AB136=\"\",\"\",'Блок 1'!AB136)","v":""},{"$f":"IF('Блок 1'!AC136=\"\",\"\",'Блок 1'!AC136)","v":""},{"$f":"IF('Блок 1'!AD136=\"\",\"\",'Блок 1'!AD136)","v":""},{"$f":"IF('Блок 1'!AE136=\"\",\"\",'Блок 1'!AE136)","v":""},{"$f":"IF('Блок 1'!AF136=\"\",\"\",'Блок 1'!AF136)","v":""},{"$f":"IF('Блок 1'!AG136=\"\",\"\",'Блок 1'!AG136)","v":""},{"$f":"IF('Блок 1'!AH136=\"\",\"\",'Блок 1'!AH136)","v":""},{"$f":"IF('Блок 1'!AI136=\"\",\"\",'Блок 1'!AI136)","v":""},{"$f":"IF('Блок 1'!AJ136=\"\",\"\",'Блок 1'!AJ136)","v":""},{"$f":"IF('Блок 1'!AK136=\"\",\"\",'Блок 1'!AK136)","v":""},{"$f":"IF('Блок 1'!AL136=\"\",\"\",'Блок 1'!AL136)","v":""},{"$f":"IF('Блок 1'!AM136=\"\",\"\",'Блок 1'!AM136)","v":""},{"$f":"IF('Блок 1'!AN136=\"\",\"\",'Блок 1'!AN136)","v":""},{"$f":"IF('Блок 1'!AO136=\"\",\"\",'Блок 1'!AO136)","v":""},{"$f":"IF('Блок 1'!AP136=\"\",\"\",'Блок 1'!AP136)","v":""},{"$f":"IF('Блок 1'!AQ136=\"\",\"\",'Блок 1'!AQ136)","v":""},{"$f":"IF('Блок 1'!AR136=\"\",\"\",'Блок 1'!AR136)","v":""},{"$f":"IF('Блок 1'!AS136=\"\",\"\",'Блок 1'!AS136)","v":""},{"$f":"IF('Блок 1'!AT136=\"\",\"\",'Блок 1'!AT136)","v":""},{"$f":"IF('Блок 1'!AU136=\"\",\"\",'Блок 1'!AU136)","v":""},{"$f":"IF('Блок 1'!AV136=\"\",\"\",'Блок 1'!AV136)","v":""},{"$f":"IF('Блок 1'!AW136=\"\",\"\",'Блок 1'!AW136)","v":""},{"$f":"IF('Блок 1'!AX136=\"\",\"\",'Блок 1'!AX136)","v":""},{"$f":"IF('Блок 1'!AY136=\"\",\"\",'Блок 1'!AY136)","v":""},{"$f":"IF('Блок 1'!AZ136=\"\",\"\",'Блок 1'!AZ136)","v":""},{"$f":"IF('Блок 1'!BA136=\"\",\"\",'Блок 1'!BA136)","v":""},{"$f":"IF('Блок 1'!BB136=\"\",\"\",'Блок 1'!BB136)","v":""},{"$f":"IF('Блок 1'!BC136=\"\",\"\",'Блок 1'!BC136)","v":""},{"$f":"IF('Блок 1'!BD136=\"\",\"\",'Блок 1'!BD136)","v":""},{"$f":"IF('Блок 1'!BE136=\"\",\"\",'Блок 1'!BE136)","v":""},{"$f":"IF('Блок 1'!BF136=\"\",\"\",'Блок 1'!BF136)","v":""},{"$f":"IF('Блок 1'!BG136=\"\",\"\",'Блок 1'!BG136)","v":""},{"$f":"IF('Блок 1'!BH136=\"\",\"\",'Блок 1'!BH136)","v":""}]
[null,{"$f":"IF('Блок 1'!B137=\"\",\"\",'Блок 1'!B137)","v":""},{"$f":"IF('Блок 1'!C137=\"\",\"\",'Блок 1'!C137)","v":""},{"$f":"IF('Блок 1'!D137=\"\",\"\",'Блок 1'!D137)","v":""},{"$f":"IF('Блок 1'!E137=\"\",\"\",'Блок 1'!E137)","v":""},{"$f":"IF('Блок 1'!F137=\"\",\"\",'Блок 1'!F137)","v":""},{"$f":"IF('Блок 1'!G137=\"\",\"\",'Блок 1'!G137)","v":""},{"$f":"IF('Блок 1'!H137=\"\",\"\",'Блок 1'!H137)","v":""},{"$f":"IF('Блок 1'!I137=\"\",\"\",'Блок 1'!I137)","v":""},{"$f":"IF('Блок 1'!J137=\"\",\"\",'Блок 1'!J137)","v":""},{"$f":"IF('Блок 1'!K137=\"\",\"\",'Блок 1'!K137)","v":""},{"$f":"IF('Блок 1'!L137=\"\",\"\",'Блок 1'!L137)","v":""},{"$f":"IF('Блок 1'!M137=\"\",\"\",'Блок 1'!M137)","v":""},{"$f":"IF('Блок 1'!N137=\"\",\"\",'Блок 1'!N137)","v":""},{"$f":"IF('Блок 1'!O137=\"\",\"\",'Блок 1'!O137)","v":""},{"$f":"IF('Блок 1'!P137=\"\",\"\",'Блок 1'!P137)","v":""},{"$f":"IF('Блок 1'!Q137=\"\",\"\",'Блок 1'!Q137)","v":""},{"$f":"IF('Блок 1'!R137=\"\",\"\",'Блок 1'!R137)","v":""},{"$f":"IF('Блок 1'!S137=\"\",\"\",'Блок 1'!S137)","v":""},{"$f":"IF('Блок 1'!T137=\"\",\"\",'Блок 1'!T137)","v":""},{"$f":"IF('Блок 1'!U137=\"\",\"\",'Блок 1'!U137)","v":""},{"$f":"IF('Блок 1'!V137=\"\",\"\",'Блок 1'!V137)","v":""},{"$f":"IF('Блок 1'!W137=\"\",\"\",'Блок 1'!W137)","v":""},{"$f":"IF('Блок 1'!X137=\"\",\"\",'Блок 1'!X137)","v":""},{"$f":"IF('Блок 1'!Y137=\"\",\"\",'Блок 1'!Y137)","v":""},{"$f":"IF('Блок 1'!Z137=\"\",\"\",'Блок 1'!Z137)","v":""},{"$f":"IF('Блок 1'!AA137=\"\",\"\",'Блок 1'!AA137)","v":""},{"$f":"IF('Блок 1'!AB137=\"\",\"\",'Блок 1'!AB137)","v":""},{"$f":"IF('Блок 1'!AC137=\"\",\"\",'Блок 1'!AC137)","v":""},{"$f":"IF('Блок 1'!AD137=\"\",\"\",'Блок 1'!AD137)","v":""},{"$f":"IF('Блок 1'!AE137=\"\",\"\",'Блок 1'!AE137)","v":""},{"$f":"IF('Блок 1'!AF137=\"\",\"\",'Блок 1'!AF137)","v":""},{"$f":"IF('Блок 1'!AG137=\"\",\"\",'Блок 1'!AG137)","v":""},{"$f":"IF('Блок 1'!AH137=\"\",\"\",'Блок 1'!AH137)","v":""},{"$f":"IF('Блок 1'!AI137=\"\",\"\",'Блок 1'!AI137)","v":""},{"$f":"IF('Блок 1'!AJ137=\"\",\"\",'Блок 1'!AJ137)","v":""},{"$f":"IF('Блок 1'!AK137=\"\",\"\",'Блок 1'!AK137)","v":""},{"$f":"IF('Блок 1'!AL137=\"\",\"\",'Блок 1'!AL137)","v":""},{"$f":"IF('Блок 1'!AM137=\"\",\"\",'Блок 1'!AM137)","v":""},{"$f":"IF('Блок 1'!AN137=\"\",\"\",'Блок 1'!AN137)","v":""},{"$f":"IF('Блок 1'!AO137=\"\",\"\",'Блок 1'!AO137)","v":""},{"$f":"IF('Блок 1'!AP137=\"\",\"\",'Блок 1'!AP137)","v":""},{"$f":"IF('Блок 1'!AQ137=\"\",\"\",'Блок 1'!AQ137)","v":""},{"$f":"IF('Блок 1'!AR137=\"\",\"\",'Блок 1'!AR137)","v":""},{"$f":"IF('Блок 1'!AS137=\"\",\"\",'Блок 1'!AS137)","v":""},{"$f":"IF('Блок 1'!AT137=\"\",\"\",'Блок 1'!AT137)","v":""},{"$f":"IF('Блок 1'!AU137=\"\",\"\",'Блок 1'!AU137)","v":""},{"$f":"IF('Блок 1'!AV137=\"\",\"\",'Блок 1'!AV137)","v":""},{"$f":"IF('Блок 1'!AW137=\"\",\"\",'Блок 1'!AW137)","v":""},{"$f":"IF('Блок 1'!AX137=\"\",\"\",'Блок 1'!AX137)","v":""},{"$f":"IF('Блок 1'!AY137=\"\",\"\",'Блок 1'!AY137)","v":""},{"$f":"IF('Блок 1'!AZ137=\"\",\"\",'Блок 1'!AZ137)","v":""},{"$f":"IF('Блок 1'!BA137=\"\",\"\",'Блок 1'!BA137)","v":""},{"$f":"IF('Блок 1'!BB137=\"\",\"\",'Блок 1'!BB137)","v":""},{"$f":"IF('Блок 1'!BC137=\"\",\"\",'Блок 1'!BC137)","v":""},{"$f":"IF('Блок 1'!BD137=\"\",\"\",'Блок 1'!BD137)","v":""},{"$f":"IF('Блок 1'!BE137=\"\",\"\",'Блок 1'!BE137)","v":""},{"$f":"IF('Блок 1'!BF137=\"\",\"\",'Блок 1'!BF137)","v":""},{"$f":"IF('Блок 1'!BG137=\"\",\"\",'Блок 1'!BG137)","v":""},{"$f":"IF('Блок 1'!BH137=\"\",\"\",'Блок 1'!BH137)","v":""}]
[null,{"$f":"IF('Блок 1'!B138=\"\",\"\",'Блок 1'!B138)","v":""},{"$f":"IF('Блок 1'!C138=\"\",\"\",'Блок 1'!C138)","v":""},{"$f":"IF('Блок 1'!D138=\"\",\"\",'Блок 1'!D138)","v":""},{"$f":"IF('Блок 1'!E138=\"\",\"\",'Блок 1'!E138)","v":""},{"$f":"IF('Блок 1'!F138=\"\",\"\",'Блок 1'!F138)","v":""},{"$f":"IF('Блок 1'!G138=\"\",\"\",'Блок 1'!G138)","v":""},{"$f":"IF('Блок 1'!H138=\"\",\"\",'Блок 1'!H138)","v":""},{"$f":"IF('Блок 1'!I138=\"\",\"\",'Блок 1'!I138)","v":""},{"$f":"IF('Блок 1'!J138=\"\",\"\",'Блок 1'!J138)","v":""},{"$f":"IF('Блок 1'!K138=\"\",\"\",'Блок 1'!K138)","v":""},{"$f":"IF('Блок 1'!L138=\"\",\"\",'Блок 1'!L138)","v":""},{"$f":"IF('Блок 1'!M138=\"\",\"\",'Блок 1'!M138)","v":""},{"$f":"IF('Блок 1'!N138=\"\",\"\",'Блок 1'!N138)","v":""},{"$f":"IF('Блок 1'!O138=\"\",\"\",'Блок 1'!O138)","v":""},{"$f":"IF('Блок 1'!P138=\"\",\"\",'Блок 1'!P138)","v":""},{"$f":"IF('Блок 1'!Q138=\"\",\"\",'Блок 1'!Q138)","v":""},{"$f":"IF('Блок 1'!R138=\"\",\"\",'Блок 1'!R138)","v":""},{"$f":"IF('Блок 1'!S138=\"\",\"\",'Блок 1'!S138)","v":""},{"$f":"IF('Блок 1'!T138=\"\",\"\",'Блок 1'!T138)","v":""},{"$f":"IF('Блок 1'!U138=\"\",\"\",'Блок 1'!U138)","v":""},{"$f":"IF('Блок 1'!V138=\"\",\"\",'Блок 1'!V138)","v":""},{"$f":"IF('Блок 1'!W138=\"\",\"\",'Блок 1'!W138)","v":""},{"$f":"IF('Блок 1'!X138=\"\",\"\",'Блок 1'!X138)","v":""},{"$f":"IF('Блок 1'!Y138=\"\",\"\",'Блок 1'!Y138)","v":""},{"$f":"IF('Блок 1'!Z138=\"\",\"\",'Блок 1'!Z138)","v":""},{"$f":"IF('Блок 1'!AA138=\"\",\"\",'Блок 1'!AA138)","v":""},{"$f":"IF('Блок 1'!AB138=\"\",\"\",'Блок 1'!AB138)","v":""},{"$f":"IF('Блок 1'!AC138=\"\",\"\",'Блок 1'!AC138)","v":""},{"$f":"IF('Блок 1'!AD138=\"\",\"\",'Блок 1'!AD138)","v":""},{"$f":"IF('Блок 1'!AE138=\"\",\"\",'Блок 1'!AE138)","v":""},{"$f":"IF('Блок 1'!AF138=\"\",\"\",'Блок 1'!AF138)","v":""},{"$f":"IF('Блок 1'!AG138=\"\",\"\",'Блок 1'!AG138)","v":""},{"$f":"IF('Блок 1'!AH138=\"\",\"\",'Блок 1'!AH138)","v":""},{"$f":"IF('Блок 1'!AI138=\"\",\"\",'Блок 1'!AI138)","v":""},{"$f":"IF('Блок 1'!AJ138=\"\",\"\",'Блок 1'!AJ138)","v":""},{"$f":"IF('Блок 1'!AK138=\"\",\"\",'Блок 1'!AK138)","v":""},{"$f":"IF('Блок 1'!AL138=\"\",\"\",'Блок 1'!AL138)","v":""},{"$f":"IF('Блок 1'!AM138=\"\",\"\",'Блок 1'!AM138)","v":""},{"$f":"IF('Блок 1'!AN138=\"\",\"\",'Блок 1'!AN138)","v":""},{"$f":"IF('Блок 1'!AO138=\"\",\"\",'Блок 1'!AO138)","v":""},{"$f":"IF('Блок 1'!AP138=\"\",\"\",'Блок 1'!AP138)","v":""},{"$f":"IF('Блок 1'!AQ138=\"\",\"\",'Блок 1'!AQ138)","v":""},{"$f":"IF('Блок 1'!AR138=\"\",\"\",'Блок 1'!AR138)","v":""},{"$f":"IF('Блок 1'!AS138=\"\",\"\",'Блок 1'!AS138)","v":""},{"$f":"IF('Блок 1'!AT138=\"\",\"\",'Блок 1'!AT138)","v":""},{"$f":"IF('Блок 1'!AU138=\"\",\"\",'Блок 1'!AU138)","v":""},{"$f":"IF('Блок 1'!AV138=\"\",\"\",'Блок 1'!AV138)","v":""},{"$f":"IF('Блок 1'!AW138=\"\",\"\",'Блок 1'!AW138)","v":""},{"$f":"IF('Блок 1'!AX138=\"\",\"\",'Блок 1'!AX138)","v":""},{"$f":"IF('Блок 1'!AY138=\"\",\"\",'Блок 1'!AY138)","v":""},{"$f":"IF('Блок 1'!AZ138=\"\",\"\",'Блок 1'!AZ138)","v":""},{"$f":"IF('Блок 1'!BA138=\"\",\"\",'Блок 1'!BA138)","v":""},{"$f":"IF('Блок 1'!BB138=\"\",\"\",'Блок 1'!BB138)","v":""},{"$f":"IF('Блок 1'!BC138=\"\",\"\",'Блок 1'!BC138)","v":""},{"$f":"IF('Блок 1'!BD138=\"\",\"\",'Блок 1'!BD138)","v":""},{"$f":"IF('Блок 1'!BE138=\"\",\"\",'Блок 1'!BE138)","v":""},{"$f":"IF('Блок 1'!BF138=\"\",\"\",'Блок 1'!BF138)","v":""},{"$f":"IF('Блок 1'!BG138=\"\",\"\",'Блок 1'!BG138)","v":""},{"$f":"IF('Блок 1'!BH138=\"\",\"\",'Блок 1'!BH138)","v":""}]
[null,{"$f":"IF('Блок 1'!B139=\"\",\"\",'Блок 1'!B139)","v":""},{"$f":"IF('Блок 1'!C139=\"\",\"\",'Блок 1'!C139)","v":""},{"$f":"IF('Блок 1'!D139=\"\",\"\",'Блок 1'!D139)","v":""},{"$f":"IF('Блок 1'!E139=\"\",\"\",'Блок 1'!E139)","v":""},{"$f":"IF('Блок 1'!F139=\"\",\"\",'Блок 1'!F139)","v":""},{"$f":"IF('Блок 1'!G139=\"\",\"\",'Блок 1'!G139)","v":""},{"$f":"IF('Блок 1'!H139=\"\",\"\",'Блок 1'!H139)","v":""},{"$f":"IF('Блок 1'!I139=\"\",\"\",'Блок 1'!I139)","v":""},{"$f":"IF('Блок 1'!J139=\"\",\"\",'Блок 1'!J139)","v":""},{"$f":"IF('Блок 1'!K139=\"\",\"\",'Блок 1'!K139)","v":""},{"$f":"IF('Блок 1'!L139=\"\",\"\",'Блок 1'!L139)","v":""},{"$f":"IF('Блок 1'!M139=\"\",\"\",'Блок 1'!M139)","v":""},{"$f":"IF('Блок 1'!N139=\"\",\"\",'Блок 1'!N139)","v":""},{"$f":"IF('Блок 1'!O139=\"\",\"\",'Блок 1'!O139)","v":""},{"$f":"IF('Блок 1'!P139=\"\",\"\",'Блок 1'!P139)","v":""},{"$f":"IF('Блок 1'!Q139=\"\",\"\",'Блок 1'!Q139)","v":""},{"$f":"IF('Блок 1'!R139=\"\",\"\",'Блок 1'!R139)","v":""},{"$f":"IF('Блок 1'!S139=\"\",\"\",'Блок 1'!S139)","v":""},{"$f":"IF('Блок 1'!T139=\"\",\"\",'Блок 1'!T139)","v":""},{"$f":"IF('Блок 1'!U139=\"\",\"\",'Блок 1'!U139)","v":""},{"$f":"IF('Блок 1'!V139=\"\",\"\",'Блок 1'!V139)","v":""},{"$f":"IF('Блок 1'!W139=\"\",\"\",'Блок 1'!W139)","v":""},{"$f":"IF('Блок 1'!X139=\"\",\"\",'Блок 1'!X139)","v":""},{"$f":"IF('Блок 1'!Y139=\"\",\"\",'Блок 1'!Y139)","v":""},{"$f":"IF('Блок 1'!Z139=\"\",\"\",'Блок 1'!Z139)","v":""},{"$f":"IF('Блок 1'!AA139=\"\",\"\",'Блок 1'!AA139)","v":""},{"$f":"IF('Блок 1'!AB139=\"\",\"\",'Блок 1'!AB139)","v":""},{"$f":"IF('Блок 1'!AC139=\"\",\"\",'Блок 1'!AC139)","v":""},{"$f":"IF('Блок 1'!AD139=\"\",\"\",'Блок 1'!AD139)","v":""},{"$f":"IF('Блок 1'!AE139=\"\",\"\",'Блок 1'!AE139)","v":""},{"$f":"IF('Блок 1'!AF139=\"\",\"\",'Блок 1'!AF139)","v":""},{"$f":"IF('Блок 1'!AG139=\"\",\"\",'Блок 1'!AG139)","v":""},{"$f":"IF('Блок 1'!AH139=\"\",\"\",'Блок 1'!AH139)","v":""},{"$f":"IF('Блок 1'!AI139=\"\",\"\",'Блок 1'!AI139)","v":""},{"$f":"IF('Блок 1'!AJ139=\"\",\"\",'Блок 1'!AJ139)","v":""},{"$f":"IF('Блок 1'!AK139=\"\",\"\",'Блок 1'!AK139)","v":""},{"$f":"IF('Блок 1'!AL139=\"\",\"\",'Блок 1'!AL139)","v":""},{"$f":"IF('Блок 1'!AM139=\"\",\"\",'Блок 1'!AM139)","v":""},{"$f":"IF('Блок 1'!AN139=\"\",\"\",'Блок 1'!AN139)","v":""},{"$f":"IF('Блок 1'!AO139=\"\",\"\",'Блок 1'!AO139)","v":""},{"$f":"IF('Блок 1'!AP139=\"\",\"\",'Блок 1'!AP139)","v":""},{"$f":"IF('Блок 1'!AQ139=\"\",\"\",'Блок 1'!AQ139)","v":""},{"$f":"IF('Блок 1'!AR139=\"\",\"\",'Блок 1'!AR139)","v":""},{"$f":"IF('Блок 1'!AS139=\"\",\"\",'Блок 1'!AS139)","v":""},{"$f":"IF('Блок 1'!AT139=\"\",\"\",'Блок 1'!AT139)","v":""},{"$f":"IF('Блок 1'!AU139=\"\",\"\",'Блок 1'!AU139)","v":""},{"$f":"IF('Блок 1'!AV139=\"\",\"\",'Блок 1'!AV139)","v":""},{"$f":"IF('Блок 1'!AW139=\"\",\"\",'Блок 1'!AW139)","v":""},{"$f":"IF('Блок 1'!AX139=\"\",\"\",'Блок 1'!AX139)","v":""},{"$f":"IF('Блок 1'!AY139=\"\",\"\",'Блок 1'!AY139)","v":""},{"$f":"IF('Блок 1'!AZ139=\"\",\"\",'Блок 1'!AZ139)","v":""},{"$f":"IF('Блок 1'!BA139=\"\",\"\",'Блок 1'!BA139)","v":""},{"$f":"IF('Блок 1'!BB139=\"\",\"\",'Блок 1'!BB139)","v":""},{"$f":"IF('Блок 1'!BC139=\"\",\"\",'Блок 1'!BC139)","v":""},{"$f":"IF('Блок 1'!BD139=\"\",\"\",'Блок 1'!BD139)","v":""},{"$f":"IF('Блок 1'!BE139=\"\",\"\",'Блок 1'!BE139)","v":""},{"$f":"IF('Блок 1'!BF139=\"\",\"\",'Блок 1'!BF139)","v":""},{"$f":"IF('Блок 1'!BG139=\"\",\"\",'Блок 1'!BG139)","v":""},{"$f":"IF('Блок 1'!BH139=\"\",\"\",'Блок 1'!BH139)","v":""}]
[null,{"$f":"IF('Блок 1'!B140=\"\",\"\",'Блок 1'!B140)","v":""},{"$f":"IF('Блок 1'!C140=\"\",\"\",'Блок 1'!C140)","v":""},{"$f":"IF('Блок 1'!D140=\"\",\"\",'Блок 1'!D140)","v":""},{"$f":"IF('Блок 1'!E140=\"\",\"\",'Блок 1'!E140)","v":""},{"$f":"IF('Блок 1'!F140=\"\",\"\",'Блок 1'!F140)","v":""},{"$f":"IF('Блок 1'!G140=\"\",\"\",'Блок 1'!G140)","v":""},{"$f":"IF('Блок 1'!H140=\"\",\"\",'Блок 1'!H140)","v":""},{"$f":"IF('Блок 1'!I140=\"\",\"\",'Блок 1'!I140)","v":""},{"$f":"IF('Блок 1'!J140=\"\",\"\",'Блок 1'!J140)","v":""},{"$f":"IF('Блок 1'!K140=\"\",\"\",'Блок 1'!K140)","v":""},{"$f":"IF('Блок 1'!L140=\"\",\"\",'Блок 1'!L140)","v":""},{"$f":"IF('Блок 1'!M140=\"\",\"\",'Блок 1'!M140)","v":""},{"$f":"IF('Блок 1'!N140=\"\",\"\",'Блок 1'!N140)","v":""},{"$f":"IF('Блок 1'!O140=\"\",\"\",'Блок 1'!O140)","v":""},{"$f":"IF('Блок 1'!P140=\"\",\"\",'Блок 1'!P140)","v":""},{"$f":"IF('Блок 1'!Q140=\"\",\"\",'Блок 1'!Q140)","v":""},{"$f":"IF('Блок 1'!R140=\"\",\"\",'Блок 1'!R140)","v":""},{"$f":"IF('Блок 1'!S140=\"\",\"\",'Блок 1'!S140)","v":""},{"$f":"IF('Блок 1'!T140=\"\",\"\",'Блок 1'!T140)","v":""},{"$f":"IF('Блок 1'!U140=\"\",\"\",'Блок 1'!U140)","v":""},{"$f":"IF('Блок 1'!V140=\"\",\"\",'Блок 1'!V140)","v":""},{"$f":"IF('Блок 1'!W140=\"\",\"\",'Блок 1'!W140)","v":""},{"$f":"IF('Блок 1'!X140=\"\",\"\",'Блок 1'!X140)","v":""},{"$f":"IF('Блок 1'!Y140=\"\",\"\",'Блок 1'!Y140)","v":""},{"$f":"IF('Блок 1'!Z140=\"\",\"\",'Блок 1'!Z140)","v":""},{"$f":"IF('Блок 1'!AA140=\"\",\"\",'Блок 1'!AA140)","v":""},{"$f":"IF('Блок 1'!AB140=\"\",\"\",'Блок 1'!AB140)","v":""},{"$f":"IF('Блок 1'!AC140=\"\",\"\",'Блок 1'!AC140)","v":""},{"$f":"IF('Блок 1'!AD140=\"\",\"\",'Блок 1'!AD140)","v":""},{"$f":"IF('Блок 1'!AE140=\"\",\"\",'Блок 1'!AE140)","v":""},{"$f":"IF('Блок 1'!AF140=\"\",\"\",'Блок 1'!AF140)","v":""},{"$f":"IF('Блок 1'!AG140=\"\",\"\",'Блок 1'!AG140)","v":""},{"$f":"IF('Блок 1'!AH140=\"\",\"\",'Блок 1'!AH140)","v":""},{"$f":"IF('Блок 1'!AI140=\"\",\"\",'Блок 1'!AI140)","v":""},{"$f":"IF('Блок 1'!AJ140=\"\",\"\",'Блок 1'!AJ140)","v":""},{"$f":"IF('Блок 1'!AK140=\"\",\"\",'Блок 1'!AK140)","v":""},{"$f":"IF('Блок 1'!AL140=\"\",\"\",'Блок 1'!AL140)","v":""},{"$f":"IF('Блок 1'!AM140=\"\",\"\",'Блок 1'!AM140)","v":""},{"$f":"IF('Блок 1'!AN140=\"\",\"\",'Блок 1'!AN140)","v":""},{"$f":"IF('Блок 1'!AO140=\"\",\"\",'Блок 1'!AO140)","v":""},{"$f":"IF('Блок 1'!AP140=\"\",\"\",'Блок 1'!AP140)","v":""},{"$f":"IF('Блок 1'!AQ140=\"\",\"\",'Блок 1'!AQ140)","v":""},{"$f":"IF('Блок 1'!AR140=\"\",\"\",'Блок 1'!AR140)","v":""},{"$f":"IF('Блок 1'!AS140=\"\",\"\",'Блок 1'!AS140)","v":""},{"$f":"IF('Блок 1'!AT140=\"\",\"\",'Блок 1'!AT140)","v":""},{"$f":"IF('Блок 1'!AU140=\"\",\"\",'Блок 1'!AU140)","v":""},{"$f":"IF('Блок 1'!AV140=\"\",\"\",'Блок 1'!AV140)","v":""},{"$f":"IF('Блок 1'!AW140=\"\",\"\",'Блок 1'!AW140)","v":""},{"$f":"IF('Блок 1'!AX140=\"\",\"\",'Блок 1'!AX140)","v":""},{"$f":"IF('Блок 1'!AY140=\"\",\"\",'Блок 1'!AY140)","v":""},{"$f":"IF('Блок 1'!AZ140=\"\",\"\",'Блок 1'!AZ140)","v":""},{"$f":"IF('Блок 1'!BA140=\"\",\"\",'Блок 1'!BA140)","v":""},{"$f":"IF('Блок 1'!BB140=\"\",\"\",'Блок 1'!BB140)","v":""},{"$f":"IF('Блок 1'!BC140=\"\",\"\",'Блок 1'!BC140)","v":""},{"$f":"IF('Блок 1'!BD140=\"\",\"\",'Блок 1'!BD140)","v":""},{"$f":"IF('Блок 1'!BE140=\"\",\"\",'Блок 1'!BE140)","v":""},{"$f":"IF('Блок 1'!BF140=\"\",\"\",'Блок 1'!BF140)","v":""},{"$f":"IF('Блок 1'!BG140=\"\",\"\",'Блок 1'!BG140)","v":""},{"$f":"IF('Блок 1'!BH140=\"\",\"\",'Блок 1'!BH140)","v":""}]
[null,{"$f":"IF('Блок 1'!B141=\"\",\"\",'Блок 1'!B141)","v":""},{"$f":"IF('Блок 1'!C141=\"\",\"\",'Блок 1'!C141)","v":""},{"$f":"IF('Блок 1'!D141=\"\",\"\",'Блок 1'!D141)","v":""},{"$f":"IF('Блок 1'!E141=\"\",\"\",'Блок 1'!E141)","v":""},{"$f":"IF('Блок 1'!F141=\"\",\"\",'Блок 1'!F141)","v":""},{"$f":"IF('Блок 1'!G141=\"\",\"\",'Блок 1'!G141)","v":""},{"$f":"IF('Блок 1'!H141=\"\",\"\",'Блок 1'!H141)","v":""},{"$f":"IF('Блок 1'!I141=\"\",\"\",'Блок 1'!I141)","v":""},{"$f":"IF('Блок 1'!J141=\"\",\"\",'Блок 1'!J141)","v":""},{"$f":"IF('Блок 1'!K141=\"\",\"\",'Блок 1'!K141)","v":""},{"$f":"IF('Блок 1'!L141=\"\",\"\",'Блок 1'!L141)","v":""},{"$f":"IF('Блок 1'!M141=\"\",\"\",'Блок 1'!M141)","v":""},{"$f":"IF('Блок 1'!N141=\"\",\"\",'Блок 1'!N141)","v":""},{"$f":"IF('Блок 1'!O141=\"\",\"\",'Блок 1'!O141)","v":""},{"$f":"IF('Блок 1'!P141=\"\",\"\",'Блок 1'!P141)","v":""},{"$f":"IF('Блок 1'!Q141=\"\",\"\",'Блок 1'!Q141)","v":""},{"$f":"IF('Блок 1'!R141=\"\",\"\",'Блок 1'!R141)","v":""},{"$f":"IF('Блок 1'!S141=\"\",\"\",'Блок 1'!S141)","v":""},{"$f":"IF('Блок 1'!T141=\"\",\"\",'Блок 1'!T141)","v":""},{"$f":"IF('Блок 1'!U141=\"\",\"\",'Блок 1'!U141)","v":""},{"$f":"IF('Блок 1'!V141=\"\",\"\",'Блок 1'!V141)","v":""},{"$f":"IF('Блок 1'!W141=\"\",\"\",'Блок 1'!W141)","v":""},{"$f":"IF('Блок 1'!X141=\"\",\"\",'Блок 1'!X141)","v":""},{"$f":"IF('Блок 1'!Y141=\"\",\"\",'Блок 1'!Y141)","v":""},{"$f":"IF('Блок 1'!Z141=\"\",\"\",'Блок 1'!Z141)","v":""},{"$f":"IF('Блок 1'!AA141=\"\",\"\",'Блок 1'!AA141)","v":""},{"$f":"IF('Блок 1'!AB141=\"\",\"\",'Блок 1'!AB141)","v":""},{"$f":"IF('Блок 1'!AC141=\"\",\"\",'Блок 1'!AC141)","v":""},{"$f":"IF('Блок 1'!AD141=\"\",\"\",'Блок 1'!AD141)","v":0},{"$f":"IF('Блок 1'!AE141=\"\",\"\",'Блок 1'!AE141)","v":""},{"$f":"IF('Блок 1'!AF141=\"\",\"\",'Блок 1'!AF141)","v":""},{"$f":"IF('Блок 1'!AG141=\"\",\"\",'Блок 1'!AG141)","v":""},{"$f":"IF('Блок 1'!AH141=\"\",\"\",'Блок 1'!AH141)","v":0},{"$f":"IF('Блок 1'!AI141=\"\",\"\",'Блок 1'!AI141)","v":0},{"$f":"IF('Блок 1'!AJ141=\"\",\"\",'Блок 1'!AJ141)","v":0},{"$f":"IF('Блок 1'!AK141=\"\",\"\",'Блок 1'!AK141)","v":""},{"$f":"IF('Блок 1'!AL141=\"\",\"\",'Блок 1'!AL141)","v":""},{"$f":"IF('Блок 1'!AM141=\"\",\"\",'Блок 1'!AM141)","v":""},{"$f":"IF('Блок 1'!AN141=\"\",\"\",'Блок 1'!AN141)","v":""},{"$f":"IF('Блок 1'!AO141=\"\",\"\",'Блок 1'!AO141)","v":""},{"$f":"IF('Блок 1'!AP141=\"\",\"\",'Блок 1'!AP141)","v":""},{"$f":"IF('Блок 1'!AQ141=\"\",\"\",'Блок 1'!AQ141)","v":""},{"$f":"IF('Блок 1'!AR141=\"\",\"\",'Блок 1'!AR141)","v":""},{"$f":"IF('Блок 1'!AS141=\"\",\"\",'Блок 1'!AS141)","v":""},{"$f":"IF('Блок 1'!AT141=\"\",\"\",'Блок 1'!AT141)","v":""},{"$f":"IF('Блок 1'!AU141=\"\",\"\",'Блок 1'!AU141)","v":""},{"$f":"IF('Блок 1'!AV141=\"\",\"\",'Блок 1'!AV141)","v":""},{"$f":"IF('Блок 1'!AW141=\"\",\"\",'Блок 1'!AW141)","v":""},{"$f":"IF('Блок 1'!AX141=\"\",\"\",'Блок 1'!AX141)","v":""},{"$f":"IF('Блок 1'!AY141=\"\",\"\",'Блок 1'!AY141)","v":""},{"$f":"IF('Блок 1'!AZ141=\"\",\"\",'Блок 1'!AZ141)","v":""},{"$f":"IF('Блок 1'!BA141=\"\",\"\",'Блок 1'!BA141)","v":""},{"$f":"IF('Блок 1'!BB141=\"\",\"\",'Блок 1'!BB141)","v":""},{"$f":"IF('Блок 1'!BC141=\"\",\"\",'Блок 1'!BC141)","v":""},{"$f":"IF('Блок 1'!BD141=\"\",\"\",'Блок 1'!BD141)","v":""},{"$f":"IF('Блок 1'!BE141=\"\",\"\",'Блок 1'!BE141)","v":""},{"$f":"IF('Блок 1'!BF141=\"\",\"\",'Блок 1'!BF141)","v":""},{"$f":"IF('Блок 1'!BG141=\"\",\"\",'Блок 1'!BG141)","v":""},{"$f":"IF('Блок 1'!BH141=\"\",\"\",'Блок 1'!BH141)","v":""}]
[null,{"$f":"IF('Блок 1'!B142=\"\",\"\",'Блок 1'!B142)","v":""},{"$f":"IF('Блок 1'!C142=\"\",\"\",'Блок 1'!C142)","v":""},{"$f":"IF('Блок 1'!D142=\"\",\"\",'Блок 1'!D142)","v":""},{"$f":"IF('Блок 1'!E142=\"\",\"\",'Блок 1'!E142)","v":""},{"$f":"IF('Блок 1'!F142=\"\",\"\",'Блок 1'!F142)","v":""},{"$f":"IF('Блок 1'!G142=\"\",\"\",'Блок 1'!G142)","v":""},{"$f":"IF('Блок 1'!H142=\"\",\"\",'Блок 1'!H142)","v":""},{"$f":"IF('Блок 1'!I142=\"\",\"\",'Блок 1'!I142)","v":""},{"$f":"IF('Блок 1'!J142=\"\",\"\",'Блок 1'!J142)","v":""},{"$f":"IF('Блок 1'!K142=\"\",\"\",'Блок 1'!K142)","v":""},{"$f":"IF('Блок 1'!L142=\"\",\"\",'Блок 1'!L142)","v":""},{"$f":"IF('Блок 1'!M142=\"\",\"\",'Блок 1'!M142)","v":""},{"$f":"IF('Блок 1'!N142=\"\",\"\",'Блок 1'!N142)","v":""},{"$f":"IF('Блок 1'!O142=\"\",\"\",'Блок 1'!O142)","v":""},{"$f":"IF('Блок 1'!P142=\"\",\"\",'Блок 1'!P142)","v":""},{"$f":"IF('Блок 1'!Q142=\"\",\"\",'Блок 1'!Q142)","v":""},{"$f":"IF('Блок 1'!R142=\"\",\"\",'Блок 1'!R142)","v":""},{"$f":"IF('Блок 1'!S142=\"\",\"\",'Блок 1'!S142)","v":""},{"$f":"IF('Блок 1'!T142=\"\",\"\",'Блок 1'!T142)","v":""},{"$f":"IF('Блок 1'!U142=\"\",\"\",'Блок 1'!U142)","v":""},{"$f":"IF('Блок 1'!V142=\"\",\"\",'Блок 1'!V142)","v":""},{"$f":"IF('Блок 1'!W142=\"\",\"\",'Блок 1'!W142)","v":""},{"$f":"IF('Блок 1'!X142=\"\",\"\",'Блок 1'!X142)","v":""},{"$f":"IF('Блок 1'!Y142=\"\",\"\",'Блок 1'!Y142)","v":""},{"$f":"IF('Блок 1'!Z142=\"\",\"\",'Блок 1'!Z142)","v":""},{"$f":"IF('Блок 1'!AA142=\"\",\"\",'Блок 1'!AA142)","v":""},{"$f":"IF('Блок 1'!AB142=\"\",\"\",'Блок 1'!AB142)","v":""},{"$f":"IF('Блок 1'!AC142=\"\",\"\",'Блок 1'!AC142)","v":""},{"$f":"IF('Блок 1'!AD142=\"\",\"\",'Блок 1'!AD142)","v":""},{"$f":"IF('Блок 1'!AE142=\"\",\"\",'Блок 1'!AE142)","v":""},{"$f":"IF('Блок 1'!AF142=\"\",\"\",'Блок 1'!AF142)","v":""},{"$f":"IF('Блок 1'!AG142=\"\",\"\",'Блок 1'!AG142)","v":""},{"$f":"IF('Блок 1'!AH142=\"\",\"\",'Блок 1'!AH142)","v":""},{"$f":"IF('Блок 1'!AI142=\"\",\"\",'Блок 1'!AI142)","v":""},{"$f":"IF('Блок 1'!AJ142=\"\",\"\",'Блок 1'!AJ142)","v":""},{"$f":"IF('Блок 1'!AK142=\"\",\"\",'Блок 1'!AK142)","v":""},{"$f":"IF('Блок 1'!AL142=\"\",\"\",'Блок 1'!AL142)","v":""},{"$f":"IF('Блок 1'!AM142=\"\",\"\",'Блок 1'!AM142)","v":""},{"$f":"IF('Блок 1'!AN142=\"\",\"\",'Блок 1'!AN142)","v":""},{"$f":"IF('Блок 1'!AO142=\"\",\"\",'Блок 1'!AO142)","v":""},{"$f":"IF('Блок 1'!AP142=\"\",\"\",'Блок 1'!AP142)","v":""},{"$f":"IF('Блок 1'!AQ142=\"\",\"\",'Блок 1'!AQ142)","v":""},{"$f":"IF('Блок 1'!AR142=\"\",\"\",'Блок 1'!AR142)","v":""},{"$f":"IF('Блок 1'!AS142=\"\",\"\",'Блок 1'!AS142)","v":""},{"$f":"IF('Блок 1'!AT142=\"\",\"\",'Блок 1'!AT142)","v":""},{"$f":"IF('Блок 1'!AU142=\"\",\"\",'Блок 1'!AU142)","v":""},{"$f":"IF('Блок 1'!AV142=\"\",\"\",'Блок 1'!AV142)","v":""},{"$f":"IF('Блок 1'!AW142=\"\",\"\",'Блок 1'!AW142)","v":""},{"$f":"IF('Блок 1'!AX142=\"\",\"\",'Блок 1'!AX142)","v":""},{"$f":"IF('Блок 1'!AY142=\"\",\"\",'Блок 1'!AY142)","v":""},{"$f":"IF('Блок 1'!AZ142=\"\",\"\",'Блок 1'!AZ142)","v":""},{"$f":"IF('Блок 1'!BA142=\"\",\"\",'Блок 1'!BA142)","v":""},{"$f":"IF('Блок 1'!BB142=\"\",\"\",'Блок 1'!BB142)","v":""},{"$f":"IF('Блок 1'!BC142=\"\",\"\",'Блок 1'!BC142)","v":""},{"$f":"IF('Блок 1'!BD142=\"\",\"\",'Блок 1'!BD142)","v":""},{"$f":"IF('Блок 1'!BE142=\"\",\"\",'Блок 1'!BE142)","v":""},{"$f":"IF('Блок 1'!BF142=\"\",\"\",'Блок 1'!BF142)","v":""},{"$f":"IF('Блок 1'!BG142=\"\",\"\",'Блок 1'!BG142)","v":""},{"$f":"IF('Блок 1'!BH142=\"\",\"\",'Блок 1'!BH142)","v":""}]
[null,{"$f":"IF('Блок 1'!B143=\"\",\"\",'Блок 1'!B143)","v":"ДВ.1.00"},{"$f":"IF('Блок 1'!C143=\"\",\"\",'Блок 1'!C143)","v":"Дисциплины по выбору"},null,null,null,null,null,null,null,null,null,null,null,null,null,null,null,null,null,null,null,null,null,null,null,null,{"$f":"IF('Блок 1'!AB143=\"\",\"\",'Блок 1'!AB143)","v":0},{"$f":"IF('Блок 1'!AC143=\"\",\"\",'Блок 1'!AC143)","v":0},{"$f":"IF('Блок 1'!AD143=\"\",\"\",'Блок 1'!AD143)","v":0},{"$f":"IF('Блок 1'!AE143=\"\",\"\",'Блок 1'!AE143)","v":0},{"$f":"IF('Блок 1'!AF143=\"\",\"\",'Блок 1'!AF143)","v":0},{"$f":"IF('Блок 1'!AG143=\"\",\"\",'Блок 1'!AG143)","v":0},{"$f":"IF('Блок 1'!AH143=\"\",\"\",'Блок 1'!AH143)","v":0},{"$f":"IF('Блок 1'!AI143=\"\",\"\",'Блок 1'!AI143)","v":{"$error":"#VALUE!"}},{"$f":"IF('Блок 1'!AJ143=\"\",\"\",'Блок 1'!AJ143)","v":{"$error":"#VALUE!"}},{"$f":"IF('Блок 1'!AK143=\"\",\"\",'Блок 1'!AK143)","v":""},{"$f":"IF('Блок 1'!AL143=\"\",\"\",'Блок 1'!AL143)","v":""},{"$f":"IF('Блок 1'!AM143=\"\",\"\",'Блок 1'!AM143)","v":""},{"$f":"IF('Блок 1'!AN143=\"\",\"\",'Блок 1'!AN143)","v":""},{"$f":"IF('Блок 1'!AO143=\"\",\"\",'Блок 1'!AO143)","v":""},{"$f":"IF('Блок 1'!AP143=\"\",\"\",'Блок 1'!AP143)","v":""},{"$f":"IF('Блок 1'!AQ143=\"\",\"\",'Блок 1'!AQ143)","v":""},{"$f":"IF('Блок 1'!AR143=\"\",\"\",'Блок 1'!AR143)","v":""},{"$f":"IF('Блок 1'!AS143=\"\",\"\",'Блок 1'!AS143)","v":""},{"$f":"IF('Блок 1'!AT143=\"\",\"\",'Блок 1'!AT143)","v":""},{"$f":"IF('Блок 1'!AU143=\"\",\"\",'Блок 1'!AU143)","v":""},{"$f":"IF('Блок 1'!AV143=\"\",\"\",'Блок 1'!AV143)","v":""},{"$f":"IF('Блок 1'!AW143=\"\",\"\",'Блок 1'!AW143)","v":""},{"$f":"IF('Блок 1'!AX143=\"\",\"\",'Блок 1'!AX143)","v":""},{"$f":"IF('Блок 1'!AY143=\"\",\"\",'Блок 1'!AY143)","v":""},{"$f":"IF('Блок 1'!AZ143=\"\",\"\",'Блок 1'!AZ143)","v":""},{"$f":"IF('Блок 1'!BA143=\"\",\"\",'Блок 1'!BA143)","v":""},{"$f":"IF('Блок 1'!BB143=\"\",\"\",'Блок 1'!BB143)","v":""},{"$f":"IF('Блок 1'!BC143=\"\",\"\",'Блок 1'!BC143)","v":""},{"$f":"IF('Блок 1'!BD143=\"\",\"\",'Блок 1'!BD143)","v":""},{"$f":"IF('Блок 1'!BE143=\"\",\"\",'Блок 1'!BE143)","v":""},{"$f":"IF('Блок 1'!BF143=\"\",\"\",'Блок 1'!BF143)","v":""},{"$f":"IF('Блок 1'!BG143=\"\",\"\",'Блок 1'!BG143)","v":""},{"$f":"IF('Блок 1'!BH143=\"\",\"\",'Блок 1'!BH143)","v":""}]
[null,{"$f":"IF('Блок 1'!B144=\"\",\"\",'Блок 1'!B144)","v":""},{"$f":"IF('Блок 1'!C144=\"\",\"\",'Блок 1'!C144)","v":"Модуль \"Общенаучный дисциплины\""},null,null,null,null,null,null,null,null,null,null,null,null,null,null,null,null,null,null,null,{"$f":"IF('Блок 1'!W144=\"\",\"\",'Блок 1'!W144)","v":""},{"$f":"IF('Блок 1'!X144=\"\",\"\",'Блок 1'!X144)","v":""},{"$f":"IF('Блок 1'!Y144=\"\",\"\",'Блок 1'!Y144)","v":""},{"$f":"IF('Блок 1'!Z144=\"\",\"\",'Блок 1'!Z144)","v":""},{"$f":"IF('Блок 1'!AA144=\"\",\"\",'Блок 1'!AA144)","v":""},{"$f":"IF('Блок 1'!AB144=\"\",\"\",'Блок 1'!AB144)","v":0},{"$f":"IF('Блок 1'!AC144=\"\",\"\",'Блок 1'!AC144)","v":0},{"$f":"IF('Блок 1'!AD144=\"\",\"\",'Блок 1'!AD144)","v":0},{"$f":"IF('Блок 1'!AE144=\"\",\"\",'Блок 1'!AE144)","v":0},{"$f":"IF('Блок 1'!AF144=\"\",\"\",'Блок 1'!AF144)","v":0},{"$f":"IF('Блок 1'!AG144=\"\",\"\",'Блок 1'!AG144)","v":0},{"$f":"IF('Блок 1'!AH144=\"\",\"\",'Блок 1'!AH144)","v":0},{"$f":"IF('Блок 1'!AI144=\"\",\"\",'Блок 1'!AI144)","v":0},{"$f":"IF('Блок 1'!AJ144=\"\",\"\",'Блок 1'!AJ144)","v":0},{"$f":"IF('Блок 1'!AK144=\"\",\"\",'Блок 1'!AK144)","v":""},{"$f":"IF('Блок 1'!AL144=\"\",\"\",'Блок 1'!AL144)","v":""},{"$f":"IF('Блок 1'!AM144=\"\",\"\",'Блок 1'!AM144)","v":""},{"$f":"IF('Блок 1'!AN144=\"\",\"\",'Блок 1'!AN144)","v":""},{"$f":"IF('Блок 1'!AO144=\"\",\"\",'Блок 1'!AO144)","v":""},{"$f":"IF('Блок 1'!AP144=\"\",\"\",'Блок 1'!AP144)","v":""},{"$f":"IF('Блок 1'!AQ144=\"\",\"\",'Блок 1'!AQ144)","v":""},{"$f":"IF('Блок 1'!AR144=\"\",\"\",'Блок 1'!AR144)","v":""},{"$f":"IF('Блок 1'!AS144=\"\",\"\",'Блок 1'!AS144)","v":""},{"$f":"IF('Блок 1'!AT144=\"\",\"\",'Блок 1'!AT144)","v":""},{"$f":"IF('Блок 1'!AU144=\"\",\"\",'Блок 1'!AU144)","v":""},{"$f":"IF('Блок 1'!AV144=\"\",\"\",'Блок 1'!AV144)","v":""},{"$f":"IF('Блок 1'!AW144=\"\",\"\",'Блок 1'!AW144)","v":""},{"$f":"IF('Блок 1'!AX144=\"\",\"\",'Блок 1'!AX144)","v":""},{"$f":"IF('Блок 1'!AY144=\"\",\"\",'Блок 1'!AY144)","v":""},{"$f":"IF('Блок 1'!AZ144=\"\",\"\",'Блок 1'!AZ144)","v":""},{"$f":"IF('Блок 1'!BA144=\"\",\"\",'Блок 1'!BA144)","v":""},{"$f":"IF('Блок 1'!BB144=\"\",\"\",'Блок 1'!BB144)","v":""},{"$f":"IF('Блок 1'!BC144=\"\",\"\",'Блок 1'!BC144)","v":""},{"$f":"IF('Блок 1'!BD144=\"\",\"\",'Блок 1'!BD144)","v":""},{"$f":"IF('Блок 1'!BE144=\"\",\"\",'Блок 1'!BE144)","v":""},{"$f":"IF('Блок 1'!BF144=\"\",\"\",'Блок 1'!BF144)","v":""},{"$f":"IF('Блок 1'!BG144=\"\",\"\",'Блок 1'!BG144)","v":""},{"$f":"IF('Блок 1'!BH144=\"\",\"\",'Блок 1'!BH144)","v":""}]
[null,{"$f":"IF('Блок 1'!B145=\"\",\"\",'Блок 1'!B145)","v":"ДВ.1.01.01"},{"$f":"IF('Блок 1'!C145=\"\",\"\",'Блок 1'!C145)","v":""},{"$f":"IF('Блок 1'!D145=\"\",\"\",'Блок 1'!D145)","v":""},{"$f":"IF('Блок 1'!E145=\"\",\"\",'Блок 1'!E145)","v":""},{"$f":"IF('Блок 1'!F145=\"\",\"\",'Блок 1'!F145)","v":""},{"$f":"IF('Блок 1'!G145=\"\",\"\",'Блок 1'!G145)","v":""},{"$f":"IF('Блок 1'!H145=\"\",\"\",'Блок 1'!H145)","v":""},{"$f":"IF('Блок 1'!I145=\"\",\"\",'Блок 1'!I145)","v":""},{"$f":"IF('Блок 1'!J145=\"\",\"\",'Блок 1'!J145)","v":""},{"$f":"IF('Блок 1'!K145=\"\",\"\",'Блок 1'!K145)","v":""},{"$f":"IF('Блок 1'!L145=\"\",\"\",'Блок 1'!L145)","v":""},{"$f":"IF('Блок 1'!M145=\"\",\"\",'Блок 1'!M145)","v":""},{"$f":"IF('Блок 1'!N145=\"\",\"\",'Блок 1'!N145)","v":""},{"$f":"IF('Блок 1'!O145=\"\",\"\",'Блок 1'!O145)","v":""},{"$f":"IF('Блок 1'!P145=\"\",\"\",'Блок 1'!P145)","v":""},{"$f":"IF('Блок 1'!Q145=\"\",\"\",'Блок 1'!Q145)","v":""},{"$f":"IF('Блок 1'!R145=\"\",\"\",'Блок 1'!R145)","v":""},{"$f":"IF('Блок 1'!S145=\"\",\"\",'Блок 1'!S145)","v":""},{"$f":"IF('Блок 1'!T145=\"\",\"\",'Блок 1'!T145)","v":""},{"$f":"IF('Блок 1'!U145=\"\",\"\",'Блок 1'!U145)","v":""},{"$f":"IF('Блок 1'!V145=\"\",\"\",'Блок 1'!V145)","v":""},{"$f":"IF('Блок 1'!W145=\"\",\"\",'Блок 1'!W145)","v":""},{"$f":"IF('Блок 1'!X145=\"\",\"\",'Блок 1'!X145)","v":""},{"$f":"IF('Блок 1'!Y145=\"\",\"\",'Блок 1'!Y145)","v":""},{"$f":"IF('Блок 1'!Z145=\"\",\"\",'Блок 1'!Z145)","v":""},{"$f":"IF('Блок 1'!AA145=\"\",\"\",'Блок 1'!AA145)","v":""},{"$f":"IF('Блок 1'!AB145=\"\",\"\",'Блок 1'!AB145)","v":""},{"$f":"IF('Блок 1'!AC145=\"\",\"\",'Блок 1'!AC145)","v":""},{"$f":"IF('Блок 1'!AD145=\"\",\"\",'Блок 1'!AD145)","v":""},{"$f":"IF('Блок 1'!AE145=\"\",\"\",'Блок 1'!AE145)","v":""},{"$f":"IF('Блок 1'!AF145=\"\",\"\",'Блок 1'!AF145)","v":""},{"$f":"IF('Блок 1'!AG145=\"\",\"\",'Блок 1'!AG145)","v":""},{"$f":"IF('Блок 1'!AH145=\"\",\"\",'Блок 1'!AH145)","v":""},{"$f":"IF('Блок 1'!AI145=\"\",\"\",'Блок 1'!AI145)","v":""},{"$f":"IF('Блок 1'!AJ145=\"\",\"\",'Блок 1'!AJ145)","v":""},{"$f":"IF('Блок 1'!AK145=\"\",\"\",'Блок 1'!AK145)","v":""},{"$f":"IF('Блок 1'!AL145=\"\",\"\",'Блок 1'!AL145)","v":""},{"$f":"IF('Блок 1'!AM145=\"\",\"\",'Блок 1'!AM145)","v":""},{"$f":"IF('Блок 1'!AN145=\"\",\"\",'Блок 1'!AN145)","v":""},{"$f":"IF('Блок 1'!AO145=\"\",\"\",'Блок 1'!AO145)","v":""},{"$f":"IF('Блок 1'!AP145=\"\",\"\",'Блок 1'!AP145)","v":""},{"$f":"IF('Блок 1'!AQ145=\"\",\"\",'Блок 1'!AQ145)","v":""},{"$f":"IF('Блок 1'!AR145=\"\",\"\",'Блок 1'!AR145)","v":""},{"$f":"IF('Блок 1'!AS145=\"\",\"\",'Блок 1'!AS145)","v":""},{"$f":"IF('Блок 1'!AT145=\"\",\"\",'Блок 1'!AT145)","v":""},{"$f":"IF('Блок 1'!AU145=\"\",\"\",'Блок 1'!AU145)","v":""},{"$f":"IF('Блок 1'!AV145=\"\",\"\",'Блок 1'!AV145)","v":""},{"$f":"IF('Блок 1'!AW145=\"\",\"\",'Блок 1'!AW145)","v":""},{"$f":"IF('Блок 1'!AX145=\"\",\"\",'Блок 1'!AX145)","v":""},{"$f":"IF('Блок 1'!AY145=\"\",\"\",'Блок 1'!AY145)","v":""},{"$f":"IF('Блок 1'!AZ145=\"\",\"\",'Блок 1'!AZ145)","v":""},{"$f":"IF('Блок 1'!BA145=\"\",\"\",'Блок 1'!BA145)","v":""},{"$f":"IF('Блок 1'!BB145=\"\",\"\",'Блок 1'!BB145)","v":""},{"$f":"IF('Блок 1'!BC145=\"\",\"\",'Блок 1'!BC145)","v":""},{"$f":"IF('Блок 1'!BD145=\"\",\"\",'Блок 1'!BD145)","v":""},{"$f":"IF('Блок 1'!BE145=\"\",\"\",'Блок 1'!BE145)","v":""},{"$f":"IF('Блок 1'!BF145=\"\",\"\",'Блок 1'!BF145)","v":""},{"$f":"IF('Блок 1'!BG145=\"\",\"\",'Блок 1'!BG145)","v":""},{"$f":"IF('Блок 1'!BH145=\"\",\"\",'Блок 1'!BH145)","v":""}]
[null,{"$f":"IF('Блок 1'!B146=\"\",\"\",'Блок 1'!B146)","v":"ДВ.1.01.02"},{"$f":"IF('Блок 1'!C146=\"\",\"\",'Блок 1'!C146)","v":""},{"$f":"IF('Блок 1'!D146=\"\",\"\",'Блок 1'!D146)","v":""},{"$f":"IF('Блок 1'!E146=\"\",\"\",'Блок 1'!E146)","v":""},{"$f":"IF('Блок 1'!F146=\"\",\"\",'Блок 1'!F146)","v":""},{"$f":"IF('Блок 1'!G146=\"\",\"\",'Блок 1'!G146)","v":""},{"$f":"IF('Блок 1'!H146=\"\",\"\",'Блок 1'!H146)","v":""},{"$f":"IF('Блок 1'!I146=\"\",\"\",'Блок 1'!I146)","v":""},{"$f":"IF('Блок 1'!J146=\"\",\"\",'Блок 1'!J146)","v":""},{"$f":"IF('Блок 1'!K146=\"\",\"\",'Блок 1'!K146)","v":""},{"$f":"IF('Блок 1'!L146=\"\",\"\",'Блок 1'!L146)","v":""},{"$f":"IF('Блок 1'!M146=\"\",\"\",'Блок 1'!M146)","v":""},{"$f":"IF('Блок 1'!N146=\"\",\"\",'Блок 1'!N146)","v":""},{"$f":"IF('Блок 1'!O146=\"\",\"\",'Блок 1'!O146)","v":""},{"$f":"IF('Блок 1'!P146=\"\",\"\",'Блок 1'!P146)","v":""},{"$f":"IF('Блок 1'!Q146=\"\",\"\",'Блок 1'!Q146)","v":""},{"$f":"IF('Блок 1'!R146=\"\",\"\",'Блок 1'!R146)","v":""},{"$f":"IF('Блок 1'!S146=\"\",\"\",'Блок 1'!S146)","v":""},{"$f":"IF('Блок 1'!T146=\"\",\"\",'Блок 1'!T146)","v":""},{"$f":"IF('Блок 1'!U146=\"\",\"\",'Блок 1'!U146)","v":""},{"$f":"IF('Блок 1'!V146=\"\",\"\",'Блок 1'!V146)","v":""},{"$f":"IF('Блок 1'!W146=\"\",\"\",'Блок 1'!W146)","v":""},{"$f":"IF('Блок 1'!X146=\"\",\"\",'Блок 1'!X146)","v":""},{"$f":"IF('Блок 1'!Y146=\"\",\"\",'Блок 1'!Y146)","v":""},{"$f":"IF('Блок 1'!Z146=\"\",\"\",'Блок 1'!Z146)","v":""},{"$f":"IF('Блок 1'!AA146=\"\",\"\",'Блок 1'!AA146)","v":""},{"$f":"IF('Блок 1'!AB146=\"\",\"\",'Блок 1'!AB146)","v":""},{"$f":"IF('Блок 1'!AC146=\"\",\"\",'Блок 1'!AC146)","v":""},{"$f":"IF('Блок 1'!AD146=\"\",\"\",'Блок 1'!AD146)","v":""},{"$f":"IF('Блок 1'!AE146=\"\",\"\",'Блок 1'!AE146)","v":""},{"$f":"IF('Блок 1'!AF146=\"\",\"\",'Блок 1'!AF146)","v":""},{"$f":"IF('Блок 1'!AG146=\"\",\"\",'Блок 1'!AG146)","v":""},{"$f":"IF('Блок 1'!AH146=\"\",\"\",'Блок 1'!AH146)","v":""},{"$f":"IF('Блок 1'!AI146=\"\",\"\",'Блок 1'!AI146)","v":""},{"$f":"IF('Блок 1'!AJ146=\"\",\"\",'Блок 1'!AJ146)","v":""},{"$f":"IF('Блок 1'!AK146=\"\",\"\",'Блок 1'!AK146)","v":""},{"$f":"IF('Блок 1'!AL146=\"\",\"\",'Блок 1'!AL146)","v":""},{"$f":"IF('Блок 1'!AM146=\"\",\"\",'Блок 1'!AM146)","v":""},{"$f":"IF('Блок 1'!AN146=\"\",\"\",'Блок 1'!AN146)","v":""},{"$f":"IF('Блок 1'!AO146=\"\",\"\",'Блок 1'!AO146)","v":""},{"$f":"IF('Блок 1'!AP146=\"\",\"\",'Блок 1'!AP146)","v":""},{"$f":"IF('Блок 1'!AQ146=\"\",\"\",'Блок 1'!AQ146)","v":""},{"$f":"IF('Блок 1'!AR146=\"\",\"\",'Блок 1'!AR146)","v":""},{"$f":"IF('Блок 1'!AS146=\"\",\"\",'Блок 1'!AS146)","v":""},{"$f":"IF('Блок 1'!AT146=\"\",\"\",'Блок 1'!AT146)","v":""},{"$f":"IF('Блок 1'!AU146=\"\",\"\",'Блок 1'!AU146)","v":""},{"$f":"IF('Блок 1'!AV146=\"\",\"\",'Блок 1'!AV146)","v":""},{"$f":"IF('Блок 1'!AW146=\"\",\"\",'Блок 1'!AW146)","v":""},{"$f":"IF('Блок 1'!AX146=\"\",\"\",'Блок 1'!AX146)","v":""},{"$f":"IF('Блок 1'!AY146=\"\",\"\",'Блок 1'!AY146)","v":""},{"$f":"IF('Блок 1'!AZ146=\"\",\"\",'Блок 1'!AZ146)","v":""},{"$f":"IF('Блок 1'!BA146=\"\",\"\",'Блок 1'!BA146)","v":""},{"$f":"IF('Блок 1'!BB146=\"\",\"\",'Блок 1'!BB146)","v":""},{"$f":"IF('Блок 1'!BC146=\"\",\"\",'Блок 1'!BC146)","v":""},{"$f":"IF('Блок 1'!BD146=\"\",\"\",'Блок 1'!BD146)","v":""},{"$f":"IF('Блок 1'!BE146=\"\",\"\",'Блок 1'!BE146)","v":""},{"$f":"IF('Блок 1'!BF146=\"\",\"\",'Блок 1'!BF146)","v":""},{"$f":"IF('Блок 1'!BG146=\"\",\"\",'Блок 1'!BG146)","v":""},{"$f":"IF('Блок 1'!BH146=\"\",\"\",'Блок 1'!BH146)","v":""}]
[null,{"$f":"IF('Блок 1'!B147=\"\",\"\",'Блок 1'!B147)","v":"ДВ.1.02.01"},{"$f":"IF('Блок 1'!C147=\"\",\"\",'Блок 1'!C147)","v":""},{"$f":"IF('Блок 1'!D147=\"\",\"\",'Блок 1'!D147)","v":""},{"$f":"IF('Блок 1'!E147=\"\",\"\",'Блок 1'!E147)","v":""},{"$f":"IF('Блок 1'!F147=\"\",\"\",'Блок 1'!F147)","v":""},{"$f":"IF('Блок 1'!G147=\"\",\"\",'Блок 1'!G147)","v":""},{"$f":"IF('Блок 1'!H147=\"\",\"\",'Блок 1'!H147)","v":""},{"$f":"IF('Блок 1'!I147=\"\",\"\",'Блок 1'!I147)","v":""},{"$f":"IF('Блок 1'!J147=\"\",\"\",'Блок 1'!J147)","v":""},{"$f":"IF('Блок 1'!K147=\"\",\"\",'Блок 1'!K147)","v":""},{"$f":"IF('Блок 1'!L147=\"\",\"\",'Блок 1'!L147)","v":""},{"$f":"IF('Блок 1'!M147=\"\",\"\",'Блок 1'!M147)","v":""},{"$f":"IF('Блок 1'!N147=\"\",\"\",'Блок 1'!N147)","v":""},{"$f":"IF('Блок 1'!O147=\"\",\"\",'Блок 1'!O147)","v":""},{"$f":"IF('Блок 1'!P147=\"\",\"\",'Блок 1'!P147)","v":""},{"$f":"IF('Блок 1'!Q147=\"\",\"\",'Блок 1'!Q147)","v":""},{"$f":"IF('Блок 1'!R147=\"\",\"\",'Блок 1'!R147)","v":""},{"$f":"IF('Блок 1'!S147=\"\",\"\",'Блок 1'!S147)","v":""},{"$f":"IF('Блок 1'!T147=\"\",\"\",'Блок 1'!T147)","v":""},{"$f":"IF('Блок 1'!U147=\"\",\"\",'Блок 1'!U147)","v":""},{"$f":"IF('Блок 1'!V147=\"\",\"\",'Блок 1'!V147)","v":""},{"$f":"IF('Блок 1'!W147=\"\",\"\",'Блок 1'!W147)","v":""},{"$f":"IF('Блок 1'!X147=\"\",\"\",'Блок 1'!X147)","v":""},{"$f":"IF('Блок 1'!Y147=\"\",\"\",'Блок 1'!Y147)","v":""},{"$f":"IF('Блок 1'!Z147=\"\",\"\",'Блок 1'!Z147)","v":""},{"$f":"IF('Блок 1'!AA147=\"\",\"\",'Блок 1'!AA147)","v":""},{"$f":"IF('Блок 1'!AB147=\"\",\"\",'Блок 1'!AB147)","v":""},{"$f":"IF('Блок 1'!AC147=\"\",\"\",'Блок 1'!AC147)","v":""},{"$f":"IF('Блок 1'!AD147=\"\",\"\",'Блок 1'!AD147)","v":""},{"$f":"IF('Блок 1'!AE147=\"\",\"\",'Блок 1'!AE147)","v":""},{"$f":"IF('Блок 1'!AF147=\"\",\"\",'Блок 1'!AF147)","v":""},{"$f":"IF('Блок 1'!AG147=\"\",\"\",'Блок 1'!AG147)","v":""},{"$f":"IF('Блок 1'!AH147=\"\",\"\",'Блок 1'!AH147)","v":""},{"$f":"IF('Блок 1'!AI147=\"\",\"\",'Блок 1'!AI147)","v":""},{"$f":"IF('Блок 1'!AJ147=\"\",\"\",'Блок 1'!AJ147)","v":""},{"$f":"IF('Блок 1'!AK147=\"\",\"\",'Блок 1'!AK147)","v":""},{"$f":"IF('Блок 1'!AL147=\"\",\"\",'Блок 1'!AL147)","v":""},{"$f":"IF('Блок 1'!AM147=\"\",\"\",'Блок 1'!AM147)","v":""},{"$f":"IF('Блок 1'!AN147=\"\",\"\",'Блок 1'!AN147)","v":""},{"$f":"IF('Блок 1'!AO147=\"\",\"\",'Блок 1'!AO147)","v":""},{"$f":"IF('Блок 1'!AP147=\"\",\"\",'Блок 1'!AP147)","v":""},{"$f":"IF('Блок 1'!AQ147=\"\",\"\",'Блок 1'!AQ147)","v":""},{"$f":"IF('Блок 1'!AR147=\"\",\"\",'Блок 1'!AR147)","v":""},{"$f":"IF('Блок 1'!AS147=\"\",\"\",'Блок 1'!AS147)","v":""},{"$f":"IF('Блок 1'!AT147=\"\",\"\",'Блок 1'!AT147)","v":""},{"$f":"IF('Блок 1'!AU147=\"\",\"\",'Блок 1'!AU147)","v":""},{"$f":"IF('Блок 1'!AV147=\"\",\"\",'Блок 1'!AV147)","v":""},{"$f":"IF('Блок 1'!AW147=\"\",\"\",'Блок 1'!AW147)","v":""},{"$f":"IF('Блок 1'!AX147=\"\",\"\",'Блок 1'!AX147)","v":""},{"$f":"IF('Блок 1'!AY147=\"\",\"\",'Блок 1'!AY147)","v":""},{"$f":"IF('Блок 1'!AZ147=\"\",\"\",'Блок 1'!AZ147)","v":""},{"$f":"IF('Блок 1'!BA147=\"\",\"\",'Блок 1'!BA147)","v":""},{"$f":"IF('Блок 1'!BB147=\"\",\"\",'Блок 1'!BB147)","v":""},{"$f":"IF('Блок 1'!BC147=\"\",\"\",'Блок 1'!BC147)","v":""},{"$f":"IF('Блок 1'!BD147=\"\",\"\",'Блок 1'!BD147)","v":""},{"$f":"IF('Блок 1'!BE147=\"\",\"\",'Блок 1'!BE147)","v":""},{"$f":"IF('Блок 1'!BF147=\"\",\"\",'Блок 1'!BF147)","v":""},{"$f":"IF('Блок 1'!BG147=\"\",\"\",'Блок 1'!BG147)","v":""},{"$f":"IF('Блок 1'!BH147=\"\",\"\",'Блок 1'!BH147)","v":""}]
[null,{"$f":"IF('Блок 1'!B148=\"\",\"\",'Блок 1'!B148)","v":"ДВ.1.02.02"},{"$f":"IF('Блок 1'!C148=\"\",\"\",'Блок 1'!C148)","v":""},{"$f":"IF('Блок 1'!D148=\"\",\"\",'Блок 1'!D148)","v":""},{"$f":"IF('Блок 1'!E148=\"\",\"\",'Блок 1'!E148)","v":""},{"$f":"IF('Блок 1'!F148=\"\",\"\",'Блок 1'!F148)","v":""},{"$f":"IF('Блок 1'!G148=\"\",\"\",'Блок 1'!G148)","v":""},{"$f":"IF('Блок 1'!H148=\"\",\"\",'Блок 1'!H148)","v":""},{"$f":"IF('Блок 1'!I148=\"\",\"\",'Блок 1'!I148)","v":""},{"$f":"IF('Блок 1'!J148=\"\",\"\",'Блок 1'!J148)","v":""},{"$f":"IF('Блок 1'!K148=\"\",\"\",'Блок 1'!K148)","v":""},{"$f":"IF('Блок 1'!L148=\"\",\"\",'Блок 1'!L148)","v":""},{"$f":"IF('Блок 1'!M148=\"\",\"\",'Блок 1'!M148)","v":""},{"$f":"IF('Блок 1'!N148=\"\",\"\",'Блок 1'!N148)","v":""},{"$f":"IF('Блок 1'!O148=\"\",\"\",'Блок 1'!O148)","v":""},{"$f":"IF('Блок 1'!P148=\"\",\"\",'Блок 1'!P148)","v":""},{"$f":"IF('Блок 1'!Q148=\"\",\"\",'Блок 1'!Q148)","v":""},{"$f":"IF('Блок 1'!R148=\"\",\"\",'Блок 1'!R148)","v":""},{"$f":"IF('Блок 1'!S148=\"\",\"\",'Блок 1'!S148)","v":""},{"$f":"IF('Блок 1'!T148=\"\",\"\",'Блок 1'!T148)","v":""},{"$f":"IF('Блок 1'!U148=\"\",\"\",'Блок 1'!U148)","v":""},{"$f":"IF('Блок 1'!V148=\"\",\"\",'Блок 1'!V148)","v":""},{"$f":"IF('Блок 1'!W148=\"\",\"\",'Блок 1'!W148)","v":""},{"$f":"IF('Блок 1'!X148=\"\",\"\",'Блок 1'!X148)","v":""},{"$f":"IF('Блок 1'!Y148=\"\",\"\",'Блок 1'!Y148)","v":""},{"$f":"IF('Блок 1'!Z148=\"\",\"\",'Блок 1'!Z148)","v":""},{"$f":"IF('Блок 1'!AA148=\"\",\"\",'Блок 1'!AA148)","v":""},{"$f":"IF('Блок 1'!AB148=\"\",\"\",'Блок 1'!AB148)","v":""},{"$f":"IF('Блок 1'!AC148=\"\",\"\",'Блок 1'!AC148)","v":""},{"$f":"IF('Блок 1'!AD148=\"\",\"\",'Блок 1'!AD148)","v":""},{"$f":"IF('Блок 1'!AE148=\"\",\"\",'Блок 1'!AE148)","v":""},{"$f":"IF('Блок 1'!AF148=\"\",\"\",'Блок 1'!AF148)","v":""},{"$f":"IF('Блок 1'!AG148=\"\",\"\",'Блок 1'!AG148)","v":""},{"$f":"IF('Блок 1'!AH148=\"\",\"\",'Блок 1'!AH148)","v":""},{"$f":"IF('Блок 1'!AI148=\"\",\"\",'Блок 1'!AI148)","v":""},{"$f":"IF('Блок 1'!AJ148=\"\",\"\",'Блок 1'!AJ148)","v":""},{"$f":"IF('Блок 1'!AK148=\"\",\"\",'Блок 1'!AK148)","v":""},{"$f":"IF('Блок 1'!AL148=\"\",\"\",'Блок 1'!AL148)","v":""},{"$f":"IF('Блок 1'!AM148=\"\",\"\",'Блок 1'!AM148)","v":""},{"$f":"IF('Блок 1'!AN148=\"\",\"\",'Блок 1'!AN148)","v":""},{"$f":"IF('Блок 1'!AO148=\"\",\"\",'Блок 1'!AO148)","v":""},{"$f":"IF('Блок 1'!AP148=\"\",\"\",'Блок 1'!AP148)","v":""},{"$f":"IF('Блок 1'!AQ148=\"\",\"\",'Блок 1'!AQ148)","v":""},{"$f":"IF('Блок 1'!AR148=\"\",\"\",'Блок 1'!AR148)","v":""},{"$f":"IF('Блок 1'!AS148=\"\",\"\",'Блок 1'!AS148)","v":""},{"$f":"IF('Блок 1'!AT148=\"\",\"\",'Блок 1'!AT148)","v":""},{"$f":"IF('Блок 1'!AU148=\"\",\"\",'Блок 1'!AU148)","v":""},{"$f":"IF('Блок 1'!AV148=\"\",\"\",'Блок 1'!AV148)","v":""},{"$f":"IF('Блок 1'!AW148=\"\",\"\",'Блок 1'!AW148)","v":""},{"$f":"IF('Блок 1'!AX148=\"\",\"\",'Блок 1'!AX148)","v":""},{"$f":"IF('Блок 1'!AY148=\"\",\"\",'Блок 1'!AY148)","v":""},{"$f":"IF('Блок 1'!AZ148=\"\",\"\",'Блок 1'!AZ148)","v":""},{"$f":"IF('Блок 1'!BA148=\"\",\"\",'Блок 1'!BA148)","v":""},{"$f":"IF('Блок 1'!BB148=\"\",\"\",'Блок 1'!BB148)","v":""},{"$f":"IF('Блок 1'!BC148=\"\",\"\",'Блок 1'!BC148)","v":""},{"$f":"IF('Блок 1'!BD148=\"\",\"\",'Блок 1'!BD148)","v":""},{"$f":"IF('Блок 1'!BE148=\"\",\"\",'Блок 1'!BE148)","v":""},{"$f":"IF('Блок 1'!BF148=\"\",\"\",'Блок 1'!BF148)","v":""},{"$f":"IF('Блок 1'!BG148=\"\",\"\",'Блок 1'!BG148)","v":""},{"$f":"IF('Блок 1'!BH148=\"\",\"\",'Блок 1'!BH148)","v":""}]
[null,{"$f":"IF('Блок 1'!B149=\"\",\"\",'Блок 1'!B149)","v":"ДВ.1.03.01"},{"$f":"IF('Блок 1'!C149=\"\",\"\",'Блок 1'!C149)","v":""},{"$f":"IF('Блок 1'!D149=\"\",\"\",'Блок 1'!D149)","v":""},{"$f":"IF('Блок 1'!E149=\"\",\"\",'Блок 1'!E149)","v":""},{"$f":"IF('Блок 1'!F149=\"\",\"\",'Блок 1'!F149)","v":""},{"$f":"IF('Блок 1'!G149=\"\",\"\",'Блок 1'!G149)","v":""},{"$f":"IF('Блок 1'!H149=\"\",\"\",'Блок 1'!H149)","v":""},{"$f":"IF('Блок 1'!I149=\"\",\"\",'Блок 1'!I149)","v":""},{"$f":"IF('Блок 1'!J149=\"\",\"\",'Блок 1'!J149)","v":""},{"$f":"IF('Блок 1'!K149=\"\",\"\",'Блок 1'!K149)","v":""},{"$f":"IF('Блок 1'!L149=\"\",\"\",'Блок 1'!L149)","v":""},{"$f":"IF('Блок 1'!M149=\"\",\"\",'Блок 1'!M149)","v":""},{"$f":"IF('Блок 1'!N149=\"\",\"\",'Блок 1'!N149)","v":""},{"$f":"IF('Блок 1'!O149=\"\",\"\",'Блок 1'!O149)","v":""},{"$f":"IF('Блок 1'!P149=\"\",\"\",'Блок 1'!P149)","v":""},{"$f":"IF('Блок 1'!Q149=\"\",\"\",'Блок 1'!Q149)","v":""},{"$f":"IF('Блок 1'!R149=\"\",\"\",'Блок 1'!R149)","v":""},{"$f":"IF('Блок 1'!S149=\"\",\"\",'Блок 1'!S149)","v":""},{"$f":"IF('Блок 1'!T149=\"\",\"\",'Блок 1'!T149)","v":""},{"$f":"IF('Блок 1'!U149=\"\",\"\",'Блок 1'!U149)","v":""},{"$f":"IF('Блок 1'!V149=\"\",\"\",'Блок 1'!V149)","v":""},{"$f":"IF('Блок 1'!W149=\"\",\"\",'Блок 1'!W149)","v":""},{"$f":"IF('Блок 1'!X149=\"\",\"\",'Блок 1'!X149)","v":""},{"$f":"IF('Блок 1'!Y149=\"\",\"\",'Блок 1'!Y149)","v":""},{"$f":"IF('Блок 1'!Z149=\"\",\"\",'Блок 1'!Z149)","v":""},{"$f":"IF('Блок 1'!AA149=\"\",\"\",'Блок 1'!AA149)","v":""},{"$f":"IF('Блок 1'!AB149=\"\",\"\",'Блок 1'!AB149)","v":""},{"$f":"IF('Блок 1'!AC149=\"\",\"\",'Блок 1'!AC149)","v":""},{"$f":"IF('Блок 1'!AD149=\"\",\"\",'Блок 1'!AD149)","v":""},{"$f":"IF('Блок 1'!AE149=\"\",\"\",'Блок 1'!AE149)","v":""},{"$f":"IF('Блок 1'!AF149=\"\",\"\",'Блок 1'!AF149)","v":""},{"$f":"IF('Блок 1'!AG149=\"\",\"\",'Блок 1'!AG149)","v":""},{"$f":"IF('Блок 1'!AH149=\"\",\"\",'Блок 1'!AH149)","v":""},{"$f":"IF('Блок 1'!AI149=\"\",\"\",'Блок 1'!AI149)","v":""},{"$f":"IF('Блок 1'!AJ149=\"\",\"\",'Блок 1'!AJ149)","v":""},{"$f":"IF('Блок 1'!AK149=\"\",\"\",'Блок 1'!AK149)","v":""},{"$f":"IF('Блок 1'!AL149=\"\",\"\",'Блок 1'!AL149)","v":""},{"$f":"IF('Блок 1'!AM149=\"\",\"\",'Блок 1'!AM149)","v":""},{"$f":"IF('Блок 1'!AN149=\"\",\"\",'Блок 1'!AN149)","v":""},{"$f":"IF('Блок 1'!AO149=\"\",\"\",'Блок 1'!AO149)","v":""},{"$f":"IF('Блок 1'!AP149=\"\",\"\",'Блок 1'!AP149)","v":""},{"$f":"IF('Блок 1'!AQ149=\"\",\"\",'Блок 1'!AQ149)","v":""},{"$f":"IF('Блок 1'!AR149=\"\",\"\",'Блок 1'!AR149)","v":""},{"$f":"IF('Блок 1'!AS149=\"\",\"\",'Блок 1'!AS149)","v":""},{"$f":"IF('Блок 1'!AT149=\"\",\"\",'Блок 1'!AT149)","v":""},{"$f":"IF('Блок 1'!AU149=\"\",\"\",'Блок 1'!AU149)","v":""},{"$f":"IF('Блок 1'!AV149=\"\",\"\",'Блок 1'!AV149)","v":""},{"$f":"IF('Блок 1'!AW149=\"\",\"\",'Блок 1'!AW149)","v":""},{"$f":"IF('Блок 1'!AX149=\"\",\"\",'Блок 1'!AX149)","v":""},{"$f":"IF('Блок 1'!AY149=\"\",\"\",'Блок 1'!AY149)","v":""},{"$f":"IF('Блок 1'!AZ149=\"\",\"\",'Блок 1'!AZ149)","v":""},{"$f":"IF('Блок 1'!BA149=\"\",\"\",'Блок 1'!BA149)","v":""},{"$f":"IF('Блок 1'!BB149=\"\",\"\",'Блок 1'!BB149)","v":""},{"$f":"IF('Блок 1'!BC149=\"\",\"\",'Блок 1'!BC149)","v":""},{"$f":"IF('Блок 1'!BD149=\"\",\"\",'Блок 1'!BD149)","v":""},{"$f":"IF('Блок 1'!BE149=\"\",\"\",'Блок 1'!BE149)","v":""},{"$f":"IF('Блок 1'!BF149=\"\",\"\",'Блок 1'!BF149)","v":""},{"$f":"IF('Блок 1'!BG149=\"\",\"\",'Блок 1'!BG149)","v":""},{"$f":"IF('Блок 1'!BH149=\"\",\"\",'Блок 1'!BH149)","v":""}]
[null,{"$f":"IF('Блок 1'!B150=\"\",\"\",'Блок 1'!B150)","v":"ДВ.1.03.02"},{"$f":"IF('Блок 1'!C150=\"\",\"\",'Блок 1'!C150)","v":""},{"$f":"IF('Блок 1'!D150=\"\",\"\",'Блок 1'!D150)","v":""},{"$f":"IF('Блок 1'!E150=\"\",\"\",'Блок 1'!E150)","v":""},{"$f":"IF('Блок 1'!F150=\"\",\"\",'Блок 1'!F150)","v":""},{"$f":"IF('Блок 1'!G150=\"\",\"\",'Блок 1'!G150)","v":""},{"$f":"IF('Блок 1'!H150=\"\",\"\",'Блок 1'!H150)","v":""},{"$f":"IF('Блок 1'!I150=\"\",\"\",'Блок 1'!I150)","v":""},{"$f":"IF('Блок 1'!J150=\"\",\"\",'Блок 1'!J150)","v":""},{"$f":"IF('Блок 1'!K150=\"\",\"\",'Блок 1'!K150)","v":""},{"$f":"IF('Блок 1'!L150=\"\",\"\",'Блок 1'!L150)","v":""},{"$f":"IF('Блок 1'!M150=\"\",\"\",'Блок 1'!M150)","v":""},{"$f":"IF('Блок 1'!N150=\"\",\"\",'Блок 1'!N150)","v":""},{"$f":"IF('Блок 1'!O150=\"\",\"\",'Блок 1'!O150)","v":""},{"$f":"IF('Блок 1'!P150=\"\",\"\",'Блок 1'!P150)","v":""},{"$f":"IF('Блок 1'!Q150=\"\",\"\",'Блок 1'!Q150)","v":""},{"$f":"IF('Блок 1'!R150=\"\",\"\",'Блок 1'!R150)","v":""},{"$f":"IF('Блок 1'!S150=\"\",\"\",'Блок 1'!S150)","v":""},{"$f":"IF('Блок 1'!T150=\"\",\"\",'Блок 1'!T150)","v":""},{"$f":"IF('Блок 1'!U150=\"\",\"\",'Блок 1'!U150)","v":""},{"$f":"IF('Блок 1'!V150=\"\",\"\",'Блок 1'!V150)","v":""},{"$f":"IF('Блок 1'!W150=\"\",\"\",'Блок 1'!W150)","v":""},{"$f":"IF('Блок 1'!X150=\"\",\"\",'Блок 1'!X150)","v":""},{"$f":"IF('Блок 1'!Y150=\"\",\"\",'Блок 1'!Y150)","v":""},{"$f":"IF('Блок 1'!Z150=\"\",\"\",'Блок 1'!Z150)","v":""},{"$f":"IF('Блок 1'!AA150=\"\",\"\",'Блок 1'!AA150)","v":""},{"$f":"IF('Блок 1'!AB150=\"\",\"\",'Блок 1'!AB150)","v":""},{"$f":"IF('Блок 1'!AC150=\"\",\"\",'Блок 1'!AC150)","v":""},{"$f":"IF('Блок 1'!AD150=\"\",\"\",'Блок 1'!AD150)","v":""},{"$f":"IF('Блок 1'!AE150=\"\",\"\",'Блок 1'!AE150)","v":""},{"$f":"IF('Блок 1'!AF150=\"\",\"\",'Блок 1'!AF150)","v":""},{"$f":"IF('Блок 1'!AG150=\"\",\"\",'Блок 1'!AG150)","v":""},{"$f":"IF('Блок 1'!AH150=\"\",\"\",'Блок 1'!AH150)","v":""},{"$f":"IF('Блок 1'!AI150=\"\",\"\",'Блок 1'!AI150)","v":""},{"$f":"IF('Блок 1'!AJ150=\"\",\"\",'Блок 1'!AJ150)","v":""},{"$f":"IF('Блок 1'!AK150=\"\",\"\",'Блок 1'!AK150)","v":""},{"$f":"IF('Блок 1'!AL150=\"\",\"\",'Блок 1'!AL150)","v":""},{"$f":"IF('Блок 1'!AM150=\"\",\"\",'Блок 1'!AM150)","v":""},{"$f":"IF('Блок 1'!AN150=\"\",\"\",'Блок 1'!AN150)","v":""},{"$f":"IF('Блок 1'!AO150=\"\",\"\",'Блок 1'!AO150)","v":""},{"$f":"IF('Блок 1'!AP150=\"\",\"\",'Блок 1'!AP150)","v":""},{"$f":"IF('Блок 1'!AQ150=\"\",\"\",'Блок 1'!AQ150)","v":""},{"$f":"IF('Блок 1'!AR150=\"\",\"\",'Блок 1'!AR150)","v":""},{"$f":"IF('Блок 1'!AS150=\"\",\"\",'Блок 1'!AS150)","v":""},{"$f":"IF('Блок 1'!AT150=\"\",\"\",'Блок 1'!AT150)","v":""},{"$f":"IF('Блок 1'!AU150=\"\",\"\",'Блок 1'!AU150)","v":""},{"$f":"IF('Блок 1'!AV150=\"\",\"\",'Блок 1'!AV150)","v":""},{"$f":"IF('Блок 1'!AW150=\"\",\"\",'Блок 1'!AW150)","v":""},{"$f":"IF('Блок 1'!AX150=\"\",\"\",'Блок 1'!AX150)","v":""},{"$f":"IF('Блок 1'!AY150=\"\",\"\",'Блок 1'!AY150)","v":""},{"$f":"IF('Блок 1'!AZ150=\"\",\"\",'Блок 1'!AZ150)","v":""},{"$f":"IF('Блок 1'!BA150=\"\",\"\",'Блок 1'!BA150)","v":""},{"$f":"IF('Блок 1'!BB150=\"\",\"\",'Блок 1'!BB150)","v":""},{"$f":"IF('Блок 1'!BC150=\"\",\"\",'Блок 1'!BC150)","v":""},{"$f":"IF('Блок 1'!BD150=\"\",\"\",'Блок 1'!BD150)","v":""},{"$f":"IF('Блок 1'!BE150=\"\",\"\",'Блок 1'!BE150)","v":""},{"$f":"IF('Блок 1'!BF150=\"\",\"\",'Блок 1'!BF150)","v":""},{"$f":"IF('Блок 1'!BG150=\"\",\"\",'Блок 1'!BG150)","v":""},{"$f":"IF('Блок 1'!BH150=\"\",\"\",'Блок 1'!BH150)","v":""}]
[null,{"$f":"IF('Блок 1'!B151=\"\",\"\",'Блок 1'!B151)","v":""},{"$f":"IF('Блок 1'!C151=\"\",\"\",'Блок 1'!C151)","v":""},{"$f":"IF('Блок 1'!D151=\"\",\"\",'Блок 1'!D151)","v":""},{"$f":"IF('Блок 1'!E151=\"\",\"\",'Блок 1'!E151)","v":""},{"$f":"IF('Блок 1'!F151=\"\",\"\",'Блок 1'!F151)","v":""},{"$f":"IF('Блок 1'!G151=\"\",\"\",'Блок 1'!G151)","v":""},{"$f":"IF('Блок 1'!H151=\"\",\"\",'Блок 1'!H151)","v":""},{"$f":"IF('Блок 1'!I151=\"\",\"\",'Блок 1'!I151)","v":""},{"$f":"IF('Блок 1'!J151=\"\",\"\",'Блок 1'!J151)","v":""},{"$f":"IF('Блок 1'!K151=\"\",\"\",'Блок 1'!K151)","v":""},{"$f":"IF('Блок 1'!L151=\"\",\"\",'Блок 1'!L151)","v":""},{"$f":"IF('Блок 1'!M151=\"\",\"\",'Блок 1'!M151)","v":""},{"$f":"IF('Блок 1'!N151=\"\",\"\",'Блок 1'!N151)","v":""},{"$f":"IF('Блок 1'!O151=\"\",\"\",'Блок 1'!O151)","v":""},{"$f":"IF('Блок 1'!P151=\"\",\"\",'Блок 1'!P151)","v":""},{"$f":"IF('Блок 1'!Q151=\"\",\"\",'Блок 1'!Q151)","v":""},{"$f":"IF('Блок 1'!R151=\"\",\"\",'Блок 1'!R151)","v":""},{"$f":"IF('Блок 1'!S151=\"\",\"\",'Блок 1'!S151)","v":""},{"$f":"IF('Блок 1'!T151=\"\",\"\",'Блок 1'!T151)","v":""},{"$f":"IF('Блок 1'!U151=\"\",\"\",'Блок 1'!U151)","v":""},{"$f":"IF('Блок 1'!V151=\"\",\"\",'Блок 1'!V151)","v":""},{"$f":"IF('Блок 1'!W151=\"\",\"\",'Блок 1'!W151)","v":""},{"$f":"IF('Блок 1'!X151=\"\",\"\",'Блок 1'!X151)","v":""},{"$f":"IF('Блок 1'!Y151=\"\",\"\",'Блок 1'!Y151)","v":""},{"$f":"IF('Блок 1'!Z151=\"\",\"\",'Блок 1'!Z151)","v":""},{"$f":"IF('Блок 1'!AA151=\"\",\"\",'Блок 1'!AA151)","v":""},{"$f":"IF('Блок 1'!AB151=\"\",\"\",'Блок 1'!AB151)","v":""},{"$f":"IF('Блок 1'!AC151=\"\",\"\",'Блок 1'!AC151)","v":""},{"$f":"IF('Блок 1'!AD151=\"\",\"\",'Блок 1'!AD151)","v":""},{"$f":"IF('Блок 1'!AE151=\"\",\"\",'Блок 1'!AE151)","v":""},{"$f":"IF('Блок 1'!AF151=\"\",\"\",'Блок 1'!AF151)","v":""},{"$f":"IF('Блок 1'!AG151=\"\",\"\",'Блок 1'!AG151)","v":""},{"$f":"IF('Блок 1'!AH151=\"\",\"\",'Блок 1'!AH151)","v":""},{"$f":"IF('Блок 1'!AI151=\"\",\"\",'Блок 1'!AI151)","v":""},{"$f":"IF('Блок 1'!AJ151=\"\",\"\",'Блок 1'!AJ151)","v":""},{"$f":"IF('Блок 1'!AK151=\"\",\"\",'Блок 1'!AK151)","v":""},{"$f":"IF('Блок 1'!AL151=\"\",\"\",'Блок 1'!AL151)","v":""},{"$f":"IF('Блок 1'!AM151=\"\",\"\",'Блок 1'!AM151)","v":""},{"$f":"IF('Блок 1'!AN151=\"\",\"\",'Блок 1'!AN151)","v":""},{"$f":"IF('Блок 1'!AO151=\"\",\"\",'Блок 1'!AO151)","v":""},{"$f":"IF('Блок 1'!AP151=\"\",\"\",'Блок 1'!AP151)","v":""},{"$f":"IF('Блок 1'!AQ151=\"\",\"\",'Блок 1'!AQ151)","v":""},{"$f":"IF('Блок 1'!AR151=\"\",\"\",'Блок 1'!AR151)","v":""},{"$f":"IF('Блок 1'!AS151=\"\",\"\",'Блок 1'!AS151)","v":""},{"$f":"IF('Блок 1'!AT151=\"\",\"\",'Блок 1'!AT151)","v":""},{"$f":"IF('Блок 1'!AU151=\"\",\"\",'Блок 1'!AU151)","v":""},{"$f":"IF('Блок 1'!AV151=\"\",\"\",'Блок 1'!AV151)","v":""},{"$f":"IF('Блок 1'!AW151=\"\",\"\",'Блок 1'!AW151)","v":""},{"$f":"IF('Блок 1'!AX151=\"\",\"\",'Блок 1'!AX151)","v":""},{"$f":"IF('Блок 1'!AY151=\"\",\"\",'Блок 1'!AY151)","v":""},{"$f":"IF('Блок 1'!AZ151=\"\",\"\",'Блок 1'!AZ151)","v":""},{"$f":"IF('Блок 1'!BA151=\"\",\"\",'Блок 1'!BA151)","v":""},{"$f":"IF('Блок 1'!BB151=\"\",\"\",'Блок 1'!BB151)","v":""},{"$f":"IF('Блок 1'!BC151=\"\",\"\",'Блок 1'!BC151)","v":""},{"$f":"IF('Блок 1'!BD151=\"\",\"\",'Блок 1'!BD151)","v":""},{"$f":"IF('Блок 1'!BE151=\"\",\"\",'Блок 1'!BE151)","v":""},{"$f":"IF('Блок 1'!BF151=\"\",\"\",'Блок 1'!BF151)","v":""},{"$f":"IF('Блок 1'!BG151=\"\",\"\",'Блок 1'!BG151)","v":""},{"$f":"IF('Блок 1'!BH151=\"\",\"\",'Блок 1'!BH151)","v":""}]
[null,{"$f":"IF('Блок 1'!B152=\"\",\"\",'Блок 1'!B152)","v":""},{"$f":"IF('Блок 1'!C152=\"\",\"\",'Блок 1'!C152)","v":""},{"$f":"IF('Блок 1'!D152=\"\",\"\",'Блок 1'!D152)","v":""},{"$f":"IF('Блок 1'!E152=\"\",\"\",'Блок 1'!E152)","v":""},{"$f":"IF('Блок 1'!F152=\"\",\"\",'Блок 1'!F152)","v":""},{"$f":"IF('Блок 1'!G152=\"\",\"\",'Блок 1'!G152)","v":""},{"$f":"IF('Блок 1'!H152=\"\",\"\",'Блок 1'!H152)","v":""},{"$f":"IF('Блок 1'!I152=\"\",\"\",'Блок 1'!I152)","v":""},{"$f":"IF('Блок 1'!J152=\"\",\"\",'Блок 1'!J152)","v":""},{"$f":"IF('Блок 1'!K152=\"\",\"\",'Блок 1'!K152)","v":""},{"$f":"IF('Блок 1'!L152=\"\",\"\",'Блок 1'!L152)","v":""},{"$f":"IF('Блок 1'!M152=\"\",\"\",'Блок 1'!M152)","v":""},{"$f":"IF('Блок 1'!N152=\"\",\"\",'Блок 1'!N152)","v":""},{"$f":"IF('Блок 1'!O152=\"\",\"\",'Блок 1'!O152)","v":""},{"$f":"IF('Блок 1'!P152=\"\",\"\",'Блок 1'!P152)","v":""},{"$f":"IF('Блок 1'!Q152=\"\",\"\",'Блок 1'!Q152)","v":""},{"$f":"IF('Блок 1'!R152=\"\",\"\",'Блок 1'!R152)","v":""},{"$f":"IF('Блок 1'!S152=\"\",\"\",'Блок 1'!S152)","v":""},{"$f":"IF('Блок 1'!T152=\"\",\"\",'Блок 1'!T152)","v":""},{"$f":"IF('Блок 1'!U152=\"\",\"\",'Блок 1'!U152)","v":""},{"$f":"IF('Блок 1'!V152=\"\",\"\",'Блок 1'!V152)","v":""},{"$f":"IF('Блок 1'!W152=\"\",\"\",'Блок 1'!W152)","v":""},{"$f":"IF('Блок 1'!X152=\"\",\"\",'Блок 1'!X152)","v":""},{"$f":"IF('Блок 1'!Y152=\"\",\"\",'Блок 1'!Y152)","v":""},{"$f":"IF('Блок 1'!Z152=\"\",\"\",'Блок 1'!Z152)","v":""},{"$f":"IF('Блок 1'!AA152=\"\",\"\",'Блок 1'!AA152)","v":""},{"$f":"IF('Блок 1'!AB152=\"\",\"\",'Блок 1'!AB152)","v":""},{"$f":"IF('Блок 1'!AC152=\"\",\"\",'Блок 1'!AC152)","v":""},{"$f":"IF('Блок 1'!AD152=\"\",\"\",'Блок 1'!AD152)","v":""},{"$f":"IF('Блок 1'!AE152=\"\",\"\",'Блок 1'!AE152)","v":""},{"$f":"IF('Блок 1'!AF152=\"\",\"\",'Блок 1'!AF152)","v":""},{"$f":"IF('Блок 1'!AG152=\"\",\"\",'Блок 1'!AG152)","v":""},{"$f":"IF('Блок 1'!AH152=\"\",\"\",'Блок 1'!AH152)","v":""},{"$f":"IF('Блок 1'!AI152=\"\",\"\",'Блок 1'!AI152)","v":""},{"$f":"IF('Блок 1'!AJ152=\"\",\"\",'Блок 1'!AJ152)","v":""},{"$f":"IF('Блок 1'!AK152=\"\",\"\",'Блок 1'!AK152)","v":""},{"$f":"IF('Блок 1'!AL152=\"\",\"\",'Блок 1'!AL152)","v":""},{"$f":"IF('Блок 1'!AM152=\"\",\"\",'Блок 1'!AM152)","v":""},{"$f":"IF('Блок 1'!AN152=\"\",\"\",'Блок 1'!AN152)","v":""},{"$f":"IF('Блок 1'!AO152=\"\",\"\",'Блок 1'!AO152)","v":""},{"$f":"IF('Блок 1'!AP152=\"\",\"\",'Блок 1'!AP152)","v":""},{"$f":"IF('Блок 1'!AQ152=\"\",\"\",'Блок 1'!AQ152)","v":""},{"$f":"IF('Блок 1'!AR152=\"\",\"\",'Блок 1'!AR152)","v":""},{"$f":"IF('Блок 1'!AS152=\"\",\"\",'Блок 1'!AS152)","v":""},{"$f":"IF('Блок 1'!AT152=\"\",\"\",'Блок 1'!AT152)","v":""},{"$f":"IF('Блок 1'!AU152=\"\",\"\",'Блок 1'!AU152)","v":""},{"$f":"IF('Блок 1'!AV152=\"\",\"\",'Блок 1'!AV152)","v":""},{"$f":"IF('Блок 1'!AW152=\"\",\"\",'Блок 1'!AW152)","v":""},{"$f":"IF('Блок 1'!AX152=\"\",\"\",'Блок 1'!AX152)","v":""},{"$f":"IF('Блок 1'!AY152=\"\",\"\",'Блок 1'!AY152)","v":""},{"$f":"IF('Блок 1'!AZ152=\"\",\"\",'Блок 1'!AZ152)","v":""},{"$f":"IF('Блок 1'!BA152=\"\",\"\",'Блок 1'!BA152)","v":""},{"$f":"IF('Блок 1'!BB152=\"\",\"\",'Блок 1'!BB152)","v":""},{"$f":"IF('Блок 1'!BC152=\"\",\"\",'Блок 1'!BC152)","v":""},{"$f":"IF('Блок 1'!BD152=\"\",\"\",'Блок 1'!BD152)","v":""},{"$f":"IF('Блок 1'!BE152=\"\",\"\",'Блок 1'!BE152)","v":""},{"$f":"IF('Блок 1'!BF152=\"\",\"\",'Блок 1'!BF152)","v":""},{"$f":"IF('Блок 1'!BG152=\"\",\"\",'Блок 1'!BG152)","v":""},{"$f":"IF('Блок 1'!BH152=\"\",\"\",'Блок 1'!BH152)","v":""}]
[null,{"$f":"IF('Блок 1'!B153=\"\",\"\",'Блок 1'!B153)","v":""},{"$f":"IF('Блок 1'!C153=\"\",\"\",'Блок 1'!C153)","v":""},{"$f":"IF('Блок 1'!D153=\"\",\"\",'Блок 1'!D153)","v":""},{"$f":"IF('Блок 1'!E153=\"\",\"\",'Блок 1'!E153)","v":""},{"$f":"IF('Блок 1'!F153=\"\",\"\",'Блок 1'!F153)","v":""},{"$f":"IF('Блок 1'!G153=\"\",\"\",'Блок 1'!G153)","v":""},{"$f":"IF('Блок 1'!H153=\"\",\"\",'Блок 1'!H153)","v":""},{"$f":"IF('Блок 1'!I153=\"\",\"\",'Блок 1'!I153)","v":""},{"$f":"IF('Блок 1'!J153=\"\",\"\",'Блок 1'!J153)","v":""},{"$f":"IF('Блок 1'!K153=\"\",\"\",'Блок 1'!K153)","v":""},{"$f":"IF('Блок 1'!L153=\"\",\"\",'Блок 1'!L153)","v":""},{"$f":"IF('Блок 1'!M153=\"\",\"\",'Блок 1'!M153)","v":""},{"$f":"IF('Блок 1'!N153=\"\",\"\",'Блок 1'!N153)","v":""},{"$f":"IF('Блок 1'!O153=\"\",\"\",'Блок 1'!O153)","v":""},{"$f":"IF('Блок 1'!P153=\"\",\"\",'Блок 1'!P153)","v":""},{"$f":"IF('Блок 1'!Q153=\"\",\"\",'Блок 1'!Q153)","v":""},{"$f":"IF('Блок 1'!R153=\"\",\"\",'Блок 1'!R153)","v":""},{"$f":"IF('Блок 1'!S153=\"\",\"\",'Блок 1'!S153)","v":""},{"$f":"IF('Блок 1'!T153=\"\",\"\",'Блок 1'!T153)","v":""},{"$f":"IF('Блок 1'!U153=\"\",\"\",'Блок 1'!U153)","v":""},{"$f":"IF('Блок 1'!V153=\"\",\"\",'Блок 1'!V153)","v":""},{"$f":"IF('Блок 1'!W153=\"\",\"\",'Блок 1'!W153)","v":""},{"$f":"IF('Блок 1'!X153=\"\",\"\",'Блок 1'!X153)","v":""},{"$f":"IF('Блок 1'!Y153=\"\",\"\",'Блок 1'!Y153)","v":""},{"$f":"IF('Блок 1'!Z153=\"\",\"\",'Блок 1'!Z153)","v":""},{"$f":"IF('Блок 1'!AA153=\"\",\"\",'Блок 1'!AA153)","v":""},{"$f":"IF('Блок 1'!AB153=\"\",\"\",'Блок 1'!AB153)","v":""},{"$f":"IF('Блок 1'!AC153=\"\",\"\",'Блок 1'!AC153)","v":""},{"$f":"IF('Блок 1'!AD153=\"\",\"\",'Блок 1'!AD153)","v":""},{"$f":"IF('Блок 1'!AE153=\"\",\"\",'Блок 1'!AE153)","v":""},{"$f":"IF('Блок 1'!AF153=\"\",\"\",'Блок 1'!AF153)","v":""},{"$f":"IF('Блок 1'!AG153=\"\",\"\",'Блок 1'!AG153)","v":""},{"$f":"IF('Блок 1'!AH153=\"\",\"\",'Блок 1'!AH153)","v":""},{"$f":"IF('Блок 1'!AI153=\"\",\"\",'Блок 1'!AI153)","v":""},{"$f":"IF('Блок 1'!AJ153=\"\",\"\",'Блок 1'!AJ153)","v":""},{"$f":"IF('Блок 1'!AK153=\"\",\"\",'Блок 1'!AK153)","v":""},{"$f":"IF('Блок 1'!AL153=\"\",\"\",'Блок 1'!AL153)","v":""},{"$f":"IF('Блок 1'!AM153=\"\",\"\",'Блок 1'!AM153)","v":""},{"$f":"IF('Блок 1'!AN153=\"\",\"\",'Блок 1'!AN153)","v":""},{"$f":"IF('Блок 1'!AO153=\"\",\"\",'Блок 1'!AO153)","v":""},{"$f":"IF('Блок 1'!AP153=\"\",\"\",'Блок 1'!AP153)","v":""},{"$f":"IF('Блок 1'!AQ153=\"\",\"\",'Блок 1'!AQ153)","v":""},{"$f":"IF('Блок 1'!AR153=\"\",\"\",'Блок 1'!AR153)","v":""},{"$f":"IF('Блок 1'!AS153=\"\",\"\",'Блок 1'!AS153)","v":""},{"$f":"IF('Блок 1'!AT153=\"\",\"\",'Блок 1'!AT153)","v":""},{"$f":"IF('Блок 1'!AU153=\"\",\"\",'Блок 1'!AU153)","v":""},{"$f":"IF('Блок 1'!AV153=\"\",\"\",'Блок 1'!AV153)","v":""},{"$f":"IF('Блок 1'!AW153=\"\",\"\",'Блок 1'!AW153)","v":""},{"$f":"IF('Блок 1'!AX153=\"\",\"\",'Блок 1'!AX153)","v":""},{"$f":"IF('Блок 1'!AY153=\"\",\"\",'Блок 1'!AY153)","v":""},{"$f":"IF('Блок 1'!AZ153=\"\",\"\",'Блок 1'!AZ153)","v":""},{"$f":"IF('Блок 1'!BA153=\"\",\"\",'Блок 1'!BA153)","v":""},{"$f":"IF('Блок 1'!BB153=\"\",\"\",'Блок 1'!BB153)","v":""},{"$f":"IF('Блок 1'!BC153=\"\",\"\",'Блок 1'!BC153)","v":""},{"$f":"IF('Блок 1'!BD153=\"\",\"\",'Блок 1'!BD153)","v":""},{"$f":"IF('Блок 1'!BE153=\"\",\"\",'Блок 1'!BE153)","v":""},{"$f":"IF('Блок 1'!BF153=\"\",\"\",'Блок 1'!BF153)","v":""},{"$f":"IF('Блок 1'!BG153=\"\",\"\",'Блок 1'!BG153)","v":""},{"$f":"IF('Блок 1'!BH153=\"\",\"\",'Блок 1'!BH153)","v":""}]
[null,{"$f":"IF('Блок 1'!B154=\"\",\"\",'Блок 1'!B154)","v":""},{"$f":"IF('Блок 1'!C154=\"\",\"\",'Блок 1'!C154)","v":""},{"$f":"IF('Блок 1'!D154=\"\",\"\",'Блок 1'!D154)","v":""},{"$f":"IF('Блок 1'!E154=\"\",\"\",'Блок 1'!E154)","v":""},{"$f":"IF('Блок 1'!F154=\"\",\"\",'Блок 1'!F154)","v":""},{"$f":"IF('Блок 1'!G154=\"\",\"\",'Блок 1'!G154)","v":""},{"$f":"IF('Блок 1'!H154=\"\",\"\",'Блок 1'!H154)","v":""},{"$f":"IF('Блок 1'!I154=\"\",\"\",'Блок 1'!I154)","v":""},{"$f":"IF('Блок 1'!J154=\"\",\"\",'Блок 1'!J154)","v":""},{"$f":"IF('Блок 1'!K154=\"\",\"\",'Блок 1'!K154)","v":""},{"$f":"IF('Блок 1'!L154=\"\",\"\",'Блок 1'!L154)","v":""},{"$f":"IF('Блок 1'!M154=\"\",\"\",'Блок 1'!M154)","v":""},{"$f":"IF('Блок 1'!N154=\"\",\"\",'Блок 1'!N154)","v":""},{"$f":"IF('Блок 1'!O154=\"\",\"\",'Блок 1'!O154)","v":""},{"$f":"IF('Блок 1'!P154=\"\",\"\",'Блок 1'!P154)","v":""},{"$f":"IF('Блок 1'!Q154=\"\",\"\",'Блок 1'!Q154)","v":""},{"$f":"IF('Блок 1'!R154=\"\",\"\",'Блок 1'!R154)","v":""},{"$f":"IF('Блок 1'!S154=\"\",\"\",'Блок 1'!S154)","v":""},{"$f":"IF('Блок 1'!T154=\"\",\"\",'Блок 1'!T154)","v":""},{"$f":"IF('Блок 1'!U154=\"\",\"\",'Блок 1'!U154)","v":""},{"$f":"IF('Блок 1'!V154=\"\",\"\",'Блок 1'!V154)","v":""},{"$f":"IF('Блок 1'!W154=\"\",\"\",'Блок 1'!W154)","v":""},{"$f":"IF('Блок 1'!X154=\"\",\"\",'Блок 1'!X154)","v":""},{"$f":"IF('Блок 1'!Y154=\"\",\"\",'Блок 1'!Y154)","v":""},{"$f":"IF('Блок 1'!Z154=\"\",\"\",'Блок 1'!Z154)","v":""},{"$f":"IF('Блок 1'!AA154=\"\",\"\",'Блок 1'!AA154)","v":""},{"$f":"IF('Блок 1'!AB154=\"\",\"\",'Блок 1'!AB154)","v":""},{"$f":"IF('Блок 1'!AC154=\"\",\"\",'Блок 1'!AC154)","v":""},{"$f":"IF('Блок 1'!AD154=\"\",\"\",'Блок 1'!AD154)","v":""},{"$f":"IF('Блок 1'!AE154=\"\",\"\",'Блок 1'!AE154)","v":""},{"$f":"IF('Блок 1'!AF154=\"\",\"\",'Блок 1'!AF154)","v":""},{"$f":"IF('Блок 1'!AG154=\"\",\"\",'Блок 1'!AG154)","v":""},{"$f":"IF('Блок 1'!AH154=\"\",\"\",'Блок 1'!AH154)","v":""},{"$f":"IF('Блок 1'!AI154=\"\",\"\",'Блок 1'!AI154)","v":""},{"$f":"IF('Блок 1'!AJ154=\"\",\"\",'Блок 1'!AJ154)","v":""},{"$f":"IF('Блок 1'!AK154=\"\",\"\",'Блок 1'!AK154)","v":""},{"$f":"IF('Блок 1'!AL154=\"\",\"\",'Блок 1'!AL154)","v":""},{"$f":"IF('Блок 1'!AM154=\"\",\"\",'Блок 1'!AM154)","v":""},{"$f":"IF('Блок 1'!AN154=\"\",\"\",'Блок 1'!AN154)","v":""},{"$f":"IF('Блок 1'!AO154=\"\",\"\",'Блок 1'!AO154)","v":""},{"$f":"IF('Блок 1'!AP154=\"\",\"\",'Блок 1'!AP154)","v":""},{"$f":"IF('Блок 1'!AQ154=\"\",\"\",'Блок 1'!AQ154)","v":""},{"$f":"IF('Блок 1'!AR154=\"\",\"\",'Блок 1'!AR154)","v":""},{"$f":"IF('Блок 1'!AS154=\"\",\"\",'Блок 1'!AS154)","v":""},{"$f":"IF('Блок 1'!AT154=\"\",\"\",'Блок 1'!AT154)","v":""},{"$f":"IF('Блок 1'!AU154=\"\",\"\",'Блок 1'!AU154)","v":""},{"$f":"IF('Блок 1'!AV154=\"\",\"\",'Блок 1'!AV154)","v":""},{"$f":"IF('Блок 1'!AW154=\"\",\"\",'Блок 1'!AW154)","v":""},{"$f":"IF('Блок 1'!AX154=\"\",\"\",'Блок 1'!AX154)","v":""},{"$f":"IF('Блок 1'!AY154=\"\",\"\",'Блок 1'!AY154)","v":""},{"$f":"IF('Блок 1'!AZ154=\"\",\"\",'Блок 1'!AZ154)","v":""},{"$f":"IF('Блок 1'!BA154=\"\",\"\",'Блок 1'!BA154)","v":""},{"$f":"IF('Блок 1'!BB154=\"\",\"\",'Блок 1'!BB154)","v":""},{"$f":"IF('Блок 1'!BC154=\"\",\"\",'Блок 1'!BC154)","v":""},{"$f":"IF('Блок 1'!BD154=\"\",\"\",'Блок 1'!BD154)","v":""},{"$f":"IF('Блок 1'!BE154=\"\",\"\",'Блок 1'!BE154)","v":""},{"$f":"IF('Блок 1'!BF154=\"\",\"\",'Блок 1'!BF154)","v":""},{"$f":"IF('Блок 1'!BG154=\"\",\"\",'Блок 1'!BG154)","v":""},{"$f":"IF('Блок 1'!BH154=\"\",\"\",'Блок 1'!BH154)","v":""}]
[null,{"$f":"IF('Блок 1'!B155=\"\",\"\",'Блок 1'!B155)","v":""},{"$f":"IF('Блок 1'!C155=\"\",\"\",'Блок 1'!C155)","v":""},{"$f":"IF('Блок 1'!D155=\"\",\"\",'Блок 1'!D155)","v":""},{"$f":"IF('Блок 1'!E155=\"\",\"\",'Блок 1'!E155)","v":""},{"$f":"IF('Блок 1'!F155=\"\",\"\",'Блок 1'!F155)","v":""},{"$f":"IF('Блок 1'!G155=\"\",\"\",'Блок 1'!G155)","v":""},{"$f":"IF('Блок 1'!H155=\"\",\"\",'Блок 1'!H155)","v":""},{"$f":"IF('Блок 1'!I155=\"\",\"\",'Блок 1'!I155)","v":""},{"$f":"IF('Блок 1'!J155=\"\",\"\",'Блок 1'!J155)","v":""},{"$f":"IF('Блок 1'!K155=\"\",\"\",'Блок 1'!K155)","v":""},{"$f":"IF('Блок 1'!L155=\"\",\"\",'Блок 1'!L155)","v":""},{"$f":"IF('Блок 1'!M155=\"\",\"\",'Блок 1'!M155)","v":""},{"$f":"IF('Блок 1'!N155=\"\",\"\",'Блок 1'!N155)","v":""},{"$f":"IF('Блок 1'!O155=\"\",\"\",'Блок 1'!O155)","v":""},{"$f":"IF('Блок 1'!P155=\"\",\"\",'Блок 1'!P155)","v":""},{"$f":"IF('Блок 1'!Q155=\"\",\"\",'Блок 1'!Q155)","v":""},{"$f":"IF('Блок 1'!R155=\"\",\"\",'Блок 1'!R155)","v":""},{"$f":"IF('Блок 1'!S155=\"\",\"\",'Блок 1'!S155)","v":""},{"$f":"IF('Блок 1'!T155=\"\",\"\",'Блок 1'!T155)","v":""},{"$f":"IF('Блок 1'!U155=\"\",\"\",'Блок 1'!U155)","v":""},{"$f":"IF('Блок 1'!V155=\"\",\"\",'Блок 1'!V155)","v":""},{"$f":"IF('Блок 1'!W155=\"\",\"\",'Блок 1'!W155)","v":""},{"$f":"IF('Блок 1'!X155=\"\",\"\",'Блок 1'!X155)","v":""},{"$f":"IF('Блок 1'!Y155=\"\",\"\",'Блок 1'!Y155)","v":""},{"$f":"IF('Блок 1'!Z155=\"\",\"\",'Блок 1'!Z155)","v":""},{"$f":"IF('Блок 1'!AA155=\"\",\"\",'Блок 1'!AA155)","v":""},{"$f":"IF('Блок 1'!AB155=\"\",\"\",'Блок 1'!AB155)","v":""},{"$f":"IF('Блок 1'!AC155=\"\",\"\",'Блок 1'!AC155)","v":""},{"$f":"IF('Блок 1'!AD155=\"\",\"\",'Блок 1'!AD155)","v":""},{"$f":"IF('Блок 1'!AE155=\"\",\"\",'Блок 1'!AE155)","v":""},{"$f":"IF('Блок 1'!AF155=\"\",\"\",'Блок 1'!AF155)","v":""},{"$f":"IF('Блок 1'!AG155=\"\",\"\",'Блок 1'!AG155)","v":""},{"$f":"IF('Блок 1'!AH155=\"\",\"\",'Блок 1'!AH155)","v":""},{"$f":"IF('Блок 1'!AI155=\"\",\"\",'Блок 1'!AI155)","v":""},{"$f":"IF('Блок 1'!AJ155=\"\",\"\",'Блок 1'!AJ155)","v":""},{"$f":"IF('Блок 1'!AK155=\"\",\"\",'Блок 1'!AK155)","v":""},{"$f":"IF('Блок 1'!AL155=\"\",\"\",'Блок 1'!AL155)","v":""},{"$f":"IF('Блок 1'!AM155=\"\",\"\",'Блок 1'!AM155)","v":""},{"$f":"IF('Блок 1'!AN155=\"\",\"\",'Блок 1'!AN155)","v":""},{"$f":"IF('Блок 1'!AO155=\"\",\"\",'Блок 1'!AO155)","v":""},{"$f":"IF('Блок 1'!AP155=\"\",\"\",'Блок 1'!AP155)","v":""},{"$f":"IF('Блок 1'!AQ155=\"\",\"\",'Блок 1'!AQ155)","v":""},{"$f":"IF('Блок 1'!AR155=\"\",\"\",'Блок 1'!AR155)","v":""},{"$f":"IF('Блок 1'!AS155=\"\",\"\",'Блок 1'!AS155)","v":""},{"$f":"IF('Блок 1'!AT155=\"\",\"\",'Блок 1'!AT155)","v":""},{"$f":"IF('Блок 1'!AU155=\"\",\"\",'Блок 1'!AU155)","v":""},{"$f":"IF('Блок 1'!AV155=\"\",\"\",'Блок 1'!AV155)","v":""},{"$f":"IF('Блок 1'!AW155=\"\",\"\",'Блок 1'!AW155)","v":""},{"$f":"IF('Блок 1'!AX155=\"\",\"\",'Блок 1'!AX155)","v":""},{"$f":"IF('Блок 1'!AY155=\"\",\"\",'Блок 1'!AY155)","v":""},{"$f":"IF('Блок 1'!AZ155=\"\",\"\",'Блок 1'!AZ155)","v":""},{"$f":"IF('Блок 1'!BA155=\"\",\"\",'Блок 1'!BA155)","v":""},{"$f":"IF('Блок 1'!BB155=\"\",\"\",'Блок 1'!BB155)","v":""},{"$f":"IF('Блок 1'!BC155=\"\",\"\",'Блок 1'!BC155)","v":""},{"$f":"IF('Блок 1'!BD155=\"\",\"\",'Блок 1'!BD155)","v":""},{"$f":"IF('Блок 1'!BE155=\"\",\"\",'Блок 1'!BE155)","v":""},{"$f":"IF('Блок 1'!BF155=\"\",\"\",'Блок 1'!BF155)","v":""},{"$f":"IF('Блок 1'!BG155=\"\",\"\",'Блок 1'!BG155)","v":""},{"$f":"IF('Блок 1'!BH155=\"\",\"\",'Блок 1'!BH155)","v":""}]
[null,{"$f":"IF('Блок 1'!B156=\"\",\"\",'Блок 1'!B156)","v":""},{"$f":"IF('Блок 1'!C156=\"\",\"\",'Блок 1'!C156)","v":""},{"$f":"IF('Блок 1'!D156=\"\",\"\",'Блок 1'!D156)","v":""},{"$f":"IF('Блок 1'!E156=\"\",\"\",'Блок 1'!E156)","v":""},{"$f":"IF('Блок 1'!F156=\"\",\"\",'Блок 1'!F156)","v":""},{"$f":"IF('Блок 1'!G156=\"\",\"\",'Блок 1'!G156)","v":""},{"$f":"IF('Блок 1'!H156=\"\",\"\",'Блок 1'!H156)","v":""},{"$f":"IF('Блок 1'!I156=\"\",\"\",'Блок 1'!I156)","v":""},{"$f":"IF('Блок 1'!J156=\"\",\"\",'Блок 1'!J156)","v":""},{"$f":"IF('Блок 1'!K156=\"\",\"\",'Блок 1'!K156)","v":""},{"$f":"IF('Блок 1'!L156=\"\",\"\",'Блок 1'!L156)","v":""},{"$f":"IF('Блок 1'!M156=\"\",\"\",'Блок 1'!M156)","v":""},{"$f":"IF('Блок 1'!N156=\"\",\"\",'Блок 1'!N156)","v":""},{"$f":"IF('Блок 1'!O156=\"\",\"\",'Блок 1'!O156)","v":""},{"$f":"IF('Блок 1'!P156=\"\",\"\",'Блок 1'!P156)","v":""},{"$f":"IF('Блок 1'!Q156=\"\",\"\",'Блок 1'!Q156)","v":""},{"$f":"IF('Блок 1'!R156=\"\",\"\",'Блок 1'!R156)","v":""},{"$f":"IF('Блок 1'!S156=\"\",\"\",'Блок 1'!S156)","v":""},{"$f":"IF('Блок 1'!T156=\"\",\"\",'Блок 1'!T156)","v":""},{"$f":"IF('Блок 1'!U156=\"\",\"\",'Блок 1'!U156)","v":""},{"$f":"IF('Блок 1'!V156=\"\",\"\",'Блок 1'!V156)","v":""},{"$f":"IF('Блок 1'!W156=\"\",\"\",'Блок 1'!W156)","v":""},{"$f":"IF('Блок 1'!X156=\"\",\"\",'Блок 1'!X156)","v":""},{"$f":"IF('Блок 1'!Y156=\"\",\"\",'Блок 1'!Y156)","v":""},{"$f":"IF('Блок 1'!Z156=\"\",\"\",'Блок 1'!Z156)","v":""},{"$f":"IF('Блок 1'!AA156=\"\",\"\",'Блок 1'!AA156)","v":""},{"$f":"IF('Блок 1'!AB156=\"\",\"\",'Блок 1'!AB156)","v":""},{"$f":"IF('Блок 1'!AC156=\"\",\"\",'Блок 1'!AC156)","v":""},{"$f":"IF('Блок 1'!AD156=\"\",\"\",'Блок 1'!AD156)","v":""},{"$f":"IF('Блок 1'!AE156=\"\",\"\",'Блок 1'!AE156)","v":""},{"$f":"IF('Блок 1'!AF156=\"\",\"\",'Блок 1'!AF156)","v":""},{"$f":"IF('Блок 1'!AG156=\"\",\"\",'Блок 1'!AG156)","v":""},{"$f":"IF('Блок 1'!AH156=\"\",\"\",'Блок 1'!AH156)","v":""},{"$f":"IF('Блок 1'!AI156=\"\",\"\",'Блок 1'!AI156)","v":""},{"$f":"IF('Блок 1'!AJ156=\"\",\"\",'Блок 1'!AJ156)","v":""},{"$f":"IF('Блок 1'!AK156=\"\",\"\",'Блок 1'!AK156)","v":""},{"$f":"IF('Блок 1'!AL156=\"\",\"\",'Блок 1'!AL156)","v":""},{"$f":"IF('Блок 1'!AM156=\"\",\"\",'Блок 1'!AM156)","v":""},{"$f":"IF('Блок 1'!AN156=\"\",\"\",'Блок 1'!AN156)","v":""},{"$f":"IF('Блок 1'!AO156=\"\",\"\",'Блок 1'!AO156)","v":""},{"$f":"IF('Блок 1'!AP156=\"\",\"\",'Блок 1'!AP156)","v":""},{"$f":"IF('Блок 1'!AQ156=\"\",\"\",'Блок 1'!AQ156)","v":""},{"$f":"IF('Блок 1'!AR156=\"\",\"\",'Блок 1'!AR156)","v":""},{"$f":"IF('Блок 1'!AS156=\"\",\"\",'Блок 1'!AS156)","v":""},{"$f":"IF('Блок 1'!AT156=\"\",\"\",'Блок 1'!AT156)","v":""},{"$f":"IF('Блок 1'!AU156=\"\",\"\",'Блок 1'!AU156)","v":""},{"$f":"IF('Блок 1'!AV156=\"\",\"\",'Блок 1'!AV156)","v":""},{"$f":"IF('Блок 1'!AW156=\"\",\"\",'Блок 1'!AW156)","v":""},{"$f":"IF('Блок 1'!AX156=\"\",\"\",'Блок 1'!AX156)","v":""},{"$f":"IF('Блок 1'!AY156=\"\",\"\",'Блок 1'!AY156)","v":""},{"$f":"IF('Блок 1'!AZ156=\"\",\"\",'Блок 1'!AZ156)","v":""},{"$f":"IF('Блок 1'!BA156=\"\",\"\",'Блок 1'!BA156)","v":""},{"$f":"IF('Блок 1'!BB156=\"\",\"\",'Блок 1'!BB156)","v":""},{"$f":"IF('Блок 1'!BC156=\"\",\"\",'Блок 1'!BC156)","v":""},{"$f":"IF('Блок 1'!BD156=\"\",\"\",'Блок 1'!BD156)","v":""},{"$f":"IF('Блок 1'!BE156=\"\",\"\",'Блок 1'!BE156)","v":""},{"$f":"IF('Блок 1'!BF156=\"\",\"\",'Блок 1'!BF156)","v":""},{"$f":"IF('Блок 1'!BG156=\"\",\"\",'Блок 1'!BG156)","v":""},{"$f":"IF('Блок 1'!BH156=\"\",\"\",'Блок 1'!BH156)","v":""}]
[null,{"$f":"IF('Блок 1'!B157=\"\",\"\",'Блок 1'!B157)","v":""},{"$f":"IF('Блок 1'!C157=\"\",\"\",'Блок 1'!C157)","v":""},{"$f":"IF('Блок 1'!D157=\"\",\"\",'Блок 1'!D157)","v":""},{"$f":"IF('Блок 1'!E157=\"\",\"\",'Блок 1'!E157)","v":""},{"$f":"IF('Блок 1'!F157=\"\",\"\",'Блок 1'!F157)","v":""},{"$f":"IF('Блок 1'!G157=\"\",\"\",'Блок 1'!G157)","v":""},{"$f":"IF('Блок 1'!H157=\"\",\"\",'Блок 1'!H157)","v":""},{"$f":"IF('Блок 1'!I157=\"\",\"\",'Блок 1'!I157)","v":""},{"$f":"IF('Блок 1'!J157=\"\",\"\",'Блок 1'!J157)","v":""},{"$f":"IF('Блок 1'!K157=\"\",\"\",'Блок 1'!K157)","v":""},{"$f":"IF('Блок 1'!L157=\"\",\"\",'Блок 1'!L157)","v":""},{"$f":"IF('Блок 1'!M157=\"\",\"\",'Блок 1'!M157)","v":""},{"$f":"IF('Блок 1'!N157=\"\",\"\",'Блок 1'!N157)","v":""},{"$f":"IF('Блок 1'!O157=\"\",\"\",'Блок 1'!O157)","v":""},{"$f":"IF('Блок 1'!P157=\"\",\"\",'Блок 1'!P157)","v":""},{"$f":"IF('Блок 1'!Q157=\"\",\"\",'Блок 1'!Q157)","v":""},{"$f":"IF('Блок 1'!R157=\"\",\"\",'Блок 1'!R157)","v":""},{"$f":"IF('Блок 1'!S157=\"\",\"\",'Блок 1'!S157)","v":""},{"$f":"IF('Блок 1'!T157=\"\",\"\",'Блок 1'!T157)","v":""},{"$f":"IF('Блок 1'!U157=\"\",\"\",'Блок 1'!U157)","v":""},{"$f":"IF('Блок 1'!V157=\"\",\"\",'Блок 1'!V157)","v":""},{"$f":"IF('Блок 1'!W157=\"\",\"\",'Блок 1'!W157)","v":""},{"$f":"IF('Блок 1'!X157=\"\",\"\",'Блок 1'!X157)","v":""},{"$f":"IF('Блок 1'!Y157=\"\",\"\",'Блок 1'!Y157)","v":""},{"$f":"IF('Блок 1'!Z157=\"\",\"\",'Блок 1'!Z157)","v":""},{"$f":"IF('Блок 1'!AA157=\"\",\"\",'Блок 1'!AA157)","v":""},{"$f":"IF('Блок 1'!AB157=\"\",\"\",'Блок 1'!AB157)","v":""},{"$f":"IF('Блок 1'!AC157=\"\",\"\",'Блок 1'!AC157)","v":""},{"$f":"IF('Блок 1'!AD157=\"\",\"\",'Блок 1'!AD157)","v":""},{"$f":"IF('Блок 1'!AE157=\"\",\"\",'Блок 1'!AE157)","v":""},{"$f":"IF('Блок 1'!AF157=\"\",\"\",'Блок 1'!AF157)","v":""},{"$f":"IF('Блок 1'!AG157=\"\",\"\",'Блок 1'!AG157)","v":""},{"$f":"IF('Блок 1'!AH157=\"\",\"\",'Блок 1'!AH157)","v":""},{"$f":"IF('Блок 1'!AI157=\"\",\"\",'Блок 1'!AI157)","v":""},{"$f":"IF('Блок 1'!AJ157=\"\",\"\",'Блок 1'!AJ157)","v":""},{"$f":"IF('Блок 1'!AK157=\"\",\"\",'Блок 1'!AK157)","v":""},{"$f":"IF('Блок 1'!AL157=\"\",\"\",'Блок 1'!AL157)","v":""},{"$f":"IF('Блок 1'!AM157=\"\",\"\",'Блок 1'!AM157)","v":""},{"$f":"IF('Блок 1'!AN157=\"\",\"\",'Блок 1'!AN157)","v":""},{"$f":"IF('Блок 1'!AO157=\"\",\"\",'Блок 1'!AO157)","v":""},{"$f":"IF('Блок 1'!AP157=\"\",\"\",'Блок 1'!AP157)","v":""},{"$f":"IF('Блок 1'!AQ157=\"\",\"\",'Блок 1'!AQ157)","v":""},{"$f":"IF('Блок 1'!AR157=\"\",\"\",'Блок 1'!AR157)","v":""},{"$f":"IF('Блок 1'!AS157=\"\",\"\",'Блок 1'!AS157)","v":""},{"$f":"IF('Блок 1'!AT157=\"\",\"\",'Блок 1'!AT157)","v":""},{"$f":"IF('Блок 1'!AU157=\"\",\"\",'Блок 1'!AU157)","v":""},{"$f":"IF('Блок 1'!AV157=\"\",\"\",'Блок 1'!AV157)","v":""},{"$f":"IF('Блок 1'!AW157=\"\",\"\",'Блок 1'!AW157)","v":""},{"$f":"IF('Блок 1'!AX157=\"\",\"\",'Блок 1'!AX157)","v":""},{"$f":"IF('Блок 1'!AY157=\"\",\"\",'Блок 1'!AY157)","v":""},{"$f":"IF('Блок 1'!AZ157=\"\",\"\",'Блок 1'!AZ157)","v":""},{"$f":"IF('Блок 1'!BA157=\"\",\"\",'Блок 1'!BA157)","v":""},{"$f":"IF('Блок 1'!BB157=\"\",\"\",'Блок 1'!BB157)","v":""},{"$f":"IF('Блок 1'!BC157=\"\",\"\",'Блок 1'!BC157)","v":""},{"$f":"IF('Блок 1'!BD157=\"\",\"\",'Блок 1'!BD157)","v":""},{"$f":"IF('Блок 1'!BE157=\"\",\"\",'Блок 1'!BE157)","v":""},{"$f":"IF('Блок 1'!BF157=\"\",\"\",'Блок 1'!BF157)","v":""},{"$f":"IF('Блок 1'!BG157=\"\",\"\",'Блок 1'!BG157)","v":""},{"$f":"IF('Блок 1'!BH157=\"\",\"\",'Блок 1'!BH157)","v":""}]
[null,{"$f":"IF('Блок 1'!B158=\"\",\"\",'Блок 1'!B158)","v":""},{"$f":"IF('Блок 1'!C158=\"\",\"\",'Блок 1'!C158)","v":""},{"$f":"IF('Блок 1'!D158=\"\",\"\",'Блок 1'!D158)","v":""},{"$f":"IF('Блок 1'!E158=\"\",\"\",'Блок 1'!E158)","v":""},{"$f":"IF('Блок 1'!F158=\"\",\"\",'Блок 1'!F158)","v":""},{"$f":"IF('Блок 1'!G158=\"\",\"\",'Блок 1'!G158)","v":""},{"$f":"IF('Блок 1'!H158=\"\",\"\",'Блок 1'!H158)","v":""},{"$f":"IF('Блок 1'!I158=\"\",\"\",'Блок 1'!I158)","v":""},{"$f":"IF('Блок 1'!J158=\"\",\"\",'Блок 1'!J158)","v":""},{"$f":"IF('Блок 1'!K158=\"\",\"\",'Блок 1'!K158)","v":""},{"$f":"IF('Блок 1'!L158=\"\",\"\",'Блок 1'!L158)","v":""},{"$f":"IF('Блок 1'!M158=\"\",\"\",'Блок 1'!M158)","v":""},{"$f":"IF('Блок 1'!N158=\"\",\"\",'Блок 1'!N158)","v":""},{"$f":"IF('Блок 1'!O158=\"\",\"\",'Блок 1'!O158)","v":""},{"$f":"IF('Блок 1'!P158=\"\",\"\",'Блок 1'!P158)","v":""},{"$f":"IF('Блок 1'!Q158=\"\",\"\",'Блок 1'!Q158)","v":""},{"$f":"IF('Блок 1'!R158=\"\",\"\",'Блок 1'!R158)","v":""},{"$f":"IF('Блок 1'!S158=\"\",\"\",'Блок 1'!S158)","v":""},{"$f":"IF('Блок 1'!T158=\"\",\"\",'Блок 1'!T158)","v":""},{"$f":"IF('Блок 1'!U158=\"\",\"\",'Блок 1'!U158)","v":""},{"$f":"IF('Блок 1'!V158=\"\",\"\",'Блок 1'!V158)","v":""},{"$f":"IF('Блок 1'!W158=\"\",\"\",'Блок 1'!W158)","v":""},{"$f":"IF('Блок 1'!X158=\"\",\"\",'Блок 1'!X158)","v":""},{"$f":"IF('Блок 1'!Y158=\"\",\"\",'Блок 1'!Y158)","v":""},{"$f":"IF('Блок 1'!Z158=\"\",\"\",'Блок 1'!Z158)","v":""},{"$f":"IF('Блок 1'!AA158=\"\",\"\",'Блок 1'!AA158)","v":""},{"$f":"IF('Блок 1'!AB158=\"\",\"\",'Блок 1'!AB158)","v":""},{"$f":"IF('Блок 1'!AC158=\"\",\"\",'Блок 1'!AC158)","v":""},{"$f":"IF('Блок 1'!AD158=\"\",\"\",'Блок 1'!AD158)","v":""},{"$f":"IF('Блок 1'!AE158=\"\",\"\",'Блок 1'!AE158)","v":""},{"$f":"IF('Блок 1'!AF158=\"\",\"\",'Блок 1'!AF158)","v":""},{"$f":"IF('Блок 1'!AG158=\"\",\"\",'Блок 1'!AG158)","v":""},{"$f":"IF('Блок 1'!AH158=\"\",\"\",'Блок 1'!AH158)","v":""},{"$f":"IF('Блок 1'!AI158=\"\",\"\",'Блок 1'!AI158)","v":""},{"$f":"IF('Блок 1'!AJ158=\"\",\"\",'Блок 1'!AJ158)","v":""},{"$f":"IF('Блок 1'!AK158=\"\",\"\",'Блок 1'!AK158)","v":""},{"$f":"IF('Блок 1'!AL158=\"\",\"\",'Блок 1'!AL158)","v":""},{"$f":"IF('Блок 1'!AM158=\"\",\"\",'Блок 1'!AM158)","v":""},{"$f":"IF('Блок 1'!AN158=\"\",\"\",'Блок 1'!AN158)","v":""},{"$f":"IF('Блок 1'!AO158=\"\",\"\",'Блок 1'!AO158)","v":""},{"$f":"IF('Блок 1'!AP158=\"\",\"\",'Блок 1'!AP158)","v":""},{"$f":"IF('Блок 1'!AQ158=\"\",\"\",'Блок 1'!AQ158)","v":""},{"$f":"IF('Блок 1'!AR158=\"\",\"\",'Блок 1'!AR158)","v":""},{"$f":"IF('Блок 1'!AS158=\"\",\"\",'Блок 1'!AS158)","v":""},{"$f":"IF('Блок 1'!AT158=\"\",\"\",'Блок 1'!AT158)","v":""},{"$f":"IF('Блок 1'!AU158=\"\",\"\",'Блок 1'!AU158)","v":""},{"$f":"IF('Блок 1'!AV158=\"\",\"\",'Блок 1'!AV158)","v":""},{"$f":"IF('Блок 1'!AW158=\"\",\"\",'Блок 1'!AW158)","v":""},{"$f":"IF('Блок 1'!AX158=\"\",\"\",'Блок 1'!AX158)","v":""},{"$f":"IF('Блок 1'!AY158=\"\",\"\",'Блок 1'!AY158)","v":""},{"$f":"IF('Блок 1'!AZ158=\"\",\"\",'Блок 1'!AZ158)","v":""},{"$f":"IF('Блок 1'!BA158=\"\",\"\",'Блок 1'!BA158)","v":""},{"$f":"IF('Блок 1'!BB158=\"\",\"\",'Блок 1'!BB158)","v":""},{"$f":"IF('Блок 1'!BC158=\"\",\"\",'Блок 1'!BC158)","v":""},{"$f":"IF('Блок 1'!BD158=\"\",\"\",'Блок 1'!BD158)","v":""},{"$f":"IF('Блок 1'!BE158=\"\",\"\",'Блок 1'!BE158)","v":""},{"$f":"IF('Блок 1'!BF158=\"\",\"\",'Блок 1'!BF158)","v":""},{"$f":"IF('Блок 1'!BG158=\"\",\"\",'Блок 1'!BG158)","v":""},{"$f":"IF('Блок 1'!BH158=\"\",\"\",'Блок 1'!BH158)","v":""}]
[null,{"$f":"IF('Блок 1'!B159=\"\",\"\",'Блок 1'!B159)","v":""},{"$f":"IF('Блок 1'!C159=\"\",\"\",'Блок 1'!C159)","v":""},{"$f":"IF('Блок 1'!D159=\"\",\"\",'Блок 1'!D159)","v":""},{"$f":"IF('Блок 1'!E159=\"\",\"\",'Блок 1'!E159)","v":""},{"$f":"IF('Блок 1'!F159=\"\",\"\",'Блок 1'!F159)","v":""},{"$f":"IF('Блок 1'!G159=\"\",\"\",'Блок 1'!G159)","v":""},{"$f":"IF('Блок 1'!H159=\"\",\"\",'Блок 1'!H159)","v":""},{"$f":"IF('Блок 1'!I159=\"\",\"\",'Блок 1'!I159)","v":""},{"$f":"IF('Блок 1'!J159=\"\",\"\",'Блок 1'!J159)","v":""},{"$f":"IF('Блок 1'!K159=\"\",\"\",'Блок 1'!K159)","v":""},{"$f":"IF('Блок 1'!L159=\"\",\"\",'Блок 1'!L159)","v":""},{"$f":"IF('Блок 1'!M159=\"\",\"\",'Блок 1'!M159)","v":""},{"$f":"IF('Блок 1'!N159=\"\",\"\",'Блок 1'!N159)","v":""},{"$f":"IF('Блок 1'!O159=\"\",\"\",'Блок 1'!O159)","v":""},{"$f":"IF('Блок 1'!P159=\"\",\"\",'Блок 1'!P159)","v":""},{"$f":"IF('Блок 1'!Q159=\"\",\"\",'Блок 1'!Q159)","v":""},{"$f":"IF('Блок 1'!R159=\"\",\"\",'Блок 1'!R159)","v":""},{"$f":"IF('Блок 1'!S159=\"\",\"\",'Блок 1'!S159)","v":""},{"$f":"IF('Блок 1'!T159=\"\",\"\",'Блок 1'!T159)","v":""},{"$f":"IF('Блок 1'!U159=\"\",\"\",'Блок 1'!U159)","v":""},{"$f":"IF('Блок 1'!V159=\"\",\"\",'Блок 1'!V159)","v":""},{"$f":"IF('Блок 1'!W159=\"\",\"\",'Блок 1'!W159)","v":""},{"$f":"IF('Блок 1'!X159=\"\",\"\",'Блок 1'!X159)","v":""},{"$f":"IF('Блок 1'!Y159=\"\",\"\",'Блок 1'!Y159)","v":""},{"$f":"IF('Блок 1'!Z159=\"\",\"\",'Блок 1'!Z159)","v":""},{"$f":"IF('Блок 1'!AA159=\"\",\"\",'Блок 1'!AA159)","v":""},{"$f":"IF('Блок 1'!AB159=\"\",\"\",'Блок 1'!AB159)","v":""},{"$f":"IF('Блок 1'!AC159=\"\",\"\",'Блок 1'!AC159)","v":""},{"$f":"IF('Блок 1'!AD159=\"\",\"\",'Блок 1'!AD159)","v":""},{"$f":"IF('Блок 1'!AE159=\"\",\"\",'Блок 1'!AE159)","v":""},{"$f":"IF('Блок 1'!AF159=\"\",\"\",'Блок 1'!AF159)","v":""},{"$f":"IF('Блок 1'!AG159=\"\",\"\",'Блок 1'!AG159)","v":""},{"$f":"IF('Блок 1'!AH159=\"\",\"\",'Блок 1'!AH159)","v":""},{"$f":"IF('Блок 1'!AI159=\"\",\"\",'Блок 1'!AI159)","v":""},{"$f":"IF('Блок 1'!AJ159=\"\",\"\",'Блок 1'!AJ159)","v":""},{"$f":"IF('Блок 1'!AK159=\"\",\"\",'Блок 1'!AK159)","v":""},{"$f":"IF('Блок 1'!AL159=\"\",\"\",'Блок 1'!AL159)","v":""},{"$f":"IF('Блок 1'!AM159=\"\",\"\",'Блок 1'!AM159)","v":""},{"$f":"IF('Блок 1'!AN159=\"\",\"\",'Блок 1'!AN159)","v":""},{"$f":"IF('Блок 1'!AO159=\"\",\"\",'Блок 1'!AO159)","v":""},{"$f":"IF('Блок 1'!AP159=\"\",\"\",'Блок 1'!AP159)","v":""},{"$f":"IF('Блок 1'!AQ159=\"\",\"\",'Блок 1'!AQ159)","v":""},{"$f":"IF('Блок 1'!AR159=\"\",\"\",'Блок 1'!AR159)","v":""},{"$f":"IF('Блок 1'!AS159=\"\",\"\",'Блок 1'!AS159)","v":""},{"$f":"IF('Блок 1'!AT159=\"\",\"\",'Блок 1'!AT159)","v":""},{"$f":"IF('Блок 1'!AU159=\"\",\"\",'Блок 1'!AU159)","v":""},{"$f":"IF('Блок 1'!AV159=\"\",\"\",'Блок 1'!AV159)","v":""},{"$f":"IF('Блок 1'!AW159=\"\",\"\",'Блок 1'!AW159)","v":""},{"$f":"IF('Блок 1'!AX159=\"\",\"\",'Блок 1'!AX159)","v":""},{"$f":"IF('Блок 1'!AY159=\"\",\"\",'Блок 1'!AY159)","v":""},{"$f":"IF('Блок 1'!AZ159=\"\",\"\",'Блок 1'!AZ159)","v":""},{"$f":"IF('Блок 1'!BA159=\"\",\"\",'Блок 1'!BA159)","v":""},{"$f":"IF('Блок 1'!BB159=\"\",\"\",'Блок 1'!BB159)","v":""},{"$f":"IF('Блок 1'!BC159=\"\",\"\",'Блок 1'!BC159)","v":""},{"$f":"IF('Блок 1'!BD159=\"\",\"\",'Блок 1'!BD159)","v":""},{"$f":"IF('Блок 1'!BE159=\"\",\"\",'Блок 1'!BE159)","v":""},{"$f":"IF('Блок 1'!BF159=\"\",\"\",'Блок 1'!BF159)","v":""},{"$f":"IF('Блок 1'!BG159=\"\",\"\",'Блок 1'!BG159)","v":""},{"$f":"IF('Блок 1'!BH159=\"\",\"\",'Блок 1'!BH159)","v":""}]
[null,{"$f":"IF('Блок 1'!B160=\"\",\"\",'Блок 1'!B160)","v":""},{"$f":"IF('Блок 1'!C160=\"\",\"\",'Блок 1'!C160)","v":""},{"$f":"IF('Блок 1'!D160=\"\",\"\",'Блок 1'!D160)","v":""},{"$f":"IF('Блок 1'!E160=\"\",\"\",'Блок 1'!E160)","v":""},{"$f":"IF('Блок 1'!F160=\"\",\"\",'Блок 1'!F160)","v":""},{"$f":"IF('Блок 1'!G160=\"\",\"\",'Блок 1'!G160)","v":""},{"$f":"IF('Блок 1'!H160=\"\",\"\",'Блок 1'!H160)","v":""},{"$f":"IF('Блок 1'!I160=\"\",\"\",'Блок 1'!I160)","v":""},{"$f":"IF('Блок 1'!J160=\"\",\"\",'Блок 1'!J160)","v":""},{"$f":"IF('Блок 1'!K160=\"\",\"\",'Блок 1'!K160)","v":""},{"$f":"IF('Блок 1'!L160=\"\",\"\",'Блок 1'!L160)","v":""},{"$f":"IF('Блок 1'!M160=\"\",\"\",'Блок 1'!M160)","v":""},{"$f":"IF('Блок 1'!N160=\"\",\"\",'Блок 1'!N160)","v":""},{"$f":"IF('Блок 1'!O160=\"\",\"\",'Блок 1'!O160)","v":""},{"$f":"IF('Блок 1'!P160=\"\",\"\",'Блок 1'!P160)","v":""},{"$f":"IF('Блок 1'!Q160=\"\",\"\",'Блок 1'!Q160)","v":""},{"$f":"IF('Блок 1'!R160=\"\",\"\",'Блок 1'!R160)","v":""},{"$f":"IF('Блок 1'!S160=\"\",\"\",'Блок 1'!S160)","v":""},{"$f":"IF('Блок 1'!T160=\"\",\"\",'Блок 1'!T160)","v":""},{"$f":"IF('Блок 1'!U160=\"\",\"\",'Блок 1'!U160)","v":""},{"$f":"IF('Блок 1'!V160=\"\",\"\",'Блок 1'!V160)","v":""},{"$f":"IF('Блок 1'!W160=\"\",\"\",'Блок 1'!W160)","v":""},{"$f":"IF('Блок 1'!X160=\"\",\"\",'Блок 1'!X160)","v":""},{"$f":"IF('Блок 1'!Y160=\"\",\"\",'Блок 1'!Y160)","v":""},{"$f":"IF('Блок 1'!Z160=\"\",\"\",'Блок 1'!Z160)","v":""},{"$f":"IF('Блок 1'!AA160=\"\",\"\",'Блок 1'!AA160)","v":""},{"$f":"IF('Блок 1'!AB160=\"\",\"\",'Блок 1'!AB160)","v":""},{"$f":"IF('Блок 1'!AC160=\"\",\"\",'Блок 1'!AC160)","v":""},{"$f":"IF('Блок 1'!AD160=\"\",\"\",'Блок 1'!AD160)","v":""},{"$f":"IF('Блок 1'!AE160=\"\",\"\",'Блок 1'!AE160)","v":""},{"$f":"IF('Блок 1'!AF160=\"\",\"\",'Блок 1'!AF160)","v":""},{"$f":"IF('Блок 1'!AG160=\"\",\"\",'Блок 1'!AG160)","v":""},{"$f":"IF('Блок 1'!AH160=\"\",\"\",'Блок 1'!AH160)","v":""},{"$f":"IF('Блок 1'!AI160=\"\",\"\",'Блок 1'!AI160)","v":""},{"$f":"IF('Блок 1'!AJ160=\"\",\"\",'Блок 1'!AJ160)","v":""},{"$f":"IF('Блок 1'!AK160=\"\",\"\",'Блок 1'!AK160)","v":""},{"$f":"IF('Блок 1'!AL160=\"\",\"\",'Блок 1'!AL160)","v":""},{"$f":"IF('Блок 1'!AM160=\"\",\"\",'Блок 1'!AM160)","v":""},{"$f":"IF('Блок 1'!AN160=\"\",\"\",'Блок 1'!AN160)","v":""},{"$f":"IF('Блок 1'!AO160=\"\",\"\",'Блок 1'!AO160)","v":""},{"$f":"IF('Блок 1'!AP160=\"\",\"\",'Блок 1'!AP160)","v":""},{"$f":"IF('Блок 1'!AQ160=\"\",\"\",'Блок 1'!AQ160)","v":""},{"$f":"IF('Блок 1'!AR160=\"\",\"\",'Блок 1'!AR160)","v":""},{"$f":"IF('Блок 1'!AS160=\"\",\"\",'Блок 1'!AS160)","v":""},{"$f":"IF('Блок 1'!AT160=\"\",\"\",'Блок 1'!AT160)","v":""},{"$f":"IF('Блок 1'!AU160=\"\",\"\",'Блок 1'!AU160)","v":""},{"$f":"IF('Блок 1'!AV160=\"\",\"\",'Блок 1'!AV160)","v":""},{"$f":"IF('Блок 1'!AW160=\"\",\"\",'Блок 1'!AW160)","v":""},{"$f":"IF('Блок 1'!AX160=\"\",\"\",'Блок 1'!AX160)","v":""},{"$f":"IF('Блок 1'!AY160=\"\",\"\",'Блок 1'!AY160)","v":""},{"$f":"IF('Блок 1'!AZ160=\"\",\"\",'Блок 1'!AZ160)","v":""},{"$f":"IF('Блок 1'!BA160=\"\",\"\",'Блок 1'!BA160)","v":""},{"$f":"IF('Блок 1'!BB160=\"\",\"\",'Блок 1'!BB160)","v":""},{"$f":"IF('Блок 1'!BC160=\"\",\"\",'Блок 1'!BC160)","v":""},{"$f":"IF('Блок 1'!BD160=\"\",\"\",'Блок 1'!BD160)","v":""},{"$f":"IF('Блок 1'!BE160=\"\",\"\",'Блок 1'!BE160)","v":""},{"$f":"IF('Блок 1'!BF160=\"\",\"\",'Блок 1'!BF160)","v":""},{"$f":"IF('Блок 1'!BG160=\"\",\"\",'Блок 1'!BG160)","v":""},{"$f":"IF('Блок 1'!BH160=\"\",\"\",'Блок 1'!BH160)","v":""}]
[null,{"$f":"IF('Блок 1'!B161=\"\",\"\",'Блок 1'!B161)","v":""},{"$f":"IF('Блок 1'!C161=\"\",\"\",'Блок 1'!C161)","v":""},{"$f":"IF('Блок 1'!D161=\"\",\"\",'Блок 1'!D161)","v":""},{"$f":"IF('Блок 1'!E161=\"\",\"\",'Блок 1'!E161)","v":""},{"$f":"IF('Блок 1'!F161=\"\",\"\",'Блок 1'!F161)","v":""},{"$f":"IF('Блок 1'!G161=\"\",\"\",'Блок 1'!G161)","v":""},{"$f":"IF('Блок 1'!H161=\"\",\"\",'Блок 1'!H161)","v":""},{"$f":"IF('Блок 1'!I161=\"\",\"\",'Блок 1'!I161)","v":""},{"$f":"IF('Блок 1'!J161=\"\",\"\",'Блок 1'!J161)","v":""},{"$f":"IF('Блок 1'!K161=\"\",\"\",'Блок 1'!K161)","v":""},{"$f":"IF('Блок 1'!L161=\"\",\"\",'Блок 1'!L161)","v":""},{"$f":"IF('Блок 1'!M161=\"\",\"\",'Блок 1'!M161)","v":""},{"$f":"IF('Блок 1'!N161=\"\",\"\",'Блок 1'!N161)","v":""},{"$f":"IF('Блок 1'!O161=\"\",\"\",'Блок 1'!O161)","v":""},{"$f":"IF('Блок 1'!P161=\"\",\"\",'Блок 1'!P161)","v":""},{"$f":"IF('Блок 1'!Q161=\"\",\"\",'Блок 1'!Q161)","v":""},{"$f":"IF('Блок 1'!R161=\"\",\"\",'Блок 1'!R161)","v":""},{"$f":"IF('Блок 1'!S161=\"\",\"\",'Блок 1'!S161)","v":""},{"$f":"IF('Блок 1'!T161=\"\",\"\",'Блок 1'!T161)","v":""},{"$f":"IF('Блок 1'!U161=\"\",\"\",'Блок 1'!U161)","v":""},{"$f":"IF('Блок 1'!V161=\"\",\"\",'Блок 1'!V161)","v":""},{"$f":"IF('Блок 1'!W161=\"\",\"\",'Блок 1'!W161)","v":""},{"$f":"IF('Блок 1'!X161=\"\",\"\",'Блок 1'!X161)","v":""},{"$f":"IF('Блок 1'!Y161=\"\",\"\",'Блок 1'!Y161)","v":""},{"$f":"IF('Блок 1'!Z161=\"\",\"\",'Блок 1'!Z161)","v":""},{"$f":"IF('Блок 1'!AA161=\"\",\"\",'Блок 1'!AA161)","v":""},{"$f":"IF('Блок 1'!AB161=\"\",\"\",'Блок 1'!AB161)","v":""},{"$f":"IF('Блок 1'!AC161=\"\",\"\",'Блок 1'!AC161)","v":""},{"$f":"IF('Блок 1'!AD161=\"\",\"\",'Блок 1'!AD161)","v":""},{"$f":"IF('Блок 1'!AE161=\"\",\"\",'Блок 1'!AE161)","v":""},{"$f":"IF('Блок 1'!AF161=\"\",\"\",'Блок 1'!AF161)","v":""},{"$f":"IF('Блок 1'!AG161=\"\",\"\",'Блок 1'!AG161)","v":""},{"$f":"IF('Блок 1'!AH161=\"\",\"\",'Блок 1'!AH161)","v":""},{"$f":"IF('Блок 1'!AI161=\"\",\"\",'Блок 1'!AI161)","v":""},{"$f":"IF('Блок 1'!AJ161=\"\",\"\",'Блок 1'!AJ161)","v":""},{"$f":"IF('Блок 1'!AK161=\"\",\"\",'Блок 1'!AK161)","v":""},{"$f":"IF('Блок 1'!AL161=\"\",\"\",'Блок 1'!AL161)","v":""},{"$f":"IF('Блок 1'!AM161=\"\",\"\",'Блок 1'!AM161)","v":""},{"$f":"IF('Блок 1'!AN161=\"\",\"\",'Блок 1'!AN161)","v":""},{"$f":"IF('Блок 1'!AO161=\"\",\"\",'Блок 1'!AO161)","v":""},{"$f":"IF('Блок 1'!AP161=\"\",\"\",'Блок 1'!AP161)","v":""},{"$f":"IF('Блок 1'!AQ161=\"\",\"\",'Блок 1'!AQ161)","v":""},{"$f":"IF('Блок 1'!AR161=\"\",\"\",'Блок 1'!AR161)","v":""},{"$f":"IF('Блок 1'!AS161=\"\",\"\",'Блок 1'!AS161)","v":""},{"$f":"IF('Блок 1'!AT161=\"\",\"\",'Блок 1'!AT161)","v":""},{"$f":"IF('Блок 1'!AU161=\"\",\"\",'Блок 1'!AU161)","v":""},{"$f":"IF('Блок 1'!AV161=\"\",\"\",'Блок 1'!AV161)","v":""},{"$f":"IF('Блок 1'!AW161=\"\",\"\",'Блок 1'!AW161)","v":""},{"$f":"IF('Блок 1'!AX161=\"\",\"\",'Блок 1'!AX161)","v":""},{"$f":"IF('Блок 1'!AY161=\"\",\"\",'Блок 1'!AY161)","v":""},{"$f":"IF('Блок 1'!AZ161=\"\",\"\",'Блок 1'!AZ161)","v":""},{"$f":"IF('Блок 1'!BA161=\"\",\"\",'Блок 1'!BA161)","v":""},{"$f":"IF('Блок 1'!BB161=\"\",\"\",'Блок 1'!BB161)","v":""},{"$f":"IF('Блок 1'!BC161=\"\",\"\",'Блок 1'!BC161)","v":""},{"$f":"IF('Блок 1'!BD161=\"\",\"\",'Блок 1'!BD161)","v":""},{"$f":"IF('Блок 1'!BE161=\"\",\"\",'Блок 1'!BE161)","v":""},{"$f":"IF('Блок 1'!BF161=\"\",\"\",'Блок 1'!BF161)","v":""},{"$f":"IF('Блок 1'!BG161=\"\",\"\",'Блок 1'!BG161)","v":""},{"$f":"IF('Блок 1'!BH161=\"\",\"\",'Блок 1'!BH161)","v":""}]
[null,{"$f":"IF('Блок 1'!B162=\"\",\"\",'Блок 1'!B162)","v":""},{"$f":"IF('Блок 1'!C162=\"\",\"\",'Блок 1'!C162)","v":""},{"$f":"IF('Блок 1'!D162=\"\",\"\",'Блок 1'!D162)","v":""},{"$f":"IF('Блок 1'!E162=\"\",\"\",'Блок 1'!E162)","v":""},{"$f":"IF('Блок 1'!F162=\"\",\"\",'Блок 1'!F162)","v":""},{"$f":"IF('Блок 1'!G162=\"\",\"\",'Блок 1'!G162)","v":""},{"$f":"IF('Блок 1'!H162=\"\",\"\",'Блок 1'!H162)","v":""},{"$f":"IF('Блок 1'!I162=\"\",\"\",'Блок 1'!I162)","v":""},{"$f":"IF('Блок 1'!J162=\"\",\"\",'Блок 1'!J162)","v":""},{"$f":"IF('Блок 1'!K162=\"\",\"\",'Блок 1'!K162)","v":""},{"$f":"IF('Блок 1'!L162=\"\",\"\",'Блок 1'!L162)","v":""},{"$f":"IF('Блок 1'!M162=\"\",\"\",'Блок 1'!M162)","v":""},{"$f":"IF('Блок 1'!N162=\"\",\"\",'Блок 1'!N162)","v":""},{"$f":"IF('Блок 1'!O162=\"\",\"\",'Блок 1'!O162)","v":""},{"$f":"IF('Блок 1'!P162=\"\",\"\",'Блок 1'!P162)","v":""},{"$f":"IF('Блок 1'!Q162=\"\",\"\",'Блок 1'!Q162)","v":""},{"$f":"IF('Блок 1'!R162=\"\",\"\",'Блок 1'!R162)","v":""},{"$f":"IF('Блок 1'!S162=\"\",\"\",'Блок 1'!S162)","v":""},{"$f":"IF('Блок 1'!T162=\"\",\"\",'Блок 1'!T162)","v":""},{"$f":"IF('Блок 1'!U162=\"\",\"\",'Блок 1'!U162)","v":""},{"$f":"IF('Блок 1'!V162=\"\",\"\",'Блок 1'!V162)","v":""},{"$f":"IF('Блок 1'!W162=\"\",\"\",'Блок 1'!W162)","v":""},{"$f":"IF('Блок 1'!X162=\"\",\"\",'Блок 1'!X162)","v":""},{"$f":"IF('Блок 1'!Y162=\"\",\"\",'Блок 1'!Y162)","v":""},{"$f":"IF('Блок 1'!Z162=\"\",\"\",'Блок 1'!Z162)","v":""},{"$f":"IF('Блок 1'!AA162=\"\",\"\",'Блок 1'!AA162)","v":""},{"$f":"IF('Блок 1'!AB162=\"\",\"\",'Блок 1'!AB162)","v":""},{"$f":"IF('Блок 1'!AC162=\"\",\"\",'Блок 1'!AC162)","v":""},{"$f":"IF('Блок 1'!AD162=\"\",\"\",'Блок 1'!AD162)","v":""},{"$f":"IF('Блок 1'!AE162=\"\",\"\",'Блок 1'!AE162)","v":""},{"$f":"IF('Блок 1'!AF162=\"\",\"\",'Блок 1'!AF162)","v":""},{"$f":"IF('Блок 1'!AG162=\"\",\"\",'Блок 1'!AG162)","v":""},{"$f":"IF('Блок 1'!AH162=\"\",\"\",'Блок 1'!AH162)","v":""},{"$f":"IF('Блок 1'!AI162=\"\",\"\",'Блок 1'!AI162)","v":""},{"$f":"IF('Блок 1'!AJ162=\"\",\"\",'Блок 1'!AJ162)","v":""},{"$f":"IF('Блок 1'!AK162=\"\",\"\",'Блок 1'!AK162)","v":""},{"$f":"IF('Блок 1'!AL162=\"\",\"\",'Блок 1'!AL162)","v":""},{"$f":"IF('Блок 1'!AM162=\"\",\"\",'Блок 1'!AM162)","v":""},{"$f":"IF('Блок 1'!AN162=\"\",\"\",'Блок 1'!AN162)","v":""},{"$f":"IF('Блок 1'!AO162=\"\",\"\",'Блок 1'!AO162)","v":""},{"$f":"IF('Блок 1'!AP162=\"\",\"\",'Блок 1'!AP162)","v":""},{"$f":"IF('Блок 1'!AQ162=\"\",\"\",'Блок 1'!AQ162)","v":""},{"$f":"IF('Блок 1'!AR162=\"\",\"\",'Блок 1'!AR162)","v":""},{"$f":"IF('Блок 1'!AS162=\"\",\"\",'Блок 1'!AS162)","v":""},{"$f":"IF('Блок 1'!AT162=\"\",\"\",'Блок 1'!AT162)","v":""},{"$f":"IF('Блок 1'!AU162=\"\",\"\",'Блок 1'!AU162)","v":""},{"$f":"IF('Блок 1'!AV162=\"\",\"\",'Блок 1'!AV162)","v":""},{"$f":"IF('Блок 1'!AW162=\"\",\"\",'Блок 1'!AW162)","v":""},{"$f":"IF('Блок 1'!AX162=\"\",\"\",'Блок 1'!AX162)","v":""},{"$f":"IF('Блок 1'!AY162=\"\",\"\",'Блок 1'!AY162)","v":""},{"$f":"IF('Блок 1'!AZ162=\"\",\"\",'Блок 1'!AZ162)","v":""},{"$f":"IF('Блок 1'!BA162=\"\",\"\",'Блок 1'!BA162)","v":""},{"$f":"IF('Блок 1'!BB162=\"\",\"\",'Блок 1'!BB162)","v":""},{"$f":"IF('Блок 1'!BC162=\"\",\"\",'Блок 1'!BC162)","v":""},{"$f":"IF('Блок 1'!BD162=\"\",\"\",'Блок 1'!BD162)","v":""},{"$f":"IF('Блок 1'!BE162=\"\",\"\",'Блок 1'!BE162)","v":""},{"$f":"IF('Блок 1'!BF162=\"\",\"\",'Блок 1'!BF162)","v":""},{"$f":"IF('Блок 1'!BG162=\"\",\"\",'Блок 1'!BG162)","v":""},{"$f":"IF('Блок 1'!BH162=\"\",\"\",'Блок 1'!BH162)","v":""}]
[null,{"$f":"IF('Блок 1'!B163=\"\",\"\",'Блок 1'!B163)","v":""},{"$f":"IF('Блок 1'!C163=\"\",\"\",'Блок 1'!C163)","v":""},{"$f":"IF('Блок 1'!D163=\"\",\"\",'Блок 1'!D163)","v":""},{"$f":"IF('Блок 1'!E163=\"\",\"\",'Блок 1'!E163)","v":""},{"$f":"IF('Блок 1'!F163=\"\",\"\",'Блок 1'!F163)","v":""},{"$f":"IF('Блок 1'!G163=\"\",\"\",'Блок 1'!G163)","v":""},{"$f":"IF('Блок 1'!H163=\"\",\"\",'Блок 1'!H163)","v":""},{"$f":"IF('Блок 1'!I163=\"\",\"\",'Блок 1'!I163)","v":""},{"$f":"IF('Блок 1'!J163=\"\",\"\",'Блок 1'!J163)","v":""},{"$f":"IF('Блок 1'!K163=\"\",\"\",'Блок 1'!K163)","v":""},{"$f":"IF('Блок 1'!L163=\"\",\"\",'Блок 1'!L163)","v":""},{"$f":"IF('Блок 1'!M163=\"\",\"\",'Блок 1'!M163)","v":""},{"$f":"IF('Блок 1'!N163=\"\",\"\",'Блок 1'!N163)","v":""},{"$f":"IF('Блок 1'!O163=\"\",\"\",'Блок 1'!O163)","v":""},{"$f":"IF('Блок 1'!P163=\"\",\"\",'Блок 1'!P163)","v":""},{"$f":"IF('Блок 1'!Q163=\"\",\"\",'Блок 1'!Q163)","v":""},{"$f":"IF('Блок 1'!R163=\"\",\"\",'Блок 1'!R163)","v":""},{"$f":"IF('Блок 1'!S163=\"\",\"\",'Блок 1'!S163)","v":""},{"$f":"IF('Блок 1'!T163=\"\",\"\",'Блок 1'!T163)","v":""},{"$f":"IF('Блок 1'!U163=\"\",\"\",'Блок 1'!U163)","v":""},{"$f":"IF('Блок 1'!V163=\"\",\"\",'Блок 1'!V163)","v":""},{"$f":"IF('Блок 1'!W163=\"\",\"\",'Блок 1'!W163)","v":""},{"$f":"IF('Блок 1'!X163=\"\",\"\",'Блок 1'!X163)","v":""},{"$f":"IF('Блок 1'!Y163=\"\",\"\",'Блок 1'!Y163)","v":""},{"$f":"IF('Блок 1'!Z163=\"\",\"\",'Блок 1'!Z163)","v":""},{"$f":"IF('Блок 1'!AA163=\"\",\"\",'Блок 1'!AA163)","v":""},{"$f":"IF('Блок 1'!AB163=\"\",\"\",'Блок 1'!AB163)","v":""},{"$f":"IF('Блок 1'!AC163=\"\",\"\",'Блок 1'!AC163)","v":""},{"$f":"IF('Блок 1'!AD163=\"\",\"\",'Блок 1'!AD163)","v":""},{"$f":"IF('Блок 1'!AE163=\"\",\"\",'Блок 1'!AE163)","v":""},{"$f":"IF('Блок 1'!AF163=\"\",\"\",'Блок 1'!AF163)","v":""},{"$f":"IF('Блок 1'!AG163=\"\",\"\",'Блок 1'!AG163)","v":""},{"$f":"IF('Блок 1'!AH163=\"\",\"\",'Блок 1'!AH163)","v":""},{"$f":"IF('Блок 1'!AI163=\"\",\"\",'Блок 1'!AI163)","v":""},{"$f":"IF('Блок 1'!AJ163=\"\",\"\",'Блок 1'!AJ163)","v":""},{"$f":"IF('Блок 1'!AK163=\"\",\"\",'Блок 1'!AK163)","v":""},{"$f":"IF('Блок 1'!AL163=\"\",\"\",'Блок 1'!AL163)","v":""},{"$f":"IF('Блок 1'!AM163=\"\",\"\",'Блок 1'!AM163)","v":""},{"$f":"IF('Блок 1'!AN163=\"\",\"\",'Блок 1'!AN163)","v":""},{"$f":"IF('Блок 1'!AO163=\"\",\"\",'Блок 1'!AO163)","v":""},{"$f":"IF('Блок 1'!AP163=\"\",\"\",'Блок 1'!AP163)","v":""},{"$f":"IF('Блок 1'!AQ163=\"\",\"\",'Блок 1'!AQ163)","v":""},{"$f":"IF('Блок 1'!AR163=\"\",\"\",'Блок 1'!AR163)","v":""},{"$f":"IF('Блок 1'!AS163=\"\",\"\",'Блок 1'!AS163)","v":""},{"$f":"IF('Блок 1'!AT163=\"\",\"\",'Блок 1'!AT163)","v":""},{"$f":"IF('Блок 1'!AU163=\"\",\"\",'Блок 1'!AU163)","v":""},{"$f":"IF('Блок 1'!AV163=\"\",\"\",'Блок 1'!AV163)","v":""},{"$f":"IF('Блок 1'!AW163=\"\",\"\",'Блок 1'!AW163)","v":""},{"$f":"IF('Блок 1'!AX163=\"\",\"\",'Блок 1'!AX163)","v":""},{"$f":"IF('Блок 1'!AY163=\"\",\"\",'Блок 1'!AY163)","v":""},{"$f":"IF('Блок 1'!AZ163=\"\",\"\",'Блок 1'!AZ163)","v":""},{"$f":"IF('Блок 1'!BA163=\"\",\"\",'Блок 1'!BA163)","v":""},{"$f":"IF('Блок 1'!BB163=\"\",\"\",'Блок 1'!BB163)","v":""},{"$f":"IF('Блок 1'!BC163=\"\",\"\",'Блок 1'!BC163)","v":""},{"$f":"IF('Блок 1'!BD163=\"\",\"\",'Блок 1'!BD163)","v":""},{"$f":"IF('Блок 1'!BE163=\"\",\"\",'Блок 1'!BE163)","v":""},{"$f":"IF('Блок 1'!BF163=\"\",\"\",'Блок 1'!BF163)","v":""},{"$f":"IF('Блок 1'!BG163=\"\",\"\",'Блок 1'!BG163)","v":""},{"$f":"IF('Блок 1'!BH163=\"\",\"\",'Блок 1'!BH163)","v":""}]
[null,{"$f":"IF('Блок 1'!B164=\"\",\"\",'Блок 1'!B164)","v":""},{"$f":"IF('Блок 1'!C164=\"\",\"\",'Блок 1'!C164)","v":""},{"$f":"IF('Блок 1'!D164=\"\",\"\",'Блок 1'!D164)","v":""},{"$f":"IF('Блок 1'!E164=\"\",\"\",'Блок 1'!E164)","v":""},{"$f":"IF('Блок 1'!F164=\"\",\"\",'Блок 1'!F164)","v":""},{"$f":"IF('Блок 1'!G164=\"\",\"\",'Блок 1'!G164)","v":""},{"$f":"IF('Блок 1'!H164=\"\",\"\",'Блок 1'!H164)","v":""},{"$f":"IF('Блок 1'!I164=\"\",\"\",'Блок 1'!I164)","v":""},{"$f":"IF('Блок 1'!J164=\"\",\"\",'Блок 1'!J164)","v":""},{"$f":"IF('Блок 1'!K164=\"\",\"\",'Блок 1'!K164)","v":""},{"$f":"IF('Блок 1'!L164=\"\",\"\",'Блок 1'!L164)","v":""},{"$f":"IF('Блок 1'!M164=\"\",\"\",'Блок 1'!M164)","v":""},{"$f":"IF('Блок 1'!N164=\"\",\"\",'Блок 1'!N164)","v":""},{"$f":"IF('Блок 1'!O164=\"\",\"\",'Блок 1'!O164)","v":""},{"$f":"IF('Блок 1'!P164=\"\",\"\",'Блок 1'!P164)","v":""},{"$f":"IF('Блок 1'!Q164=\"\",\"\",'Блок 1'!Q164)","v":""},{"$f":"IF('Блок 1'!R164=\"\",\"\",'Блок 1'!R164)","v":""},{"$f":"IF('Блок 1'!S164=\"\",\"\",'Блок 1'!S164)","v":""},{"$f":"IF('Блок 1'!T164=\"\",\"\",'Блок 1'!T164)","v":""},{"$f":"IF('Блок 1'!U164=\"\",\"\",'Блок 1'!U164)","v":""},{"$f":"IF('Блок 1'!V164=\"\",\"\",'Блок 1'!V164)","v":""},{"$f":"IF('Блок 1'!W164=\"\",\"\",'Блок 1'!W164)","v":""},{"$f":"IF('Блок 1'!X164=\"\",\"\",'Блок 1'!X164)","v":""},{"$f":"IF('Блок 1'!Y164=\"\",\"\",'Блок 1'!Y164)","v":""},{"$f":"IF('Блок 1'!Z164=\"\",\"\",'Блок 1'!Z164)","v":""},{"$f":"IF('Блок 1'!AA164=\"\",\"\",'Блок 1'!AA164)","v":""},{"$f":"IF('Блок 1'!AB164=\"\",\"\",'Блок 1'!AB164)","v":""},{"$f":"IF('Блок 1'!AC164=\"\",\"\",'Блок 1'!AC164)","v":""},{"$f":"IF('Блок 1'!AD164=\"\",\"\",'Блок 1'!AD164)","v":""},{"$f":"IF('Блок 1'!AE164=\"\",\"\",'Блок 1'!AE164)","v":""},{"$f":"IF('Блок 1'!AF164=\"\",\"\",'Блок 1'!AF164)","v":""},{"$f":"IF('Блок 1'!AG164=\"\",\"\",'Блок 1'!AG164)","v":""},{"$f":"IF('Блок 1'!AH164=\"\",\"\",'Блок 1'!AH164)","v":""},{"$f":"IF('Блок 1'!AI164=\"\",\"\",'Блок 1'!AI164)","v":""},{"$f":"IF('Блок 1'!AJ164=\"\",\"\",'Блок 1'!AJ164)","v":""},{"$f":"IF('Блок 1'!AK164=\"\",\"\",'Блок 1'!AK164)","v":""},{"$f":"IF('Блок 1'!AL164=\"\",\"\",'Блок 1'!AL164)","v":""},{"$f":"IF('Блок 1'!AM164=\"\",\"\",'Блок 1'!AM164)","v":""},{"$f":"IF('Блок 1'!AN164=\"\",\"\",'Блок 1'!AN164)","v":""},{"$f":"IF('Блок 1'!AO164=\"\",\"\",'Блок 1'!AO164)","v":""},{"$f":"IF('Блок 1'!AP164=\"\",\"\",'Блок 1'!AP164)","v":""},{"$f":"IF('Блок 1'!AQ164=\"\",\"\",'Блок 1'!AQ164)","v":""},{"$f":"IF('Блок 1'!AR164=\"\",\"\",'Блок 1'!AR164)","v":""},{"$f":"IF('Блок 1'!AS164=\"\",\"\",'Блок 1'!AS164)","v":""},{"$f":"IF('Блок 1'!AT164=\"\",\"\",'Блок 1'!AT164)","v":""},{"$f":"IF('Блок 1'!AU164=\"\",\"\",'Блок 1'!AU164)","v":""},{"$f":"IF('Блок 1'!AV164=\"\",\"\",'Блок 1'!AV164)","v":""},{"$f":"IF('Блок 1'!AW164=\"\",\"\",'Блок 1'!AW164)","v":""},{"$f":"IF('Блок 1'!AX164=\"\",\"\",'Блок 1'!AX164)","v":""},{"$f":"IF('Блок 1'!AY164=\"\",\"\",'Блок 1'!AY164)","v":""},{"$f":"IF('Блок 1'!AZ164=\"\",\"\",'Блок 1'!AZ164)","v":""},{"$f":"IF('Блок 1'!BA164=\"\",\"\",'Блок 1'!BA164)","v":""},{"$f":"IF('Блок 1'!BB164=\"\",\"\",'Блок 1'!BB164)","v":""},{"$f":"IF('Блок 1'!BC164=\"\",\"\",'Блок 1'!BC164)","v":""},{"$f":"IF('Блок 1'!BD164=\"\",\"\",'Блок 1'!BD164)","v":""},{"$f":"IF('Блок 1'!BE164=\"\",\"\",'Блок 1'!BE164)","v":""},{"$f":"IF('Блок 1'!BF164=\"\",\"\",'Блок 1'!BF164)","v":""},{"$f":"IF('Блок 1'!BG164=\"\",\"\",'Блок 1'!BG164)","v":""},{"$f":"IF('Блок 1'!BH164=\"\",\"\",'Блок 1'!BH164)","v":""}]
[null,{"$f":"IF('Блок 1'!B165=\"\",\"\",'Блок 1'!B165)","v":""},{"$f":"IF('Блок 1'!C165=\"\",\"\",'Блок 1'!C165)","v":""},null,null,null,null,null,null,null,null,null,null,null,null,null,null,null,null,null,null,null,{"$f":"IF('Блок 1'!W165=\"\",\"\",'Блок 1'!W165)","v":""},{"$f":"IF('Блок 1'!X165=\"\",\"\",'Блок 1'!X165)","v":""},{"$f":"IF('Блок 1'!Y165=\"\",\"\",'Блок 1'!Y165)","v":""},{"$f":"IF('Блок 1'!Z165=\"\",\"\",'Блок 1'!Z165)","v":""},{"$f":"IF('Блок 1'!AA165=\"\",\"\",'Блок 1'!AA165)","v":""},{"$f":"IF('Блок 1'!AB165=\"\",\"\",'Блок 1'!AB165)","v":0},{"$f":"IF('Блок 1'!AC165=\"\",\"\",'Блок 1'!AC165)","v":0},{"$f":"IF('Блок 1'!AD165=\"\",\"\",'Блок 1'!AD165)","v":0},{"$f":"IF('Блок 1'!AE165=\"\",\"\",'Блок 1'!AE165)","v":0},{"$f":"IF('Блок 1'!AF165=\"\",\"\",'Блок 1'!AF165)","v":0},{"$f":"IF('Блок 1'!AG165=\"\",\"\",'Блок 1'!AG165)","v":0},{"$f":"IF('Блок 1'!AH165=\"\",\"\",'Блок 1'!AH165)","v":0},{"$f":"IF('Блок 1'!AI165=\"\",\"\",'Блок 1'!AI165)","v":0},{"$f":"IF('Блок 1'!AJ165=\"\",\"\",'Блок 1'!AJ165)","v":0},{"$f":"IF('Блок 1'!AK165=\"\",\"\",'Блок 1'!AK165)","v":""},{"$f":"IF('Блок 1'!AL165=\"\",\"\",'Блок 1'!AL165)","v":""},{"$f":"IF('Блок 1'!AM165=\"\",\"\",'Блок 1'!AM165)","v":""},{"$f":"IF('Блок 1'!AN165=\"\",\"\",'Блок 1'!AN165)","v":""},{"$f":"IF('Блок 1'!AO165=\"\",\"\",'Блок 1'!AO165)","v":""},{"$f":"IF('Блок 1'!AP165=\"\",\"\",'Блок 1'!AP165)","v":""},{"$f":"IF('Блок 1'!AQ165=\"\",\"\",'Блок 1'!AQ165)","v":""},{"$f":"IF('Блок 1'!AR165=\"\",\"\",'Блок 1'!AR165)","v":""},{"$f":"IF('Блок 1'!AS165=\"\",\"\",'Блок 1'!AS165)","v":""},{"$f":"IF('Блок 1'!AT165=\"\",\"\",'Блок 1'!AT165)","v":""},{"$f":"IF('Блок 1'!AU165=\"\",\"\",'Блок 1'!AU165)","v":""},{"$f":"IF('Блок 1'!AV165=\"\",\"\",'Блок 1'!AV165)","v":""},{"$f":"IF('Блок 1'!AW165=\"\",\"\",'Блок 1'!AW165)","v":""},{"$f":"IF('Блок 1'!AX165=\"\",\"\",'Блок 1'!AX165)","v":""},{"$f":"IF('Блок 1'!AY165=\"\",\"\",'Блок 1'!AY165)","v":""},{"$f":"IF('Блок 1'!AZ165=\"\",\"\",'Блок 1'!AZ165)","v":""},{"$f":"IF('Блок 1'!BA165=\"\",\"\",'Блок 1'!BA165)","v":""},{"$f":"IF('Блок 1'!BB165=\"\",\"\",'Блок 1'!BB165)","v":""},{"$f":"IF('Блок 1'!BC165=\"\",\"\",'Блок 1'!BC165)","v":""},{"$f":"IF('Блок 1'!BD165=\"\",\"\",'Блок 1'!BD165)","v":""},{"$f":"IF('Блок 1'!BE165=\"\",\"\",'Блок 1'!BE165)","v":""},{"$f":"IF('Блок 1'!BF165=\"\",\"\",'Блок 1'!BF165)","v":""},{"$f":"IF('Блок 1'!BG165=\"\",\"\",'Блок 1'!BG165)","v":""},{"$f":"IF('Блок 1'!BH165=\"\",\"\",'Блок 1'!BH165)","v":""}]
[null,{"$f":"IF('Блок 1'!B166=\"\",\"\",'Блок 1'!B166)","v":""},{"$f":"IF('Блок 1'!C166=\"\",\"\",'Блок 1'!C166)","v":""},{"$f":"IF('Блок 1'!D166=\"\",\"\",'Блок 1'!D166)","v":""},{"$f":"IF('Блок 1'!E166=\"\",\"\",'Блок 1'!E166)","v":""},{"$f":"IF('Блок 1'!F166=\"\",\"\",'Блок 1'!F166)","v":""},{"$f":"IF('Блок 1'!G166=\"\",\"\",'Блок 1'!G166)","v":""},{"$f":"IF('Блок 1'!H166=\"\",\"\",'Блок 1'!H166)","v":""},{"$f":"IF('Блок 1'!I166=\"\",\"\",'Блок 1'!I166)","v":""},{"$f":"IF('Блок 1'!J166=\"\",\"\",'Блок 1'!J166)","v":""},{"$f":"IF('Блок 1'!K166=\"\",\"\",'Блок 1'!K166)","v":""},{"$f":"IF('Блок 1'!L166=\"\",\"\",'Блок 1'!L166)","v":""},{"$f":"IF('Блок 1'!M166=\"\",\"\",'Блок 1'!M166)","v":""},{"$f":"IF('Блок 1'!N166=\"\",\"\",'Блок 1'!N166)","v":""},{"$f":"IF('Блок 1'!O166=\"\",\"\",'Блок 1'!O166)","v":""},{"$f":"IF('Блок 1'!P166=\"\",\"\",'Блок 1'!P166)","v":""},{"$f":"IF('Блок 1'!Q166=\"\",\"\",'Блок 1'!Q166)","v":""},{"$f":"IF('Блок 1'!R166=\"\",\"\",'Блок 1'!R166)","v":""},{"$f":"IF('Блок 1'!S166=\"\",\"\",'Блок 1'!S166)","v":""},{"$f":"IF('Блок 1'!T166=\"\",\"\",'Блок 1'!T166)","v":""},{"$f":"IF('Блок 1'!U166=\"\",\"\",'Блок 1'!U166)","v":""},{"$f":"IF('Блок 1'!V166=\"\",\"\",'Блок 1'!V166)","v":""},{"$f":"IF('Блок 1'!W166=\"\",\"\",'Блок 1'!W166)","v":""},{"$f":"IF('Блок 1'!X166=\"\",\"\",'Блок 1'!X166)","v":""},{"$f":"IF('Блок 1'!Y166=\"\",\"\",'Блок 1'!Y166)","v":""},{"$f":"IF('Блок 1'!Z166=\"\",\"\",'Блок 1'!Z166)","v":""},{"$f":"IF('Блок 1'!AA166=\"\",\"\",'Блок 1'!AA166)","v":""},{"$f":"IF('Блок 1'!AB166=\"\",\"\",'Блок 1'!AB166)","v":""},{"$f":"IF('Блок 1'!AC166=\"\",\"\",'Блок 1'!AC166)","v":""},{"$f":"IF('Блок 1'!AD166=\"\",\"\",'Блок 1'!AD166)","v":""},{"$f":"IF('Блок 1'!AE166=\"\",\"\",'Блок 1'!AE166)","v":""},{"$f":"IF('Блок 1'!AF166=\"\",\"\",'Блок 1'!AF166)","v":""},{"$f":"IF('Блок 1'!AG166=\"\",\"\",'Блок 1'!AG166)","v":""},{"$f":"IF('Блок 1'!AH166=\"\",\"\",'Блок 1'!AH166)","v":""},{"$f":"IF('Блок 1'!AI166=\"\",\"\",'Блок 1'!AI166)","v":""},{"$f":"IF('Блок 1'!AJ166=\"\",\"\",'Блок 1'!AJ166)","v":""},{"$f":"IF('Блок 1'!AK166=\"\",\"\",'Блок 1'!AK166)","v":""},{"$f":"IF('Блок 1'!AL166=\"\",\"\",'Блок 1'!AL166)","v":""},{"$f":"IF('Блок 1'!AM166=\"\",\"\",'Блок 1'!AM166)","v":""},{"$f":"IF('Блок 1'!AN166=\"\",\"\",'Блок 1'!AN166)","v":""},{"$f":"IF('Блок 1'!AO166=\"\",\"\",'Блок 1'!AO166)","v":""},{"$f":"IF('Блок 1'!AP166=\"\",\"\",'Блок 1'!AP166)","v":""},{"$f":"IF('Блок 1'!AQ166=\"\",\"\",'Блок 1'!AQ166)","v":""},{"$f":"IF('Блок 1'!AR166=\"\",\"\",'Блок 1'!AR166)","v":""},{"$f":"IF('Блок 1'!AS166=\"\",\"\",'Блок 1'!AS166)","v":""},{"$f":"IF('Блок 1'!AT166=\"\",\"\",'Блок 1'!AT166)","v":""},{"$f":"IF('Блок 1'!AU166=\"\",\"\",'Блок 1'!AU166)","v":""},{"$f":"IF('Блок 1'!AV166=\"\",\"\",'Блок 1'!AV166)","v":""},{"$f":"IF('Блок 1'!AW166=\"\",\"\",'Блок 1'!AW166)","v":""},{"$f":"IF('Блок 1'!AX166=\"\",\"\",'Блок 1'!AX166)","v":""},{"$f":"IF('Блок 1'!AY166=\"\",\"\",'Блок 1'!AY166)","v":""},{"$f":"IF('Блок 1'!AZ166=\"\",\"\",'Блок 1'!AZ166)","v":""},{"$f":"IF('Блок 1'!BA166=\"\",\"\",'Блок 1'!BA166)","v":""},{"$f":"IF('Блок 1'!BB166=\"\",\"\",'Блок 1'!BB166)","v":""},{"$f":"IF('Блок 1'!BC166=\"\",\"\",'Блок 1'!BC166)","v":""},{"$f":"IF('Блок 1'!BD166=\"\",\"\",'Блок 1'!BD166)","v":""},{"$f":"IF('Блок 1'!BE166=\"\",\"\",'Блок 1'!BE166)","v":""},{"$f":"IF('Блок 1'!BF166=\"\",\"\",'Блок 1'!BF166)","v":""},{"$f":"IF('Блок 1'!BG166=\"\",\"\",'Блок 1'!BG166)","v":""},{"$f":"IF('Блок 1'!BH166=\"\",\"\",'Блок 1'!BH166)","v":""}]
[null,{"$f":"IF('Блок 1'!B167=\"\",\"\",'Блок 1'!B167)","v":""},{"$f":"IF('Блок 1'!C167=\"\",\"\",'Блок 1'!C167)","v":""},{"$f":"IF('Блок 1'!D167=\"\",\"\",'Блок 1'!D167)","v":""},{"$f":"IF('Блок 1'!E167=\"\",\"\",'Блок 1'!E167)","v":""},{"$f":"IF('Блок 1'!F167=\"\",\"\",'Блок 1'!F167)","v":""},{"$f":"IF('Блок 1'!G167=\"\",\"\",'Блок 1'!G167)","v":""},{"$f":"IF('Блок 1'!H167=\"\",\"\",'Блок 1'!H167)","v":""},{"$f":"IF('Блок 1'!I167=\"\",\"\",'Блок 1'!I167)","v":""},{"$f":"IF('Блок 1'!J167=\"\",\"\",'Блок 1'!J167)","v":""},{"$f":"IF('Блок 1'!K167=\"\",\"\",'Блок 1'!K167)","v":""},{"$f":"IF('Блок 1'!L167=\"\",\"\",'Блок 1'!L167)","v":""},{"$f":"IF('Блок 1'!M167=\"\",\"\",'Блок 1'!M167)","v":""},{"$f":"IF('Блок 1'!N167=\"\",\"\",'Блок 1'!N167)","v":""},{"$f":"IF('Блок 1'!O167=\"\",\"\",'Блок 1'!O167)","v":""},{"$f":"IF('Блок 1'!P167=\"\",\"\",'Блок 1'!P167)","v":""},{"$f":"IF('Блок 1'!Q167=\"\",\"\",'Блок 1'!Q167)","v":""},{"$f":"IF('Блок 1'!R167=\"\",\"\",'Блок 1'!R167)","v":""},{"$f":"IF('Блок 1'!S167=\"\",\"\",'Блок 1'!S167)","v":""},{"$f":"IF('Блок 1'!T167=\"\",\"\",'Блок 1'!T167)","v":""},{"$f":"IF('Блок 1'!U167=\"\",\"\",'Блок 1'!U167)","v":""},{"$f":"IF('Блок 1'!V167=\"\",\"\",'Блок 1'!V167)","v":""},{"$f":"IF('Блок 1'!W167=\"\",\"\",'Блок 1'!W167)","v":""},{"$f":"IF('Блок 1'!X167=\"\",\"\",'Блок 1'!X167)","v":""},{"$f":"IF('Блок 1'!Y167=\"\",\"\",'Блок 1'!Y167)","v":""},{"$f":"IF('Блок 1'!Z167=\"\",\"\",'Блок 1'!Z167)","v":""},{"$f":"IF('Блок 1'!AA167=\"\",\"\",'Блок 1'!AA167)","v":""},{"$f":"IF('Блок 1'!AB167=\"\",\"\",'Блок 1'!AB167)","v":""},{"$f":"IF('Блок 1'!AC167=\"\",\"\",'Блок 1'!AC167)","v":""},{"$f":"IF('Блок 1'!AD167=\"\",\"\",'Блок 1'!AD167)","v":""},{"$f":"IF('Блок 1'!AE167=\"\",\"\",'Блок 1'!AE167)","v":""},{"$f":"IF('Блок 1'!AF167=\"\",\"\",'Блок 1'!AF167)","v":""},{"$f":"IF('Блок 1'!AG167=\"\",\"\",'Блок 1'!AG167)","v":""},{"$f":"IF('Блок 1'!AH167=\"\",\"\",'Блок 1'!AH167)","v":""},{"$f":"IF('Блок 1'!AI167=\"\",\"\",'Блок 1'!AI167)","v":""},{"$f":"IF('Блок 1'!AJ167=\"\",\"\",'Блок 1'!AJ167)","v":""},{"$f":"IF('Блок 1'!AK167=\"\",\"\",'Блок 1'!AK167)","v":""},{"$f":"IF('Блок 1'!AL167=\"\",\"\",'Блок 1'!AL167)","v":""},{"$f":"IF('Блок 1'!AM167=\"\",\"\",'Блок 1'!AM167)","v":""},{"$f":"IF('Блок 1'!AN167=\"\",\"\",'Блок 1'!AN167)","v":""},{"$f":"IF('Блок 1'!AO167=\"\",\"\",'Блок 1'!AO167)","v":""},{"$f":"IF('Блок 1'!AP167=\"\",\"\",'Блок 1'!AP167)","v":""},{"$f":"IF('Блок 1'!AQ167=\"\",\"\",'Блок 1'!AQ167)","v":""},{"$f":"IF('Блок 1'!AR167=\"\",\"\",'Блок 1'!AR167)","v":""},{"$f":"IF('Блок 1'!AS167=\"\",\"\",'Блок 1'!AS167)","v":""},{"$f":"IF('Блок 1'!AT167=\"\",\"\",'Блок 1'!AT167)","v":""},{"$f":"IF('Блок 1'!AU167=\"\",\"\",'Блок 1'!AU167)","v":""},{"$f":"IF('Блок 1'!AV167=\"\",\"\",'Блок 1'!AV167)","v":""},{"$f":"IF('Блок 1'!AW167=\"\",\"\",'Блок 1'!AW167)","v":""},{"$f":"IF('Блок 1'!AX167=\"\",\"\",'Блок 1'!AX167)","v":""},{"$f":"IF('Блок 1'!AY167=\"\",\"\",'Блок 1'!AY167)","v":""},{"$f":"IF('Блок 1'!AZ167=\"\",\"\",'Блок 1'!AZ167)","v":""},{"$f":"IF('Блок 1'!BA167=\"\",\"\",'Блок 1'!BA167)","v":""},{"$f":"IF('Блок 1'!BB167=\"\",\"\",'Блок 1'!BB167)","v":""},{"$f":"IF('Блок 1'!BC167=\"\",\"\",'Блок 1'!BC167)","v":""},{"$f":"IF('Блок 1'!BD167=\"\",\"\",'Блок 1'!BD167)","v":""},{"$f":"IF('Блок 1'!BE167=\"\",\"\",'Блок 1'!BE167)","v":""},{"$f":"IF('Блок 1'!BF167=\"\",\"\",'Блок 1'!BF167)","v":""},{"$f":"IF('Блок 1'!BG167=\"\",\"\",'Блок 1'!BG167)","v":""},{"$f":"IF('Блок 1'!BH167=\"\",\"\",'Блок 1'!BH167)","v":""}]
[null,{"$f":"IF('Блок 1'!B168=\"\",\"\",'Блок 1'!B168)","v":""},{"$f":"IF('Блок 1'!C168=\"\",\"\",'Блок 1'!C168)","v":""},{"$f":"IF('Блок 1'!D168=\"\",\"\",'Блок 1'!D168)","v":""},{"$f":"IF('Блок 1'!E168=\"\",\"\",'Блок 1'!E168)","v":""},{"$f":"IF('Блок 1'!F168=\"\",\"\",'Блок 1'!F168)","v":""},{"$f":"IF('Блок 1'!G168=\"\",\"\",'Блок 1'!G168)","v":""},{"$f":"IF('Блок 1'!H168=\"\",\"\",'Блок 1'!H168)","v":""},{"$f":"IF('Блок 1'!I168=\"\",\"\",'Блок 1'!I168)","v":""},{"$f":"IF('Блок 1'!J168=\"\",\"\",'Блок 1'!J168)","v":""},{"$f":"IF('Блок 1'!K168=\"\",\"\",'Блок 1'!K168)","v":""},{"$f":"IF('Блок 1'!L168=\"\",\"\",'Блок 1'!L168)","v":""},{"$f":"IF('Блок 1'!M168=\"\",\"\",'Блок 1'!M168)","v":""},{"$f":"IF('Блок 1'!N168=\"\",\"\",'Блок 1'!N168)","v":""},{"$f":"IF('Блок 1'!O168=\"\",\"\",'Блок 1'!O168)","v":""},{"$f":"IF('Блок 1'!P168=\"\",\"\",'Блок 1'!P168)","v":""},{"$f":"IF('Блок 1'!Q168=\"\",\"\",'Блок 1'!Q168)","v":""},{"$f":"IF('Блок 1'!R168=\"\",\"\",'Блок 1'!R168)","v":""},{"$f":"IF('Блок 1'!S168=\"\",\"\",'Блок 1'!S168)","v":""},{"$f":"IF('Блок 1'!T168=\"\",\"\",'Блок 1'!T168)","v":""},{"$f":"IF('Блок 1'!U168=\"\",\"\",'Блок 1'!U168)","v":""},{"$f":"IF('Блок 1'!V168=\"\",\"\",'Блок 1'!V168)","v":""},{"$f":"IF('Блок 1'!W168=\"\",\"\",'Блок 1'!W168)","v":""},{"$f":"IF('Блок 1'!X168=\"\",\"\",'Блок 1'!X168)","v":""},{"$f":"IF('Блок 1'!Y168=\"\",\"\",'Блок 1'!Y168)","v":""},{"$f":"IF('Блок 1'!Z168=\"\",\"\",'Блок 1'!Z168)","v":""},{"$f":"IF('Блок 1'!AA168=\"\",\"\",'Блок 1'!AA168)","v":""},{"$f":"IF('Блок 1'!AB168=\"\",\"\",'Блок 1'!AB168)","v":""},{"$f":"IF('Блок 1'!AC168=\"\",\"\",'Блок 1'!AC168)","v":""},{"$f":"IF('Блок 1'!AD168=\"\",\"\",'Блок 1'!AD168)","v":""},{"$f":"IF('Блок 1'!AE168=\"\",\"\",'Блок 1'!AE168)","v":""},{"$f":"IF('Блок 1'!AF168=\"\",\"\",'Блок 1'!AF168)","v":""},{"$f":"IF('Блок 1'!AG168=\"\",\"\",'Блок 1'!AG168)","v":""},{"$f":"IF('Блок 1'!AH168=\"\",\"\",'Блок 1'!AH168)","v":""},{"$f":"IF('Блок 1'!AI168=\"\",\"\",'Блок 1'!AI168)","v":""},{"$f":"IF('Блок 1'!AJ168=\"\",\"\",'Блок 1'!AJ168)","v":""},{"$f":"IF('Блок 1'!AK168=\"\",\"\",'Блок 1'!AK168)","v":""},{"$f":"IF('Блок 1'!AL168=\"\",\"\",'Блок 1'!AL168)","v":""},{"$f":"IF('Блок 1'!AM168=\"\",\"\",'Блок 1'!AM168)","v":""},{"$f":"IF('Блок 1'!AN168=\"\",\"\",'Блок 1'!AN168)","v":""},{"$f":"IF('Блок 1'!AO168=\"\",\"\",'Блок 1'!AO168)","v":""},{"$f":"IF('Блок 1'!AP168=\"\",\"\",'Блок 1'!AP168)","v":""},{"$f":"IF('Блок 1'!AQ168=\"\",\"\",'Блок 1'!AQ168)","v":""},{"$f":"IF('Блок 1'!AR168=\"\",\"\",'Блок 1'!AR168)","v":""},{"$f":"IF('Блок 1'!AS168=\"\",\"\",'Блок 1'!AS168)","v":""},{"$f":"IF('Блок 1'!AT168=\"\",\"\",'Блок 1'!AT168)","v":""},{"$f":"IF('Блок 1'!AU168=\"\",\"\",'Блок 1'!AU168)","v":""},{"$f":"IF('Блок 1'!AV168=\"\",\"\",'Блок 1'!AV168)","v":""},{"$f":"IF('Блок 1'!AW168=\"\",\"\",'Блок 1'!AW168)","v":""},{"$f":"IF('Блок 1'!AX168=\"\",\"\",'Блок 1'!AX168)","v":""},{"$f":"IF('Блок 1'!AY168=\"\",\"\",'Блок 1'!AY168)","v":""},{"$f":"IF('Блок 1'!AZ168=\"\",\"\",'Блок 1'!AZ168)","v":""},{"$f":"IF('Блок 1'!BA168=\"\",\"\",'Блок 1'!BA168)","v":""},{"$f":"IF('Блок 1'!BB168=\"\",\"\",'Блок 1'!BB168)","v":""},{"$f":"IF('Блок 1'!BC168=\"\",\"\",'Блок 1'!BC168)","v":""},{"$f":"IF('Блок 1'!BD168=\"\",\"\",'Блок 1'!BD168)","v":""},{"$f":"IF('Блок 1'!BE168=\"\",\"\",'Блок 1'!BE168)","v":""},{"$f":"IF('Блок 1'!BF168=\"\",\"\",'Блок 1'!BF168)","v":""},{"$f":"IF('Блок 1'!BG168=\"\",\"\",'Блок 1'!BG168)","v":""},{"$f":"IF('Блок 1'!BH168=\"\",\"\",'Блок 1'!BH168)","v":""}]
[null,{"$f":"IF('Блок 1'!B169=\"\",\"\",'Блок 1'!B169)","v":""},{"$f":"IF('Блок 1'!C169=\"\",\"\",'Блок 1'!C169)","v":""},{"$f":"IF('Блок 1'!D169=\"\",\"\",'Блок 1'!D169)","v":""},{"$f":"IF('Блок 1'!E169=\"\",\"\",'Блок 1'!E169)","v":""},{"$f":"IF('Блок 1'!F169=\"\",\"\",'Блок 1'!F169)","v":""},{"$f":"IF('Блок 1'!G169=\"\",\"\",'Блок 1'!G169)","v":""},{"$f":"IF('Блок 1'!H169=\"\",\"\",'Блок 1'!H169)","v":""},{"$f":"IF('Блок 1'!I169=\"\",\"\",'Блок 1'!I169)","v":""},{"$f":"IF('Блок 1'!J169=\"\",\"\",'Блок 1'!J169)","v":""},{"$f":"IF('Блок 1'!K169=\"\",\"\",'Блок 1'!K169)","v":""},{"$f":"IF('Блок 1'!L169=\"\",\"\",'Блок 1'!L169)","v":""},{"$f":"IF('Блок 1'!M169=\"\",\"\",'Блок 1'!M169)","v":""},{"$f":"IF('Блок 1'!N169=\"\",\"\",'Блок 1'!N169)","v":""},{"$f":"IF('Блок 1'!O169=\"\",\"\",'Блок 1'!O169)","v":""},{"$f":"IF('Блок 1'!P169=\"\",\"\",'Блок 1'!P169)","v":""},{"$f":"IF('Блок 1'!Q169=\"\",\"\",'Блок 1'!Q169)","v":""},{"$f":"IF('Блок 1'!R169=\"\",\"\",'Блок 1'!R169)","v":""},{"$f":"IF('Блок 1'!S169=\"\",\"\",'Блок 1'!S169)","v":""},{"$f":"IF('Блок 1'!T169=\"\",\"\",'Блок 1'!T169)","v":""},{"$f":"IF('Блок 1'!U169=\"\",\"\",'Блок 1'!U169)","v":""},{"$f":"IF('Блок 1'!V169=\"\",\"\",'Блок 1'!V169)","v":""},{"$f":"IF('Блок 1'!W169=\"\",\"\",'Блок 1'!W169)","v":""},{"$f":"IF('Блок 1'!X169=\"\",\"\",'Блок 1'!X169)","v":""},{"$f":"IF('Блок 1'!Y169=\"\",\"\",'Блок 1'!Y169)","v":""},{"$f":"IF('Блок 1'!Z169=\"\",\"\",'Блок 1'!Z169)","v":""},{"$f":"IF('Блок 1'!AA169=\"\",\"\",'Блок 1'!AA169)","v":""},{"$f":"IF('Блок 1'!AB169=\"\",\"\",'Блок 1'!AB169)","v":""},{"$f":"IF('Блок 1'!AC169=\"\",\"\",'Блок 1'!AC169)","v":""},{"$f":"IF('Блок 1'!AD169=\"\",\"\",'Блок 1'!AD169)","v":""},{"$f":"IF('Блок 1'!AE169=\"\",\"\",'Блок 1'!AE169)","v":""},{"$f":"IF('Блок 1'!AF169=\"\",\"\",'Блок 1'!AF169)","v":""},{"$f":"IF('Блок 1'!AG169=\"\",\"\",'Блок 1'!AG169)","v":""},{"$f":"IF('Блок 1'!AH169=\"\",\"\",'Блок 1'!AH169)","v":""},{"$f":"IF('Блок 1'!AI169=\"\",\"\",'Блок 1'!AI169)","v":""},{"$f":"IF('Блок 1'!AJ169=\"\",\"\",'Блок 1'!AJ169)","v":""},{"$f":"IF('Блок 1'!AK169=\"\",\"\",'Блок 1'!AK169)","v":""},{"$f":"IF('Блок 1'!AL169=\"\",\"\",'Блок 1'!AL169)","v":""},{"$f":"IF('Блок 1'!AM169=\"\",\"\",'Блок 1'!AM169)","v":""},{"$f":"IF('Блок 1'!AN169=\"\",\"\",'Блок 1'!AN169)","v":""},{"$f":"IF('Блок 1'!AO169=\"\",\"\",'Блок 1'!AO169)","v":""},{"$f":"IF('Блок 1'!AP169=\"\",\"\",'Блок 1'!AP169)","v":""},{"$f":"IF('Блок 1'!AQ169=\"\",\"\",'Блок 1'!AQ169)","v":""},{"$f":"IF('Блок 1'!AR169=\"\",\"\",'Блок 1'!AR169)","v":""},{"$f":"IF('Блок 1'!AS169=\"\",\"\",'Блок 1'!AS169)","v":""},{"$f":"IF('Блок 1'!AT169=\"\",\"\",'Блок 1'!AT169)","v":""},{"$f":"IF('Блок 1'!AU169=\"\",\"\",'Блок 1'!AU169)","v":""},{"$f":"IF('Блок 1'!AV169=\"\",\"\",'Блок 1'!AV169)","v":""},{"$f":"IF('Блок 1'!AW169=\"\",\"\",'Блок 1'!AW169)","v":""},{"$f":"IF('Блок 1'!AX169=\"\",\"\",'Блок 1'!AX169)","v":""},{"$f":"IF('Блок 1'!AY169=\"\",\"\",'Блок 1'!AY169)","v":""},{"$f":"IF('Блок 1'!AZ169=\"\",\"\",'Блок 1'!AZ169)","v":""},{"$f":"IF('Блок 1'!BA169=\"\",\"\",'Блок 1'!BA169)","v":""},{"$f":"IF('Блок 1'!BB169=\"\",\"\",'Блок 1'!BB169)","v":""},{"$f":"IF('Блок 1'!BC169=\"\",\"\",'Блок 1'!BC169)","v":""},{"$f":"IF('Блок 1'!BD169=\"\",\"\",'Блок 1'!BD169)","v":""},{"$f":"IF('Блок 1'!BE169=\"\",\"\",'Блок 1'!BE169)","v":""},{"$f":"IF('Блок 1'!BF169=\"\",\"\",'Блок 1'!BF169)","v":""},{"$f":"IF('Блок 1'!BG169=\"\",\"\",'Блок 1'!BG169)","v":""},{"$f":"IF('Блок 1'!BH169=\"\",\"\",'Блок 1'!BH169)","v":""}]
[null,{"$f":"IF('Блок 1'!B170=\"\",\"\",'Блок 1'!B170)","v":""},{"$f":"IF('Блок 1'!C170=\"\",\"\",'Блок 1'!C170)","v":""},{"$f":"IF('Блок 1'!D170=\"\",\"\",'Блок 1'!D170)","v":""},{"$f":"IF('Блок 1'!E170=\"\",\"\",'Блок 1'!E170)","v":""},{"$f":"IF('Блок 1'!F170=\"\",\"\",'Блок 1'!F170)","v":""},{"$f":"IF('Блок 1'!G170=\"\",\"\",'Блок 1'!G170)","v":""},{"$f":"IF('Блок 1'!H170=\"\",\"\",'Блок 1'!H170)","v":""},{"$f":"IF('Блок 1'!I170=\"\",\"\",'Блок 1'!I170)","v":""},{"$f":"IF('Блок 1'!J170=\"\",\"\",'Блок 1'!J170)","v":""},{"$f":"IF('Блок 1'!K170=\"\",\"\",'Блок 1'!K170)","v":""},{"$f":"IF('Блок 1'!L170=\"\",\"\",'Блок 1'!L170)","v":""},{"$f":"IF('Блок 1'!M170=\"\",\"\",'Блок 1'!M170)","v":""},{"$f":"IF('Блок 1'!N170=\"\",\"\",'Блок 1'!N170)","v":""},{"$f":"IF('Блок 1'!O170=\"\",\"\",'Блок 1'!O170)","v":""},{"$f":"IF('Блок 1'!P170=\"\",\"\",'Блок 1'!P170)","v":""},{"$f":"IF('Блок 1'!Q170=\"\",\"\",'Блок 1'!Q170)","v":""},{"$f":"IF('Блок 1'!R170=\"\",\"\",'Блок 1'!R170)","v":""},{"$f":"IF('Блок 1'!S170=\"\",\"\",'Блок 1'!S170)","v":""},{"$f":"IF('Блок 1'!T170=\"\",\"\",'Блок 1'!T170)","v":""},{"$f":"IF('Блок 1'!U170=\"\",\"\",'Блок 1'!U170)","v":""},{"$f":"IF('Блок 1'!V170=\"\",\"\",'Блок 1'!V170)","v":""},{"$f":"IF('Блок 1'!W170=\"\",\"\",'Блок 1'!W170)","v":""},{"$f":"IF('Блок 1'!X170=\"\",\"\",'Блок 1'!X170)","v":""},{"$f":"IF('Блок 1'!Y170=\"\",\"\",'Блок 1'!Y170)","v":""},{"$f":"IF('Блок 1'!Z170=\"\",\"\",'Блок 1'!Z170)","v":""},{"$f":"IF('Блок 1'!AA170=\"\",\"\",'Блок 1'!AA170)","v":""},{"$f":"IF('Блок 1'!AB170=\"\",\"\",'Блок 1'!AB170)","v":""},{"$f":"IF('Блок 1'!AC170=\"\",\"\",'Блок 1'!AC170)","v":""},{"$f":"IF('Блок 1'!AD170=\"\",\"\",'Блок 1'!AD170)","v":""},{"$f":"IF('Блок 1'!AE170=\"\",\"\",'Блок 1'!AE170)","v":""},{"$f":"IF('Блок 1'!AF170=\"\",\"\",'Блок 1'!AF170)","v":""},{"$f":"IF('Блок 1'!AG170=\"\",\"\",'Блок 1'!AG170)","v":""},{"$f":"IF('Блок 1'!AH170=\"\",\"\",'Блок 1'!AH170)","v":""},{"$f":"IF('Блок 1'!AI170=\"\",\"\",'Блок 1'!AI170)","v":""},{"$f":"IF('Блок 1'!AJ170=\"\",\"\",'Блок 1'!AJ170)","v":""},{"$f":"IF('Блок 1'!AK170=\"\",\"\",'Блок 1'!AK170)","v":""},{"$f":"IF('Блок 1'!AL170=\"\",\"\",'Блок 1'!AL170)","v":""},{"$f":"IF('Блок 1'!AM170=\"\",\"\",'Блок 1'!AM170)","v":""},{"$f":"IF('Блок 1'!AN170=\"\",\"\",'Блок 1'!AN170)","v":""},{"$f":"IF('Блок 1'!AO170=\"\",\"\",'Блок 1'!AO170)","v":""},{"$f":"IF('Блок 1'!AP170=\"\",\"\",'Блок 1'!AP170)","v":""},{"$f":"IF('Блок 1'!AQ170=\"\",\"\",'Блок 1'!AQ170)","v":""},{"$f":"IF('Блок 1'!AR170=\"\",\"\",'Блок 1'!AR170)","v":""},{"$f":"IF('Блок 1'!AS170=\"\",\"\",'Блок 1'!AS170)","v":""},{"$f":"IF('Блок 1'!AT170=\"\",\"\",'Блок 1'!AT170)","v":""},{"$f":"IF('Блок 1'!AU170=\"\",\"\",'Блок 1'!AU170)","v":""},{"$f":"IF('Блок 1'!AV170=\"\",\"\",'Блок 1'!AV170)","v":""},{"$f":"IF('Блок 1'!AW170=\"\",\"\",'Блок 1'!AW170)","v":""},{"$f":"IF('Блок 1'!AX170=\"\",\"\",'Блок 1'!AX170)","v":""},{"$f":"IF('Блок 1'!AY170=\"\",\"\",'Блок 1'!AY170)","v":""},{"$f":"IF('Блок 1'!AZ170=\"\",\"\",'Блок 1'!AZ170)","v":""},{"$f":"IF('Блок 1'!BA170=\"\",\"\",'Блок 1'!BA170)","v":""},{"$f":"IF('Блок 1'!BB170=\"\",\"\",'Блок 1'!BB170)","v":""},{"$f":"IF('Блок 1'!BC170=\"\",\"\",'Блок 1'!BC170)","v":""},{"$f":"IF('Блок 1'!BD170=\"\",\"\",'Блок 1'!BD170)","v":""},{"$f":"IF('Блок 1'!BE170=\"\",\"\",'Блок 1'!BE170)","v":""},{"$f":"IF('Блок 1'!BF170=\"\",\"\",'Блок 1'!BF170)","v":""},{"$f":"IF('Блок 1'!BG170=\"\",\"\",'Блок 1'!BG170)","v":""},{"$f":"IF('Блок 1'!BH170=\"\",\"\",'Блок 1'!BH170)","v":""}]
[null,{"$f":"IF('Блок 1'!B171=\"\",\"\",'Блок 1'!B171)","v":""},{"$f":"IF('Блок 1'!C171=\"\",\"\",'Блок 1'!C171)","v":""},{"$f":"IF('Блок 1'!D171=\"\",\"\",'Блок 1'!D171)","v":""},{"$f":"IF('Блок 1'!E171=\"\",\"\",'Блок 1'!E171)","v":""},{"$f":"IF('Блок 1'!F171=\"\",\"\",'Блок 1'!F171)","v":""},{"$f":"IF('Блок 1'!G171=\"\",\"\",'Блок 1'!G171)","v":""},{"$f":"IF('Блок 1'!H171=\"\",\"\",'Блок 1'!H171)","v":""},{"$f":"IF('Блок 1'!I171=\"\",\"\",'Блок 1'!I171)","v":""},{"$f":"IF('Блок 1'!J171=\"\",\"\",'Блок 1'!J171)","v":""},{"$f":"IF('Блок 1'!K171=\"\",\"\",'Блок 1'!K171)","v":""},{"$f":"IF('Блок 1'!L171=\"\",\"\",'Блок 1'!L171)","v":""},{"$f":"IF('Блок 1'!M171=\"\",\"\",'Блок 1'!M171)","v":""},{"$f":"IF('Блок 1'!N171=\"\",\"\",'Блок 1'!N171)","v":""},{"$f":"IF('Блок 1'!O171=\"\",\"\",'Блок 1'!O171)","v":""},{"$f":"IF('Блок 1'!P171=\"\",\"\",'Блок 1'!P171)","v":""},{"$f":"IF('Блок 1'!Q171=\"\",\"\",'Блок 1'!Q171)","v":""},{"$f":"IF('Блок 1'!R171=\"\",\"\",'Блок 1'!R171)","v":""},{"$f":"IF('Блок 1'!S171=\"\",\"\",'Блок 1'!S171)","v":""},{"$f":"IF('Блок 1'!T171=\"\",\"\",'Блок 1'!T171)","v":""},{"$f":"IF('Блок 1'!U171=\"\",\"\",'Блок 1'!U171)","v":""},{"$f":"IF('Блок 1'!V171=\"\",\"\",'Блок 1'!V171)","v":""},{"$f":"IF('Блок 1'!W171=\"\",\"\",'Блок 1'!W171)","v":""},{"$f":"IF('Блок 1'!X171=\"\",\"\",'Блок 1'!X171)","v":""},{"$f":"IF('Блок 1'!Y171=\"\",\"\",'Блок 1'!Y171)","v":""},{"$f":"IF('Блок 1'!Z171=\"\",\"\",'Блок 1'!Z171)","v":""},{"$f":"IF('Блок 1'!AA171=\"\",\"\",'Блок 1'!AA171)","v":""},{"$f":"IF('Блок 1'!AB171=\"\",\"\",'Блок 1'!AB171)","v":""},{"$f":"IF('Блок 1'!AC171=\"\",\"\",'Блок 1'!AC171)","v":""},{"$f":"IF('Блок 1'!AD171=\"\",\"\",'Блок 1'!AD171)","v":""},{"$f":"IF('Блок 1'!AE171=\"\",\"\",'Блок 1'!AE171)","v":""},{"$f":"IF('Блок 1'!AF171=\"\",\"\",'Блок 1'!AF171)","v":""},{"$f":"IF('Блок 1'!AG171=\"\",\"\",'Блок 1'!AG171)","v":""},{"$f":"IF('Блок 1'!AH171=\"\",\"\",'Блок 1'!AH171)","v":""},{"$f":"IF('Блок 1'!AI171=\"\",\"\",'Блок 1'!AI171)","v":""},{"$f":"IF('Блок 1'!AJ171=\"\",\"\",'Блок 1'!AJ171)","v":""},{"$f":"IF('Блок 1'!AK171=\"\",\"\",'Блок 1'!AK171)","v":""},{"$f":"IF('Блок 1'!AL171=\"\",\"\",'Блок 1'!AL171)","v":""},{"$f":"IF('Блок 1'!AM171=\"\",\"\",'Блок 1'!AM171)","v":""},{"$f":"IF('Блок 1'!AN171=\"\",\"\",'Блок 1'!AN171)","v":""},{"$f":"IF('Блок 1'!AO171=\"\",\"\",'Блок 1'!AO171)","v":""},{"$f":"IF('Блок 1'!AP171=\"\",\"\",'Блок 1'!AP171)","v":""},{"$f":"IF('Блок 1'!AQ171=\"\",\"\",'Блок 1'!AQ171)","v":""},{"$f":"IF('Блок 1'!AR171=\"\",\"\",'Блок 1'!AR171)","v":""},{"$f":"IF('Блок 1'!AS171=\"\",\"\",'Блок 1'!AS171)","v":""},{"$f":"IF('Блок 1'!AT171=\"\",\"\",'Блок 1'!AT171)","v":""},{"$f":"IF('Блок 1'!AU171=\"\",\"\",'Блок 1'!AU171)","v":""},{"$f":"IF('Блок 1'!AV171=\"\",\"\",'Блок 1'!AV171)","v":""},{"$f":"IF('Блок 1'!AW171=\"\",\"\",'Блок 1'!AW171)","v":""},{"$f":"IF('Блок 1'!AX171=\"\",\"\",'Блок 1'!AX171)","v":""},{"$f":"IF('Блок 1'!AY171=\"\",\"\",'Блок 1'!AY171)","v":""},{"$f":"IF('Блок 1'!AZ171=\"\",\"\",'Блок 1'!AZ171)","v":""},{"$f":"IF('Блок 1'!BA171=\"\",\"\",'Блок 1'!BA171)","v":""},{"$f":"IF('Блок 1'!BB171=\"\",\"\",'Блок 1'!BB171)","v":""},{"$f":"IF('Блок 1'!BC171=\"\",\"\",'Блок 1'!BC171)","v":""},{"$f":"IF('Блок 1'!BD171=\"\",\"\",'Блок 1'!BD171)","v":""},{"$f":"IF('Блок 1'!BE171=\"\",\"\",'Блок 1'!BE171)","v":""},{"$f":"IF('Блок 1'!BF171=\"\",\"\",'Блок 1'!BF171)","v":""},{"$f":"IF('Блок 1'!BG171=\"\",\"\",'Блок 1'!BG171)","v":""},{"$f":"IF('Блок 1'!BH171=\"\",\"\",'Блок 1'!BH171)","v":""}]
[null,{"$f":"IF('Блок 1'!B172=\"\",\"\",'Блок 1'!B172)","v":""},{"$f":"IF('Блок 1'!C172=\"\",\"\",'Блок 1'!C172)","v":""},{"$f":"IF('Блок 1'!D172=\"\",\"\",'Блок 1'!D172)","v":""},{"$f":"IF('Блок 1'!E172=\"\",\"\",'Блок 1'!E172)","v":""},{"$f":"IF('Блок 1'!F172=\"\",\"\",'Блок 1'!F172)","v":""},{"$f":"IF('Блок 1'!G172=\"\",\"\",'Блок 1'!G172)","v":""},{"$f":"IF('Блок 1'!H172=\"\",\"\",'Блок 1'!H172)","v":""},{"$f":"IF('Блок 1'!I172=\"\",\"\",'Блок 1'!I172)","v":""},{"$f":"IF('Блок 1'!J172=\"\",\"\",'Блок 1'!J172)","v":""},{"$f":"IF('Блок 1'!K172=\"\",\"\",'Блок 1'!K172)","v":""},{"$f":"IF('Блок 1'!L172=\"\",\"\",'Блок 1'!L172)","v":""},{"$f":"IF('Блок 1'!M172=\"\",\"\",'Блок 1'!M172)","v":""},{"$f":"IF('Блок 1'!N172=\"\",\"\",'Блок 1'!N172)","v":""},{"$f":"IF('Блок 1'!O172=\"\",\"\",'Блок 1'!O172)","v":""},{"$f":"IF('Блок 1'!P172=\"\",\"\",'Блок 1'!P172)","v":""},{"$f":"IF('Блок 1'!Q172=\"\",\"\",'Блок 1'!Q172)","v":""},{"$f":"IF('Блок 1'!R172=\"\",\"\",'Блок 1'!R172)","v":""},{"$f":"IF('Блок 1'!S172=\"\",\"\",'Блок 1'!S172)","v":""},{"$f":"IF('Блок 1'!T172=\"\",\"\",'Блок 1'!T172)","v":""},{"$f":"IF('Блок 1'!U172=\"\",\"\",'Блок 1'!U172)","v":""},{"$f":"IF('Блок 1'!V172=\"\",\"\",'Блок 1'!V172)","v":""},{"$f":"IF('Блок 1'!W172=\"\",\"\",'Блок 1'!W172)","v":""},{"$f":"IF('Блок 1'!X172=\"\",\"\",'Блок 1'!X172)","v":""},{"$f":"IF('Блок 1'!Y172=\"\",\"\",'Блок 1'!Y172)","v":""},{"$f":"IF('Блок 1'!Z172=\"\",\"\",'Блок 1'!Z172)","v":""},{"$f":"IF('Блок 1'!AA172=\"\",\"\",'Блок 1'!AA172)","v":""},{"$f":"IF('Блок 1'!AB172=\"\",\"\",'Блок 1'!AB172)","v":""},{"$f":"IF('Блок 1'!AC172=\"\",\"\",'Блок 1'!AC172)","v":""},{"$f":"IF('Блок 1'!AD172=\"\",\"\",'Блок 1'!AD172)","v":""},{"$f":"IF('Блок 1'!AE172=\"\",\"\",'Блок 1'!AE172)","v":""},{"$f":"IF('Блок 1'!AF172=\"\",\"\",'Блок 1'!AF172)","v":""},{"$f":"IF('Блок 1'!AG172=\"\",\"\",'Блок 1'!AG172)","v":""},{"$f":"IF('Блок 1'!AH172=\"\",\"\",'Блок 1'!AH172)","v":""},{"$f":"IF('Блок 1'!AI172=\"\",\"\",'Блок 1'!AI172)","v":""},{"$f":"IF('Блок 1'!AJ172=\"\",\"\",'Блок 1'!AJ172)","v":""},{"$f":"IF('Блок 1'!AK172=\"\",\"\",'Блок 1'!AK172)","v":""},{"$f":"IF('Блок 1'!AL172=\"\",\"\",'Блок 1'!AL172)","v":""},{"$f":"IF('Блок 1'!AM172=\"\",\"\",'Блок 1'!AM172)","v":""},{"$f":"IF('Блок 1'!AN172=\"\",\"\",'Блок 1'!AN172)","v":""},{"$f":"IF('Блок 1'!AO172=\"\",\"\",'Блок 1'!AO172)","v":""},{"$f":"IF('Блок 1'!AP172=\"\",\"\",'Блок 1'!AP172)","v":""},{"$f":"IF('Блок 1'!AQ172=\"\",\"\",'Блок 1'!AQ172)","v":""},{"$f":"IF('Блок 1'!AR172=\"\",\"\",'Блок 1'!AR172)","v":""},{"$f":"IF('Блок 1'!AS172=\"\",\"\",'Блок 1'!AS172)","v":""},{"$f":"IF('Блок 1'!AT172=\"\",\"\",'Блок 1'!AT172)","v":""},{"$f":"IF('Блок 1'!AU172=\"\",\"\",'Блок 1'!AU172)","v":""},{"$f":"IF('Блок 1'!AV172=\"\",\"\",'Блок 1'!AV172)","v":""},{"$f":"IF('Блок 1'!AW172=\"\",\"\",'Блок 1'!AW172)","v":""},{"$f":"IF('Блок 1'!AX172=\"\",\"\",'Блок 1'!AX172)","v":""},{"$f":"IF('Блок 1'!AY172=\"\",\"\",'Блок 1'!AY172)","v":""},{"$f":"IF('Блок 1'!AZ172=\"\",\"\",'Блок 1'!AZ172)","v":""},{"$f":"IF('Блок 1'!BA172=\"\",\"\",'Блок 1'!BA172)","v":""},{"$f":"IF('Блок 1'!BB172=\"\",\"\",'Блок 1'!BB172)","v":""},{"$f":"IF('Блок 1'!BC172=\"\",\"\",'Блок 1'!BC172)","v":""},{"$f":"IF('Блок 1'!BD172=\"\",\"\",'Блок 1'!BD172)","v":""},{"$f":"IF('Блок 1'!BE172=\"\",\"\",'Блок 1'!BE172)","v":""},{"$f":"IF('Блок 1'!BF172=\"\",\"\",'Блок 1'!BF172)","v":""},{"$f":"IF('Блок 1'!BG172=\"\",\"\",'Блок 1'!BG172)","v":""},{"$f":"IF('Блок 1'!BH172=\"\",\"\",'Блок 1'!BH172)","v":""}]
[null,{"$f":"IF('Блок 1'!B173=\"\",\"\",'Блок 1'!B173)","v":""},{"$f":"IF('Блок 1'!C173=\"\",\"\",'Блок 1'!C173)","v":""},{"$f":"IF('Блок 1'!D173=\"\",\"\",'Блок 1'!D173)","v":""},{"$f":"IF('Блок 1'!E173=\"\",\"\",'Блок 1'!E173)","v":""},{"$f":"IF('Блок 1'!F173=\"\",\"\",'Блок 1'!F173)","v":""},{"$f":"IF('Блок 1'!G173=\"\",\"\",'Блок 1'!G173)","v":""},{"$f":"IF('Блок 1'!H173=\"\",\"\",'Блок 1'!H173)","v":""},{"$f":"IF('Блок 1'!I173=\"\",\"\",'Блок 1'!I173)","v":""},{"$f":"IF('Блок 1'!J173=\"\",\"\",'Блок 1'!J173)","v":""},{"$f":"IF('Блок 1'!K173=\"\",\"\",'Блок 1'!K173)","v":""},{"$f":"IF('Блок 1'!L173=\"\",\"\",'Блок 1'!L173)","v":""},{"$f":"IF('Блок 1'!M173=\"\",\"\",'Блок 1'!M173)","v":""},{"$f":"IF('Блок 1'!N173=\"\",\"\",'Блок 1'!N173)","v":""},{"$f":"IF('Блок 1'!O173=\"\",\"\",'Блок 1'!O173)","v":""},{"$f":"IF('Блок 1'!P173=\"\",\"\",'Блок 1'!P173)","v":""},{"$f":"IF('Блок 1'!Q173=\"\",\"\",'Блок 1'!Q173)","v":""},{"$f":"IF('Блок 1'!R173=\"\",\"\",'Блок 1'!R173)","v":""},{"$f":"IF('Блок 1'!S173=\"\",\"\",'Блок 1'!S173)","v":""},{"$f":"IF('Блок 1'!T173=\"\",\"\",'Блок 1'!T173)","v":""},{"$f":"IF('Блок 1'!U173=\"\",\"\",'Блок 1'!U173)","v":""},{"$f":"IF('Блок 1'!V173=\"\",\"\",'Блок 1'!V173)","v":""},{"$f":"IF('Блок 1'!W173=\"\",\"\",'Блок 1'!W173)","v":""},{"$f":"IF('Блок 1'!X173=\"\",\"\",'Блок 1'!X173)","v":""},{"$f":"IF('Блок 1'!Y173=\"\",\"\",'Блок 1'!Y173)","v":""},{"$f":"IF('Блок 1'!Z173=\"\",\"\",'Блок 1'!Z173)","v":""},{"$f":"IF('Блок 1'!AA173=\"\",\"\",'Блок 1'!AA173)","v":""},{"$f":"IF('Блок 1'!AB173=\"\",\"\",'Блок 1'!AB173)","v":""},{"$f":"IF('Блок 1'!AC173=\"\",\"\",'Блок 1'!AC173)","v":""},{"$f":"IF('Блок 1'!AD173=\"\",\"\",'Блок 1'!AD173)","v":""},{"$f":"IF('Блок 1'!AE173=\"\",\"\",'Блок 1'!AE173)","v":""},{"$f":"IF('Блок 1'!AF173=\"\",\"\",'Блок 1'!AF173)","v":""},{"$f":"IF('Блок 1'!AG173=\"\",\"\",'Блок 1'!AG173)","v":""},{"$f":"IF('Блок 1'!AH173=\"\",\"\",'Блок 1'!AH173)","v":""},{"$f":"IF('Блок 1'!AI173=\"\",\"\",'Блок 1'!AI173)","v":""},{"$f":"IF('Блок 1'!AJ173=\"\",\"\",'Блок 1'!AJ173)","v":""},{"$f":"IF('Блок 1'!AK173=\"\",\"\",'Блок 1'!AK173)","v":""},{"$f":"IF('Блок 1'!AL173=\"\",\"\",'Блок 1'!AL173)","v":""},{"$f":"IF('Блок 1'!AM173=\"\",\"\",'Блок 1'!AM173)","v":""},{"$f":"IF('Блок 1'!AN173=\"\",\"\",'Блок 1'!AN173)","v":""},{"$f":"IF('Блок 1'!AO173=\"\",\"\",'Блок 1'!AO173)","v":""},{"$f":"IF('Блок 1'!AP173=\"\",\"\",'Блок 1'!AP173)","v":""},{"$f":"IF('Блок 1'!AQ173=\"\",\"\",'Блок 1'!AQ173)","v":""},{"$f":"IF('Блок 1'!AR173=\"\",\"\",'Блок 1'!AR173)","v":""},{"$f":"IF('Блок 1'!AS173=\"\",\"\",'Блок 1'!AS173)","v":""},{"$f":"IF('Блок 1'!AT173=\"\",\"\",'Блок 1'!AT173)","v":""},{"$f":"IF('Блок 1'!AU173=\"\",\"\",'Блок 1'!AU173)","v":""},{"$f":"IF('Блок 1'!AV173=\"\",\"\",'Блок 1'!AV173)","v":""},{"$f":"IF('Блок 1'!AW173=\"\",\"\",'Блок 1'!AW173)","v":""},{"$f":"IF('Блок 1'!AX173=\"\",\"\",'Блок 1'!AX173)","v":""},{"$f":"IF('Блок 1'!AY173=\"\",\"\",'Блок 1'!AY173)","v":""},{"$f":"IF('Блок 1'!AZ173=\"\",\"\",'Блок 1'!AZ173)","v":""},{"$f":"IF('Блок 1'!BA173=\"\",\"\",'Блок 1'!BA173)","v":""},{"$f":"IF('Блок 1'!BB173=\"\",\"\",'Блок 1'!BB173)","v":""},{"$f":"IF('Блок 1'!BC173=\"\",\"\",'Блок 1'!BC173)","v":""},{"$f":"IF('Блок 1'!BD173=\"\",\"\",'Блок 1'!BD173)","v":""},{"$f":"IF('Блок 1'!BE173=\"\",\"\",'Блок 1'!BE173)","v":""},{"$f":"IF('Блок 1'!BF173=\"\",\"\",'Блок 1'!BF173)","v":""},{"$f":"IF('Блок 1'!BG173=\"\",\"\",'Блок 1'!BG173)","v":""},{"$f":"IF('Блок 1'!BH173=\"\",\"\",'Блок 1'!BH173)","v":""}]
[null,{"$f":"IF('Блок 1'!B174=\"\",\"\",'Блок 1'!B174)","v":""},{"$f":"IF('Блок 1'!C174=\"\",\"\",'Блок 1'!C174)","v":""},{"$f":"IF('Блок 1'!D174=\"\",\"\",'Блок 1'!D174)","v":""},{"$f":"IF('Блок 1'!E174=\"\",\"\",'Блок 1'!E174)","v":""},{"$f":"IF('Блок 1'!F174=\"\",\"\",'Блок 1'!F174)","v":""},{"$f":"IF('Блок 1'!G174=\"\",\"\",'Блок 1'!G174)","v":""},{"$f":"IF('Блок 1'!H174=\"\",\"\",'Блок 1'!H174)","v":""},{"$f":"IF('Блок 1'!I174=\"\",\"\",'Блок 1'!I174)","v":""},{"$f":"IF('Блок 1'!J174=\"\",\"\",'Блок 1'!J174)","v":""},{"$f":"IF('Блок 1'!K174=\"\",\"\",'Блок 1'!K174)","v":""},{"$f":"IF('Блок 1'!L174=\"\",\"\",'Блок 1'!L174)","v":""},{"$f":"IF('Блок 1'!M174=\"\",\"\",'Блок 1'!M174)","v":""},{"$f":"IF('Блок 1'!N174=\"\",\"\",'Блок 1'!N174)","v":""},{"$f":"IF('Блок 1'!O174=\"\",\"\",'Блок 1'!O174)","v":""},{"$f":"IF('Блок 1'!P174=\"\",\"\",'Блок 1'!P174)","v":""},{"$f":"IF('Блок 1'!Q174=\"\",\"\",'Блок 1'!Q174)","v":""},{"$f":"IF('Блок 1'!R174=\"\",\"\",'Блок 1'!R174)","v":""},{"$f":"IF('Блок 1'!S174=\"\",\"\",'Блок 1'!S174)","v":""},{"$f":"IF('Блок 1'!T174=\"\",\"\",'Блок 1'!T174)","v":""},{"$f":"IF('Блок 1'!U174=\"\",\"\",'Блок 1'!U174)","v":""},{"$f":"IF('Блок 1'!V174=\"\",\"\",'Блок 1'!V174)","v":""},{"$f":"IF('Блок 1'!W174=\"\",\"\",'Блок 1'!W174)","v":""},{"$f":"IF('Блок 1'!X174=\"\",\"\",'Блок 1'!X174)","v":""},{"$f":"IF('Блок 1'!Y174=\"\",\"\",'Блок 1'!Y174)","v":""},{"$f":"IF('Блок 1'!Z174=\"\",\"\",'Блок 1'!Z174)","v":""},{"$f":"IF('Блок 1'!AA174=\"\",\"\",'Блок 1'!AA174)","v":""},{"$f":"IF('Блок 1'!AB174=\"\",\"\",'Блок 1'!AB174)","v":""},{"$f":"IF('Блок 1'!AC174=\"\",\"\",'Блок 1'!AC174)","v":""},{"$f":"IF('Блок 1'!AD174=\"\",\"\",'Блок 1'!AD174)","v":""},{"$f":"IF('Блок 1'!AE174=\"\",\"\",'Блок 1'!AE174)","v":""},{"$f":"IF('Блок 1'!AF174=\"\",\"\",'Блок 1'!AF174)","v":""},{"$f":"IF('Блок 1'!AG174=\"\",\"\",'Блок 1'!AG174)","v":""},{"$f":"IF('Блок 1'!AH174=\"\",\"\",'Блок 1'!AH174)","v":""},{"$f":"IF('Блок 1'!AI174=\"\",\"\",'Блок 1'!AI174)","v":""},{"$f":"IF('Блок 1'!AJ174=\"\",\"\",'Блок 1'!AJ174)","v":""},{"$f":"IF('Блок 1'!AK174=\"\",\"\",'Блок 1'!AK174)","v":""},{"$f":"IF('Блок 1'!AL174=\"\",\"\",'Блок 1'!AL174)","v":""},{"$f":"IF('Блок 1'!AM174=\"\",\"\",'Блок 1'!AM174)","v":""},{"$f":"IF('Блок 1'!AN174=\"\",\"\",'Блок 1'!AN174)","v":""},{"$f":"IF('Блок 1'!AO174=\"\",\"\",'Блок 1'!AO174)","v":""},{"$f":"IF('Блок 1'!AP174=\"\",\"\",'Блок 1'!AP174)","v":""},{"$f":"IF('Блок 1'!AQ174=\"\",\"\",'Блок 1'!AQ174)","v":""},{"$f":"IF('Блок 1'!AR174=\"\",\"\",'Блок 1'!AR174)","v":""},{"$f":"IF('Блок 1'!AS174=\"\",\"\",'Блок 1'!AS174)","v":""},{"$f":"IF('Блок 1'!AT174=\"\",\"\",'Блок 1'!AT174)","v":""},{"$f":"IF('Блок 1'!AU174=\"\",\"\",'Блок 1'!AU174)","v":""},{"$f":"IF('Блок 1'!AV174=\"\",\"\",'Блок 1'!AV174)","v":""},{"$f":"IF('Блок 1'!AW174=\"\",\"\",'Блок 1'!AW174)","v":""},{"$f":"IF('Блок 1'!AX174=\"\",\"\",'Блок 1'!AX174)","v":""},{"$f":"IF('Блок 1'!AY174=\"\",\"\",'Блок 1'!AY174)","v":""},{"$f":"IF('Блок 1'!AZ174=\"\",\"\",'Блок 1'!AZ174)","v":""},{"$f":"IF('Блок 1'!BA174=\"\",\"\",'Блок 1'!BA174)","v":""},{"$f":"IF('Блок 1'!BB174=\"\",\"\",'Блок 1'!BB174)","v":""},{"$f":"IF('Блок 1'!BC174=\"\",\"\",'Блок 1'!BC174)","v":""},{"$f":"IF('Блок 1'!BD174=\"\",\"\",'Блок 1'!BD174)","v":""},{"$f":"IF('Блок 1'!BE174=\"\",\"\",'Блок 1'!BE174)","v":""},{"$f":"IF('Блок 1'!BF174=\"\",\"\",'Блок 1'!BF174)","v":""},{"$f":"IF('Блок 1'!BG174=\"\",\"\",'Блок 1'!BG174)","v":""},{"$f":"IF('Блок 1'!BH174=\"\",\"\",'Блок 1'!BH174)","v":""}]
[null,{"$f":"IF('Блок 1'!B175=\"\",\"\",'Блок 1'!B175)","v":""},{"$f":"IF('Блок 1'!C175=\"\",\"\",'Блок 1'!C175)","v":""},{"$f":"IF('Блок 1'!D175=\"\",\"\",'Блок 1'!D175)","v":""},{"$f":"IF('Блок 1'!E175=\"\",\"\",'Блок 1'!E175)","v":""},{"$f":"IF('Блок 1'!F175=\"\",\"\",'Блок 1'!F175)","v":""},{"$f":"IF('Блок 1'!G175=\"\",\"\",'Блок 1'!G175)","v":""},{"$f":"IF('Блок 1'!H175=\"\",\"\",'Блок 1'!H175)","v":""},{"$f":"IF('Блок 1'!I175=\"\",\"\",'Блок 1'!I175)","v":""},{"$f":"IF('Блок 1'!J175=\"\",\"\",'Блок 1'!J175)","v":""},{"$f":"IF('Блок 1'!K175=\"\",\"\",'Блок 1'!K175)","v":""},{"$f":"IF('Блок 1'!L175=\"\",\"\",'Блок 1'!L175)","v":""},{"$f":"IF('Блок 1'!M175=\"\",\"\",'Блок 1'!M175)","v":""},{"$f":"IF('Блок 1'!N175=\"\",\"\",'Блок 1'!N175)","v":""},{"$f":"IF('Блок 1'!O175=\"\",\"\",'Блок 1'!O175)","v":""},{"$f":"IF('Блок 1'!P175=\"\",\"\",'Блок 1'!P175)","v":""},{"$f":"IF('Блок 1'!Q175=\"\",\"\",'Блок 1'!Q175)","v":""},{"$f":"IF('Блок 1'!R175=\"\",\"\",'Блок 1'!R175)","v":""},{"$f":"IF('Блок 1'!S175=\"\",\"\",'Блок 1'!S175)","v":""},{"$f":"IF('Блок 1'!T175=\"\",\"\",'Блок 1'!T175)","v":""},{"$f":"IF('Блок 1'!U175=\"\",\"\",'Блок 1'!U175)","v":""},{"$f":"IF('Блок 1'!V175=\"\",\"\",'Блок 1'!V175)","v":""},{"$f":"IF('Блок 1'!W175=\"\",\"\",'Блок 1'!W175)","v":""},{"$f":"IF('Блок 1'!X175=\"\",\"\",'Блок 1'!X175)","v":""},{"$f":"IF('Блок 1'!Y175=\"\",\"\",'Блок 1'!Y175)","v":""},{"$f":"IF('Блок 1'!Z175=\"\",\"\",'Блок 1'!Z175)","v":""},{"$f":"IF('Блок 1'!AA175=\"\",\"\",'Блок 1'!AA175)","v":""},{"$f":"IF('Блок 1'!AB175=\"\",\"\",'Блок 1'!AB175)","v":""},{"$f":"IF('Блок 1'!AC175=\"\",\"\",'Блок 1'!AC175)","v":""},{"$f":"IF('Блок 1'!AD175=\"\",\"\",'Блок 1'!AD175)","v":""},{"$f":"IF('Блок 1'!AE175=\"\",\"\",'Блок 1'!AE175)","v":""},{"$f":"IF('Блок 1'!AF175=\"\",\"\",'Блок 1'!AF175)","v":""},{"$f":"IF('Блок 1'!AG175=\"\",\"\",'Блок 1'!AG175)","v":""},{"$f":"IF('Блок 1'!AH175=\"\",\"\",'Блок 1'!AH175)","v":""},{"$f":"IF('Блок 1'!AI175=\"\",\"\",'Блок 1'!AI175)","v":""},{"$f":"IF('Блок 1'!AJ175=\"\",\"\",'Блок 1'!AJ175)","v":""},{"$f":"IF('Блок 1'!AK175=\"\",\"\",'Блок 1'!AK175)","v":""},{"$f":"IF('Блок 1'!AL175=\"\",\"\",'Блок 1'!AL175)","v":""},{"$f":"IF('Блок 1'!AM175=\"\",\"\",'Блок 1'!AM175)","v":""},{"$f":"IF('Блок 1'!AN175=\"\",\"\",'Блок 1'!AN175)","v":""},{"$f":"IF('Блок 1'!AO175=\"\",\"\",'Блок 1'!AO175)","v":""},{"$f":"IF('Блок 1'!AP175=\"\",\"\",'Блок 1'!AP175)","v":""},{"$f":"IF('Блок 1'!AQ175=\"\",\"\",'Блок 1'!AQ175)","v":""},{"$f":"IF('Блок 1'!AR175=\"\",\"\",'Блок 1'!AR175)","v":""},{"$f":"IF('Блок 1'!AS175=\"\",\"\",'Блок 1'!AS175)","v":""},{"$f":"IF('Блок 1'!AT175=\"\",\"\",'Блок 1'!AT175)","v":""},{"$f":"IF('Блок 1'!AU175=\"\",\"\",'Блок 1'!AU175)","v":""},{"$f":"IF('Блок 1'!AV175=\"\",\"\",'Блок 1'!AV175)","v":""},{"$f":"IF('Блок 1'!AW175=\"\",\"\",'Блок 1'!AW175)","v":""},{"$f":"IF('Блок 1'!AX175=\"\",\"\",'Блок 1'!AX175)","v":""},{"$f":"IF('Блок 1'!AY175=\"\",\"\",'Блок 1'!AY175)","v":""},{"$f":"IF('Блок 1'!AZ175=\"\",\"\",'Блок 1'!AZ175)","v":""},{"$f":"IF('Блок 1'!BA175=\"\",\"\",'Блок 1'!BA175)","v":""},{"$f":"IF('Блок 1'!BB175=\"\",\"\",'Блок 1'!BB175)","v":""},{"$f":"IF('Блок 1'!BC175=\"\",\"\",'Блок 1'!BC175)","v":""},{"$f":"IF('Блок 1'!BD175=\"\",\"\",'Блок 1'!BD175)","v":""},{"$f":"IF('Блок 1'!BE175=\"\",\"\",'Блок 1'!BE175)","v":""},{"$f":"IF('Блок 1'!BF175=\"\",\"\",'Блок 1'!BF175)","v":""},{"$f":"IF('Блок 1'!BG175=\"\",\"\",'Блок 1'!BG175)","v":""},{"$f":"IF('Блок 1'!BH175=\"\",\"\",'Блок 1'!BH175)","v":""}]
[null,{"$f":"IF('Блок 1'!B176=\"\",\"\",'Блок 1'!B176)","v":""},{"$f":"IF('Блок 1'!C176=\"\",\"\",'Блок 1'!C176)","v":""},{"$f":"IF('Блок 1'!D176=\"\",\"\",'Блок 1'!D176)","v":""},{"$f":"IF('Блок 1'!E176=\"\",\"\",'Блок 1'!E176)","v":""},{"$f":"IF('Блок 1'!F176=\"\",\"\",'Блок 1'!F176)","v":""},{"$f":"IF('Блок 1'!G176=\"\",\"\",'Блок 1'!G176)","v":""},{"$f":"IF('Блок 1'!H176=\"\",\"\",'Блок 1'!H176)","v":""},{"$f":"IF('Блок 1'!I176=\"\",\"\",'Блок 1'!I176)","v":""},{"$f":"IF('Блок 1'!J176=\"\",\"\",'Блок 1'!J176)","v":""},{"$f":"IF('Блок 1'!K176=\"\",\"\",'Блок 1'!K176)","v":""},{"$f":"IF('Блок 1'!L176=\"\",\"\",'Блок 1'!L176)","v":""},{"$f":"IF('Блок 1'!M176=\"\",\"\",'Блок 1'!M176)","v":""},{"$f":"IF('Блок 1'!N176=\"\",\"\",'Блок 1'!N176)","v":""},{"$f":"IF('Блок 1'!O176=\"\",\"\",'Блок 1'!O176)","v":""},{"$f":"IF('Блок 1'!P176=\"\",\"\",'Блок 1'!P176)","v":""},{"$f":"IF('Блок 1'!Q176=\"\",\"\",'Блок 1'!Q176)","v":""},{"$f":"IF('Блок 1'!R176=\"\",\"\",'Блок 1'!R176)","v":""},{"$f":"IF('Блок 1'!S176=\"\",\"\",'Блок 1'!S176)","v":""},{"$f":"IF('Блок 1'!T176=\"\",\"\",'Блок 1'!T176)","v":""},{"$f":"IF('Блок 1'!U176=\"\",\"\",'Блок 1'!U176)","v":""},{"$f":"IF('Блок 1'!V176=\"\",\"\",'Блок 1'!V176)","v":""},{"$f":"IF('Блок 1'!W176=\"\",\"\",'Блок 1'!W176)","v":""},{"$f":"IF('Блок 1'!X176=\"\",\"\",'Блок 1'!X176)","v":""},{"$f":"IF('Блок 1'!Y176=\"\",\"\",'Блок 1'!Y176)","v":""},{"$f":"IF('Блок 1'!Z176=\"\",\"\",'Блок 1'!Z176)","v":""},{"$f":"IF('Блок 1'!AA176=\"\",\"\",'Блок 1'!AA176)","v":""},{"$f":"IF('Блок 1'!AB176=\"\",\"\",'Блок 1'!AB176)","v":""},{"$f":"IF('Блок 1'!AC176=\"\",\"\",'Блок 1'!AC176)","v":""},{"$f":"IF('Блок 1'!AD176=\"\",\"\",'Блок 1'!AD176)","v":""},{"$f":"IF('Блок 1'!AE176=\"\",\"\",'Блок 1'!AE176)","v":""},{"$f":"IF('Блок 1'!AF176=\"\",\"\",'Блок 1'!AF176)","v":""},{"$f":"IF('Блок 1'!AG176=\"\",\"\",'Блок 1'!AG176)","v":""},{"$f":"IF('Блок 1'!AH176=\"\",\"\",'Блок 1'!AH176)","v":""},{"$f":"IF('Блок 1'!AI176=\"\",\"\",'Блок 1'!AI176)","v":""},{"$f":"IF('Блок 1'!AJ176=\"\",\"\",'Блок 1'!AJ176)","v":""},{"$f":"IF('Блок 1'!AK176=\"\",\"\",'Блок 1'!AK176)","v":""},{"$f":"IF('Блок 1'!AL176=\"\",\"\",'Блок 1'!AL176)","v":""},{"$f":"IF('Блок 1'!AM176=\"\",\"\",'Блок 1'!AM176)","v":""},{"$f":"IF('Блок 1'!AN176=\"\",\"\",'Блок 1'!AN176)","v":""},{"$f":"IF('Блок 1'!AO176=\"\",\"\",'Блок 1'!AO176)","v":""},{"$f":"IF('Блок 1'!AP176=\"\",\"\",'Блок 1'!AP176)","v":""},{"$f":"IF('Блок 1'!AQ176=\"\",\"\",'Блок 1'!AQ176)","v":""},{"$f":"IF('Блок 1'!AR176=\"\",\"\",'Блок 1'!AR176)","v":""},{"$f":"IF('Блок 1'!AS176=\"\",\"\",'Блок 1'!AS176)","v":""},{"$f":"IF('Блок 1'!AT176=\"\",\"\",'Блок 1'!AT176)","v":""},{"$f":"IF('Блок 1'!AU176=\"\",\"\",'Блок 1'!AU176)","v":""},{"$f":"IF('Блок 1'!AV176=\"\",\"\",'Блок 1'!AV176)","v":""},{"$f":"IF('Блок 1'!AW176=\"\",\"\",'Блок 1'!AW176)","v":""},{"$f":"IF('Блок 1'!AX176=\"\",\"\",'Блок 1'!AX176)","v":""},{"$f":"IF('Блок 1'!AY176=\"\",\"\",'Блок 1'!AY176)","v":""},{"$f":"IF('Блок 1'!AZ176=\"\",\"\",'Блок 1'!AZ176)","v":""},{"$f":"IF('Блок 1'!BA176=\"\",\"\",'Блок 1'!BA176)","v":""},{"$f":"IF('Блок 1'!BB176=\"\",\"\",'Блок 1'!BB176)","v":""},{"$f":"IF('Блок 1'!BC176=\"\",\"\",'Блок 1'!BC176)","v":""},{"$f":"IF('Блок 1'!BD176=\"\",\"\",'Блок 1'!BD176)","v":""},{"$f":"IF('Блок 1'!BE176=\"\",\"\",'Блок 1'!BE176)","v":""},{"$f":"IF('Блок 1'!BF176=\"\",\"\",'Блок 1'!BF176)","v":""},{"$f":"IF('Блок 1'!BG176=\"\",\"\",'Блок 1'!BG176)","v":""},{"$f":"IF('Блок 1'!BH176=\"\",\"\",'Блок 1'!BH176)","v":""}]
[null,{"$f":"IF('Блок 1'!B177=\"\",\"\",'Блок 1'!B177)","v":""},{"$f":"IF('Блок 1'!C177=\"\",\"\",'Блок 1'!C177)","v":""},{"$f":"IF('Блок 1'!D177=\"\",\"\",'Блок 1'!D177)","v":""},{"$f":"IF('Блок 1'!E177=\"\",\"\",'Блок 1'!E177)","v":""},{"$f":"IF('Блок 1'!F177=\"\",\"\",'Блок 1'!F177)","v":""},{"$f":"IF('Блок 1'!G177=\"\",\"\",'Блок 1'!G177)","v":""},{"$f":"IF('Блок 1'!H177=\"\",\"\",'Блок 1'!H177)","v":""},{"$f":"IF('Блок 1'!I177=\"\",\"\",'Блок 1'!I177)","v":""},{"$f":"IF('Блок 1'!J177=\"\",\"\",'Блок 1'!J177)","v":""},{"$f":"IF('Блок 1'!K177=\"\",\"\",'Блок 1'!K177)","v":""},{"$f":"IF('Блок 1'!L177=\"\",\"\",'Блок 1'!L177)","v":""},{"$f":"IF('Блок 1'!M177=\"\",\"\",'Блок 1'!M177)","v":""},{"$f":"IF('Блок 1'!N177=\"\",\"\",'Блок 1'!N177)","v":""},{"$f":"IF('Блок 1'!O177=\"\",\"\",'Блок 1'!O177)","v":""},{"$f":"IF('Блок 1'!P177=\"\",\"\",'Блок 1'!P177)","v":""},{"$f":"IF('Блок 1'!Q177=\"\",\"\",'Блок 1'!Q177)","v":""},{"$f":"IF('Блок 1'!R177=\"\",\"\",'Блок 1'!R177)","v":""},{"$f":"IF('Блок 1'!S177=\"\",\"\",'Блок 1'!S177)","v":""},{"$f":"IF('Блок 1'!T177=\"\",\"\",'Блок 1'!T177)","v":""},{"$f":"IF('Блок 1'!U177=\"\",\"\",'Блок 1'!U177)","v":""},{"$f":"IF('Блок 1'!V177=\"\",\"\",'Блок 1'!V177)","v":""},{"$f":"IF('Блок 1'!W177=\"\",\"\",'Блок 1'!W177)","v":""},{"$f":"IF('Блок 1'!X177=\"\",\"\",'Блок 1'!X177)","v":""},{"$f":"IF('Блок 1'!Y177=\"\",\"\",'Блок 1'!Y177)","v":""},{"$f":"IF('Блок 1'!Z177=\"\",\"\",'Блок 1'!Z177)","v":""},{"$f":"IF('Блок 1'!AA177=\"\",\"\",'Блок 1'!AA177)","v":""},{"$f":"IF('Блок 1'!AB177=\"\",\"\",'Блок 1'!AB177)","v":""},{"$f":"IF('Блок 1'!AC177=\"\",\"\",'Блок 1'!AC177)","v":""},{"$f":"IF('Блок 1'!AD177=\"\",\"\",'Блок 1'!AD177)","v":""},{"$f":"IF('Блок 1'!AE177=\"\",\"\",'Блок 1'!AE177)","v":""},{"$f":"IF('Блок 1'!AF177=\"\",\"\",'Блок 1'!AF177)","v":""},{"$f":"IF('Блок 1'!AG177=\"\",\"\",'Блок 1'!AG177)","v":""},{"$f":"IF('Блок 1'!AH177=\"\",\"\",'Блок 1'!AH177)","v":""},{"$f":"IF('Блок 1'!AI177=\"\",\"\",'Блок 1'!AI177)","v":""},{"$f":"IF('Блок 1'!AJ177=\"\",\"\",'Блок 1'!AJ177)","v":""},{"$f":"IF('Блок 1'!AK177=\"\",\"\",'Блок 1'!AK177)","v":""},{"$f":"IF('Блок 1'!AL177=\"\",\"\",'Блок 1'!AL177)","v":""},{"$f":"IF('Блок 1'!AM177=\"\",\"\",'Блок 1'!AM177)","v":""},{"$f":"IF('Блок 1'!AN177=\"\",\"\",'Блок 1'!AN177)","v":""},{"$f":"IF('Блок 1'!AO177=\"\",\"\",'Блок 1'!AO177)","v":""},{"$f":"IF('Блок 1'!AP177=\"\",\"\",'Блок 1'!AP177)","v":""},{"$f":"IF('Блок 1'!AQ177=\"\",\"\",'Блок 1'!AQ177)","v":""},{"$f":"IF('Блок 1'!AR177=\"\",\"\",'Блок 1'!AR177)","v":""},{"$f":"IF('Блок 1'!AS177=\"\",\"\",'Блок 1'!AS177)","v":""},{"$f":"IF('Блок 1'!AT177=\"\",\"\",'Блок 1'!AT177)","v":""},{"$f":"IF('Блок 1'!AU177=\"\",\"\",'Блок 1'!AU177)","v":""},{"$f":"IF('Блок 1'!AV177=\"\",\"\",'Блок 1'!AV177)","v":""},{"$f":"IF('Блок 1'!AW177=\"\",\"\",'Блок 1'!AW177)","v":""},{"$f":"IF('Блок 1'!AX177=\"\",\"\",'Блок 1'!AX177)","v":""},{"$f":"IF('Блок 1'!AY177=\"\",\"\",'Блок 1'!AY177)","v":""},{"$f":"IF('Блок 1'!AZ177=\"\",\"\",'Блок 1'!AZ177)","v":""},{"$f":"IF('Блок 1'!BA177=\"\",\"\",'Блок 1'!BA177)","v":""},{"$f":"IF('Блок 1'!BB177=\"\",\"\",'Блок 1'!BB177)","v":""},{"$f":"IF('Блок 1'!BC177=\"\",\"\",'Блок 1'!BC177)","v":""},{"$f":"IF('Блок 1'!BD177=\"\",\"\",'Блок 1'!BD177)","v":""},{"$f":"IF('Блок 1'!BE177=\"\",\"\",'Блок 1'!BE177)","v":""},{"$f":"IF('Блок 1'!BF177=\"\",\"\",'Блок 1'!BF177)","v":""},{"$f":"IF('Блок 1'!BG177=\"\",\"\",'Блок 1'!BG177)","v":""},{"$f":"IF('Блок 1'!BH177=\"\",\"\",'Блок 1'!BH177)","v":""}]
[null,{"$f":"IF('Блок 1'!B178=\"\",\"\",'Блок 1'!B178)","v":""},{"$f":"IF('Блок 1'!C178=\"\",\"\",'Блок 1'!C178)","v":""},{"$f":"IF('Блок 1'!D178=\"\",\"\",'Блок 1'!D178)","v":""},{"$f":"IF('Блок 1'!E178=\"\",\"\",'Блок 1'!E178)","v":""},{"$f":"IF('Блок 1'!F178=\"\",\"\",'Блок 1'!F178)","v":""},{"$f":"IF('Блок 1'!G178=\"\",\"\",'Блок 1'!G178)","v":""},{"$f":"IF('Блок 1'!H178=\"\",\"\",'Блок 1'!H178)","v":""},{"$f":"IF('Блок 1'!I178=\"\",\"\",'Блок 1'!I178)","v":""},{"$f":"IF('Блок 1'!J178=\"\",\"\",'Блок 1'!J178)","v":""},{"$f":"IF('Блок 1'!K178=\"\",\"\",'Блок 1'!K178)","v":""},{"$f":"IF('Блок 1'!L178=\"\",\"\",'Блок 1'!L178)","v":""},{"$f":"IF('Блок 1'!M178=\"\",\"\",'Блок 1'!M178)","v":""},{"$f":"IF('Блок 1'!N178=\"\",\"\",'Блок 1'!N178)","v":""},{"$f":"IF('Блок 1'!O178=\"\",\"\",'Блок 1'!O178)","v":""},{"$f":"IF('Блок 1'!P178=\"\",\"\",'Блок 1'!P178)","v":""},{"$f":"IF('Блок 1'!Q178=\"\",\"\",'Блок 1'!Q178)","v":""},{"$f":"IF('Блок 1'!R178=\"\",\"\",'Блок 1'!R178)","v":""},{"$f":"IF('Блок 1'!S178=\"\",\"\",'Блок 1'!S178)","v":""},{"$f":"IF('Блок 1'!T178=\"\",\"\",'Блок 1'!T178)","v":""},{"$f":"IF('Блок 1'!U178=\"\",\"\",'Блок 1'!U178)","v":""},{"$f":"IF('Блок 1'!V178=\"\",\"\",'Блок 1'!V178)","v":""},{"$f":"IF('Блок 1'!W178=\"\",\"\",'Блок 1'!W178)","v":""},{"$f":"IF('Блок 1'!X178=\"\",\"\",'Блок 1'!X178)","v":""},{"$f":"IF('Блок 1'!Y178=\"\",\"\",'Блок 1'!Y178)","v":""},{"$f":"IF('Блок 1'!Z178=\"\",\"\",'Блок 1'!Z178)","v":""},{"$f":"IF('Блок 1'!AA178=\"\",\"\",'Блок 1'!AA178)","v":""},{"$f":"IF('Блок 1'!AB178=\"\",\"\",'Блок 1'!AB178)","v":""},{"$f":"IF('Блок 1'!AC178=\"\",\"\",'Блок 1'!AC178)","v":""},{"$f":"IF('Блок 1'!AD178=\"\",\"\",'Блок 1'!AD178)","v":""},{"$f":"IF('Блок 1'!AE178=\"\",\"\",'Блок 1'!AE178)","v":""},{"$f":"IF('Блок 1'!AF178=\"\",\"\",'Блок 1'!AF178)","v":""},{"$f":"IF('Блок 1'!AG178=\"\",\"\",'Блок 1'!AG178)","v":""},{"$f":"IF('Блок 1'!AH178=\"\",\"\",'Блок 1'!AH178)","v":""},{"$f":"IF('Блок 1'!AI178=\"\",\"\",'Блок 1'!AI178)","v":""},{"$f":"IF('Блок 1'!AJ178=\"\",\"\",'Блок 1'!AJ178)","v":""},{"$f":"IF('Блок 1'!AK178=\"\",\"\",'Блок 1'!AK178)","v":""},{"$f":"IF('Блок 1'!AL178=\"\",\"\",'Блок 1'!AL178)","v":""},{"$f":"IF('Блок 1'!AM178=\"\",\"\",'Блок 1'!AM178)","v":""},{"$f":"IF('Блок 1'!AN178=\"\",\"\",'Блок 1'!AN178)","v":""},{"$f":"IF('Блок 1'!AO178=\"\",\"\",'Блок 1'!AO178)","v":""},{"$f":"IF('Блок 1'!AP178=\"\",\"\",'Блок 1'!AP178)","v":""},{"$f":"IF('Блок 1'!AQ178=\"\",\"\",'Блок 1'!AQ178)","v":""},{"$f":"IF('Блок 1'!AR178=\"\",\"\",'Блок 1'!AR178)","v":""},{"$f":"IF('Блок 1'!AS178=\"\",\"\",'Блок 1'!AS178)","v":""},{"$f":"IF('Блок 1'!AT178=\"\",\"\",'Блок 1'!AT178)","v":""},{"$f":"IF('Блок 1'!AU178=\"\",\"\",'Блок 1'!AU178)","v":""},{"$f":"IF('Блок 1'!AV178=\"\",\"\",'Блок 1'!AV178)","v":""},{"$f":"IF('Блок 1'!AW178=\"\",\"\",'Блок 1'!AW178)","v":""},{"$f":"IF('Блок 1'!AX178=\"\",\"\",'Блок 1'!AX178)","v":""},{"$f":"IF('Блок 1'!AY178=\"\",\"\",'Блок 1'!AY178)","v":""},{"$f":"IF('Блок 1'!AZ178=\"\",\"\",'Блок 1'!AZ178)","v":""},{"$f":"IF('Блок 1'!BA178=\"\",\"\",'Блок 1'!BA178)","v":""},{"$f":"IF('Блок 1'!BB178=\"\",\"\",'Блок 1'!BB178)","v":""},{"$f":"IF('Блок 1'!BC178=\"\",\"\",'Блок 1'!BC178)","v":""},{"$f":"IF('Блок 1'!BD178=\"\",\"\",'Блок 1'!BD178)","v":""},{"$f":"IF('Блок 1'!BE178=\"\",\"\",'Блок 1'!BE178)","v":""},{"$f":"IF('Блок 1'!BF178=\"\",\"\",'Блок 1'!BF178)","v":""},{"$f":"IF('Блок 1'!BG178=\"\",\"\",'Блок 1'!BG178)","v":""},{"$f":"IF('Блок 1'!BH178=\"\",\"\",'Блок 1'!BH178)","v":""}]
[null,{"$f":"IF('Блок 1'!B179=\"\",\"\",'Блок 1'!B179)","v":""},{"$f":"IF('Блок 1'!C179=\"\",\"\",'Блок 1'!C179)","v":""},{"$f":"IF('Блок 1'!D179=\"\",\"\",'Блок 1'!D179)","v":""},{"$f":"IF('Блок 1'!E179=\"\",\"\",'Блок 1'!E179)","v":""},{"$f":"IF('Блок 1'!F179=\"\",\"\",'Блок 1'!F179)","v":""},{"$f":"IF('Блок 1'!G179=\"\",\"\",'Блок 1'!G179)","v":""},{"$f":"IF('Блок 1'!H179=\"\",\"\",'Блок 1'!H179)","v":""},{"$f":"IF('Блок 1'!I179=\"\",\"\",'Блок 1'!I179)","v":""},{"$f":"IF('Блок 1'!J179=\"\",\"\",'Блок 1'!J179)","v":""},{"$f":"IF('Блок 1'!K179=\"\",\"\",'Блок 1'!K179)","v":""},{"$f":"IF('Блок 1'!L179=\"\",\"\",'Блок 1'!L179)","v":""},{"$f":"IF('Блок 1'!M179=\"\",\"\",'Блок 1'!M179)","v":""},{"$f":"IF('Блок 1'!N179=\"\",\"\",'Блок 1'!N179)","v":""},{"$f":"IF('Блок 1'!O179=\"\",\"\",'Блок 1'!O179)","v":""},{"$f":"IF('Блок 1'!P179=\"\",\"\",'Блок 1'!P179)","v":""},{"$f":"IF('Блок 1'!Q179=\"\",\"\",'Блок 1'!Q179)","v":""},{"$f":"IF('Блок 1'!R179=\"\",\"\",'Блок 1'!R179)","v":""},{"$f":"IF('Блок 1'!S179=\"\",\"\",'Блок 1'!S179)","v":""},{"$f":"IF('Блок 1'!T179=\"\",\"\",'Блок 1'!T179)","v":""},{"$f":"IF('Блок 1'!U179=\"\",\"\",'Блок 1'!U179)","v":""},{"$f":"IF('Блок 1'!V179=\"\",\"\",'Блок 1'!V179)","v":""},{"$f":"IF('Блок 1'!W179=\"\",\"\",'Блок 1'!W179)","v":""},{"$f":"IF('Блок 1'!X179=\"\",\"\",'Блок 1'!X179)","v":""},{"$f":"IF('Блок 1'!Y179=\"\",\"\",'Блок 1'!Y179)","v":""},{"$f":"IF('Блок 1'!Z179=\"\",\"\",'Блок 1'!Z179)","v":""},{"$f":"IF('Блок 1'!AA179=\"\",\"\",'Блок 1'!AA179)","v":""},{"$f":"IF('Блок 1'!AB179=\"\",\"\",'Блок 1'!AB179)","v":""},{"$f":"IF('Блок 1'!AC179=\"\",\"\",'Блок 1'!AC179)","v":""},{"$f":"IF('Блок 1'!AD179=\"\",\"\",'Блок 1'!AD179)","v":""},{"$f":"IF('Блок 1'!AE179=\"\",\"\",'Блок 1'!AE179)","v":""},{"$f":"IF('Блок 1'!AF179=\"\",\"\",'Блок 1'!AF179)","v":""},{"$f":"IF('Блок 1'!AG179=\"\",\"\",'Блок 1'!AG179)","v":""},{"$f":"IF('Блок 1'!AH179=\"\",\"\",'Блок 1'!AH179)","v":""},{"$f":"IF('Блок 1'!AI179=\"\",\"\",'Блок 1'!AI179)","v":""},{"$f":"IF('Блок 1'!AJ179=\"\",\"\",'Блок 1'!AJ179)","v":""},{"$f":"IF('Блок 1'!AK179=\"\",\"\",'Блок 1'!AK179)","v":""},{"$f":"IF('Блок 1'!AL179=\"\",\"\",'Блок 1'!AL179)","v":""},{"$f":"IF('Блок 1'!AM179=\"\",\"\",'Блок 1'!AM179)","v":""},{"$f":"IF('Блок 1'!AN179=\"\",\"\",'Блок 1'!AN179)","v":""},{"$f":"IF('Блок 1'!AO179=\"\",\"\",'Блок 1'!AO179)","v":""},{"$f":"IF('Блок 1'!AP179=\"\",\"\",'Блок 1'!AP179)","v":""},{"$f":"IF('Блок 1'!AQ179=\"\",\"\",'Блок 1'!AQ179)","v":""},{"$f":"IF('Блок 1'!AR179=\"\",\"\",'Блок 1'!AR179)","v":""},{"$f":"IF('Блок 1'!AS179=\"\",\"\",'Блок 1'!AS179)","v":""},{"$f":"IF('Блок 1'!AT179=\"\",\"\",'Блок 1'!AT179)","v":""},{"$f":"IF('Блок 1'!AU179=\"\",\"\",'Блок 1'!AU179)","v":""},{"$f":"IF('Блок 1'!AV179=\"\",\"\",'Блок 1'!AV179)","v":""},{"$f":"IF('Блок 1'!AW179=\"\",\"\",'Блок 1'!AW179)","v":""},{"$f":"IF('Блок 1'!AX179=\"\",\"\",'Блок 1'!AX179)","v":""},{"$f":"IF('Блок 1'!AY179=\"\",\"\",'Блок 1'!AY179)","v":""},{"$f":"IF('Блок 1'!AZ179=\"\",\"\",'Блок 1'!AZ179)","v":""},{"$f":"IF('Блок 1'!BA179=\"\",\"\",'Блок 1'!BA179)","v":""},{"$f":"IF('Блок 1'!BB179=\"\",\"\",'Блок 1'!BB179)","v":""},{"$f":"IF('Блок 1'!BC179=\"\",\"\",'Блок 1'!BC179)","v":""},{"$f":"IF('Блок 1'!BD179=\"\",\"\",'Блок 1'!BD179)","v":""},{"$f":"IF('Блок 1'!BE179=\"\",\"\",'Блок 1'!BE179)","v":""},{"$f":"IF('Блок 1'!BF179=\"\",\"\",'Блок 1'!BF179)","v":""},{"$f":"IF('Блок 1'!BG179=\"\",\"\",'Блок 1'!BG179)","v":""},{"$f":"IF('Блок 1'!BH179=\"\",\"\",'Блок 1'!BH179)","v":""}]
[null,{"$f":"IF('Блок 1'!B180=\"\",\"\",'Блок 1'!B180)","v":""},{"$f":"IF('Блок 1'!C180=\"\",\"\",'Блок 1'!C180)","v":""},{"$f":"IF('Блок 1'!D180=\"\",\"\",'Блок 1'!D180)","v":""},{"$f":"IF('Блок 1'!E180=\"\",\"\",'Блок 1'!E180)","v":""},{"$f":"IF('Блок 1'!F180=\"\",\"\",'Блок 1'!F180)","v":""},{"$f":"IF('Блок 1'!G180=\"\",\"\",'Блок 1'!G180)","v":""},{"$f":"IF('Блок 1'!H180=\"\",\"\",'Блок 1'!H180)","v":""},{"$f":"IF('Блок 1'!I180=\"\",\"\",'Блок 1'!I180)","v":""},{"$f":"IF('Блок 1'!J180=\"\",\"\",'Блок 1'!J180)","v":""},{"$f":"IF('Блок 1'!K180=\"\",\"\",'Блок 1'!K180)","v":""},{"$f":"IF('Блок 1'!L180=\"\",\"\",'Блок 1'!L180)","v":""},{"$f":"IF('Блок 1'!M180=\"\",\"\",'Блок 1'!M180)","v":""},{"$f":"IF('Блок 1'!N180=\"\",\"\",'Блок 1'!N180)","v":""},{"$f":"IF('Блок 1'!O180=\"\",\"\",'Блок 1'!O180)","v":""},{"$f":"IF('Блок 1'!P180=\"\",\"\",'Блок 1'!P180)","v":""},{"$f":"IF('Блок 1'!Q180=\"\",\"\",'Блок 1'!Q180)","v":""},{"$f":"IF('Блок 1'!R180=\"\",\"\",'Блок 1'!R180)","v":""},{"$f":"IF('Блок 1'!S180=\"\",\"\",'Блок 1'!S180)","v":""},{"$f":"IF('Блок 1'!T180=\"\",\"\",'Блок 1'!T180)","v":""},{"$f":"IF('Блок 1'!U180=\"\",\"\",'Блок 1'!U180)","v":""},{"$f":"IF('Блок 1'!V180=\"\",\"\",'Блок 1'!V180)","v":""},{"$f":"IF('Блок 1'!W180=\"\",\"\",'Блок 1'!W180)","v":""},{"$f":"IF('Блок 1'!X180=\"\",\"\",'Блок 1'!X180)","v":""},{"$f":"IF('Блок 1'!Y180=\"\",\"\",'Блок 1'!Y180)","v":""},{"$f":"IF('Блок 1'!Z180=\"\",\"\",'Блок 1'!Z180)","v":""},{"$f":"IF('Блок 1'!AA180=\"\",\"\",'Блок 1'!AA180)","v":""},{"$f":"IF('Блок 1'!AB180=\"\",\"\",'Блок 1'!AB180)","v":""},{"$f":"IF('Блок 1'!AC180=\"\",\"\",'Блок 1'!AC180)","v":""},{"$f":"IF('Блок 1'!AD180=\"\",\"\",'Блок 1'!AD180)","v":""},{"$f":"IF('Блок 1'!AE180=\"\",\"\",'Блок 1'!AE180)","v":""},{"$f":"IF('Блок 1'!AF180=\"\",\"\",'Блок 1'!AF180)","v":""},{"$f":"IF('Блок 1'!AG180=\"\",\"\",'Блок 1'!AG180)","v":""},{"$f":"IF('Блок 1'!AH180=\"\",\"\",'Блок 1'!AH180)","v":""},{"$f":"IF('Блок 1'!AI180=\"\",\"\",'Блок 1'!AI180)","v":""},{"$f":"IF('Блок 1'!AJ180=\"\",\"\",'Блок 1'!AJ180)","v":""},{"$f":"IF('Блок 1'!AK180=\"\",\"\",'Блок 1'!AK180)","v":""},{"$f":"IF('Блок 1'!AL180=\"\",\"\",'Блок 1'!AL180)","v":""},{"$f":"IF('Блок 1'!AM180=\"\",\"\",'Блок 1'!AM180)","v":""},{"$f":"IF('Блок 1'!AN180=\"\",\"\",'Блок 1'!AN180)","v":""},{"$f":"IF('Блок 1'!AO180=\"\",\"\",'Блок 1'!AO180)","v":""},{"$f":"IF('Блок 1'!AP180=\"\",\"\",'Блок 1'!AP180)","v":""},{"$f":"IF('Блок 1'!AQ180=\"\",\"\",'Блок 1'!AQ180)","v":""},{"$f":"IF('Блок 1'!AR180=\"\",\"\",'Блок 1'!AR180)","v":""},{"$f":"IF('Блок 1'!AS180=\"\",\"\",'Блок 1'!AS180)","v":""},{"$f":"IF('Блок 1'!AT180=\"\",\"\",'Блок 1'!AT180)","v":""},{"$f":"IF('Блок 1'!AU180=\"\",\"\",'Блок 1'!AU180)","v":""},{"$f":"IF('Блок 1'!AV180=\"\",\"\",'Блок 1'!AV180)","v":""},{"$f":"IF('Блок 1'!AW180=\"\",\"\",'Блок 1'!AW180)","v":""},{"$f":"IF('Блок 1'!AX180=\"\",\"\",'Блок 1'!AX180)","v":""},{"$f":"IF('Блок 1'!AY180=\"\",\"\",'Блок 1'!AY180)","v":""},{"$f":"IF('Блок 1'!AZ180=\"\",\"\",'Блок 1'!AZ180)","v":""},{"$f":"IF('Блок 1'!BA180=\"\",\"\",'Блок 1'!BA180)","v":""},{"$f":"IF('Блок 1'!BB180=\"\",\"\",'Блок 1'!BB180)","v":""},{"$f":"IF('Блок 1'!BC180=\"\",\"\",'Блок 1'!BC180)","v":""},{"$f":"IF('Блок 1'!BD180=\"\",\"\",'Блок 1'!BD180)","v":""},{"$f":"IF('Блок 1'!BE180=\"\",\"\",'Блок 1'!BE180)","v":""},{"$f":"IF('Блок 1'!BF180=\"\",\"\",'Блок 1'!BF180)","v":""},{"$f":"IF('Блок 1'!BG180=\"\",\"\",'Блок 1'!BG180)","v":""},{"$f":"IF('Блок 1'!BH180=\"\",\"\",'Блок 1'!BH180)","v":""}]
[null,{"$f":"IF('Блок 1'!B181=\"\",\"\",'Блок 1'!B181)","v":""},{"$f":"IF('Блок 1'!C181=\"\",\"\",'Блок 1'!C181)","v":""},{"$f":"IF('Блок 1'!D181=\"\",\"\",'Блок 1'!D181)","v":""},{"$f":"IF('Блок 1'!E181=\"\",\"\",'Блок 1'!E181)","v":""},{"$f":"IF('Блок 1'!F181=\"\",\"\",'Блок 1'!F181)","v":""},{"$f":"IF('Блок 1'!G181=\"\",\"\",'Блок 1'!G181)","v":""},{"$f":"IF('Блок 1'!H181=\"\",\"\",'Блок 1'!H181)","v":""},{"$f":"IF('Блок 1'!I181=\"\",\"\",'Блок 1'!I181)","v":""},{"$f":"IF('Блок 1'!J181=\"\",\"\",'Блок 1'!J181)","v":""},{"$f":"IF('Блок 1'!K181=\"\",\"\",'Блок 1'!K181)","v":""},{"$f":"IF('Блок 1'!L181=\"\",\"\",'Блок 1'!L181)","v":""},{"$f":"IF('Блок 1'!M181=\"\",\"\",'Блок 1'!M181)","v":""},{"$f":"IF('Блок 1'!N181=\"\",\"\",'Блок 1'!N181)","v":""},{"$f":"IF('Блок 1'!O181=\"\",\"\",'Блок 1'!O181)","v":""},{"$f":"IF('Блок 1'!P181=\"\",\"\",'Блок 1'!P181)","v":""},{"$f":"IF('Блок 1'!Q181=\"\",\"\",'Блок 1'!Q181)","v":""},{"$f":"IF('Блок 1'!R181=\"\",\"\",'Блок 1'!R181)","v":""},{"$f":"IF('Блок 1'!S181=\"\",\"\",'Блок 1'!S181)","v":""},{"$f":"IF('Блок 1'!T181=\"\",\"\",'Блок 1'!T181)","v":""},{"$f":"IF('Блок 1'!U181=\"\",\"\",'Блок 1'!U181)","v":""},{"$f":"IF('Блок 1'!V181=\"\",\"\",'Блок 1'!V181)","v":""},{"$f":"IF('Блок 1'!W181=\"\",\"\",'Блок 1'!W181)","v":""},{"$f":"IF('Блок 1'!X181=\"\",\"\",'Блок 1'!X181)","v":""},{"$f":"IF('Блок 1'!Y181=\"\",\"\",'Блок 1'!Y181)","v":""},{"$f":"IF('Блок 1'!Z181=\"\",\"\",'Блок 1'!Z181)","v":""},{"$f":"IF('Блок 1'!AA181=\"\",\"\",'Блок 1'!AA181)","v":""},{"$f":"IF('Блок 1'!AB181=\"\",\"\",'Блок 1'!AB181)","v":""},{"$f":"IF('Блок 1'!AC181=\"\",\"\",'Блок 1'!AC181)","v":""},{"$f":"IF('Блок 1'!AD181=\"\",\"\",'Блок 1'!AD181)","v":""},{"$f":"IF('Блок 1'!AE181=\"\",\"\",'Блок 1'!AE181)","v":""},{"$f":"IF('Блок 1'!AF181=\"\",\"\",'Блок 1'!AF181)","v":""},{"$f":"IF('Блок 1'!AG181=\"\",\"\",'Блок 1'!AG181)","v":""},{"$f":"IF('Блок 1'!AH181=\"\",\"\",'Блок 1'!AH181)","v":""},{"$f":"IF('Блок 1'!AI181=\"\",\"\",'Блок 1'!AI181)","v":""},{"$f":"IF('Блок 1'!AJ181=\"\",\"\",'Блок 1'!AJ181)","v":""},{"$f":"IF('Блок 1'!AK181=\"\",\"\",'Блок 1'!AK181)","v":""},{"$f":"IF('Блок 1'!AL181=\"\",\"\",'Блок 1'!AL181)","v":""},{"$f":"IF('Блок 1'!AM181=\"\",\"\",'Блок 1'!AM181)","v":""},{"$f":"IF('Блок 1'!AN181=\"\",\"\",'Блок 1'!AN181)","v":""},{"$f":"IF('Блок 1'!AO181=\"\",\"\",'Блок 1'!AO181)","v":""},{"$f":"IF('Блок 1'!AP181=\"\",\"\",'Блок 1'!AP181)","v":""},{"$f":"IF('Блок 1'!AQ181=\"\",\"\",'Блок 1'!AQ181)","v":""},{"$f":"IF('Блок 1'!AR181=\"\",\"\",'Блок 1'!AR181)","v":""},{"$f":"IF('Блок 1'!AS181=\"\",\"\",'Блок 1'!AS181)","v":""},{"$f":"IF('Блок 1'!AT181=\"\",\"\",'Блок 1'!AT181)","v":""},{"$f":"IF('Блок 1'!AU181=\"\",\"\",'Блок 1'!AU181)","v":""},{"$f":"IF('Блок 1'!AV181=\"\",\"\",'Блок 1'!AV181)","v":""},{"$f":"IF('Блок 1'!AW181=\"\",\"\",'Блок 1'!AW181)","v":""},{"$f":"IF('Блок 1'!AX181=\"\",\"\",'Блок 1'!AX181)","v":""},{"$f":"IF('Блок 1'!AY181=\"\",\"\",'Блок 1'!AY181)","v":""},{"$f":"IF('Блок 1'!AZ181=\"\",\"\",'Блок 1'!AZ181)","v":""},{"$f":"IF('Блок 1'!BA181=\"\",\"\",'Блок 1'!BA181)","v":""},{"$f":"IF('Блок 1'!BB181=\"\",\"\",'Блок 1'!BB181)","v":""},{"$f":"IF('Блок 1'!BC181=\"\",\"\",'Блок 1'!BC181)","v":""},{"$f":"IF('Блок 1'!BD181=\"\",\"\",'Блок 1'!BD181)","v":""},{"$f":"IF('Блок 1'!BE181=\"\",\"\",'Блок 1'!BE181)","v":""},{"$f":"IF('Блок 1'!BF181=\"\",\"\",'Блок 1'!BF181)","v":""},{"$f":"IF('Блок 1'!BG181=\"\",\"\",'Блок 1'!BG181)","v":""},{"$f":"IF('Блок 1'!BH181=\"\",\"\",'Блок 1'!BH181)","v":""}]
[null,{"$f":"IF('Блок 1'!B182=\"\",\"\",'Блок 1'!B182)","v":""},{"$f":"IF('Блок 1'!C182=\"\",\"\",'Блок 1'!C182)","v":""},{"$f":"IF('Блок 1'!D182=\"\",\"\",'Блок 1'!D182)","v":""},{"$f":"IF('Блок 1'!E182=\"\",\"\",'Блок 1'!E182)","v":""},{"$f":"IF('Блок 1'!F182=\"\",\"\",'Блок 1'!F182)","v":""},{"$f":"IF('Блок 1'!G182=\"\",\"\",'Блок 1'!G182)","v":""},{"$f":"IF('Блок 1'!H182=\"\",\"\",'Блок 1'!H182)","v":""},{"$f":"IF('Блок 1'!I182=\"\",\"\",'Блок 1'!I182)","v":""},{"$f":"IF('Блок 1'!J182=\"\",\"\",'Блок 1'!J182)","v":""},{"$f":"IF('Блок 1'!K182=\"\",\"\",'Блок 1'!K182)","v":""},{"$f":"IF('Блок 1'!L182=\"\",\"\",'Блок 1'!L182)","v":""},{"$f":"IF('Блок 1'!M182=\"\",\"\",'Блок 1'!M182)","v":""},{"$f":"IF('Блок 1'!N182=\"\",\"\",'Блок 1'!N182)","v":""},{"$f":"IF('Блок 1'!O182=\"\",\"\",'Блок 1'!O182)","v":""},{"$f":"IF('Блок 1'!P182=\"\",\"\",'Блок 1'!P182)","v":""},{"$f":"IF('Блок 1'!Q182=\"\",\"\",'Блок 1'!Q182)","v":""},{"$f":"IF('Блок 1'!R182=\"\",\"\",'Блок 1'!R182)","v":""},{"$f":"IF('Блок 1'!S182=\"\",\"\",'Блок 1'!S182)","v":""},{"$f":"IF('Блок 1'!T182=\"\",\"\",'Блок 1'!T182)","v":""},{"$f":"IF('Блок 1'!U182=\"\",\"\",'Блок 1'!U182)","v":""},{"$f":"IF('Блок 1'!V182=\"\",\"\",'Блок 1'!V182)","v":""},{"$f":"IF('Блок 1'!W182=\"\",\"\",'Блок 1'!W182)","v":""},{"$f":"IF('Блок 1'!X182=\"\",\"\",'Блок 1'!X182)","v":""},{"$f":"IF('Блок 1'!Y182=\"\",\"\",'Блок 1'!Y182)","v":""},{"$f":"IF('Блок 1'!Z182=\"\",\"\",'Блок 1'!Z182)","v":""},{"$f":"IF('Блок 1'!AA182=\"\",\"\",'Блок 1'!AA182)","v":""},{"$f":"IF('Блок 1'!AB182=\"\",\"\",'Блок 1'!AB182)","v":""},{"$f":"IF('Блок 1'!AC182=\"\",\"\",'Блок 1'!AC182)","v":""},{"$f":"IF('Блок 1'!AD182=\"\",\"\",'Блок 1'!AD182)","v":""},{"$f":"IF('Блок 1'!AE182=\"\",\"\",'Блок 1'!AE182)","v":""},{"$f":"IF('Блок 1'!AF182=\"\",\"\",'Блок 1'!AF182)","v":""},{"$f":"IF('Блок 1'!AG182=\"\",\"\",'Блок 1'!AG182)","v":""},{"$f":"IF('Блок 1'!AH182=\"\",\"\",'Блок 1'!AH182)","v":""},{"$f":"IF('Блок 1'!AI182=\"\",\"\",'Блок 1'!AI182)","v":""},{"$f":"IF('Блок 1'!AJ182=\"\",\"\",'Блок 1'!AJ182)","v":""},{"$f":"IF('Блок 1'!AK182=\"\",\"\",'Блок 1'!AK182)","v":""},{"$f":"IF('Блок 1'!AL182=\"\",\"\",'Блок 1'!AL182)","v":""},{"$f":"IF('Блок 1'!AM182=\"\",\"\",'Блок 1'!AM182)","v":""},{"$f":"IF('Блок 1'!AN182=\"\",\"\",'Блок 1'!AN182)","v":""},{"$f":"IF('Блок 1'!AO182=\"\",\"\",'Блок 1'!AO182)","v":""},{"$f":"IF('Блок 1'!AP182=\"\",\"\",'Блок 1'!AP182)","v":""},{"$f":"IF('Блок 1'!AQ182=\"\",\"\",'Блок 1'!AQ182)","v":""},{"$f":"IF('Блок 1'!AR182=\"\",\"\",'Блок 1'!AR182)","v":""},{"$f":"IF('Блок 1'!AS182=\"\",\"\",'Блок 1'!AS182)","v":""},{"$f":"IF('Блок 1'!AT182=\"\",\"\",'Блок 1'!AT182)","v":""},{"$f":"IF('Блок 1'!AU182=\"\",\"\",'Блок 1'!AU182)","v":""},{"$f":"IF('Блок 1'!AV182=\"\",\"\",'Блок 1'!AV182)","v":""},{"$f":"IF('Блок 1'!AW182=\"\",\"\",'Блок 1'!AW182)","v":""},{"$f":"IF('Блок 1'!AX182=\"\",\"\",'Блок 1'!AX182)","v":""},{"$f":"IF('Блок 1'!AY182=\"\",\"\",'Блок 1'!AY182)","v":""},{"$f":"IF('Блок 1'!AZ182=\"\",\"\",'Блок 1'!AZ182)","v":""},{"$f":"IF('Блок 1'!BA182=\"\",\"\",'Блок 1'!BA182)","v":""},{"$f":"IF('Блок 1'!BB182=\"\",\"\",'Блок 1'!BB182)","v":""},{"$f":"IF('Блок 1'!BC182=\"\",\"\",'Блок 1'!BC182)","v":""},{"$f":"IF('Блок 1'!BD182=\"\",\"\",'Блок 1'!BD182)","v":""},{"$f":"IF('Блок 1'!BE182=\"\",\"\",'Блок 1'!BE182)","v":""},{"$f":"IF('Блок 1'!BF182=\"\",\"\",'Блок 1'!BF182)","v":""},{"$f":"IF('Блок 1'!BG182=\"\",\"\",'Блок 1'!BG182)","v":""},{"$f":"IF('Блок 1'!BH182=\"\",\"\",'Блок 1'!BH182)","v":""}]
[null,{"$f":"IF('Блок 1'!B183=\"\",\"\",'Блок 1'!B183)","v":""},{"$f":"IF('Блок 1'!C183=\"\",\"\",'Блок 1'!C183)","v":""},{"$f":"IF('Блок 1'!D183=\"\",\"\",'Блок 1'!D183)","v":""},{"$f":"IF('Блок 1'!E183=\"\",\"\",'Блок 1'!E183)","v":""},{"$f":"IF('Блок 1'!F183=\"\",\"\",'Блок 1'!F183)","v":""},{"$f":"IF('Блок 1'!G183=\"\",\"\",'Блок 1'!G183)","v":""},{"$f":"IF('Блок 1'!H183=\"\",\"\",'Блок 1'!H183)","v":""},{"$f":"IF('Блок 1'!I183=\"\",\"\",'Блок 1'!I183)","v":""},{"$f":"IF('Блок 1'!J183=\"\",\"\",'Блок 1'!J183)","v":""},{"$f":"IF('Блок 1'!K183=\"\",\"\",'Блок 1'!K183)","v":""},{"$f":"IF('Блок 1'!L183=\"\",\"\",'Блок 1'!L183)","v":""},{"$f":"IF('Блок 1'!M183=\"\",\"\",'Блок 1'!M183)","v":""},{"$f":"IF('Блок 1'!N183=\"\",\"\",'Блок 1'!N183)","v":""},{"$f":"IF('Блок 1'!O183=\"\",\"\",'Блок 1'!O183)","v":""},{"$f":"IF('Блок 1'!P183=\"\",\"\",'Блок 1'!P183)","v":""},{"$f":"IF('Блок 1'!Q183=\"\",\"\",'Блок 1'!Q183)","v":""},{"$f":"IF('Блок 1'!R183=\"\",\"\",'Блок 1'!R183)","v":""},{"$f":"IF('Блок 1'!S183=\"\",\"\",'Блок 1'!S183)","v":""},{"$f":"IF('Блок 1'!T183=\"\",\"\",'Блок 1'!T183)","v":""},{"$f":"IF('Блок 1'!U183=\"\",\"\",'Блок 1'!U183)","v":""},{"$f":"IF('Блок 1'!V183=\"\",\"\",'Блок 1'!V183)","v":""},{"$f":"IF('Блок 1'!W183=\"\",\"\",'Блок 1'!W183)","v":""},{"$f":"IF('Блок 1'!X183=\"\",\"\",'Блок 1'!X183)","v":""},{"$f":"IF('Блок 1'!Y183=\"\",\"\",'Блок 1'!Y183)","v":""},{"$f":"IF('Блок 1'!Z183=\"\",\"\",'Блок 1'!Z183)","v":""},{"$f":"IF('Блок 1'!AA183=\"\",\"\",'Блок 1'!AA183)","v":""},{"$f":"IF('Блок 1'!AB183=\"\",\"\",'Блок 1'!AB183)","v":""},{"$f":"IF('Блок 1'!AC183=\"\",\"\",'Блок 1'!AC183)","v":""},{"$f":"IF('Блок 1'!AD183=\"\",\"\",'Блок 1'!AD183)","v":""},{"$f":"IF('Блок 1'!AE183=\"\",\"\",'Блок 1'!AE183)","v":""},{"$f":"IF('Блок 1'!AF183=\"\",\"\",'Блок 1'!AF183)","v":""},{"$f":"IF('Блок 1'!AG183=\"\",\"\",'Блок 1'!AG183)","v":""},{"$f":"IF('Блок 1'!AH183=\"\",\"\",'Блок 1'!AH183)","v":""},{"$f":"IF('Блок 1'!AI183=\"\",\"\",'Блок 1'!AI183)","v":""},{"$f":"IF('Блок 1'!AJ183=\"\",\"\",'Блок 1'!AJ183)","v":""},{"$f":"IF('Блок 1'!AK183=\"\",\"\",'Блок 1'!AK183)","v":""},{"$f":"IF('Блок 1'!AL183=\"\",\"\",'Блок 1'!AL183)","v":""},{"$f":"IF('Блок 1'!AM183=\"\",\"\",'Блок 1'!AM183)","v":""},{"$f":"IF('Блок 1'!AN183=\"\",\"\",'Блок 1'!AN183)","v":""},{"$f":"IF('Блок 1'!AO183=\"\",\"\",'Блок 1'!AO183)","v":""},{"$f":"IF('Блок 1'!AP183=\"\",\"\",'Блок 1'!AP183)","v":""},{"$f":"IF('Блок 1'!AQ183=\"\",\"\",'Блок 1'!AQ183)","v":""},{"$f":"IF('Блок 1'!AR183=\"\",\"\",'Блок 1'!AR183)","v":""},{"$f":"IF('Блок 1'!AS183=\"\",\"\",'Блок 1'!AS183)","v":""},{"$f":"IF('Блок 1'!AT183=\"\",\"\",'Блок 1'!AT183)","v":""},{"$f":"IF('Блок 1'!AU183=\"\",\"\",'Блок 1'!AU183)","v":""},{"$f":"IF('Блок 1'!AV183=\"\",\"\",'Блок 1'!AV183)","v":""},{"$f":"IF('Блок 1'!AW183=\"\",\"\",'Блок 1'!AW183)","v":""},{"$f":"IF('Блок 1'!AX183=\"\",\"\",'Блок 1'!AX183)","v":""},{"$f":"IF('Блок 1'!AY183=\"\",\"\",'Блок 1'!AY183)","v":""},{"$f":"IF('Блок 1'!AZ183=\"\",\"\",'Блок 1'!AZ183)","v":""},{"$f":"IF('Блок 1'!BA183=\"\",\"\",'Блок 1'!BA183)","v":""},{"$f":"IF('Блок 1'!BB183=\"\",\"\",'Блок 1'!BB183)","v":""},{"$f":"IF('Блок 1'!BC183=\"\",\"\",'Блок 1'!BC183)","v":""},{"$f":"IF('Блок 1'!BD183=\"\",\"\",'Блок 1'!BD183)","v":""},{"$f":"IF('Блок 1'!BE183=\"\",\"\",'Блок 1'!BE183)","v":""},{"$f":"IF('Блок 1'!BF183=\"\",\"\",'Блок 1'!BF183)","v":""},{"$f":"IF('Блок 1'!BG183=\"\",\"\",'Блок 1'!BG183)","v":""},{"$f":"IF('Блок 1'!BH183=\"\",\"\",'Блок 1'!BH183)","v":""}]
[null,{"$f":"IF('Блок 1'!B184=\"\",\"\",'Блок 1'!B184)","v":""},{"$f":"IF('Блок 1'!C184=\"\",\"\",'Блок 1'!C184)","v":""},{"$f":"IF('Блок 1'!D184=\"\",\"\",'Блок 1'!D184)","v":""},{"$f":"IF('Блок 1'!E184=\"\",\"\",'Блок 1'!E184)","v":""},{"$f":"IF('Блок 1'!F184=\"\",\"\",'Блок 1'!F184)","v":""},{"$f":"IF('Блок 1'!G184=\"\",\"\",'Блок 1'!G184)","v":""},{"$f":"IF('Блок 1'!H184=\"\",\"\",'Блок 1'!H184)","v":""},{"$f":"IF('Блок 1'!I184=\"\",\"\",'Блок 1'!I184)","v":""},{"$f":"IF('Блок 1'!J184=\"\",\"\",'Блок 1'!J184)","v":""},{"$f":"IF('Блок 1'!K184=\"\",\"\",'Блок 1'!K184)","v":""},{"$f":"IF('Блок 1'!L184=\"\",\"\",'Блок 1'!L184)","v":""},{"$f":"IF('Блок 1'!M184=\"\",\"\",'Блок 1'!M184)","v":""},{"$f":"IF('Блок 1'!N184=\"\",\"\",'Блок 1'!N184)","v":""},{"$f":"IF('Блок 1'!O184=\"\",\"\",'Блок 1'!O184)","v":""},{"$f":"IF('Блок 1'!P184=\"\",\"\",'Блок 1'!P184)","v":""},{"$f":"IF('Блок 1'!Q184=\"\",\"\",'Блок 1'!Q184)","v":""},{"$f":"IF('Блок 1'!R184=\"\",\"\",'Блок 1'!R184)","v":""},{"$f":"IF('Блок 1'!S184=\"\",\"\",'Блок 1'!S184)","v":""},{"$f":"IF('Блок 1'!T184=\"\",\"\",'Блок 1'!T184)","v":""},{"$f":"IF('Блок 1'!U184=\"\",\"\",'Блок 1'!U184)","v":""},{"$f":"IF('Блок 1'!V184=\"\",\"\",'Блок 1'!V184)","v":""},{"$f":"IF('Блок 1'!W184=\"\",\"\",'Блок 1'!W184)","v":""},{"$f":"IF('Блок 1'!X184=\"\",\"\",'Блок 1'!X184)","v":""},{"$f":"IF('Блок 1'!Y184=\"\",\"\",'Блок 1'!Y184)","v":""},{"$f":"IF('Блок 1'!Z184=\"\",\"\",'Блок 1'!Z184)","v":""},{"$f":"IF('Блок 1'!AA184=\"\",\"\",'Блок 1'!AA184)","v":""},{"$f":"IF('Блок 1'!AB184=\"\",\"\",'Блок 1'!AB184)","v":""},{"$f":"IF('Блок 1'!AC184=\"\",\"\",'Блок 1'!AC184)","v":""},{"$f":"IF('Блок 1'!AD184=\"\",\"\",'Блок 1'!AD184)","v":""},{"$f":"IF('Блок 1'!AE184=\"\",\"\",'Блок 1'!AE184)","v":""},{"$f":"IF('Блок 1'!AF184=\"\",\"\",'Блок 1'!AF184)","v":""},{"$f":"IF('Блок 1'!AG184=\"\",\"\",'Блок 1'!AG184)","v":""},{"$f":"IF('Блок 1'!AH184=\"\",\"\",'Блок 1'!AH184)","v":""},{"$f":"IF('Блок 1'!AI184=\"\",\"\",'Блок 1'!AI184)","v":""},{"$f":"IF('Блок 1'!AJ184=\"\",\"\",'Блок 1'!AJ184)","v":""},{"$f":"IF('Блок 1'!AK184=\"\",\"\",'Блок 1'!AK184)","v":""},{"$f":"IF('Блок 1'!AL184=\"\",\"\",'Блок 1'!AL184)","v":""},{"$f":"IF('Блок 1'!AM184=\"\",\"\",'Блок 1'!AM184)","v":""},{"$f":"IF('Блок 1'!AN184=\"\",\"\",'Блок 1'!AN184)","v":""},{"$f":"IF('Блок 1'!AO184=\"\",\"\",'Блок 1'!AO184)","v":""},{"$f":"IF('Блок 1'!AP184=\"\",\"\",'Блок 1'!AP184)","v":""},{"$f":"IF('Блок 1'!AQ184=\"\",\"\",'Блок 1'!AQ184)","v":""},{"$f":"IF('Блок 1'!AR184=\"\",\"\",'Блок 1'!AR184)","v":""},{"$f":"IF('Блок 1'!AS184=\"\",\"\",'Блок 1'!AS184)","v":""},{"$f":"IF('Блок 1'!AT184=\"\",\"\",'Блок 1'!AT184)","v":""},{"$f":"IF('Блок 1'!AU184=\"\",\"\",'Блок 1'!AU184)","v":""},{"$f":"IF('Блок 1'!AV184=\"\",\"\",'Блок 1'!AV184)","v":""},{"$f":"IF('Блок 1'!AW184=\"\",\"\",'Блок 1'!AW184)","v":""},{"$f":"IF('Блок 1'!AX184=\"\",\"\",'Блок 1'!AX184)","v":""},{"$f":"IF('Блок 1'!AY184=\"\",\"\",'Блок 1'!AY184)","v":""},{"$f":"IF('Блок 1'!AZ184=\"\",\"\",'Блок 1'!AZ184)","v":""},{"$f":"IF('Блок 1'!BA184=\"\",\"\",'Блок 1'!BA184)","v":""},{"$f":"IF('Блок 1'!BB184=\"\",\"\",'Блок 1'!BB184)","v":""},{"$f":"IF('Блок 1'!BC184=\"\",\"\",'Блок 1'!BC184)","v":""},{"$f":"IF('Блок 1'!BD184=\"\",\"\",'Блок 1'!BD184)","v":""},{"$f":"IF('Блок 1'!BE184=\"\",\"\",'Блок 1'!BE184)","v":""},{"$f":"IF('Блок 1'!BF184=\"\",\"\",'Блок 1'!BF184)","v":""},{"$f":"IF('Блок 1'!BG184=\"\",\"\",'Блок 1'!BG184)","v":""},{"$f":"IF('Блок 1'!BH184=\"\",\"\",'Блок 1'!BH184)","v":""}]
[null,{"$f":"IF('Блок 1'!B185=\"\",\"\",'Блок 1'!B185)","v":""},{"$f":"IF('Блок 1'!C185=\"\",\"\",'Блок 1'!C185)","v":""},{"$f":"IF('Блок 1'!D185=\"\",\"\",'Блок 1'!D185)","v":""},{"$f":"IF('Блок 1'!E185=\"\",\"\",'Блок 1'!E185)","v":""},{"$f":"IF('Блок 1'!F185=\"\",\"\",'Блок 1'!F185)","v":""},{"$f":"IF('Блок 1'!G185=\"\",\"\",'Блок 1'!G185)","v":""},{"$f":"IF('Блок 1'!H185=\"\",\"\",'Блок 1'!H185)","v":""},{"$f":"IF('Блок 1'!I185=\"\",\"\",'Блок 1'!I185)","v":""},{"$f":"IF('Блок 1'!J185=\"\",\"\",'Блок 1'!J185)","v":""},{"$f":"IF('Блок 1'!K185=\"\",\"\",'Блок 1'!K185)","v":""},{"$f":"IF('Блок 1'!L185=\"\",\"\",'Блок 1'!L185)","v":""},{"$f":"IF('Блок 1'!M185=\"\",\"\",'Блок 1'!M185)","v":""},{"$f":"IF('Блок 1'!N185=\"\",\"\",'Блок 1'!N185)","v":""},{"$f":"IF('Блок 1'!O185=\"\",\"\",'Блок 1'!O185)","v":""},{"$f":"IF('Блок 1'!P185=\"\",\"\",'Блок 1'!P185)","v":""},{"$f":"IF('Блок 1'!Q185=\"\",\"\",'Блок 1'!Q185)","v":""},{"$f":"IF('Блок 1'!R185=\"\",\"\",'Блок 1'!R185)","v":""},{"$f":"IF('Блок 1'!S185=\"\",\"\",'Блок 1'!S185)","v":""},{"$f":"IF('Блок 1'!T185=\"\",\"\",'Блок 1'!T185)","v":""},{"$f":"IF('Блок 1'!U185=\"\",\"\",'Блок 1'!U185)","v":""},{"$f":"IF('Блок 1'!V185=\"\",\"\",'Блок 1'!V185)","v":""},{"$f":"IF('Блок 1'!W185=\"\",\"\",'Блок 1'!W185)","v":""},{"$f":"IF('Блок 1'!X185=\"\",\"\",'Блок 1'!X185)","v":""},{"$f":"IF('Блок 1'!Y185=\"\",\"\",'Блок 1'!Y185)","v":""},{"$f":"IF('Блок 1'!Z185=\"\",\"\",'Блок 1'!Z185)","v":""},{"$f":"IF('Блок 1'!AA185=\"\",\"\",'Блок 1'!AA185)","v":""},{"$f":"IF('Блок 1'!AB185=\"\",\"\",'Блок 1'!AB185)","v":""},{"$f":"IF('Блок 1'!AC185=\"\",\"\",'Блок 1'!AC185)","v":""},{"$f":"IF('Блок 1'!AD185=\"\",\"\",'Блок 1'!AD185)","v":""},{"$f":"IF('Блок 1'!AE185=\"\",\"\",'Блок 1'!AE185)","v":""},{"$f":"IF('Блок 1'!AF185=\"\",\"\",'Блок 1'!AF185)","v":""},{"$f":"IF('Блок 1'!AG185=\"\",\"\",'Блок 1'!AG185)","v":""},{"$f":"IF('Блок 1'!AH185=\"\",\"\",'Блок 1'!AH185)","v":""},{"$f":"IF('Блок 1'!AI185=\"\",\"\",'Блок 1'!AI185)","v":""},{"$f":"IF('Блок 1'!AJ185=\"\",\"\",'Блок 1'!AJ185)","v":""},{"$f":"IF('Блок 1'!AK185=\"\",\"\",'Блок 1'!AK185)","v":""},{"$f":"IF('Блок 1'!AL185=\"\",\"\",'Блок 1'!AL185)","v":""},{"$f":"IF('Блок 1'!AM185=\"\",\"\",'Блок 1'!AM185)","v":""},{"$f":"IF('Блок 1'!AN185=\"\",\"\",'Блок 1'!AN185)","v":""},{"$f":"IF('Блок 1'!AO185=\"\",\"\",'Блок 1'!AO185)","v":""},{"$f":"IF('Блок 1'!AP185=\"\",\"\",'Блок 1'!AP185)","v":""},{"$f":"IF('Блок 1'!AQ185=\"\",\"\",'Блок 1'!AQ185)","v":""},{"$f":"IF('Блок 1'!AR185=\"\",\"\",'Блок 1'!AR185)","v":""},{"$f":"IF('Блок 1'!AS185=\"\",\"\",'Блок 1'!AS185)","v":""},{"$f":"IF('Блок 1'!AT185=\"\",\"\",'Блок 1'!AT185)","v":""},{"$f":"IF('Блок 1'!AU185=\"\",\"\",'Блок 1'!AU185)","v":""},{"$f":"IF('Блок 1'!AV185=\"\",\"\",'Блок 1'!AV185)","v":""},{"$f":"IF('Блок 1'!AW185=\"\",\"\",'Блок 1'!AW185)","v":""},{"$f":"IF('Блок 1'!AX185=\"\",\"\",'Блок 1'!AX185)","v":""},{"$f":"IF('Блок 1'!AY185=\"\",\"\",'Блок 1'!AY185)","v":""},{"$f":"IF('Блок 1'!AZ185=\"\",\"\",'Блок 1'!AZ185)","v":""},{"$f":"IF('Блок 1'!BA185=\"\",\"\",'Блок 1'!BA185)","v":""},{"$f":"IF('Блок 1'!BB185=\"\",\"\",'Блок 1'!BB185)","v":""},{"$f":"IF('Блок 1'!BC185=\"\",\"\",'Блок 1'!BC185)","v":""},{"$f":"IF('Блок 1'!BD185=\"\",\"\",'Блок 1'!BD185)","v":""},{"$f":"IF('Блок 1'!BE185=\"\",\"\",'Блок 1'!BE185)","v":""},{"$f":"IF('Блок 1'!BF185=\"\",\"\",'Блок 1'!BF185)","v":""},{"$f":"IF('Блок 1'!BG185=\"\",\"\",'Блок 1'!BG185)","v":""},{"$f":"IF('Блок 1'!BH185=\"\",\"\",'Блок 1'!BH185)","v":""}]
[null,{"$f":"IF('Блок 1'!B186=\"\",\"\",'Блок 1'!B186)","v":""},{"$f":"IF('Блок 1'!C186=\"\",\"\",'Блок 1'!C186)","v":"Модуль \"Профессиональные дисциплины\""},null,null,null,null,null,null,null,null,null,null,null,null,null,null,null,null,null,null,null,{"$f":"IF('Блок 1'!W186=\"\",\"\",'Блок 1'!W186)","v":""},{"$f":"IF('Блок 1'!X186=\"\",\"\",'Блок 1'!X186)","v":""},{"$f":"IF('Блок 1'!Y186=\"\",\"\",'Блок 1'!Y186)","v":""},{"$f":"IF('Блок 1'!Z186=\"\",\"\",'Блок 1'!Z186)","v":""},{"$f":"IF('Блок 1'!AA186=\"\",\"\",'Блок 1'!AA186)","v":""},{"$f":"IF('Блок 1'!AB186=\"\",\"\",'Блок 1'!AB186)","v":0},{"$f":"IF('Блок 1'!AC186=\"\",\"\",'Блок 1'!AC186)","v":0},{"$f":"IF('Блок 1'!AD186=\"\",\"\",'Блок 1'!AD186)","v":0},{"$f":"IF('Блок 1'!AE186=\"\",\"\",'Блок 1'!AE186)","v":0},{"$f":"IF('Блок 1'!AF186=\"\",\"\",'Блок 1'!AF186)","v":0},{"$f":"IF('Блок 1'!AG186=\"\",\"\",'Блок 1'!AG186)","v":0},{"$f":"IF('Блок 1'!AH186=\"\",\"\",'Блок 1'!AH186)","v":0},{"$f":"IF('Блок 1'!AI186=\"\",\"\",'Блок 1'!AI186)","v":0},{"$f":"IF('Блок 1'!AJ186=\"\",\"\",'Блок 1'!AJ186)","v":0},{"$f":"IF('Блок 1'!AK186=\"\",\"\",'Блок 1'!AK186)","v":""},{"$f":"IF('Блок 1'!AL186=\"\",\"\",'Блок 1'!AL186)","v":""},{"$f":"IF('Блок 1'!AM186=\"\",\"\",'Блок 1'!AM186)","v":""},{"$f":"IF('Блок 1'!AN186=\"\",\"\",'Блок 1'!AN186)","v":""},{"$f":"IF('Блок 1'!AO186=\"\",\"\",'Блок 1'!AO186)","v":""},{"$f":"IF('Блок 1'!AP186=\"\",\"\",'Блок 1'!AP186)","v":""},{"$f":"IF('Блок 1'!AQ186=\"\",\"\",'Блок 1'!AQ186)","v":""},{"$f":"IF('Блок 1'!AR186=\"\",\"\",'Блок 1'!AR186)","v":""},{"$f":"IF('Блок 1'!AS186=\"\",\"\",'Блок 1'!AS186)","v":""},{"$f":"IF('Блок 1'!AT186=\"\",\"\",'Блок 1'!AT186)","v":""},{"$f":"IF('Блок 1'!AU186=\"\",\"\",'Блок 1'!AU186)","v":""},{"$f":"IF('Блок 1'!AV186=\"\",\"\",'Блок 1'!AV186)","v":""},{"$f":"IF('Блок 1'!AW186=\"\",\"\",'Блок 1'!AW186)","v":""},{"$f":"IF('Блок 1'!AX186=\"\",\"\",'Блок 1'!AX186)","v":""},{"$f":"IF('Блок 1'!AY186=\"\",\"\",'Блок 1'!AY186)","v":""},{"$f":"IF('Блок 1'!AZ186=\"\",\"\",'Блок 1'!AZ186)","v":""},{"$f":"IF('Блок 1'!BA186=\"\",\"\",'Блок 1'!BA186)","v":""},{"$f":"IF('Блок 1'!BB186=\"\",\"\",'Блок 1'!BB186)","v":""},{"$f":"IF('Блок 1'!BC186=\"\",\"\",'Блок 1'!BC186)","v":""},{"$f":"IF('Блок 1'!BD186=\"\",\"\",'Блок 1'!BD186)","v":""},{"$f":"IF('Блок 1'!BE186=\"\",\"\",'Блок 1'!BE186)","v":""},{"$f":"IF('Блок 1'!BF186=\"\",\"\",'Блок 1'!BF186)","v":""},{"$f":"IF('Блок 1'!BG186=\"\",\"\",'Блок 1'!BG186)","v":""},{"$f":"IF('Блок 1'!BH186=\"\",\"\",'Блок 1'!BH186)","v":""}]
[null,{"$f":"IF('Блок 1'!B187=\"\",\"\",'Блок 1'!B187)","v":""},{"$f":"IF('Блок 1'!C187=\"\",\"\",'Блок 1'!C187)","v":""},{"$f":"IF('Блок 1'!D187=\"\",\"\",'Блок 1'!D187)","v":""},{"$f":"IF('Блок 1'!E187=\"\",\"\",'Блок 1'!E187)","v":""},{"$f":"IF('Блок 1'!F187=\"\",\"\",'Блок 1'!F187)","v":""},{"$f":"IF('Блок 1'!G187=\"\",\"\",'Блок 1'!G187)","v":""},{"$f":"IF('Блок 1'!H187=\"\",\"\",'Блок 1'!H187)","v":""},{"$f":"IF('Блок 1'!I187=\"\",\"\",'Блок 1'!I187)","v":""},{"$f":"IF('Блок 1'!J187=\"\",\"\",'Блок 1'!J187)","v":""},{"$f":"IF('Блок 1'!K187=\"\",\"\",'Блок 1'!K187)","v":""},{"$f":"IF('Блок 1'!L187=\"\",\"\",'Блок 1'!L187)","v":""},{"$f":"IF('Блок 1'!M187=\"\",\"\",'Блок 1'!M187)","v":""},{"$f":"IF('Блок 1'!N187=\"\",\"\",'Блок 1'!N187)","v":""},{"$f":"IF('Блок 1'!O187=\"\",\"\",'Блок 1'!O187)","v":""},{"$f":"IF('Блок 1'!P187=\"\",\"\",'Блок 1'!P187)","v":""},{"$f":"IF('Блок 1'!Q187=\"\",\"\",'Блок 1'!Q187)","v":""},{"$f":"IF('Блок 1'!R187=\"\",\"\",'Блок 1'!R187)","v":""},{"$f":"IF('Блок 1'!S187=\"\",\"\",'Блок 1'!S187)","v":""},{"$f":"IF('Блок 1'!T187=\"\",\"\",'Блок 1'!T187)","v":""},{"$f":"IF('Блок 1'!U187=\"\",\"\",'Блок 1'!U187)","v":""},{"$f":"IF('Блок 1'!V187=\"\",\"\",'Блок 1'!V187)","v":""},{"$f":"IF('Блок 1'!W187=\"\",\"\",'Блок 1'!W187)","v":""},{"$f":"IF('Блок 1'!X187=\"\",\"\",'Блок 1'!X187)","v":""},{"$f":"IF('Блок 1'!Y187=\"\",\"\",'Блок 1'!Y187)","v":""},{"$f":"IF('Блок 1'!Z187=\"\",\"\",'Блок 1'!Z187)","v":""},{"$f":"IF('Блок 1'!AA187=\"\",\"\",'Блок 1'!AA187)","v":""},{"$f":"IF('Блок 1'!AB187=\"\",\"\",'Блок 1'!AB187)","v":""},{"$f":"IF('Блок 1'!AC187=\"\",\"\",'Блок 1'!AC187)","v":""},{"$f":"IF('Блок 1'!AD187=\"\",\"\",'Блок 1'!AD187)","v":""},{"$f":"IF('Блок 1'!AE187=\"\",\"\",'Блок 1'!AE187)","v":""},{"$f":"IF('Блок 1'!AF187=\"\",\"\",'Блок 1'!AF187)","v":""},{"$f":"IF('Блок 1'!AG187=\"\",\"\",'Блок 1'!AG187)","v":""},{"$f":"IF('Блок 1'!AH187=\"\",\"\",'Блок 1'!AH187)","v":""},{"$f":"IF('Блок 1'!AI187=\"\",\"\",'Блок 1'!AI187)","v":""},{"$f":"IF('Блок 1'!AJ187=\"\",\"\",'Блок 1'!AJ187)","v":""},{"$f":"IF('Блок 1'!AK187=\"\",\"\",'Блок 1'!AK187)","v":""},{"$f":"IF('Блок 1'!AL187=\"\",\"\",'Блок 1'!AL187)","v":""},{"$f":"IF('Блок 1'!AM187=\"\",\"\",'Блок 1'!AM187)","v":""},{"$f":"IF('Блок 1'!AN187=\"\",\"\",'Блок 1'!AN187)","v":""},{"$f":"IF('Блок 1'!AO187=\"\",\"\",'Блок 1'!AO187)","v":""},{"$f":"IF('Блок 1'!AP187=\"\",\"\",'Блок 1'!AP187)","v":""},{"$f":"IF('Блок 1'!AQ187=\"\",\"\",'Блок 1'!AQ187)","v":""},{"$f":"IF('Блок 1'!AR187=\"\",\"\",'Блок 1'!AR187)","v":""},{"$f":"IF('Блок 1'!AS187=\"\",\"\",'Блок 1'!AS187)","v":""},{"$f":"IF('Блок 1'!AT187=\"\",\"\",'Блок 1'!AT187)","v":""},{"$f":"IF('Блок 1'!AU187=\"\",\"\",'Блок 1'!AU187)","v":""},{"$f":"IF('Блок 1'!AV187=\"\",\"\",'Блок 1'!AV187)","v":""},{"$f":"IF('Блок 1'!AW187=\"\",\"\",'Блок 1'!AW187)","v":""},{"$f":"IF('Блок 1'!AX187=\"\",\"\",'Блок 1'!AX187)","v":""},{"$f":"IF('Блок 1'!AY187=\"\",\"\",'Блок 1'!AY187)","v":""},{"$f":"IF('Блок 1'!AZ187=\"\",\"\",'Блок 1'!AZ187)","v":""},{"$f":"IF('Блок 1'!BA187=\"\",\"\",'Блок 1'!BA187)","v":""},{"$f":"IF('Блок 1'!BB187=\"\",\"\",'Блок 1'!BB187)","v":""},{"$f":"IF('Блок 1'!BC187=\"\",\"\",'Блок 1'!BC187)","v":""},{"$f":"IF('Блок 1'!BD187=\"\",\"\",'Блок 1'!BD187)","v":""},{"$f":"IF('Блок 1'!BE187=\"\",\"\",'Блок 1'!BE187)","v":""},{"$f":"IF('Блок 1'!BF187=\"\",\"\",'Блок 1'!BF187)","v":""},{"$f":"IF('Блок 1'!BG187=\"\",\"\",'Блок 1'!BG187)","v":""},{"$f":"IF('Блок 1'!BH187=\"\",\"\",'Блок 1'!BH187)","v":""}]
[null,{"$f":"IF('Блок 1'!B188=\"\",\"\",'Блок 1'!B188)","v":""},{"$f":"IF('Блок 1'!C188=\"\",\"\",'Блок 1'!C188)","v":""},{"$f":"IF('Блок 1'!D188=\"\",\"\",'Блок 1'!D188)","v":""},{"$f":"IF('Блок 1'!E188=\"\",\"\",'Блок 1'!E188)","v":""},{"$f":"IF('Блок 1'!F188=\"\",\"\",'Блок 1'!F188)","v":""},{"$f":"IF('Блок 1'!G188=\"\",\"\",'Блок 1'!G188)","v":""},{"$f":"IF('Блок 1'!H188=\"\",\"\",'Блок 1'!H188)","v":""},{"$f":"IF('Блок 1'!I188=\"\",\"\",'Блок 1'!I188)","v":""},{"$f":"IF('Блок 1'!J188=\"\",\"\",'Блок 1'!J188)","v":""},{"$f":"IF('Блок 1'!K188=\"\",\"\",'Блок 1'!K188)","v":""},{"$f":"IF('Блок 1'!L188=\"\",\"\",'Блок 1'!L188)","v":""},{"$f":"IF('Блок 1'!M188=\"\",\"\",'Блок 1'!M188)","v":""},{"$f":"IF('Блок 1'!N188=\"\",\"\",'Блок 1'!N188)","v":""},{"$f":"IF('Блок 1'!O188=\"\",\"\",'Блок 1'!O188)","v":""},{"$f":"IF('Блок 1'!P188=\"\",\"\",'Блок 1'!P188)","v":""},{"$f":"IF('Блок 1'!Q188=\"\",\"\",'Блок 1'!Q188)","v":""},{"$f":"IF('Блок 1'!R188=\"\",\"\",'Блок 1'!R188)","v":""},{"$f":"IF('Блок 1'!S188=\"\",\"\",'Блок 1'!S188)","v":""},{"$f":"IF('Блок 1'!T188=\"\",\"\",'Блок 1'!T188)","v":""},{"$f":"IF('Блок 1'!U188=\"\",\"\",'Блок 1'!U188)","v":""},{"$f":"IF('Блок 1'!V188=\"\",\"\",'Блок 1'!V188)","v":""},{"$f":"IF('Блок 1'!W188=\"\",\"\",'Блок 1'!W188)","v":""},{"$f":"IF('Блок 1'!X188=\"\",\"\",'Блок 1'!X188)","v":""},{"$f":"IF('Блок 1'!Y188=\"\",\"\",'Блок 1'!Y188)","v":""},{"$f":"IF('Блок 1'!Z188=\"\",\"\",'Блок 1'!Z188)","v":""},{"$f":"IF('Блок 1'!AA188=\"\",\"\",'Блок 1'!AA188)","v":""},{"$f":"IF('Блок 1'!AB188=\"\",\"\",'Блок 1'!AB188)","v":""},{"$f":"IF('Блок 1'!AC188=\"\",\"\",'Блок 1'!AC188)","v":""},{"$f":"IF('Блок 1'!AD188=\"\",\"\",'Блок 1'!AD188)","v":""},{"$f":"IF('Блок 1'!AE188=\"\",\"\",'Блок 1'!AE188)","v":""},{"$f":"IF('Блок 1'!AF188=\"\",\"\",'Блок 1'!AF188)","v":""},{"$f":"IF('Блок 1'!AG188=\"\",\"\",'Блок 1'!AG188)","v":""},{"$f":"IF('Блок 1'!AH188=\"\",\"\",'Блок 1'!AH188)","v":""},{"$f":"IF('Блок 1'!AI188=\"\",\"\",'Блок 1'!AI188)","v":""},{"$f":"IF('Блок 1'!AJ188=\"\",\"\",'Блок 1'!AJ188)","v":""},{"$f":"IF('Блок 1'!AK188=\"\",\"\",'Блок 1'!AK188)","v":""},{"$f":"IF('Блок 1'!AL188=\"\",\"\",'Блок 1'!AL188)","v":""},{"$f":"IF('Блок 1'!AM188=\"\",\"\",'Блок 1'!AM188)","v":""},{"$f":"IF('Блок 1'!AN188=\"\",\"\",'Блок 1'!AN188)","v":""},{"$f":"IF('Блок 1'!AO188=\"\",\"\",'Блок 1'!AO188)","v":""},{"$f":"IF('Блок 1'!AP188=\"\",\"\",'Блок 1'!AP188)","v":""},{"$f":"IF('Блок 1'!AQ188=\"\",\"\",'Блок 1'!AQ188)","v":""},{"$f":"IF('Блок 1'!AR188=\"\",\"\",'Блок 1'!AR188)","v":""},{"$f":"IF('Блок 1'!AS188=\"\",\"\",'Блок 1'!AS188)","v":""},{"$f":"IF('Блок 1'!AT188=\"\",\"\",'Блок 1'!AT188)","v":""},{"$f":"IF('Блок 1'!AU188=\"\",\"\",'Блок 1'!AU188)","v":""},{"$f":"IF('Блок 1'!AV188=\"\",\"\",'Блок 1'!AV188)","v":""},{"$f":"IF('Блок 1'!AW188=\"\",\"\",'Блок 1'!AW188)","v":""},{"$f":"IF('Блок 1'!AX188=\"\",\"\",'Блок 1'!AX188)","v":""},{"$f":"IF('Блок 1'!AY188=\"\",\"\",'Блок 1'!AY188)","v":""},{"$f":"IF('Блок 1'!AZ188=\"\",\"\",'Блок 1'!AZ188)","v":""},{"$f":"IF('Блок 1'!BA188=\"\",\"\",'Блок 1'!BA188)","v":""},{"$f":"IF('Блок 1'!BB188=\"\",\"\",'Блок 1'!BB188)","v":""},{"$f":"IF('Блок 1'!BC188=\"\",\"\",'Блок 1'!BC188)","v":""},{"$f":"IF('Блок 1'!BD188=\"\",\"\",'Блок 1'!BD188)","v":""},{"$f":"IF('Блок 1'!BE188=\"\",\"\",'Блок 1'!BE188)","v":""},{"$f":"IF('Блок 1'!BF188=\"\",\"\",'Блок 1'!BF188)","v":""},{"$f":"IF('Блок 1'!BG188=\"\",\"\",'Блок 1'!BG188)","v":""},{"$f":"IF('Блок 1'!BH188=\"\",\"\",'Блок 1'!BH188)","v":""}]
[null,{"$f":"IF('Блок 1'!B189=\"\",\"\",'Блок 1'!B189)","v":""},{"$f":"IF('Блок 1'!C189=\"\",\"\",'Блок 1'!C189)","v":""},{"$f":"IF('Блок 1'!D189=\"\",\"\",'Блок 1'!D189)","v":""},{"$f":"IF('Блок 1'!E189=\"\",\"\",'Блок 1'!E189)","v":""},{"$f":"IF('Блок 1'!F189=\"\",\"\",'Блок 1'!F189)","v":""},{"$f":"IF('Блок 1'!G189=\"\",\"\",'Блок 1'!G189)","v":""},{"$f":"IF('Блок 1'!H189=\"\",\"\",'Блок 1'!H189)","v":""},{"$f":"IF('Блок 1'!I189=\"\",\"\",'Блок 1'!I189)","v":""},{"$f":"IF('Блок 1'!J189=\"\",\"\",'Блок 1'!J189)","v":""},{"$f":"IF('Блок 1'!K189=\"\",\"\",'Блок 1'!K189)","v":""},{"$f":"IF('Блок 1'!L189=\"\",\"\",'Блок 1'!L189)","v":""},{"$f":"IF('Блок 1'!M189=\"\",\"\",'Блок 1'!M189)","v":""},{"$f":"IF('Блок 1'!N189=\"\",\"\",'Блок 1'!N189)","v":""},{"$f":"IF('Блок 1'!O189=\"\",\"\",'Блок 1'!O189)","v":""},{"$f":"IF('Блок 1'!P189=\"\",\"\",'Блок 1'!P189)","v":""},{"$f":"IF('Блок 1'!Q189=\"\",\"\",'Блок 1'!Q189)","v":""},{"$f":"IF('Блок 1'!R189=\"\",\"\",'Блок 1'!R189)","v":""},{"$f":"IF('Блок 1'!S189=\"\",\"\",'Блок 1'!S189)","v":""},{"$f":"IF('Блок 1'!T189=\"\",\"\",'Блок 1'!T189)","v":""},{"$f":"IF('Блок 1'!U189=\"\",\"\",'Блок 1'!U189)","v":""},{"$f":"IF('Блок 1'!V189=\"\",\"\",'Блок 1'!V189)","v":""},{"$f":"IF('Блок 1'!W189=\"\",\"\",'Блок 1'!W189)","v":""},{"$f":"IF('Блок 1'!X189=\"\",\"\",'Блок 1'!X189)","v":""},{"$f":"IF('Блок 1'!Y189=\"\",\"\",'Блок 1'!Y189)","v":""},{"$f":"IF('Блок 1'!Z189=\"\",\"\",'Блок 1'!Z189)","v":""},{"$f":"IF('Блок 1'!AA189=\"\",\"\",'Блок 1'!AA189)","v":""},{"$f":"IF('Блок 1'!AB189=\"\",\"\",'Блок 1'!AB189)","v":""},{"$f":"IF('Блок 1'!AC189=\"\",\"\",'Блок 1'!AC189)","v":""},{"$f":"IF('Блок 1'!AD189=\"\",\"\",'Блок 1'!AD189)","v":""},{"$f":"IF('Блок 1'!AE189=\"\",\"\",'Блок 1'!AE189)","v":""},{"$f":"IF('Блок 1'!AF189=\"\",\"\",'Блок 1'!AF189)","v":""},{"$f":"IF('Блок 1'!AG189=\"\",\"\",'Блок 1'!AG189)","v":""},{"$f":"IF('Блок 1'!AH189=\"\",\"\",'Блок 1'!AH189)","v":""},{"$f":"IF('Блок 1'!AI189=\"\",\"\",'Блок 1'!AI189)","v":""},{"$f":"IF('Блок 1'!AJ189=\"\",\"\",'Блок 1'!AJ189)","v":""},{"$f":"IF('Блок 1'!AK189=\"\",\"\",'Блок 1'!AK189)","v":""},{"$f":"IF('Блок 1'!AL189=\"\",\"\",'Блок 1'!AL189)","v":""},{"$f":"IF('Блок 1'!AM189=\"\",\"\",'Блок 1'!AM189)","v":""},{"$f":"IF('Блок 1'!AN189=\"\",\"\",'Блок 1'!AN189)","v":""},{"$f":"IF('Блок 1'!AO189=\"\",\"\",'Блок 1'!AO189)","v":""},{"$f":"IF('Блок 1'!AP189=\"\",\"\",'Блок 1'!AP189)","v":""},{"$f":"IF('Блок 1'!AQ189=\"\",\"\",'Блок 1'!AQ189)","v":""},{"$f":"IF('Блок 1'!AR189=\"\",\"\",'Блок 1'!AR189)","v":""},{"$f":"IF('Блок 1'!AS189=\"\",\"\",'Блок 1'!AS189)","v":""},{"$f":"IF('Блок 1'!AT189=\"\",\"\",'Блок 1'!AT189)","v":""},{"$f":"IF('Блок 1'!AU189=\"\",\"\",'Блок 1'!AU189)","v":""},{"$f":"IF('Блок 1'!AV189=\"\",\"\",'Блок 1'!AV189)","v":""},{"$f":"IF('Блок 1'!AW189=\"\",\"\",'Блок 1'!AW189)","v":""},{"$f":"IF('Блок 1'!AX189=\"\",\"\",'Блок 1'!AX189)","v":""},{"$f":"IF('Блок 1'!AY189=\"\",\"\",'Блок 1'!AY189)","v":""},{"$f":"IF('Блок 1'!AZ189=\"\",\"\",'Блок 1'!AZ189)","v":""},{"$f":"IF('Блок 1'!BA189=\"\",\"\",'Блок 1'!BA189)","v":""},{"$f":"IF('Блок 1'!BB189=\"\",\"\",'Блок 1'!BB189)","v":""},{"$f":"IF('Блок 1'!BC189=\"\",\"\",'Блок 1'!BC189)","v":""},{"$f":"IF('Блок 1'!BD189=\"\",\"\",'Блок 1'!BD189)","v":""},{"$f":"IF('Блок 1'!BE189=\"\",\"\",'Блок 1'!BE189)","v":""},{"$f":"IF('Блок 1'!BF189=\"\",\"\",'Блок 1'!BF189)","v":""},{"$f":"IF('Блок 1'!BG189=\"\",\"\",'Блок 1'!BG189)","v":""},{"$f":"IF('Блок 1'!BH189=\"\",\"\",'Блок 1'!BH189)","v":""}]
[null,{"$f":"IF('Блок 1'!B190=\"\",\"\",'Блок 1'!B190)","v":""},{"$f":"IF('Блок 1'!C190=\"\",\"\",'Блок 1'!C190)","v":""},{"$f":"IF('Блок 1'!D190=\"\",\"\",'Блок 1'!D190)","v":""},{"$f":"IF('Блок 1'!E190=\"\",\"\",'Блок 1'!E190)","v":""},{"$f":"IF('Блок 1'!F190=\"\",\"\",'Блок 1'!F190)","v":""},{"$f":"IF('Блок 1'!G190=\"\",\"\",'Блок 1'!G190)","v":""},{"$f":"IF('Блок 1'!H190=\"\",\"\",'Блок 1'!H190)","v":""},{"$f":"IF('Блок 1'!I190=\"\",\"\",'Блок 1'!I190)","v":""},{"$f":"IF('Блок 1'!J190=\"\",\"\",'Блок 1'!J190)","v":""},{"$f":"IF('Блок 1'!K190=\"\",\"\",'Блок 1'!K190)","v":""},{"$f":"IF('Блок 1'!L190=\"\",\"\",'Блок 1'!L190)","v":""},{"$f":"IF('Блок 1'!M190=\"\",\"\",'Блок 1'!M190)","v":""},{"$f":"IF('Блок 1'!N190=\"\",\"\",'Блок 1'!N190)","v":""},{"$f":"IF('Блок 1'!O190=\"\",\"\",'Блок 1'!O190)","v":""},{"$f":"IF('Блок 1'!P190=\"\",\"\",'Блок 1'!P190)","v":""},{"$f":"IF('Блок 1'!Q190=\"\",\"\",'Блок 1'!Q190)","v":""},{"$f":"IF('Блок 1'!R190=\"\",\"\",'Блок 1'!R190)","v":""},{"$f":"IF('Блок 1'!S190=\"\",\"\",'Блок 1'!S190)","v":""},{"$f":"IF('Блок 1'!T190=\"\",\"\",'Блок 1'!T190)","v":""},{"$f":"IF('Блок 1'!U190=\"\",\"\",'Блок 1'!U190)","v":""},{"$f":"IF('Блок 1'!V190=\"\",\"\",'Блок 1'!V190)","v":""},{"$f":"IF('Блок 1'!W190=\"\",\"\",'Блок 1'!W190)","v":""},{"$f":"IF('Блок 1'!X190=\"\",\"\",'Блок 1'!X190)","v":""},{"$f":"IF('Блок 1'!Y190=\"\",\"\",'Блок 1'!Y190)","v":""},{"$f":"IF('Блок 1'!Z190=\"\",\"\",'Блок 1'!Z190)","v":""},{"$f":"IF('Блок 1'!AA190=\"\",\"\",'Блок 1'!AA190)","v":""},{"$f":"IF('Блок 1'!AB190=\"\",\"\",'Блок 1'!AB190)","v":""},{"$f":"IF('Блок 1'!AC190=\"\",\"\",'Блок 1'!AC190)","v":""},{"$f":"IF('Блок 1'!AD190=\"\",\"\",'Блок 1'!AD190)","v":""},{"$f":"IF('Блок 1'!AE190=\"\",\"\",'Блок 1'!AE190)","v":""},{"$f":"IF('Блок 1'!AF190=\"\",\"\",'Блок 1'!AF190)","v":""},{"$f":"IF('Блок 1'!AG190=\"\",\"\",'Блок 1'!AG190)","v":""},{"$f":"IF('Блок 1'!AH190=\"\",\"\",'Блок 1'!AH190)","v":""},{"$f":"IF('Блок 1'!AI190=\"\",\"\",'Блок 1'!AI190)","v":""},{"$f":"IF('Блок 1'!AJ190=\"\",\"\",'Блок 1'!AJ190)","v":""},{"$f":"IF('Блок 1'!AK190=\"\",\"\",'Блок 1'!AK190)","v":""},{"$f":"IF('Блок 1'!AL190=\"\",\"\",'Блок 1'!AL190)","v":""},{"$f":"IF('Блок 1'!AM190=\"\",\"\",'Блок 1'!AM190)","v":""},{"$f":"IF('Блок 1'!AN190=\"\",\"\",'Блок 1'!AN190)","v":""},{"$f":"IF('Блок 1'!AO190=\"\",\"\",'Блок 1'!AO190)","v":""},{"$f":"IF('Блок 1'!AP190=\"\",\"\",'Блок 1'!AP190)","v":""},{"$f":"IF('Блок 1'!AQ190=\"\",\"\",'Блок 1'!AQ190)","v":""},{"$f":"IF('Блок 1'!AR190=\"\",\"\",'Блок 1'!AR190)","v":""},{"$f":"IF('Блок 1'!AS190=\"\",\"\",'Блок 1'!AS190)","v":""},{"$f":"IF('Блок 1'!AT190=\"\",\"\",'Блок 1'!AT190)","v":""},{"$f":"IF('Блок 1'!AU190=\"\",\"\",'Блок 1'!AU190)","v":""},{"$f":"IF('Блок 1'!AV190=\"\",\"\",'Блок 1'!AV190)","v":""},{"$f":"IF('Блок 1'!AW190=\"\",\"\",'Блок 1'!AW190)","v":""},{"$f":"IF('Блок 1'!AX190=\"\",\"\",'Блок 1'!AX190)","v":""},{"$f":"IF('Блок 1'!AY190=\"\",\"\",'Блок 1'!AY190)","v":""},{"$f":"IF('Блок 1'!AZ190=\"\",\"\",'Блок 1'!AZ190)","v":""},{"$f":"IF('Блок 1'!BA190=\"\",\"\",'Блок 1'!BA190)","v":""},{"$f":"IF('Блок 1'!BB190=\"\",\"\",'Блок 1'!BB190)","v":""},{"$f":"IF('Блок 1'!BC190=\"\",\"\",'Блок 1'!BC190)","v":""},{"$f":"IF('Блок 1'!BD190=\"\",\"\",'Блок 1'!BD190)","v":""},{"$f":"IF('Блок 1'!BE190=\"\",\"\",'Блок 1'!BE190)","v":""},{"$f":"IF('Блок 1'!BF190=\"\",\"\",'Блок 1'!BF190)","v":""},{"$f":"IF('Блок 1'!BG190=\"\",\"\",'Блок 1'!BG190)","v":""},{"$f":"IF('Блок 1'!BH190=\"\",\"\",'Блок 1'!BH190)","v":""}]
[null,{"$f":"IF('Блок 1'!B191=\"\",\"\",'Блок 1'!B191)","v":""},{"$f":"IF('Блок 1'!C191=\"\",\"\",'Блок 1'!C191)","v":""},{"$f":"IF('Блок 1'!D191=\"\",\"\",'Блок 1'!D191)","v":""},{"$f":"IF('Блок 1'!E191=\"\",\"\",'Блок 1'!E191)","v":""},{"$f":"IF('Блок 1'!F191=\"\",\"\",'Блок 1'!F191)","v":""},{"$f":"IF('Блок 1'!G191=\"\",\"\",'Блок 1'!G191)","v":""},{"$f":"IF('Блок 1'!H191=\"\",\"\",'Блок 1'!H191)","v":""},{"$f":"IF('Блок 1'!I191=\"\",\"\",'Блок 1'!I191)","v":""},{"$f":"IF('Блок 1'!J191=\"\",\"\",'Блок 1'!J191)","v":""},{"$f":"IF('Блок 1'!K191=\"\",\"\",'Блок 1'!K191)","v":""},{"$f":"IF('Блок 1'!L191=\"\",\"\",'Блок 1'!L191)","v":""},{"$f":"IF('Блок 1'!M191=\"\",\"\",'Блок 1'!M191)","v":""},{"$f":"IF('Блок 1'!N191=\"\",\"\",'Блок 1'!N191)","v":""},{"$f":"IF('Блок 1'!O191=\"\",\"\",'Блок 1'!O191)","v":""},{"$f":"IF('Блок 1'!P191=\"\",\"\",'Блок 1'!P191)","v":""},{"$f":"IF('Блок 1'!Q191=\"\",\"\",'Блок 1'!Q191)","v":""},{"$f":"IF('Блок 1'!R191=\"\",\"\",'Блок 1'!R191)","v":""},{"$f":"IF('Блок 1'!S191=\"\",\"\",'Блок 1'!S191)","v":""},{"$f":"IF('Блок 1'!T191=\"\",\"\",'Блок 1'!T191)","v":""},{"$f":"IF('Блок 1'!U191=\"\",\"\",'Блок 1'!U191)","v":""},{"$f":"IF('Блок 1'!V191=\"\",\"\",'Блок 1'!V191)","v":""},{"$f":"IF('Блок 1'!W191=\"\",\"\",'Блок 1'!W191)","v":""},{"$f":"IF('Блок 1'!X191=\"\",\"\",'Блок 1'!X191)","v":""},{"$f":"IF('Блок 1'!Y191=\"\",\"\",'Блок 1'!Y191)","v":""},{"$f":"IF('Блок 1'!Z191=\"\",\"\",'Блок 1'!Z191)","v":""},{"$f":"IF('Блок 1'!AA191=\"\",\"\",'Блок 1'!AA191)","v":""},{"$f":"IF('Блок 1'!AB191=\"\",\"\",'Блок 1'!AB191)","v":""},{"$f":"IF('Блок 1'!AC191=\"\",\"\",'Блок 1'!AC191)","v":""},{"$f":"IF('Блок 1'!AD191=\"\",\"\",'Блок 1'!AD191)","v":""},{"$f":"IF('Блок 1'!AE191=\"\",\"\",'Блок 1'!AE191)","v":""},{"$f":"IF('Блок 1'!AF191=\"\",\"\",'Блок 1'!AF191)","v":""},{"$f":"IF('Блок 1'!AG191=\"\",\"\",'Блок 1'!AG191)","v":""},{"$f":"IF('Блок 1'!AH191=\"\",\"\",'Блок 1'!AH191)","v":""},{"$f":"IF('Блок 1'!AI191=\"\",\"\",'Блок 1'!AI191)","v":""},{"$f":"IF('Блок 1'!AJ191=\"\",\"\",'Блок 1'!AJ191)","v":""},{"$f":"IF('Блок 1'!AK191=\"\",\"\",'Блок 1'!AK191)","v":""},{"$f":"IF('Блок 1'!AL191=\"\",\"\",'Блок 1'!AL191)","v":""},{"$f":"IF('Блок 1'!AM191=\"\",\"\",'Блок 1'!AM191)","v":""},{"$f":"IF('Блок 1'!AN191=\"\",\"\",'Блок 1'!AN191)","v":""},{"$f":"IF('Блок 1'!AO191=\"\",\"\",'Блок 1'!AO191)","v":""},{"$f":"IF('Блок 1'!AP191=\"\",\"\",'Блок 1'!AP191)","v":""},{"$f":"IF('Блок 1'!AQ191=\"\",\"\",'Блок 1'!AQ191)","v":""},{"$f":"IF('Блок 1'!AR191=\"\",\"\",'Блок 1'!AR191)","v":""},{"$f":"IF('Блок 1'!AS191=\"\",\"\",'Блок 1'!AS191)","v":""},{"$f":"IF('Блок 1'!AT191=\"\",\"\",'Блок 1'!AT191)","v":""},{"$f":"IF('Блок 1'!AU191=\"\",\"\",'Блок 1'!AU191)","v":""},{"$f":"IF('Блок 1'!AV191=\"\",\"\",'Блок 1'!AV191)","v":""},{"$f":"IF('Блок 1'!AW191=\"\",\"\",'Блок 1'!AW191)","v":""},{"$f":"IF('Блок 1'!AX191=\"\",\"\",'Блок 1'!AX191)","v":""},{"$f":"IF('Блок 1'!AY191=\"\",\"\",'Блок 1'!AY191)","v":""},{"$f":"IF('Блок 1'!AZ191=\"\",\"\",'Блок 1'!AZ191)","v":""},{"$f":"IF('Блок 1'!BA191=\"\",\"\",'Блок 1'!BA191)","v":""},{"$f":"IF('Блок 1'!BB191=\"\",\"\",'Блок 1'!BB191)","v":""},{"$f":"IF('Блок 1'!BC191=\"\",\"\",'Блок 1'!BC191)","v":""},{"$f":"IF('Блок 1'!BD191=\"\",\"\",'Блок 1'!BD191)","v":""},{"$f":"IF('Блок 1'!BE191=\"\",\"\",'Блок 1'!BE191)","v":""},{"$f":"IF('Блок 1'!BF191=\"\",\"\",'Блок 1'!BF191)","v":""},{"$f":"IF('Блок 1'!BG191=\"\",\"\",'Блок 1'!BG191)","v":""},{"$f":"IF('Блок 1'!BH191=\"\",\"\",'Блок 1'!BH191)","v":""}]
[null,{"$f":"IF('Блок 1'!B192=\"\",\"\",'Блок 1'!B192)","v":""},{"$f":"IF('Блок 1'!C192=\"\",\"\",'Блок 1'!C192)","v":""},{"$f":"IF('Блок 1'!D192=\"\",\"\",'Блок 1'!D192)","v":""},{"$f":"IF('Блок 1'!E192=\"\",\"\",'Блок 1'!E192)","v":""},{"$f":"IF('Блок 1'!F192=\"\",\"\",'Блок 1'!F192)","v":""},{"$f":"IF('Блок 1'!G192=\"\",\"\",'Блок 1'!G192)","v":""},{"$f":"IF('Блок 1'!H192=\"\",\"\",'Блок 1'!H192)","v":""},{"$f":"IF('Блок 1'!I192=\"\",\"\",'Блок 1'!I192)","v":""},{"$f":"IF('Блок 1'!J192=\"\",\"\",'Блок 1'!J192)","v":""},{"$f":"IF('Блок 1'!K192=\"\",\"\",'Блок 1'!K192)","v":""},{"$f":"IF('Блок 1'!L192=\"\",\"\",'Блок 1'!L192)","v":""},{"$f":"IF('Блок 1'!M192=\"\",\"\",'Блок 1'!M192)","v":""},{"$f":"IF('Блок 1'!N192=\"\",\"\",'Блок 1'!N192)","v":""},{"$f":"IF('Блок 1'!O192=\"\",\"\",'Блок 1'!O192)","v":""},{"$f":"IF('Блок 1'!P192=\"\",\"\",'Блок 1'!P192)","v":""},{"$f":"IF('Блок 1'!Q192=\"\",\"\",'Блок 1'!Q192)","v":""},{"$f":"IF('Блок 1'!R192=\"\",\"\",'Блок 1'!R192)","v":""},{"$f":"IF('Блок 1'!S192=\"\",\"\",'Блок 1'!S192)","v":""},{"$f":"IF('Блок 1'!T192=\"\",\"\",'Блок 1'!T192)","v":""},{"$f":"IF('Блок 1'!U192=\"\",\"\",'Блок 1'!U192)","v":""},{"$f":"IF('Блок 1'!V192=\"\",\"\",'Блок 1'!V192)","v":""},{"$f":"IF('Блок 1'!W192=\"\",\"\",'Блок 1'!W192)","v":""},{"$f":"IF('Блок 1'!X192=\"\",\"\",'Блок 1'!X192)","v":""},{"$f":"IF('Блок 1'!Y192=\"\",\"\",'Блок 1'!Y192)","v":""},{"$f":"IF('Блок 1'!Z192=\"\",\"\",'Блок 1'!Z192)","v":""},{"$f":"IF('Блок 1'!AA192=\"\",\"\",'Блок 1'!AA192)","v":""},{"$f":"IF('Блок 1'!AB192=\"\",\"\",'Блок 1'!AB192)","v":""},{"$f":"IF('Блок 1'!AC192=\"\",\"\",'Блок 1'!AC192)","v":""},{"$f":"IF('Блок 1'!AD192=\"\",\"\",'Блок 1'!AD192)","v":""},{"$f":"IF('Блок 1'!AE192=\"\",\"\",'Блок 1'!AE192)","v":""},{"$f":"IF('Блок 1'!AF192=\"\",\"\",'Блок 1'!AF192)","v":""},{"$f":"IF('Блок 1'!AG192=\"\",\"\",'Блок 1'!AG192)","v":""},{"$f":"IF('Блок 1'!AH192=\"\",\"\",'Блок 1'!AH192)","v":""},{"$f":"IF('Блок 1'!AI192=\"\",\"\",'Блок 1'!AI192)","v":""},{"$f":"IF('Блок 1'!AJ192=\"\",\"\",'Блок 1'!AJ192)","v":""},{"$f":"IF('Блок 1'!AK192=\"\",\"\",'Блок 1'!AK192)","v":""},{"$f":"IF('Блок 1'!AL192=\"\",\"\",'Блок 1'!AL192)","v":""},{"$f":"IF('Блок 1'!AM192=\"\",\"\",'Блок 1'!AM192)","v":""},{"$f":"IF('Блок 1'!AN192=\"\",\"\",'Блок 1'!AN192)","v":""},{"$f":"IF('Блок 1'!AO192=\"\",\"\",'Блок 1'!AO192)","v":""},{"$f":"IF('Блок 1'!AP192=\"\",\"\",'Блок 1'!AP192)","v":""},{"$f":"IF('Блок 1'!AQ192=\"\",\"\",'Блок 1'!AQ192)","v":""},{"$f":"IF('Блок 1'!AR192=\"\",\"\",'Блок 1'!AR192)","v":""},{"$f":"IF('Блок 1'!AS192=\"\",\"\",'Блок 1'!AS192)","v":""},{"$f":"IF('Блок 1'!AT192=\"\",\"\",'Блок 1'!AT192)","v":""},{"$f":"IF('Блок 1'!AU192=\"\",\"\",'Блок 1'!AU192)","v":""},{"$f":"IF('Блок 1'!AV192=\"\",\"\",'Блок 1'!AV192)","v":""},{"$f":"IF('Блок 1'!AW192=\"\",\"\",'Блок 1'!AW192)","v":""},{"$f":"IF('Блок 1'!AX192=\"\",\"\",'Блок 1'!AX192)","v":""},{"$f":"IF('Блок 1'!AY192=\"\",\"\",'Блок 1'!AY192)","v":""},{"$f":"IF('Блок 1'!AZ192=\"\",\"\",'Блок 1'!AZ192)","v":""},{"$f":"IF('Блок 1'!BA192=\"\",\"\",'Блок 1'!BA192)","v":""},{"$f":"IF('Блок 1'!BB192=\"\",\"\",'Блок 1'!BB192)","v":""},{"$f":"IF('Блок 1'!BC192=\"\",\"\",'Блок 1'!BC192)","v":""},{"$f":"IF('Блок 1'!BD192=\"\",\"\",'Блок 1'!BD192)","v":""},{"$f":"IF('Блок 1'!BE192=\"\",\"\",'Блок 1'!BE192)","v":""},{"$f":"IF('Блок 1'!BF192=\"\",\"\",'Блок 1'!BF192)","v":""},{"$f":"IF('Блок 1'!BG192=\"\",\"\",'Блок 1'!BG192)","v":""},{"$f":"IF('Блок 1'!BH192=\"\",\"\",'Блок 1'!BH192)","v":""}]
[null,{"$f":"IF('Блок 1'!B193=\"\",\"\",'Блок 1'!B193)","v":""},{"$f":"IF('Блок 1'!C193=\"\",\"\",'Блок 1'!C193)","v":""},{"$f":"IF('Блок 1'!D193=\"\",\"\",'Блок 1'!D193)","v":""},{"$f":"IF('Блок 1'!E193=\"\",\"\",'Блок 1'!E193)","v":""},{"$f":"IF('Блок 1'!F193=\"\",\"\",'Блок 1'!F193)","v":""},{"$f":"IF('Блок 1'!G193=\"\",\"\",'Блок 1'!G193)","v":""},{"$f":"IF('Блок 1'!H193=\"\",\"\",'Блок 1'!H193)","v":""},{"$f":"IF('Блок 1'!I193=\"\",\"\",'Блок 1'!I193)","v":""},{"$f":"IF('Блок 1'!J193=\"\",\"\",'Блок 1'!J193)","v":""},{"$f":"IF('Блок 1'!K193=\"\",\"\",'Блок 1'!K193)","v":""},{"$f":"IF('Блок 1'!L193=\"\",\"\",'Блок 1'!L193)","v":""},{"$f":"IF('Блок 1'!M193=\"\",\"\",'Блок 1'!M193)","v":""},{"$f":"IF('Блок 1'!N193=\"\",\"\",'Блок 1'!N193)","v":""},{"$f":"IF('Блок 1'!O193=\"\",\"\",'Блок 1'!O193)","v":""},{"$f":"IF('Блок 1'!P193=\"\",\"\",'Блок 1'!P193)","v":""},{"$f":"IF('Блок 1'!Q193=\"\",\"\",'Блок 1'!Q193)","v":""},{"$f":"IF('Блок 1'!R193=\"\",\"\",'Блок 1'!R193)","v":""},{"$f":"IF('Блок 1'!S193=\"\",\"\",'Блок 1'!S193)","v":""},{"$f":"IF('Блок 1'!T193=\"\",\"\",'Блок 1'!T193)","v":""},{"$f":"IF('Блок 1'!U193=\"\",\"\",'Блок 1'!U193)","v":""},{"$f":"IF('Блок 1'!V193=\"\",\"\",'Блок 1'!V193)","v":""},{"$f":"IF('Блок 1'!W193=\"\",\"\",'Блок 1'!W193)","v":""},{"$f":"IF('Блок 1'!X193=\"\",\"\",'Блок 1'!X193)","v":""},{"$f":"IF('Блок 1'!Y193=\"\",\"\",'Блок 1'!Y193)","v":""},{"$f":"IF('Блок 1'!Z193=\"\",\"\",'Блок 1'!Z193)","v":""},{"$f":"IF('Блок 1'!AA193=\"\",\"\",'Блок 1'!AA193)","v":""},{"$f":"IF('Блок 1'!AB193=\"\",\"\",'Блок 1'!AB193)","v":""},{"$f":"IF('Блок 1'!AC193=\"\",\"\",'Блок 1'!AC193)","v":""},{"$f":"IF('Блок 1'!AD193=\"\",\"\",'Блок 1'!AD193)","v":""},{"$f":"IF('Блок 1'!AE193=\"\",\"\",'Блок 1'!AE193)","v":""},{"$f":"IF('Блок 1'!AF193=\"\",\"\",'Блок 1'!AF193)","v":""},{"$f":"IF('Блок 1'!AG193=\"\",\"\",'Блок 1'!AG193)","v":""},{"$f":"IF('Блок 1'!AH193=\"\",\"\",'Блок 1'!AH193)","v":""},{"$f":"IF('Блок 1'!AI193=\"\",\"\",'Блок 1'!AI193)","v":""},{"$f":"IF('Блок 1'!AJ193=\"\",\"\",'Блок 1'!AJ193)","v":""},{"$f":"IF('Блок 1'!AK193=\"\",\"\",'Блок 1'!AK193)","v":""},{"$f":"IF('Блок 1'!AL193=\"\",\"\",'Блок 1'!AL193)","v":""},{"$f":"IF('Блок 1'!AM193=\"\",\"\",'Блок 1'!AM193)","v":""},{"$f":"IF('Блок 1'!AN193=\"\",\"\",'Блок 1'!AN193)","v":""},{"$f":"IF('Блок 1'!AO193=\"\",\"\",'Блок 1'!AO193)","v":""},{"$f":"IF('Блок 1'!AP193=\"\",\"\",'Блок 1'!AP193)","v":""},{"$f":"IF('Блок 1'!AQ193=\"\",\"\",'Блок 1'!AQ193)","v":""},{"$f":"IF('Блок 1'!AR193=\"\",\"\",'Блок 1'!AR193)","v":""},{"$f":"IF('Блок 1'!AS193=\"\",\"\",'Блок 1'!AS193)","v":""},{"$f":"IF('Блок 1'!AT193=\"\",\"\",'Блок 1'!AT193)","v":""},{"$f":"IF('Блок 1'!AU193=\"\",\"\",'Блок 1'!AU193)","v":""},{"$f":"IF('Блок 1'!AV193=\"\",\"\",'Блок 1'!AV193)","v":""},{"$f":"IF('Блок 1'!AW193=\"\",\"\",'Блок 1'!AW193)","v":""},{"$f":"IF('Блок 1'!AX193=\"\",\"\",'Блок 1'!AX193)","v":""},{"$f":"IF('Блок 1'!AY193=\"\",\"\",'Блок 1'!AY193)","v":""},{"$f":"IF('Блок 1'!AZ193=\"\",\"\",'Блок 1'!AZ193)","v":""},{"$f":"IF('Блок 1'!BA193=\"\",\"\",'Блок 1'!BA193)","v":""},{"$f":"IF('Блок 1'!BB193=\"\",\"\",'Блок 1'!BB193)","v":""},{"$f":"IF('Блок 1'!BC193=\"\",\"\",'Блок 1'!BC193)","v":""},{"$f":"IF('Блок 1'!BD193=\"\",\"\",'Блок 1'!BD193)","v":""},{"$f":"IF('Блок 1'!BE193=\"\",\"\",'Блок 1'!BE193)","v":""},{"$f":"IF('Блок 1'!BF193=\"\",\"\",'Блок 1'!BF193)","v":""},{"$f":"IF('Блок 1'!BG193=\"\",\"\",'Блок 1'!BG193)","v":""},{"$f":"IF('Блок 1'!BH193=\"\",\"\",'Блок 1'!BH193)","v":""}]
[null,{"$f":"IF('Блок 1'!B194=\"\",\"\",'Блок 1'!B194)","v":""},{"$f":"IF('Блок 1'!C194=\"\",\"\",'Блок 1'!C194)","v":""},{"$f":"IF('Блок 1'!D194=\"\",\"\",'Блок 1'!D194)","v":""},{"$f":"IF('Блок 1'!E194=\"\",\"\",'Блок 1'!E194)","v":""},{"$f":"IF('Блок 1'!F194=\"\",\"\",'Блок 1'!F194)","v":""},{"$f":"IF('Блок 1'!G194=\"\",\"\",'Блок 1'!G194)","v":""},{"$f":"IF('Блок 1'!H194=\"\",\"\",'Блок 1'!H194)","v":""},{"$f":"IF('Блок 1'!I194=\"\",\"\",'Блок 1'!I194)","v":""},{"$f":"IF('Блок 1'!J194=\"\",\"\",'Блок 1'!J194)","v":""},{"$f":"IF('Блок 1'!K194=\"\",\"\",'Блок 1'!K194)","v":""},{"$f":"IF('Блок 1'!L194=\"\",\"\",'Блок 1'!L194)","v":""},{"$f":"IF('Блок 1'!M194=\"\",\"\",'Блок 1'!M194)","v":""},{"$f":"IF('Блок 1'!N194=\"\",\"\",'Блок 1'!N194)","v":""},{"$f":"IF('Блок 1'!O194=\"\",\"\",'Блок 1'!O194)","v":""},{"$f":"IF('Блок 1'!P194=\"\",\"\",'Блок 1'!P194)","v":""},{"$f":"IF('Блок 1'!Q194=\"\",\"\",'Блок 1'!Q194)","v":""},{"$f":"IF('Блок 1'!R194=\"\",\"\",'Блок 1'!R194)","v":""},{"$f":"IF('Блок 1'!S194=\"\",\"\",'Блок 1'!S194)","v":""},{"$f":"IF('Блок 1'!T194=\"\",\"\",'Блок 1'!T194)","v":""},{"$f":"IF('Блок 1'!U194=\"\",\"\",'Блок 1'!U194)","v":""},{"$f":"IF('Блок 1'!V194=\"\",\"\",'Блок 1'!V194)","v":""},{"$f":"IF('Блок 1'!W194=\"\",\"\",'Блок 1'!W194)","v":""},{"$f":"IF('Блок 1'!X194=\"\",\"\",'Блок 1'!X194)","v":""},{"$f":"IF('Блок 1'!Y194=\"\",\"\",'Блок 1'!Y194)","v":""},{"$f":"IF('Блок 1'!Z194=\"\",\"\",'Блок 1'!Z194)","v":""},{"$f":"IF('Блок 1'!AA194=\"\",\"\",'Блок 1'!AA194)","v":""},{"$f":"IF('Блок 1'!AB194=\"\",\"\",'Блок 1'!AB194)","v":""},{"$f":"IF('Блок 1'!AC194=\"\",\"\",'Блок 1'!AC194)","v":""},{"$f":"IF('Блок 1'!AD194=\"\",\"\",'Блок 1'!AD194)","v":""},{"$f":"IF('Блок 1'!AE194=\"\",\"\",'Блок 1'!AE194)","v":""},{"$f":"IF('Блок 1'!AF194=\"\",\"\",'Блок 1'!AF194)","v":""},{"$f":"IF('Блок 1'!AG194=\"\",\"\",'Блок 1'!AG194)","v":""},{"$f":"IF('Блок 1'!AH194=\"\",\"\",'Блок 1'!AH194)","v":""},{"$f":"IF('Блок 1'!AI194=\"\",\"\",'Блок 1'!AI194)","v":""},{"$f":"IF('Блок 1'!AJ194=\"\",\"\",'Блок 1'!AJ194)","v":""},{"$f":"IF('Блок 1'!AK194=\"\",\"\",'Блок 1'!AK194)","v":""},{"$f":"IF('Блок 1'!AL194=\"\",\"\",'Блок 1'!AL194)","v":""},{"$f":"IF('Блок 1'!AM194=\"\",\"\",'Блок 1'!AM194)","v":""},{"$f":"IF('Блок 1'!AN194=\"\",\"\",'Блок 1'!AN194)","v":""},{"$f":"IF('Блок 1'!AO194=\"\",\"\",'Блок 1'!AO194)","v":""},{"$f":"IF('Блок 1'!AP194=\"\",\"\",'Блок 1'!AP194)","v":""},{"$f":"IF('Блок 1'!AQ194=\"\",\"\",'Блок 1'!AQ194)","v":""},{"$f":"IF('Блок 1'!AR194=\"\",\"\",'Блок 1'!AR194)","v":""},{"$f":"IF('Блок 1'!AS194=\"\",\"\",'Блок 1'!AS194)","v":""},{"$f":"IF('Блок 1'!AT194=\"\",\"\",'Блок 1'!AT194)","v":""},{"$f":"IF('Блок 1'!AU194=\"\",\"\",'Блок 1'!AU194)","v":""},{"$f":"IF('Блок 1'!AV194=\"\",\"\",'Блок 1'!AV194)","v":""},{"$f":"IF('Блок 1'!AW194=\"\",\"\",'Блок 1'!AW194)","v":""},{"$f":"IF('Блок 1'!AX194=\"\",\"\",'Блок 1'!AX194)","v":""},{"$f":"IF('Блок 1'!AY194=\"\",\"\",'Блок 1'!AY194)","v":""},{"$f":"IF('Блок 1'!AZ194=\"\",\"\",'Блок 1'!AZ194)","v":""},{"$f":"IF('Блок 1'!BA194=\"\",\"\",'Блок 1'!BA194)","v":""},{"$f":"IF('Блок 1'!BB194=\"\",\"\",'Блок 1'!BB194)","v":""},{"$f":"IF('Блок 1'!BC194=\"\",\"\",'Блок 1'!BC194)","v":""},{"$f":"IF('Блок 1'!BD194=\"\",\"\",'Блок 1'!BD194)","v":""},{"$f":"IF('Блок 1'!BE194=\"\",\"\",'Блок 1'!BE194)","v":""},{"$f":"IF('Блок 1'!BF194=\"\",\"\",'Блок 1'!BF194)","v":""},{"$f":"IF('Блок 1'!BG194=\"\",\"\",'Блок 1'!BG194)","v":""},{"$f":"IF('Блок 1'!BH194=\"\",\"\",'Блок 1'!BH194)","v":""}]
[null,{"$f":"IF('Блок 1'!B195=\"\",\"\",'Блок 1'!B195)","v":""},{"$f":"IF('Блок 1'!C195=\"\",\"\",'Блок 1'!C195)","v":""},{"$f":"IF('Блок 1'!D195=\"\",\"\",'Блок 1'!D195)","v":""},{"$f":"IF('Блок 1'!E195=\"\",\"\",'Блок 1'!E195)","v":""},{"$f":"IF('Блок 1'!F195=\"\",\"\",'Блок 1'!F195)","v":""},{"$f":"IF('Блок 1'!G195=\"\",\"\",'Блок 1'!G195)","v":""},{"$f":"IF('Блок 1'!H195=\"\",\"\",'Блок 1'!H195)","v":""},{"$f":"IF('Блок 1'!I195=\"\",\"\",'Блок 1'!I195)","v":""},{"$f":"IF('Блок 1'!J195=\"\",\"\",'Блок 1'!J195)","v":""},{"$f":"IF('Блок 1'!K195=\"\",\"\",'Блок 1'!K195)","v":""},{"$f":"IF('Блок 1'!L195=\"\",\"\",'Блок 1'!L195)","v":""},{"$f":"IF('Блок 1'!M195=\"\",\"\",'Блок 1'!M195)","v":""},{"$f":"IF('Блок 1'!N195=\"\",\"\",'Блок 1'!N195)","v":""},{"$f":"IF('Блок 1'!O195=\"\",\"\",'Блок 1'!O195)","v":""},{"$f":"IF('Блок 1'!P195=\"\",\"\",'Блок 1'!P195)","v":""},{"$f":"IF('Блок 1'!Q195=\"\",\"\",'Блок 1'!Q195)","v":""},{"$f":"IF('Блок 1'!R195=\"\",\"\",'Блок 1'!R195)","v":""},{"$f":"IF('Блок 1'!S195=\"\",\"\",'Блок 1'!S195)","v":""},{"$f":"IF('Блок 1'!T195=\"\",\"\",'Блок 1'!T195)","v":""},{"$f":"IF('Блок 1'!U195=\"\",\"\",'Блок 1'!U195)","v":""},{"$f":"IF('Блок 1'!V195=\"\",\"\",'Блок 1'!V195)","v":""},{"$f":"IF('Блок 1'!W195=\"\",\"\",'Блок 1'!W195)","v":""},{"$f":"IF('Блок 1'!X195=\"\",\"\",'Блок 1'!X195)","v":""},{"$f":"IF('Блок 1'!Y195=\"\",\"\",'Блок 1'!Y195)","v":""},{"$f":"IF('Блок 1'!Z195=\"\",\"\",'Блок 1'!Z195)","v":""},{"$f":"IF('Блок 1'!AA195=\"\",\"\",'Блок 1'!AA195)","v":""},{"$f":"IF('Блок 1'!AB195=\"\",\"\",'Блок 1'!AB195)","v":""},{"$f":"IF('Блок 1'!AC195=\"\",\"\",'Блок 1'!AC195)","v":""},{"$f":"IF('Блок 1'!AD195=\"\",\"\",'Блок 1'!AD195)","v":""},{"$f":"IF('Блок 1'!AE195=\"\",\"\",'Блок 1'!AE195)","v":""},{"$f":"IF('Блок 1'!AF195=\"\",\"\",'Блок 1'!AF195)","v":""},{"$f":"IF('Блок 1'!AG195=\"\",\"\",'Блок 1'!AG195)","v":""},{"$f":"IF('Блок 1'!AH195=\"\",\"\",'Блок 1'!AH195)","v":""},{"$f":"IF('Блок 1'!AI195=\"\",\"\",'Блок 1'!AI195)","v":""},{"$f":"IF('Блок 1'!AJ195=\"\",\"\",'Блок 1'!AJ195)","v":""},{"$f":"IF('Блок 1'!AK195=\"\",\"\",'Блок 1'!AK195)","v":""},{"$f":"IF('Блок 1'!AL195=\"\",\"\",'Блок 1'!AL195)","v":""},{"$f":"IF('Блок 1'!AM195=\"\",\"\",'Блок 1'!AM195)","v":""},{"$f":"IF('Блок 1'!AN195=\"\",\"\",'Блок 1'!AN195)","v":""},{"$f":"IF('Блок 1'!AO195=\"\",\"\",'Блок 1'!AO195)","v":""},{"$f":"IF('Блок 1'!AP195=\"\",\"\",'Блок 1'!AP195)","v":""},{"$f":"IF('Блок 1'!AQ195=\"\",\"\",'Блок 1'!AQ195)","v":""},{"$f":"IF('Блок 1'!AR195=\"\",\"\",'Блок 1'!AR195)","v":""},{"$f":"IF('Блок 1'!AS195=\"\",\"\",'Блок 1'!AS195)","v":""},{"$f":"IF('Блок 1'!AT195=\"\",\"\",'Блок 1'!AT195)","v":""},{"$f":"IF('Блок 1'!AU195=\"\",\"\",'Блок 1'!AU195)","v":""},{"$f":"IF('Блок 1'!AV195=\"\",\"\",'Блок 1'!AV195)","v":""},{"$f":"IF('Блок 1'!AW195=\"\",\"\",'Блок 1'!AW195)","v":""},{"$f":"IF('Блок 1'!AX195=\"\",\"\",'Блок 1'!AX195)","v":""},{"$f":"IF('Блок 1'!AY195=\"\",\"\",'Блок 1'!AY195)","v":""},{"$f":"IF('Блок 1'!AZ195=\"\",\"\",'Блок 1'!AZ195)","v":""},{"$f":"IF('Блок 1'!BA195=\"\",\"\",'Блок 1'!BA195)","v":""},{"$f":"IF('Блок 1'!BB195=\"\",\"\",'Блок 1'!BB195)","v":""},{"$f":"IF('Блок 1'!BC195=\"\",\"\",'Блок 1'!BC195)","v":""},{"$f":"IF('Блок 1'!BD195=\"\",\"\",'Блок 1'!BD195)","v":""},{"$f":"IF('Блок 1'!BE195=\"\",\"\",'Блок 1'!BE195)","v":""},{"$f":"IF('Блок 1'!BF195=\"\",\"\",'Блок 1'!BF195)","v":""},{"$f":"IF('Блок 1'!BG195=\"\",\"\",'Блок 1'!BG195)","v":""},{"$f":"IF('Блок 1'!BH195=\"\",\"\",'Блок 1'!BH195)","v":""}]
[null,{"$f":"IF('Блок 1'!B196=\"\",\"\",'Блок 1'!B196)","v":""},{"$f":"IF('Блок 1'!C196=\"\",\"\",'Блок 1'!C196)","v":""},{"$f":"IF('Блок 1'!D196=\"\",\"\",'Блок 1'!D196)","v":""},{"$f":"IF('Блок 1'!E196=\"\",\"\",'Блок 1'!E196)","v":""},{"$f":"IF('Блок 1'!F196=\"\",\"\",'Блок 1'!F196)","v":""},{"$f":"IF('Блок 1'!G196=\"\",\"\",'Блок 1'!G196)","v":""},{"$f":"IF('Блок 1'!H196=\"\",\"\",'Блок 1'!H196)","v":""},{"$f":"IF('Блок 1'!I196=\"\",\"\",'Блок 1'!I196)","v":""},{"$f":"IF('Блок 1'!J196=\"\",\"\",'Блок 1'!J196)","v":""},{"$f":"IF('Блок 1'!K196=\"\",\"\",'Блок 1'!K196)","v":""},{"$f":"IF('Блок 1'!L196=\"\",\"\",'Блок 1'!L196)","v":""},{"$f":"IF('Блок 1'!M196=\"\",\"\",'Блок 1'!M196)","v":""},{"$f":"IF('Блок 1'!N196=\"\",\"\",'Блок 1'!N196)","v":""},{"$f":"IF('Блок 1'!O196=\"\",\"\",'Блок 1'!O196)","v":""},{"$f":"IF('Блок 1'!P196=\"\",\"\",'Блок 1'!P196)","v":""},{"$f":"IF('Блок 1'!Q196=\"\",\"\",'Блок 1'!Q196)","v":""},{"$f":"IF('Блок 1'!R196=\"\",\"\",'Блок 1'!R196)","v":""},{"$f":"IF('Блок 1'!S196=\"\",\"\",'Блок 1'!S196)","v":""},{"$f":"IF('Блок 1'!T196=\"\",\"\",'Блок 1'!T196)","v":""},{"$f":"IF('Блок 1'!U196=\"\",\"\",'Блок 1'!U196)","v":""},{"$f":"IF('Блок 1'!V196=\"\",\"\",'Блок 1'!V196)","v":""},{"$f":"IF('Блок 1'!W196=\"\",\"\",'Блок 1'!W196)","v":""},{"$f":"IF('Блок 1'!X196=\"\",\"\",'Блок 1'!X196)","v":""},{"$f":"IF('Блок 1'!Y196=\"\",\"\",'Блок 1'!Y196)","v":""},{"$f":"IF('Блок 1'!Z196=\"\",\"\",'Блок 1'!Z196)","v":""},{"$f":"IF('Блок 1'!AA196=\"\",\"\",'Блок 1'!AA196)","v":""},{"$f":"IF('Блок 1'!AB196=\"\",\"\",'Блок 1'!AB196)","v":""},{"$f":"IF('Блок 1'!AC196=\"\",\"\",'Блок 1'!AC196)","v":""},{"$f":"IF('Блок 1'!AD196=\"\",\"\",'Блок 1'!AD196)","v":""},{"$f":"IF('Блок 1'!AE196=\"\",\"\",'Блок 1'!AE196)","v":""},{"$f":"IF('Блок 1'!AF196=\"\",\"\",'Блок 1'!AF196)","v":""},{"$f":"IF('Блок 1'!AG196=\"\",\"\",'Блок 1'!AG196)","v":""},{"$f":"IF('Блок 1'!AH196=\"\",\"\",'Блок 1'!AH196)","v":""},{"$f":"IF('Блок 1'!AI196=\"\",\"\",'Блок 1'!AI196)","v":""},{"$f":"IF('Блок 1'!AJ196=\"\",\"\",'Блок 1'!AJ196)","v":""},{"$f":"IF('Блок 1'!AK196=\"\",\"\",'Блок 1'!AK196)","v":""},{"$f":"IF('Блок 1'!AL196=\"\",\"\",'Блок 1'!AL196)","v":""},{"$f":"IF('Блок 1'!AM196=\"\",\"\",'Блок 1'!AM196)","v":""},{"$f":"IF('Блок 1'!AN196=\"\",\"\",'Блок 1'!AN196)","v":""},{"$f":"IF('Блок 1'!AO196=\"\",\"\",'Блок 1'!AO196)","v":""},{"$f":"IF('Блок 1'!AP196=\"\",\"\",'Блок 1'!AP196)","v":""},{"$f":"IF('Блок 1'!AQ196=\"\",\"\",'Блок 1'!AQ196)","v":""},{"$f":"IF('Блок 1'!AR196=\"\",\"\",'Блок 1'!AR196)","v":""},{"$f":"IF('Блок 1'!AS196=\"\",\"\",'Блок 1'!AS196)","v":""},{"$f":"IF('Блок 1'!AT196=\"\",\"\",'Блок 1'!AT196)","v":""},{"$f":"IF('Блок 1'!AU196=\"\",\"\",'Блок 1'!AU196)","v":""},{"$f":"IF('Блок 1'!AV196=\"\",\"\",'Блок 1'!AV196)","v":""},{"$f":"IF('Блок 1'!AW196=\"\",\"\",'Блок 1'!AW196)","v":""},{"$f":"IF('Блок 1'!AX196=\"\",\"\",'Блок 1'!AX196)","v":""},{"$f":"IF('Блок 1'!AY196=\"\",\"\",'Блок 1'!AY196)","v":""},{"$f":"IF('Блок 1'!AZ196=\"\",\"\",'Блок 1'!AZ196)","v":""},{"$f":"IF('Блок 1'!BA196=\"\",\"\",'Блок 1'!BA196)","v":""},{"$f":"IF('Блок 1'!BB196=\"\",\"\",'Блок 1'!BB196)","v":""},{"$f":"IF('Блок 1'!BC196=\"\",\"\",'Блок 1'!BC196)","v":""},{"$f":"IF('Блок 1'!BD196=\"\",\"\",'Блок 1'!BD196)","v":""},{"$f":"IF('Блок 1'!BE196=\"\",\"\",'Блок 1'!BE196)","v":""},{"$f":"IF('Блок 1'!BF196=\"\",\"\",'Блок 1'!BF196)","v":""},{"$f":"IF('Блок 1'!BG196=\"\",\"\",'Блок 1'!BG196)","v":""},{"$f":"IF('Блок 1'!BH196=\"\",\"\",'Блок 1'!BH196)","v":""}]
[null,{"$f":"IF('Блок 1'!B197=\"\",\"\",'Блок 1'!B197)","v":""},{"$f":"IF('Блок 1'!C197=\"\",\"\",'Блок 1'!C197)","v":""},{"$f":"IF('Блок 1'!D197=\"\",\"\",'Блок 1'!D197)","v":""},{"$f":"IF('Блок 1'!E197=\"\",\"\",'Блок 1'!E197)","v":""},{"$f":"IF('Блок 1'!F197=\"\",\"\",'Блок 1'!F197)","v":""},{"$f":"IF('Блок 1'!G197=\"\",\"\",'Блок 1'!G197)","v":""},{"$f":"IF('Блок 1'!H197=\"\",\"\",'Блок 1'!H197)","v":""},{"$f":"IF('Блок 1'!I197=\"\",\"\",'Блок 1'!I197)","v":""},{"$f":"IF('Блок 1'!J197=\"\",\"\",'Блок 1'!J197)","v":""},{"$f":"IF('Блок 1'!K197=\"\",\"\",'Блок 1'!K197)","v":""},{"$f":"IF('Блок 1'!L197=\"\",\"\",'Блок 1'!L197)","v":""},{"$f":"IF('Блок 1'!M197=\"\",\"\",'Блок 1'!M197)","v":""},{"$f":"IF('Блок 1'!N197=\"\",\"\",'Блок 1'!N197)","v":""},{"$f":"IF('Блок 1'!O197=\"\",\"\",'Блок 1'!O197)","v":""},{"$f":"IF('Блок 1'!P197=\"\",\"\",'Блок 1'!P197)","v":""},{"$f":"IF('Блок 1'!Q197=\"\",\"\",'Блок 1'!Q197)","v":""},{"$f":"IF('Блок 1'!R197=\"\",\"\",'Блок 1'!R197)","v":""},{"$f":"IF('Блок 1'!S197=\"\",\"\",'Блок 1'!S197)","v":""},{"$f":"IF('Блок 1'!T197=\"\",\"\",'Блок 1'!T197)","v":""},{"$f":"IF('Блок 1'!U197=\"\",\"\",'Блок 1'!U197)","v":""},{"$f":"IF('Блок 1'!V197=\"\",\"\",'Блок 1'!V197)","v":""},{"$f":"IF('Блок 1'!W197=\"\",\"\",'Блок 1'!W197)","v":""},{"$f":"IF('Блок 1'!X197=\"\",\"\",'Блок 1'!X197)","v":""},{"$f":"IF('Блок 1'!Y197=\"\",\"\",'Блок 1'!Y197)","v":""},{"$f":"IF('Блок 1'!Z197=\"\",\"\",'Блок 1'!Z197)","v":""},{"$f":"IF('Блок 1'!AA197=\"\",\"\",'Блок 1'!AA197)","v":""},{"$f":"IF('Блок 1'!AB197=\"\",\"\",'Блок 1'!AB197)","v":""},{"$f":"IF('Блок 1'!AC197=\"\",\"\",'Блок 1'!AC197)","v":""},{"$f":"IF('Блок 1'!AD197=\"\",\"\",'Блок 1'!AD197)","v":""},{"$f":"IF('Блок 1'!AE197=\"\",\"\",'Блок 1'!AE197)","v":""},{"$f":"IF('Блок 1'!AF197=\"\",\"\",'Блок 1'!AF197)","v":""},{"$f":"IF('Блок 1'!AG197=\"\",\"\",'Блок 1'!AG197)","v":""},{"$f":"IF('Блок 1'!AH197=\"\",\"\",'Блок 1'!AH197)","v":""},{"$f":"IF('Блок 1'!AI197=\"\",\"\",'Блок 1'!AI197)","v":""},{"$f":"IF('Блок 1'!AJ197=\"\",\"\",'Блок 1'!AJ197)","v":""},{"$f":"IF('Блок 1'!AK197=\"\",\"\",'Блок 1'!AK197)","v":""},{"$f":"IF('Блок 1'!AL197=\"\",\"\",'Блок 1'!AL197)","v":""},{"$f":"IF('Блок 1'!AM197=\"\",\"\",'Блок 1'!AM197)","v":""},{"$f":"IF('Блок 1'!AN197=\"\",\"\",'Блок 1'!AN197)","v":""},{"$f":"IF('Блок 1'!AO197=\"\",\"\",'Блок 1'!AO197)","v":""},{"$f":"IF('Блок 1'!AP197=\"\",\"\",'Блок 1'!AP197)","v":""},{"$f":"IF('Блок 1'!AQ197=\"\",\"\",'Блок 1'!AQ197)","v":""},{"$f":"IF('Блок 1'!AR197=\"\",\"\",'Блок 1'!AR197)","v":""},{"$f":"IF('Блок 1'!AS197=\"\",\"\",'Блок 1'!AS197)","v":""},{"$f":"IF('Блок 1'!AT197=\"\",\"\",'Блок 1'!AT197)","v":""},{"$f":"IF('Блок 1'!AU197=\"\",\"\",'Блок 1'!AU197)","v":""},{"$f":"IF('Блок 1'!AV197=\"\",\"\",'Блок 1'!AV197)","v":""},{"$f":"IF('Блок 1'!AW197=\"\",\"\",'Блок 1'!AW197)","v":""},{"$f":"IF('Блок 1'!AX197=\"\",\"\",'Блок 1'!AX197)","v":""},{"$f":"IF('Блок 1'!AY197=\"\",\"\",'Блок 1'!AY197)","v":""},{"$f":"IF('Блок 1'!AZ197=\"\",\"\",'Блок 1'!AZ197)","v":""},{"$f":"IF('Блок 1'!BA197=\"\",\"\",'Блок 1'!BA197)","v":""},{"$f":"IF('Блок 1'!BB197=\"\",\"\",'Блок 1'!BB197)","v":""},{"$f":"IF('Блок 1'!BC197=\"\",\"\",'Блок 1'!BC197)","v":""},{"$f":"IF('Блок 1'!BD197=\"\",\"\",'Блок 1'!BD197)","v":""},{"$f":"IF('Блок 1'!BE197=\"\",\"\",'Блок 1'!BE197)","v":""},{"$f":"IF('Блок 1'!BF197=\"\",\"\",'Блок 1'!BF197)","v":""},{"$f":"IF('Блок 1'!BG197=\"\",\"\",'Блок 1'!BG197)","v":""},{"$f":"IF('Блок 1'!BH197=\"\",\"\",'Блок 1'!BH197)","v":""}]
[null,{"$f":"IF('Блок 1'!B198=\"\",\"\",'Блок 1'!B198)","v":""},{"$f":"IF('Блок 1'!C198=\"\",\"\",'Блок 1'!C198)","v":""},{"$f":"IF('Блок 1'!D198=\"\",\"\",'Блок 1'!D198)","v":""},{"$f":"IF('Блок 1'!E198=\"\",\"\",'Блок 1'!E198)","v":""},{"$f":"IF('Блок 1'!F198=\"\",\"\",'Блок 1'!F198)","v":""},{"$f":"IF('Блок 1'!G198=\"\",\"\",'Блок 1'!G198)","v":""},{"$f":"IF('Блок 1'!H198=\"\",\"\",'Блок 1'!H198)","v":""},{"$f":"IF('Блок 1'!I198=\"\",\"\",'Блок 1'!I198)","v":""},{"$f":"IF('Блок 1'!J198=\"\",\"\",'Блок 1'!J198)","v":""},{"$f":"IF('Блок 1'!K198=\"\",\"\",'Блок 1'!K198)","v":""},{"$f":"IF('Блок 1'!L198=\"\",\"\",'Блок 1'!L198)","v":""},{"$f":"IF('Блок 1'!M198=\"\",\"\",'Блок 1'!M198)","v":""},{"$f":"IF('Блок 1'!N198=\"\",\"\",'Блок 1'!N198)","v":""},{"$f":"IF('Блок 1'!O198=\"\",\"\",'Блок 1'!O198)","v":""},{"$f":"IF('Блок 1'!P198=\"\",\"\",'Блок 1'!P198)","v":""},{"$f":"IF('Блок 1'!Q198=\"\",\"\",'Блок 1'!Q198)","v":""},{"$f":"IF('Блок 1'!R198=\"\",\"\",'Блок 1'!R198)","v":""},{"$f":"IF('Блок 1'!S198=\"\",\"\",'Блок 1'!S198)","v":""},{"$f":"IF('Блок 1'!T198=\"\",\"\",'Блок 1'!T198)","v":""},{"$f":"IF('Блок 1'!U198=\"\",\"\",'Блок 1'!U198)","v":""},{"$f":"IF('Блок 1'!V198=\"\",\"\",'Блок 1'!V198)","v":""},{"$f":"IF('Блок 1'!W198=\"\",\"\",'Блок 1'!W198)","v":""},{"$f":"IF('Блок 1'!X198=\"\",\"\",'Блок 1'!X198)","v":""},{"$f":"IF('Блок 1'!Y198=\"\",\"\",'Блок 1'!Y198)","v":""},{"$f":"IF('Блок 1'!Z198=\"\",\"\",'Блок 1'!Z198)","v":""},{"$f":"IF('Блок 1'!AA198=\"\",\"\",'Блок 1'!AA198)","v":""},{"$f":"IF('Блок 1'!AB198=\"\",\"\",'Блок 1'!AB198)","v":""},{"$f":"IF('Блок 1'!AC198=\"\",\"\",'Блок 1'!AC198)","v":""},{"$f":"IF('Блок 1'!AD198=\"\",\"\",'Блок 1'!AD198)","v":""},{"$f":"IF('Блок 1'!AE198=\"\",\"\",'Блок 1'!AE198)","v":""},{"$f":"IF('Блок 1'!AF198=\"\",\"\",'Блок 1'!AF198)","v":""},{"$f":"IF('Блок 1'!AG198=\"\",\"\",'Блок 1'!AG198)","v":""},{"$f":"IF('Блок 1'!AH198=\"\",\"\",'Блок 1'!AH198)","v":""},{"$f":"IF('Блок 1'!AI198=\"\",\"\",'Блок 1'!AI198)","v":""},{"$f":"IF('Блок 1'!AJ198=\"\",\"\",'Блок 1'!AJ198)","v":""},{"$f":"IF('Блок 1'!AK198=\"\",\"\",'Блок 1'!AK198)","v":""},{"$f":"IF('Блок 1'!AL198=\"\",\"\",'Блок 1'!AL198)","v":""},{"$f":"IF('Блок 1'!AM198=\"\",\"\",'Блок 1'!AM198)","v":""},{"$f":"IF('Блок 1'!AN198=\"\",\"\",'Блок 1'!AN198)","v":""},{"$f":"IF('Блок 1'!AO198=\"\",\"\",'Блок 1'!AO198)","v":""},{"$f":"IF('Блок 1'!AP198=\"\",\"\",'Блок 1'!AP198)","v":""},{"$f":"IF('Блок 1'!AQ198=\"\",\"\",'Блок 1'!AQ198)","v":""},{"$f":"IF('Блок 1'!AR198=\"\",\"\",'Блок 1'!AR198)","v":""},{"$f":"IF('Блок 1'!AS198=\"\",\"\",'Блок 1'!AS198)","v":""},{"$f":"IF('Блок 1'!AT198=\"\",\"\",'Блок 1'!AT198)","v":""},{"$f":"IF('Блок 1'!AU198=\"\",\"\",'Блок 1'!AU198)","v":""},{"$f":"IF('Блок 1'!AV198=\"\",\"\",'Блок 1'!AV198)","v":""},{"$f":"IF('Блок 1'!AW198=\"\",\"\",'Блок 1'!AW198)","v":""},{"$f":"IF('Блок 1'!AX198=\"\",\"\",'Блок 1'!AX198)","v":""},{"$f":"IF('Блок 1'!AY198=\"\",\"\",'Блок 1'!AY198)","v":""},{"$f":"IF('Блок 1'!AZ198=\"\",\"\",'Блок 1'!AZ198)","v":""},{"$f":"IF('Блок 1'!BA198=\"\",\"\",'Блок 1'!BA198)","v":""},{"$f":"IF('Блок 1'!BB198=\"\",\"\",'Блок 1'!BB198)","v":""},{"$f":"IF('Блок 1'!BC198=\"\",\"\",'Блок 1'!BC198)","v":""},{"$f":"IF('Блок 1'!BD198=\"\",\"\",'Блок 1'!BD198)","v":""},{"$f":"IF('Блок 1'!BE198=\"\",\"\",'Блок 1'!BE198)","v":""},{"$f":"IF('Блок 1'!BF198=\"\",\"\",'Блок 1'!BF198)","v":""},{"$f":"IF('Блок 1'!BG198=\"\",\"\",'Блок 1'!BG198)","v":""},{"$f":"IF('Блок 1'!BH198=\"\",\"\",'Блок 1'!BH198)","v":""}]
[null,{"$f":"IF('Блок 1'!B199=\"\",\"\",'Блок 1'!B199)","v":""},{"$f":"IF('Блок 1'!C199=\"\",\"\",'Блок 1'!C199)","v":""},{"$f":"IF('Блок 1'!D199=\"\",\"\",'Блок 1'!D199)","v":""},{"$f":"IF('Блок 1'!E199=\"\",\"\",'Блок 1'!E199)","v":""},{"$f":"IF('Блок 1'!F199=\"\",\"\",'Блок 1'!F199)","v":""},{"$f":"IF('Блок 1'!G199=\"\",\"\",'Блок 1'!G199)","v":""},{"$f":"IF('Блок 1'!H199=\"\",\"\",'Блок 1'!H199)","v":""},{"$f":"IF('Блок 1'!I199=\"\",\"\",'Блок 1'!I199)","v":""},{"$f":"IF('Блок 1'!J199=\"\",\"\",'Блок 1'!J199)","v":""},{"$f":"IF('Блок 1'!K199=\"\",\"\",'Блок 1'!K199)","v":""},{"$f":"IF('Блок 1'!L199=\"\",\"\",'Блок 1'!L199)","v":""},{"$f":"IF('Блок 1'!M199=\"\",\"\",'Блок 1'!M199)","v":""},{"$f":"IF('Блок 1'!N199=\"\",\"\",'Блок 1'!N199)","v":""},{"$f":"IF('Блок 1'!O199=\"\",\"\",'Блок 1'!O199)","v":""},{"$f":"IF('Блок 1'!P199=\"\",\"\",'Блок 1'!P199)","v":""},{"$f":"IF('Блок 1'!Q199=\"\",\"\",'Блок 1'!Q199)","v":""},{"$f":"IF('Блок 1'!R199=\"\",\"\",'Блок 1'!R199)","v":""},{"$f":"IF('Блок 1'!S199=\"\",\"\",'Блок 1'!S199)","v":""},{"$f":"IF('Блок 1'!T199=\"\",\"\",'Блок 1'!T199)","v":""},{"$f":"IF('Блок 1'!U199=\"\",\"\",'Блок 1'!U199)","v":""},{"$f":"IF('Блок 1'!V199=\"\",\"\",'Блок 1'!V199)","v":""},{"$f":"IF('Блок 1'!W199=\"\",\"\",'Блок 1'!W199)","v":""},{"$f":"IF('Блок 1'!X199=\"\",\"\",'Блок 1'!X199)","v":""},{"$f":"IF('Блок 1'!Y199=\"\",\"\",'Блок 1'!Y199)","v":""},{"$f":"IF('Блок 1'!Z199=\"\",\"\",'Блок 1'!Z199)","v":""},{"$f":"IF('Блок 1'!AA199=\"\",\"\",'Блок 1'!AA199)","v":""},{"$f":"IF('Блок 1'!AB199=\"\",\"\",'Блок 1'!AB199)","v":""},{"$f":"IF('Блок 1'!AC199=\"\",\"\",'Блок 1'!AC199)","v":""},{"$f":"IF('Блок 1'!AD199=\"\",\"\",'Блок 1'!AD199)","v":""},{"$f":"IF('Блок 1'!AE199=\"\",\"\",'Блок 1'!AE199)","v":""},{"$f":"IF('Блок 1'!AF199=\"\",\"\",'Блок 1'!AF199)","v":""},{"$f":"IF('Блок 1'!AG199=\"\",\"\",'Блок 1'!AG199)","v":""},{"$f":"IF('Блок 1'!AH199=\"\",\"\",'Блок 1'!AH199)","v":""},{"$f":"IF('Блок 1'!AI199=\"\",\"\",'Блок 1'!AI199)","v":""},{"$f":"IF('Блок 1'!AJ199=\"\",\"\",'Блок 1'!AJ199)","v":""},{"$f":"IF('Блок 1'!AK199=\"\",\"\",'Блок 1'!AK199)","v":""},{"$f":"IF('Блок 1'!AL199=\"\",\"\",'Блок 1'!AL199)","v":""},{"$f":"IF('Блок 1'!AM199=\"\",\"\",'Блок 1'!AM199)","v":""},{"$f":"IF('Блок 1'!AN199=\"\",\"\",'Блок 1'!AN199)","v":""},{"$f":"IF('Блок 1'!AO199=\"\",\"\",'Блок 1'!AO199)","v":""},{"$f":"IF('Блок 1'!AP199=\"\",\"\",'Блок 1'!AP199)","v":""},{"$f":"IF('Блок 1'!AQ199=\"\",\"\",'Блок 1'!AQ199)","v":""},{"$f":"IF('Блок 1'!AR199=\"\",\"\",'Блок 1'!AR199)","v":""},{"$f":"IF('Блок 1'!AS199=\"\",\"\",'Блок 1'!AS199)","v":""},{"$f":"IF('Блок 1'!AT199=\"\",\"\",'Блок 1'!AT199)","v":""},{"$f":"IF('Блок 1'!AU199=\"\",\"\",'Блок 1'!AU199)","v":""},{"$f":"IF('Блок 1'!AV199=\"\",\"\",'Блок 1'!AV199)","v":""},{"$f":"IF('Блок 1'!AW199=\"\",\"\",'Блок 1'!AW199)","v":""},{"$f":"IF('Блок 1'!AX199=\"\",\"\",'Блок 1'!AX199)","v":""},{"$f":"IF('Блок 1'!AY199=\"\",\"\",'Блок 1'!AY199)","v":""},{"$f":"IF('Блок 1'!AZ199=\"\",\"\",'Блок 1'!AZ199)","v":""},{"$f":"IF('Блок 1'!BA199=\"\",\"\",'Блок 1'!BA199)","v":""},{"$f":"IF('Блок 1'!BB199=\"\",\"\",'Блок 1'!BB199)","v":""},{"$f":"IF('Блок 1'!BC199=\"\",\"\",'Блок 1'!BC199)","v":""},{"$f":"IF('Блок 1'!BD199=\"\",\"\",'Блок 1'!BD199)","v":""},{"$f":"IF('Блок 1'!BE199=\"\",\"\",'Блок 1'!BE199)","v":""},{"$f":"IF('Блок 1'!BF199=\"\",\"\",'Блок 1'!BF199)","v":""},{"$f":"IF('Блок 1'!BG199=\"\",\"\",'Блок 1'!BG199)","v":""},{"$f":"IF('Блок 1'!BH199=\"\",\"\",'Блок 1'!BH199)","v":""}]
[null,{"$f":"IF('Блок 1'!B200=\"\",\"\",'Блок 1'!B200)","v":""},{"$f":"IF('Блок 1'!C200=\"\",\"\",'Блок 1'!C200)","v":""},{"$f":"IF('Блок 1'!D200=\"\",\"\",'Блок 1'!D200)","v":""},{"$f":"IF('Блок 1'!E200=\"\",\"\",'Блок 1'!E200)","v":""},{"$f":"IF('Блок 1'!F200=\"\",\"\",'Блок 1'!F200)","v":""},{"$f":"IF('Блок 1'!G200=\"\",\"\",'Блок 1'!G200)","v":""},{"$f":"IF('Блок 1'!H200=\"\",\"\",'Блок 1'!H200)","v":""},{"$f":"IF('Блок 1'!I200=\"\",\"\",'Блок 1'!I200)","v":""},{"$f":"IF('Блок 1'!J200=\"\",\"\",'Блок 1'!J200)","v":""},{"$f":"IF('Блок 1'!K200=\"\",\"\",'Блок 1'!K200)","v":""},{"$f":"IF('Блок 1'!L200=\"\",\"\",'Блок 1'!L200)","v":""},{"$f":"IF('Блок 1'!M200=\"\",\"\",'Блок 1'!M200)","v":""},{"$f":"IF('Блок 1'!N200=\"\",\"\",'Блок 1'!N200)","v":""},{"$f":"IF('Блок 1'!O200=\"\",\"\",'Блок 1'!O200)","v":""},{"$f":"IF('Блок 1'!P200=\"\",\"\",'Блок 1'!P200)","v":""},{"$f":"IF('Блок 1'!Q200=\"\",\"\",'Блок 1'!Q200)","v":""},{"$f":"IF('Блок 1'!R200=\"\",\"\",'Блок 1'!R200)","v":""},{"$f":"IF('Блок 1'!S200=\"\",\"\",'Блок 1'!S200)","v":""},{"$f":"IF('Блок 1'!T200=\"\",\"\",'Блок 1'!T200)","v":""},{"$f":"IF('Блок 1'!U200=\"\",\"\",'Блок 1'!U200)","v":""},{"$f":"IF('Блок 1'!V200=\"\",\"\",'Блок 1'!V200)","v":""},{"$f":"IF('Блок 1'!W200=\"\",\"\",'Блок 1'!W200)","v":""},{"$f":"IF('Блок 1'!X200=\"\",\"\",'Блок 1'!X200)","v":""},{"$f":"IF('Блок 1'!Y200=\"\",\"\",'Блок 1'!Y200)","v":""},{"$f":"IF('Блок 1'!Z200=\"\",\"\",'Блок 1'!Z200)","v":""},{"$f":"IF('Блок 1'!AA200=\"\",\"\",'Блок 1'!AA200)","v":""},{"$f":"IF('Блок 1'!AB200=\"\",\"\",'Блок 1'!AB200)","v":""},{"$f":"IF('Блок 1'!AC200=\"\",\"\",'Блок 1'!AC200)","v":""},{"$f":"IF('Блок 1'!AD200=\"\",\"\",'Блок 1'!AD200)","v":""},{"$f":"IF('Блок 1'!AE200=\"\",\"\",'Блок 1'!AE200)","v":""},{"$f":"IF('Блок 1'!AF200=\"\",\"\",'Блок 1'!AF200)","v":""},{"$f":"IF('Блок 1'!AG200=\"\",\"\",'Блок 1'!AG200)","v":""},{"$f":"IF('Блок 1'!AH200=\"\",\"\",'Блок 1'!AH200)","v":""},{"$f":"IF('Блок 1'!AI200=\"\",\"\",'Блок 1'!AI200)","v":""},{"$f":"IF('Блок 1'!AJ200=\"\",\"\",'Блок 1'!AJ200)","v":""},{"$f":"IF('Блок 1'!AK200=\"\",\"\",'Блок 1'!AK200)","v":""},{"$f":"IF('Блок 1'!AL200=\"\",\"\",'Блок 1'!AL200)","v":""},{"$f":"IF('Блок 1'!AM200=\"\",\"\",'Блок 1'!AM200)","v":""},{"$f":"IF('Блок 1'!AN200=\"\",\"\",'Блок 1'!AN200)","v":""},{"$f":"IF('Блок 1'!AO200=\"\",\"\",'Блок 1'!AO200)","v":""},{"$f":"IF('Блок 1'!AP200=\"\",\"\",'Блок 1'!AP200)","v":""},{"$f":"IF('Блок 1'!AQ200=\"\",\"\",'Блок 1'!AQ200)","v":""},{"$f":"IF('Блок 1'!AR200=\"\",\"\",'Блок 1'!AR200)","v":""},{"$f":"IF('Блок 1'!AS200=\"\",\"\",'Блок 1'!AS200)","v":""},{"$f":"IF('Блок 1'!AT200=\"\",\"\",'Блок 1'!AT200)","v":""},{"$f":"IF('Блок 1'!AU200=\"\",\"\",'Блок 1'!AU200)","v":""},{"$f":"IF('Блок 1'!AV200=\"\",\"\",'Блок 1'!AV200)","v":""},{"$f":"IF('Блок 1'!AW200=\"\",\"\",'Блок 1'!AW200)","v":""},{"$f":"IF('Блок 1'!AX200=\"\",\"\",'Блок 1'!AX200)","v":""},{"$f":"IF('Блок 1'!AY200=\"\",\"\",'Блок 1'!AY200)","v":""},{"$f":"IF('Блок 1'!AZ200=\"\",\"\",'Блок 1'!AZ200)","v":""},{"$f":"IF('Блок 1'!BA200=\"\",\"\",'Блок 1'!BA200)","v":""},{"$f":"IF('Блок 1'!BB200=\"\",\"\",'Блок 1'!BB200)","v":""},{"$f":"IF('Блок 1'!BC200=\"\",\"\",'Блок 1'!BC200)","v":""},{"$f":"IF('Блок 1'!BD200=\"\",\"\",'Блок 1'!BD200)","v":""},{"$f":"IF('Блок 1'!BE200=\"\",\"\",'Блок 1'!BE200)","v":""},{"$f":"IF('Блок 1'!BF200=\"\",\"\",'Блок 1'!BF200)","v":""},{"$f":"IF('Блок 1'!BG200=\"\",\"\",'Блок 1'!BG200)","v":""},{"$f":"IF('Блок 1'!BH200=\"\",\"\",'Блок 1'!BH200)","v":""}]
[null,{"$f":"IF('Блок 1'!B201=\"\",\"\",'Блок 1'!B201)","v":""},{"$f":"IF('Блок 1'!C201=\"\",\"\",'Блок 1'!C201)","v":""},{"$f":"IF('Блок 1'!D201=\"\",\"\",'Блок 1'!D201)","v":""},{"$f":"IF('Блок 1'!E201=\"\",\"\",'Блок 1'!E201)","v":""},{"$f":"IF('Блок 1'!F201=\"\",\"\",'Блок 1'!F201)","v":""},{"$f":"IF('Блок 1'!G201=\"\",\"\",'Блок 1'!G201)","v":""},{"$f":"IF('Блок 1'!H201=\"\",\"\",'Блок 1'!H201)","v":""},{"$f":"IF('Блок 1'!I201=\"\",\"\",'Блок 1'!I201)","v":""},{"$f":"IF('Блок 1'!J201=\"\",\"\",'Блок 1'!J201)","v":""},{"$f":"IF('Блок 1'!K201=\"\",\"\",'Блок 1'!K201)","v":""},{"$f":"IF('Блок 1'!L201=\"\",\"\",'Блок 1'!L201)","v":""},{"$f":"IF('Блок 1'!M201=\"\",\"\",'Блок 1'!M201)","v":""},{"$f":"IF('Блок 1'!N201=\"\",\"\",'Блок 1'!N201)","v":""},{"$f":"IF('Блок 1'!O201=\"\",\"\",'Блок 1'!O201)","v":""},{"$f":"IF('Блок 1'!P201=\"\",\"\",'Блок 1'!P201)","v":""},{"$f":"IF('Блок 1'!Q201=\"\",\"\",'Блок 1'!Q201)","v":""},{"$f":"IF('Блок 1'!R201=\"\",\"\",'Блок 1'!R201)","v":""},{"$f":"IF('Блок 1'!S201=\"\",\"\",'Блок 1'!S201)","v":""},{"$f":"IF('Блок 1'!T201=\"\",\"\",'Блок 1'!T201)","v":""},{"$f":"IF('Блок 1'!U201=\"\",\"\",'Блок 1'!U201)","v":""},{"$f":"IF('Блок 1'!V201=\"\",\"\",'Блок 1'!V201)","v":""},{"$f":"IF('Блок 1'!W201=\"\",\"\",'Блок 1'!W201)","v":""},{"$f":"IF('Блок 1'!X201=\"\",\"\",'Блок 1'!X201)","v":""},{"$f":"IF('Блок 1'!Y201=\"\",\"\",'Блок 1'!Y201)","v":""},{"$f":"IF('Блок 1'!Z201=\"\",\"\",'Блок 1'!Z201)","v":""},{"$f":"IF('Блок 1'!AA201=\"\",\"\",'Блок 1'!AA201)","v":""},{"$f":"IF('Блок 1'!AB201=\"\",\"\",'Блок 1'!AB201)","v":""},{"$f":"IF('Блок 1'!AC201=\"\",\"\",'Блок 1'!AC201)","v":""},{"$f":"IF('Блок 1'!AD201=\"\",\"\",'Блок 1'!AD201)","v":""},{"$f":"IF('Блок 1'!AE201=\"\",\"\",'Блок 1'!AE201)","v":""},{"$f":"IF('Блок 1'!AF201=\"\",\"\",'Блок 1'!AF201)","v":""},{"$f":"IF('Блок 1'!AG201=\"\",\"\",'Блок 1'!AG201)","v":""},{"$f":"IF('Блок 1'!AH201=\"\",\"\",'Блок 1'!AH201)","v":""},{"$f":"IF('Блок 1'!AI201=\"\",\"\",'Блок 1'!AI201)","v":""},{"$f":"IF('Блок 1'!AJ201=\"\",\"\",'Блок 1'!AJ201)","v":""},{"$f":"IF('Блок 1'!AK201=\"\",\"\",'Блок 1'!AK201)","v":""},{"$f":"IF('Блок 1'!AL201=\"\",\"\",'Блок 1'!AL201)","v":""},{"$f":"IF('Блок 1'!AM201=\"\",\"\",'Блок 1'!AM201)","v":""},{"$f":"IF('Блок 1'!AN201=\"\",\"\",'Блок 1'!AN201)","v":""},{"$f":"IF('Блок 1'!AO201=\"\",\"\",'Блок 1'!AO201)","v":""},{"$f":"IF('Блок 1'!AP201=\"\",\"\",'Блок 1'!AP201)","v":""},{"$f":"IF('Блок 1'!AQ201=\"\",\"\",'Блок 1'!AQ201)","v":""},{"$f":"IF('Блок 1'!AR201=\"\",\"\",'Блок 1'!AR201)","v":""},{"$f":"IF('Блок 1'!AS201=\"\",\"\",'Блок 1'!AS201)","v":""},{"$f":"IF('Блок 1'!AT201=\"\",\"\",'Блок 1'!AT201)","v":""},{"$f":"IF('Блок 1'!AU201=\"\",\"\",'Блок 1'!AU201)","v":""},{"$f":"IF('Блок 1'!AV201=\"\",\"\",'Блок 1'!AV201)","v":""},{"$f":"IF('Блок 1'!AW201=\"\",\"\",'Блок 1'!AW201)","v":""},{"$f":"IF('Блок 1'!AX201=\"\",\"\",'Блок 1'!AX201)","v":""},{"$f":"IF('Блок 1'!AY201=\"\",\"\",'Блок 1'!AY201)","v":""},{"$f":"IF('Блок 1'!AZ201=\"\",\"\",'Блок 1'!AZ201)","v":""},{"$f":"IF('Блок 1'!BA201=\"\",\"\",'Блок 1'!BA201)","v":""},{"$f":"IF('Блок 1'!BB201=\"\",\"\",'Блок 1'!BB201)","v":""},{"$f":"IF('Блок 1'!BC201=\"\",\"\",'Блок 1'!BC201)","v":""},{"$f":"IF('Блок 1'!BD201=\"\",\"\",'Блок 1'!BD201)","v":""},{"$f":"IF('Блок 1'!BE201=\"\",\"\",'Блок 1'!BE201)","v":""},{"$f":"IF('Блок 1'!BF201=\"\",\"\",'Блок 1'!BF201)","v":""},{"$f":"IF('Блок 1'!BG201=\"\",\"\",'Блок 1'!BG201)","v":""},{"$f":"IF('Блок 1'!BH201=\"\",\"\",'Блок 1'!BH201)","v":""}]
[null,{"$f":"IF('Блок 1'!B202=\"\",\"\",'Блок 1'!B202)","v":""},{"$f":"IF('Блок 1'!C202=\"\",\"\",'Блок 1'!C202)","v":""},{"$f":"IF('Блок 1'!D202=\"\",\"\",'Блок 1'!D202)","v":""},{"$f":"IF('Блок 1'!E202=\"\",\"\",'Блок 1'!E202)","v":""},{"$f":"IF('Блок 1'!F202=\"\",\"\",'Блок 1'!F202)","v":""},{"$f":"IF('Блок 1'!G202=\"\",\"\",'Блок 1'!G202)","v":""},{"$f":"IF('Блок 1'!H202=\"\",\"\",'Блок 1'!H202)","v":""},{"$f":"IF('Блок 1'!I202=\"\",\"\",'Блок 1'!I202)","v":""},{"$f":"IF('Блок 1'!J202=\"\",\"\",'Блок 1'!J202)","v":""},{"$f":"IF('Блок 1'!K202=\"\",\"\",'Блок 1'!K202)","v":""},{"$f":"IF('Блок 1'!L202=\"\",\"\",'Блок 1'!L202)","v":""},{"$f":"IF('Блок 1'!M202=\"\",\"\",'Блок 1'!M202)","v":""},{"$f":"IF('Блок 1'!N202=\"\",\"\",'Блок 1'!N202)","v":""},{"$f":"IF('Блок 1'!O202=\"\",\"\",'Блок 1'!O202)","v":""},{"$f":"IF('Блок 1'!P202=\"\",\"\",'Блок 1'!P202)","v":""},{"$f":"IF('Блок 1'!Q202=\"\",\"\",'Блок 1'!Q202)","v":""},{"$f":"IF('Блок 1'!R202=\"\",\"\",'Блок 1'!R202)","v":""},{"$f":"IF('Блок 1'!S202=\"\",\"\",'Блок 1'!S202)","v":""},{"$f":"IF('Блок 1'!T202=\"\",\"\",'Блок 1'!T202)","v":""},{"$f":"IF('Блок 1'!U202=\"\",\"\",'Блок 1'!U202)","v":""},{"$f":"IF('Блок 1'!V202=\"\",\"\",'Блок 1'!V202)","v":""},{"$f":"IF('Блок 1'!W202=\"\",\"\",'Блок 1'!W202)","v":""},{"$f":"IF('Блок 1'!X202=\"\",\"\",'Блок 1'!X202)","v":""},{"$f":"IF('Блок 1'!Y202=\"\",\"\",'Блок 1'!Y202)","v":""},{"$f":"IF('Блок 1'!Z202=\"\",\"\",'Блок 1'!Z202)","v":""},{"$f":"IF('Блок 1'!AA202=\"\",\"\",'Блок 1'!AA202)","v":""},{"$f":"IF('Блок 1'!AB202=\"\",\"\",'Блок 1'!AB202)","v":""},{"$f":"IF('Блок 1'!AC202=\"\",\"\",'Блок 1'!AC202)","v":""},{"$f":"IF('Блок 1'!AD202=\"\",\"\",'Блок 1'!AD202)","v":""},{"$f":"IF('Блок 1'!AE202=\"\",\"\",'Блок 1'!AE202)","v":""},{"$f":"IF('Блок 1'!AF202=\"\",\"\",'Блок 1'!AF202)","v":""},{"$f":"IF('Блок 1'!AG202=\"\",\"\",'Блок 1'!AG202)","v":""},{"$f":"IF('Блок 1'!AH202=\"\",\"\",'Блок 1'!AH202)","v":""},{"$f":"IF('Блок 1'!AI202=\"\",\"\",'Блок 1'!AI202)","v":""},{"$f":"IF('Блок 1'!AJ202=\"\",\"\",'Блок 1'!AJ202)","v":""},{"$f":"IF('Блок 1'!AK202=\"\",\"\",'Блок 1'!AK202)","v":""},{"$f":"IF('Блок 1'!AL202=\"\",\"\",'Блок 1'!AL202)","v":""},{"$f":"IF('Блок 1'!AM202=\"\",\"\",'Блок 1'!AM202)","v":""},{"$f":"IF('Блок 1'!AN202=\"\",\"\",'Блок 1'!AN202)","v":""},{"$f":"IF('Блок 1'!AO202=\"\",\"\",'Блок 1'!AO202)","v":""},{"$f":"IF('Блок 1'!AP202=\"\",\"\",'Блок 1'!AP202)","v":""},{"$f":"IF('Блок 1'!AQ202=\"\",\"\",'Блок 1'!AQ202)","v":""},{"$f":"IF('Блок 1'!AR202=\"\",\"\",'Блок 1'!AR202)","v":""},{"$f":"IF('Блок 1'!AS202=\"\",\"\",'Блок 1'!AS202)","v":""},{"$f":"IF('Блок 1'!AT202=\"\",\"\",'Блок 1'!AT202)","v":""},{"$f":"IF('Блок 1'!AU202=\"\",\"\",'Блок 1'!AU202)","v":""},{"$f":"IF('Блок 1'!AV202=\"\",\"\",'Блок 1'!AV202)","v":""},{"$f":"IF('Блок 1'!AW202=\"\",\"\",'Блок 1'!AW202)","v":""},{"$f":"IF('Блок 1'!AX202=\"\",\"\",'Блок 1'!AX202)","v":""},{"$f":"IF('Блок 1'!AY202=\"\",\"\",'Блок 1'!AY202)","v":""},{"$f":"IF('Блок 1'!AZ202=\"\",\"\",'Блок 1'!AZ202)","v":""},{"$f":"IF('Блок 1'!BA202=\"\",\"\",'Блок 1'!BA202)","v":""},{"$f":"IF('Блок 1'!BB202=\"\",\"\",'Блок 1'!BB202)","v":""},{"$f":"IF('Блок 1'!BC202=\"\",\"\",'Блок 1'!BC202)","v":""},{"$f":"IF('Блок 1'!BD202=\"\",\"\",'Блок 1'!BD202)","v":""},{"$f":"IF('Блок 1'!BE202=\"\",\"\",'Блок 1'!BE202)","v":""},{"$f":"IF('Блок 1'!BF202=\"\",\"\",'Блок 1'!BF202)","v":""},{"$f":"IF('Блок 1'!BG202=\"\",\"\",'Блок 1'!BG202)","v":""},{"$f":"IF('Блок 1'!BH202=\"\",\"\",'Блок 1'!BH202)","v":""}]
[null,{"$f":"IF('Блок 1'!B203=\"\",\"\",'Блок 1'!B203)","v":""},{"$f":"IF('Блок 1'!C203=\"\",\"\",'Блок 1'!C203)","v":""},{"$f":"IF('Блок 1'!D203=\"\",\"\",'Блок 1'!D203)","v":""},{"$f":"IF('Блок 1'!E203=\"\",\"\",'Блок 1'!E203)","v":""},{"$f":"IF('Блок 1'!F203=\"\",\"\",'Блок 1'!F203)","v":""},{"$f":"IF('Блок 1'!G203=\"\",\"\",'Блок 1'!G203)","v":""},{"$f":"IF('Блок 1'!H203=\"\",\"\",'Блок 1'!H203)","v":""},{"$f":"IF('Блок 1'!I203=\"\",\"\",'Блок 1'!I203)","v":""},{"$f":"IF('Блок 1'!J203=\"\",\"\",'Блок 1'!J203)","v":""},{"$f":"IF('Блок 1'!K203=\"\",\"\",'Блок 1'!K203)","v":""},{"$f":"IF('Блок 1'!L203=\"\",\"\",'Блок 1'!L203)","v":""},{"$f":"IF('Блок 1'!M203=\"\",\"\",'Блок 1'!M203)","v":""},{"$f":"IF('Блок 1'!N203=\"\",\"\",'Блок 1'!N203)","v":""},{"$f":"IF('Блок 1'!O203=\"\",\"\",'Блок 1'!O203)","v":""},{"$f":"IF('Блок 1'!P203=\"\",\"\",'Блок 1'!P203)","v":""},{"$f":"IF('Блок 1'!Q203=\"\",\"\",'Блок 1'!Q203)","v":""},{"$f":"IF('Блок 1'!R203=\"\",\"\",'Блок 1'!R203)","v":""},{"$f":"IF('Блок 1'!S203=\"\",\"\",'Блок 1'!S203)","v":""},{"$f":"IF('Блок 1'!T203=\"\",\"\",'Блок 1'!T203)","v":""},{"$f":"IF('Блок 1'!U203=\"\",\"\",'Блок 1'!U203)","v":""},{"$f":"IF('Блок 1'!V203=\"\",\"\",'Блок 1'!V203)","v":""},{"$f":"IF('Блок 1'!W203=\"\",\"\",'Блок 1'!W203)","v":""},{"$f":"IF('Блок 1'!X203=\"\",\"\",'Блок 1'!X203)","v":""},{"$f":"IF('Блок 1'!Y203=\"\",\"\",'Блок 1'!Y203)","v":""},{"$f":"IF('Блок 1'!Z203=\"\",\"\",'Блок 1'!Z203)","v":""},{"$f":"IF('Блок 1'!AA203=\"\",\"\",'Блок 1'!AA203)","v":""},{"$f":"IF('Блок 1'!AB203=\"\",\"\",'Блок 1'!AB203)","v":""},{"$f":"IF('Блок 1'!AC203=\"\",\"\",'Блок 1'!AC203)","v":""},{"$f":"IF('Блок 1'!AD203=\"\",\"\",'Блок 1'!AD203)","v":""},{"$f":"IF('Блок 1'!AE203=\"\",\"\",'Блок 1'!AE203)","v":""},{"$f":"IF('Блок 1'!AF203=\"\",\"\",'Блок 1'!AF203)","v":""},{"$f":"IF('Блок 1'!AG203=\"\",\"\",'Блок 1'!AG203)","v":""},{"$f":"IF('Блок 1'!AH203=\"\",\"\",'Блок 1'!AH203)","v":""},{"$f":"IF('Блок 1'!AI203=\"\",\"\",'Блок 1'!AI203)","v":""},{"$f":"IF('Блок 1'!AJ203=\"\",\"\",'Блок 1'!AJ203)","v":""},{"$f":"IF('Блок 1'!AK203=\"\",\"\",'Блок 1'!AK203)","v":""},{"$f":"IF('Блок 1'!AL203=\"\",\"\",'Блок 1'!AL203)","v":""},{"$f":"IF('Блок 1'!AM203=\"\",\"\",'Блок 1'!AM203)","v":""},{"$f":"IF('Блок 1'!AN203=\"\",\"\",'Блок 1'!AN203)","v":""},{"$f":"IF('Блок 1'!AO203=\"\",\"\",'Блок 1'!AO203)","v":""},{"$f":"IF('Блок 1'!AP203=\"\",\"\",'Блок 1'!AP203)","v":""},{"$f":"IF('Блок 1'!AQ203=\"\",\"\",'Блок 1'!AQ203)","v":""},{"$f":"IF('Блок 1'!AR203=\"\",\"\",'Блок 1'!AR203)","v":""},{"$f":"IF('Блок 1'!AS203=\"\",\"\",'Блок 1'!AS203)","v":""},{"$f":"IF('Блок 1'!AT203=\"\",\"\",'Блок 1'!AT203)","v":""},{"$f":"IF('Блок 1'!AU203=\"\",\"\",'Блок 1'!AU203)","v":""},{"$f":"IF('Блок 1'!AV203=\"\",\"\",'Блок 1'!AV203)","v":""},{"$f":"IF('Блок 1'!AW203=\"\",\"\",'Блок 1'!AW203)","v":""},{"$f":"IF('Блок 1'!AX203=\"\",\"\",'Блок 1'!AX203)","v":""},{"$f":"IF('Блок 1'!AY203=\"\",\"\",'Блок 1'!AY203)","v":""},{"$f":"IF('Блок 1'!AZ203=\"\",\"\",'Блок 1'!AZ203)","v":""},{"$f":"IF('Блок 1'!BA203=\"\",\"\",'Блок 1'!BA203)","v":""},{"$f":"IF('Блок 1'!BB203=\"\",\"\",'Блок 1'!BB203)","v":""},{"$f":"IF('Блок 1'!BC203=\"\",\"\",'Блок 1'!BC203)","v":""},{"$f":"IF('Блок 1'!BD203=\"\",\"\",'Блок 1'!BD203)","v":""},{"$f":"IF('Блок 1'!BE203=\"\",\"\",'Блок 1'!BE203)","v":""},{"$f":"IF('Блок 1'!BF203=\"\",\"\",'Блок 1'!BF203)","v":""},{"$f":"IF('Блок 1'!BG203=\"\",\"\",'Блок 1'!BG203)","v":""},{"$f":"IF('Блок 1'!BH203=\"\",\"\",'Блок 1'!BH203)","v":""}]
[null,{"$f":"IF('Блок 1'!B204=\"\",\"\",'Блок 1'!B204)","v":""},{"$f":"IF('Блок 1'!C204=\"\",\"\",'Блок 1'!C204)","v":""},{"$f":"IF('Блок 1'!D204=\"\",\"\",'Блок 1'!D204)","v":""},{"$f":"IF('Блок 1'!E204=\"\",\"\",'Блок 1'!E204)","v":""},{"$f":"IF('Блок 1'!F204=\"\",\"\",'Блок 1'!F204)","v":""},{"$f":"IF('Блок 1'!G204=\"\",\"\",'Блок 1'!G204)","v":""},{"$f":"IF('Блок 1'!H204=\"\",\"\",'Блок 1'!H204)","v":""},{"$f":"IF('Блок 1'!I204=\"\",\"\",'Блок 1'!I204)","v":""},{"$f":"IF('Блок 1'!J204=\"\",\"\",'Блок 1'!J204)","v":""},{"$f":"IF('Блок 1'!K204=\"\",\"\",'Блок 1'!K204)","v":""},{"$f":"IF('Блок 1'!L204=\"\",\"\",'Блок 1'!L204)","v":""},{"$f":"IF('Блок 1'!M204=\"\",\"\",'Блок 1'!M204)","v":""},{"$f":"IF('Блок 1'!N204=\"\",\"\",'Блок 1'!N204)","v":""},{"$f":"IF('Блок 1'!O204=\"\",\"\",'Блок 1'!O204)","v":""},{"$f":"IF('Блок 1'!P204=\"\",\"\",'Блок 1'!P204)","v":""},{"$f":"IF('Блок 1'!Q204=\"\",\"\",'Блок 1'!Q204)","v":""},{"$f":"IF('Блок 1'!R204=\"\",\"\",'Блок 1'!R204)","v":""},{"$f":"IF('Блок 1'!S204=\"\",\"\",'Блок 1'!S204)","v":""},{"$f":"IF('Блок 1'!T204=\"\",\"\",'Блок 1'!T204)","v":""},{"$f":"IF('Блок 1'!U204=\"\",\"\",'Блок 1'!U204)","v":""},{"$f":"IF('Блок 1'!V204=\"\",\"\",'Блок 1'!V204)","v":""},{"$f":"IF('Блок 1'!W204=\"\",\"\",'Блок 1'!W204)","v":""},{"$f":"IF('Блок 1'!X204=\"\",\"\",'Блок 1'!X204)","v":""},{"$f":"IF('Блок 1'!Y204=\"\",\"\",'Блок 1'!Y204)","v":""},{"$f":"IF('Блок 1'!Z204=\"\",\"\",'Блок 1'!Z204)","v":""},{"$f":"IF('Блок 1'!AA204=\"\",\"\",'Блок 1'!AA204)","v":""},{"$f":"IF('Блок 1'!AB204=\"\",\"\",'Блок 1'!AB204)","v":""},{"$f":"IF('Блок 1'!AC204=\"\",\"\",'Блок 1'!AC204)","v":""},{"$f":"IF('Блок 1'!AD204=\"\",\"\",'Блок 1'!AD204)","v":""},{"$f":"IF('Блок 1'!AE204=\"\",\"\",'Блок 1'!AE204)","v":""},{"$f":"IF('Блок 1'!AF204=\"\",\"\",'Блок 1'!AF204)","v":""},{"$f":"IF('Блок 1'!AG204=\"\",\"\",'Блок 1'!AG204)","v":""},{"$f":"IF('Блок 1'!AH204=\"\",\"\",'Блок 1'!AH204)","v":""},{"$f":"IF('Блок 1'!AI204=\"\",\"\",'Блок 1'!AI204)","v":""},{"$f":"IF('Блок 1'!AJ204=\"\",\"\",'Блок 1'!AJ204)","v":""},{"$f":"IF('Блок 1'!AK204=\"\",\"\",'Блок 1'!AK204)","v":""},{"$f":"IF('Блок 1'!AL204=\"\",\"\",'Блок 1'!AL204)","v":""},{"$f":"IF('Блок 1'!AM204=\"\",\"\",'Блок 1'!AM204)","v":""},{"$f":"IF('Блок 1'!AN204=\"\",\"\",'Блок 1'!AN204)","v":""},{"$f":"IF('Блок 1'!AO204=\"\",\"\",'Блок 1'!AO204)","v":""},{"$f":"IF('Блок 1'!AP204=\"\",\"\",'Блок 1'!AP204)","v":""},{"$f":"IF('Блок 1'!AQ204=\"\",\"\",'Блок 1'!AQ204)","v":""},{"$f":"IF('Блок 1'!AR204=\"\",\"\",'Блок 1'!AR204)","v":""},{"$f":"IF('Блок 1'!AS204=\"\",\"\",'Блок 1'!AS204)","v":""},{"$f":"IF('Блок 1'!AT204=\"\",\"\",'Блок 1'!AT204)","v":""},{"$f":"IF('Блок 1'!AU204=\"\",\"\",'Блок 1'!AU204)","v":""},{"$f":"IF('Блок 1'!AV204=\"\",\"\",'Блок 1'!AV204)","v":""},{"$f":"IF('Блок 1'!AW204=\"\",\"\",'Блок 1'!AW204)","v":""},{"$f":"IF('Блок 1'!AX204=\"\",\"\",'Блок 1'!AX204)","v":""},{"$f":"IF('Блок 1'!AY204=\"\",\"\",'Блок 1'!AY204)","v":""},{"$f":"IF('Блок 1'!AZ204=\"\",\"\",'Блок 1'!AZ204)","v":""},{"$f":"IF('Блок 1'!BA204=\"\",\"\",'Блок 1'!BA204)","v":""},{"$f":"IF('Блок 1'!BB204=\"\",\"\",'Блок 1'!BB204)","v":""},{"$f":"IF('Блок 1'!BC204=\"\",\"\",'Блок 1'!BC204)","v":""},{"$f":"IF('Блок 1'!BD204=\"\",\"\",'Блок 1'!BD204)","v":""},{"$f":"IF('Блок 1'!BE204=\"\",\"\",'Блок 1'!BE204)","v":""},{"$f":"IF('Блок 1'!BF204=\"\",\"\",'Блок 1'!BF204)","v":""},{"$f":"IF('Блок 1'!BG204=\"\",\"\",'Блок 1'!BG204)","v":""},{"$f":"IF('Блок 1'!BH204=\"\",\"\",'Блок 1'!BH204)","v":""}]
[null,{"$f":"IF('Блок 1'!B205=\"\",\"\",'Блок 1'!B205)","v":""},{"$f":"IF('Блок 1'!C205=\"\",\"\",'Блок 1'!C205)","v":""},{"$f":"IF('Блок 1'!D205=\"\",\"\",'Блок 1'!D205)","v":""},{"$f":"IF('Блок 1'!E205=\"\",\"\",'Блок 1'!E205)","v":""},{"$f":"IF('Блок 1'!F205=\"\",\"\",'Блок 1'!F205)","v":""},{"$f":"IF('Блок 1'!G205=\"\",\"\",'Блок 1'!G205)","v":""},{"$f":"IF('Блок 1'!H205=\"\",\"\",'Блок 1'!H205)","v":""},{"$f":"IF('Блок 1'!I205=\"\",\"\",'Блок 1'!I205)","v":""},{"$f":"IF('Блок 1'!J205=\"\",\"\",'Блок 1'!J205)","v":""},{"$f":"IF('Блок 1'!K205=\"\",\"\",'Блок 1'!K205)","v":""},{"$f":"IF('Блок 1'!L205=\"\",\"\",'Блок 1'!L205)","v":""},{"$f":"IF('Блок 1'!M205=\"\",\"\",'Блок 1'!M205)","v":""},{"$f":"IF('Блок 1'!N205=\"\",\"\",'Блок 1'!N205)","v":""},{"$f":"IF('Блок 1'!O205=\"\",\"\",'Блок 1'!O205)","v":""},{"$f":"IF('Блок 1'!P205=\"\",\"\",'Блок 1'!P205)","v":""},{"$f":"IF('Блок 1'!Q205=\"\",\"\",'Блок 1'!Q205)","v":""},{"$f":"IF('Блок 1'!R205=\"\",\"\",'Блок 1'!R205)","v":""},{"$f":"IF('Блок 1'!S205=\"\",\"\",'Блок 1'!S205)","v":""},{"$f":"IF('Блок 1'!T205=\"\",\"\",'Блок 1'!T205)","v":""},{"$f":"IF('Блок 1'!U205=\"\",\"\",'Блок 1'!U205)","v":""},{"$f":"IF('Блок 1'!V205=\"\",\"\",'Блок 1'!V205)","v":""},{"$f":"IF('Блок 1'!W205=\"\",\"\",'Блок 1'!W205)","v":""},{"$f":"IF('Блок 1'!X205=\"\",\"\",'Блок 1'!X205)","v":""},{"$f":"IF('Блок 1'!Y205=\"\",\"\",'Блок 1'!Y205)","v":""},{"$f":"IF('Блок 1'!Z205=\"\",\"\",'Блок 1'!Z205)","v":""},{"$f":"IF('Блок 1'!AA205=\"\",\"\",'Блок 1'!AA205)","v":""},{"$f":"IF('Блок 1'!AB205=\"\",\"\",'Блок 1'!AB205)","v":""},{"$f":"IF('Блок 1'!AC205=\"\",\"\",'Блок 1'!AC205)","v":""},{"$f":"IF('Блок 1'!AD205=\"\",\"\",'Блок 1'!AD205)","v":""},{"$f":"IF('Блок 1'!AE205=\"\",\"\",'Блок 1'!AE205)","v":""},{"$f":"IF('Блок 1'!AF205=\"\",\"\",'Блок 1'!AF205)","v":""},{"$f":"IF('Блок 1'!AG205=\"\",\"\",'Блок 1'!AG205)","v":""},{"$f":"IF('Блок 1'!AH205=\"\",\"\",'Блок 1'!AH205)","v":""},{"$f":"IF('Блок 1'!AI205=\"\",\"\",'Блок 1'!AI205)","v":""},{"$f":"IF('Блок 1'!AJ205=\"\",\"\",'Блок 1'!AJ205)","v":""},{"$f":"IF('Блок 1'!AK205=\"\",\"\",'Блок 1'!AK205)","v":""},{"$f":"IF('Блок 1'!AL205=\"\",\"\",'Блок 1'!AL205)","v":""},{"$f":"IF('Блок 1'!AM205=\"\",\"\",'Блок 1'!AM205)","v":""},{"$f":"IF('Блок 1'!AN205=\"\",\"\",'Блок 1'!AN205)","v":""},{"$f":"IF('Блок 1'!AO205=\"\",\"\",'Блок 1'!AO205)","v":""},{"$f":"IF('Блок 1'!AP205=\"\",\"\",'Блок 1'!AP205)","v":""},{"$f":"IF('Блок 1'!AQ205=\"\",\"\",'Блок 1'!AQ205)","v":""},{"$f":"IF('Блок 1'!AR205=\"\",\"\",'Блок 1'!AR205)","v":""},{"$f":"IF('Блок 1'!AS205=\"\",\"\",'Блок 1'!AS205)","v":""},{"$f":"IF('Блок 1'!AT205=\"\",\"\",'Блок 1'!AT205)","v":""},{"$f":"IF('Блок 1'!AU205=\"\",\"\",'Блок 1'!AU205)","v":""},{"$f":"IF('Блок 1'!AV205=\"\",\"\",'Блок 1'!AV205)","v":""},{"$f":"IF('Блок 1'!AW205=\"\",\"\",'Блок 1'!AW205)","v":""},{"$f":"IF('Блок 1'!AX205=\"\",\"\",'Блок 1'!AX205)","v":""},{"$f":"IF('Блок 1'!AY205=\"\",\"\",'Блок 1'!AY205)","v":""},{"$f":"IF('Блок 1'!AZ205=\"\",\"\",'Блок 1'!AZ205)","v":""},{"$f":"IF('Блок 1'!BA205=\"\",\"\",'Блок 1'!BA205)","v":""},{"$f":"IF('Блок 1'!BB205=\"\",\"\",'Блок 1'!BB205)","v":""},{"$f":"IF('Блок 1'!BC205=\"\",\"\",'Блок 1'!BC205)","v":""},{"$f":"IF('Блок 1'!BD205=\"\",\"\",'Блок 1'!BD205)","v":""},{"$f":"IF('Блок 1'!BE205=\"\",\"\",'Блок 1'!BE205)","v":""},{"$f":"IF('Блок 1'!BF205=\"\",\"\",'Блок 1'!BF205)","v":""},{"$f":"IF('Блок 1'!BG205=\"\",\"\",'Блок 1'!BG205)","v":""},{"$f":"IF('Блок 1'!BH205=\"\",\"\",'Блок 1'!BH205)","v":""}]
[null,{"$f":"IF('Блок 1'!B206=\"\",\"\",'Блок 1'!B206)","v":""},{"$f":"IF('Блок 1'!C206=\"\",\"\",'Блок 1'!C206)","v":""},{"$f":"IF('Блок 1'!D206=\"\",\"\",'Блок 1'!D206)","v":""},{"$f":"IF('Блок 1'!E206=\"\",\"\",'Блок 1'!E206)","v":""},{"$f":"IF('Блок 1'!F206=\"\",\"\",'Блок 1'!F206)","v":""},{"$f":"IF('Блок 1'!G206=\"\",\"\",'Блок 1'!G206)","v":""},{"$f":"IF('Блок 1'!H206=\"\",\"\",'Блок 1'!H206)","v":""},{"$f":"IF('Блок 1'!I206=\"\",\"\",'Блок 1'!I206)","v":""},{"$f":"IF('Блок 1'!J206=\"\",\"\",'Блок 1'!J206)","v":""},{"$f":"IF('Блок 1'!K206=\"\",\"\",'Блок 1'!K206)","v":""},{"$f":"IF('Блок 1'!L206=\"\",\"\",'Блок 1'!L206)","v":""},{"$f":"IF('Блок 1'!M206=\"\",\"\",'Блок 1'!M206)","v":""},{"$f":"IF('Блок 1'!N206=\"\",\"\",'Блок 1'!N206)","v":""},{"$f":"IF('Блок 1'!O206=\"\",\"\",'Блок 1'!O206)","v":""},{"$f":"IF('Блок 1'!P206=\"\",\"\",'Блок 1'!P206)","v":""},{"$f":"IF('Блок 1'!Q206=\"\",\"\",'Блок 1'!Q206)","v":""},{"$f":"IF('Блок 1'!R206=\"\",\"\",'Блок 1'!R206)","v":""},{"$f":"IF('Блок 1'!S206=\"\",\"\",'Блок 1'!S206)","v":""},{"$f":"IF('Блок 1'!T206=\"\",\"\",'Блок 1'!T206)","v":""},{"$f":"IF('Блок 1'!U206=\"\",\"\",'Блок 1'!U206)","v":""},{"$f":"IF('Блок 1'!V206=\"\",\"\",'Блок 1'!V206)","v":""},{"$f":"IF('Блок 1'!W206=\"\",\"\",'Блок 1'!W206)","v":""},{"$f":"IF('Блок 1'!X206=\"\",\"\",'Блок 1'!X206)","v":""},{"$f":"IF('Блок 1'!Y206=\"\",\"\",'Блок 1'!Y206)","v":""},{"$f":"IF('Блок 1'!Z206=\"\",\"\",'Блок 1'!Z206)","v":""},{"$f":"IF('Блок 1'!AA206=\"\",\"\",'Блок 1'!AA206)","v":""},{"$f":"IF('Блок 1'!AB206=\"\",\"\",'Блок 1'!AB206)","v":""},{"$f":"IF('Блок 1'!AC206=\"\",\"\",'Блок 1'!AC206)","v":""},{"$f":"IF('Блок 1'!AD206=\"\",\"\",'Блок 1'!AD206)","v":""},{"$f":"IF('Блок 1'!AE206=\"\",\"\",'Блок 1'!AE206)","v":""},{"$f":"IF('Блок 1'!AF206=\"\",\"\",'Блок 1'!AF206)","v":""},{"$f":"IF('Блок 1'!AG206=\"\",\"\",'Блок 1'!AG206)","v":""},{"$f":"IF('Блок 1'!AH206=\"\",\"\",'Блок 1'!AH206)","v":""},{"$f":"IF('Блок 1'!AI206=\"\",\"\",'Блок 1'!AI206)","v":""},{"$f":"IF('Блок 1'!AJ206=\"\",\"\",'Блок 1'!AJ206)","v":""},{"$f":"IF('Блок 1'!AK206=\"\",\"\",'Блок 1'!AK206)","v":""},{"$f":"IF('Блок 1'!AL206=\"\",\"\",'Блок 1'!AL206)","v":""},{"$f":"IF('Блок 1'!AM206=\"\",\"\",'Блок 1'!AM206)","v":""},{"$f":"IF('Блок 1'!AN206=\"\",\"\",'Блок 1'!AN206)","v":""},{"$f":"IF('Блок 1'!AO206=\"\",\"\",'Блок 1'!AO206)","v":""},{"$f":"IF('Блок 1'!AP206=\"\",\"\",'Блок 1'!AP206)","v":""},{"$f":"IF('Блок 1'!AQ206=\"\",\"\",'Блок 1'!AQ206)","v":""},{"$f":"IF('Блок 1'!AR206=\"\",\"\",'Блок 1'!AR206)","v":""},{"$f":"IF('Блок 1'!AS206=\"\",\"\",'Блок 1'!AS206)","v":""},{"$f":"IF('Блок 1'!AT206=\"\",\"\",'Блок 1'!AT206)","v":""},{"$f":"IF('Блок 1'!AU206=\"\",\"\",'Блок 1'!AU206)","v":""},{"$f":"IF('Блок 1'!AV206=\"\",\"\",'Блок 1'!AV206)","v":""},{"$f":"IF('Блок 1'!AW206=\"\",\"\",'Блок 1'!AW206)","v":""},{"$f":"IF('Блок 1'!AX206=\"\",\"\",'Блок 1'!AX206)","v":""},{"$f":"IF('Блок 1'!AY206=\"\",\"\",'Блок 1'!AY206)","v":""},{"$f":"IF('Блок 1'!AZ206=\"\",\"\",'Блок 1'!AZ206)","v":""},{"$f":"IF('Блок 1'!BA206=\"\",\"\",'Блок 1'!BA206)","v":""},{"$f":"IF('Блок 1'!BB206=\"\",\"\",'Блок 1'!BB206)","v":""},{"$f":"IF('Блок 1'!BC206=\"\",\"\",'Блок 1'!BC206)","v":""},{"$f":"IF('Блок 1'!BD206=\"\",\"\",'Блок 1'!BD206)","v":""},{"$f":"IF('Блок 1'!BE206=\"\",\"\",'Блок 1'!BE206)","v":""},{"$f":"IF('Блок 1'!BF206=\"\",\"\",'Блок 1'!BF206)","v":""},{"$f":"IF('Блок 1'!BG206=\"\",\"\",'Блок 1'!BG206)","v":""},{"$f":"IF('Блок 1'!BH206=\"\",\"\",'Блок 1'!BH206)","v":""}]
[null,{"$f":"IF('Блок 1'!B207=\"\",\"\",'Блок 1'!B207)","v":""},{"$f":"IF('Блок 1'!C207=\"\",\"\",'Блок 1'!C207)","v":""},null,null,null,null,null,null,null,null,null,null,null,null,null,null,null,null,null,null,null,{"$f":"IF('Блок 1'!W207=\"\",\"\",'Блок 1'!W207)","v":""},{"$f":"IF('Блок 1'!X207=\"\",\"\",'Блок 1'!X207)","v":""},{"$f":"IF('Блок 1'!Y207=\"\",\"\",'Блок 1'!Y207)","v":""},{"$f":"IF('Блок 1'!Z207=\"\",\"\",'Блок 1'!Z207)","v":""},{"$f":"IF('Блок 1'!AA207=\"\",\"\",'Блок 1'!AA207)","v":""},{"$f":"IF('Блок 1'!AB207=\"\",\"\",'Блок 1'!AB207)","v":0},{"$f":"IF('Блок 1'!AC207=\"\",\"\",'Блок 1'!AC207)","v":0},{"$f":"IF('Блок 1'!AD207=\"\",\"\",'Блок 1'!AD207)","v":""},{"$f":"IF('Блок 1'!AE207=\"\",\"\",'Блок 1'!AE207)","v":0},{"$f":"IF('Блок 1'!AF207=\"\",\"\",'Блок 1'!AF207)","v":0},{"$f":"IF('Блок 1'!AG207=\"\",\"\",'Блок 1'!AG207)","v":0},{"$f":"IF('Блок 1'!AH207=\"\",\"\",'Блок 1'!AH207)","v":""},{"$f":"IF('Блок 1'!AI207=\"\",\"\",'Блок 1'!AI207)","v":{"$error":"#REF!"}},{"$f":"IF('Блок 1'!AJ207=\"\",\"\",'Блок 1'!AJ207)","v":{"$error":"#REF!"}},{"$f":"IF('Блок 1'!AK207=\"\",\"\",'Блок 1'!AK207)","v":""},{"$f":"IF('Блок 1'!AL207=\"\",\"\",'Блок 1'!AL207)","v":""},{"$f":"IF('Блок 1'!AM207=\"\",\"\",'Блок 1'!AM207)","v":""},{"$f":"IF('Блок 1'!AN207=\"\",\"\",'Блок 1'!AN207)","v":""},{"$f":"IF('Блок 1'!AO207=\"\",\"\",'Блок 1'!AO207)","v":""},{"$f":"IF('Блок 1'!AP207=\"\",\"\",'Блок 1'!AP207)","v":""},{"$f":"IF('Блок 1'!AQ207=\"\",\"\",'Блок 1'!AQ207)","v":""},{"$f":"IF('Блок 1'!AR207=\"\",\"\",'Блок 1'!AR207)","v":""},{"$f":"IF('Блок 1'!AS207=\"\",\"\",'Блок 1'!AS207)","v":""},{"$f":"IF('Блок 1'!AT207=\"\",\"\",'Блок 1'!AT207)","v":""},{"$f":"IF('Блок 1'!AU207=\"\",\"\",'Блок 1'!AU207)","v":""},{"$f":"IF('Блок 1'!AV207=\"\",\"\",'Блок 1'!AV207)","v":""},{"$f":"IF('Блок 1'!AW207=\"\",\"\",'Блок 1'!AW207)","v":""},{"$f":"IF('Блок 1'!AX207=\"\",\"\",'Блок 1'!AX207)","v":""},{"$f":"IF('Блок 1'!AY207=\"\",\"\",'Блок 1'!AY207)","v":""},{"$f":"IF('Блок 1'!AZ207=\"\",\"\",'Блок 1'!AZ207)","v":""},{"$f":"IF('Блок 1'!BA207=\"\",\"\",'Блок 1'!BA207)","v":""},{"$f":"IF('Блок 1'!BB207=\"\",\"\",'Блок 1'!BB207)","v":""},{"$f":"IF('Блок 1'!BC207=\"\",\"\",'Блок 1'!BC207)","v":""},{"$f":"IF('Блок 1'!BD207=\"\",\"\",'Блок 1'!BD207)","v":""},{"$f":"IF('Блок 1'!BE207=\"\",\"\",'Блок 1'!BE207)","v":""},{"$f":"IF('Блок 1'!BF207=\"\",\"\",'Блок 1'!BF207)","v":""},{"$f":"IF('Блок 1'!BG207=\"\",\"\",'Блок 1'!BG207)","v":""},{"$f":"IF('Блок 1'!BH207=\"\",\"\",'Блок 1'!BH207)","v":""}]
[null,{"$f":"IF('Блок 1'!B208=\"\",\"\",'Блок 1'!B208)","v":""},{"$f":"IF('Блок 1'!C208=\"\",\"\",'Блок 1'!C208)","v":""},{"$f":"IF('Блок 1'!D208=\"\",\"\",'Блок 1'!D208)","v":""},{"$f":"IF('Блок 1'!E208=\"\",\"\",'Блок 1'!E208)","v":""},{"$f":"IF('Блок 1'!F208=\"\",\"\",'Блок 1'!F208)","v":""},{"$f":"IF('Блок 1'!G208=\"\",\"\",'Блок 1'!G208)","v":""},{"$f":"IF('Блок 1'!H208=\"\",\"\",'Блок 1'!H208)","v":""},{"$f":"IF('Блок 1'!I208=\"\",\"\",'Блок 1'!I208)","v":""},{"$f":"IF('Блок 1'!J208=\"\",\"\",'Блок 1'!J208)","v":""},{"$f":"IF('Блок 1'!K208=\"\",\"\",'Блок 1'!K208)","v":""},{"$f":"IF('Блок 1'!L208=\"\",\"\",'Блок 1'!L208)","v":""},{"$f":"IF('Блок 1'!M208=\"\",\"\",'Блок 1'!M208)","v":""},{"$f":"IF('Блок 1'!N208=\"\",\"\",'Блок 1'!N208)","v":""},{"$f":"IF('Блок 1'!O208=\"\",\"\",'Блок 1'!O208)","v":""},{"$f":"IF('Блок 1'!P208=\"\",\"\",'Блок 1'!P208)","v":""},{"$f":"IF('Блок 1'!Q208=\"\",\"\",'Блок 1'!Q208)","v":""},{"$f":"IF('Блок 1'!R208=\"\",\"\",'Блок 1'!R208)","v":""},{"$f":"IF('Блок 1'!S208=\"\",\"\",'Блок 1'!S208)","v":""},{"$f":"IF('Блок 1'!T208=\"\",\"\",'Блок 1'!T208)","v":""},{"$f":"IF('Блок 1'!U208=\"\",\"\",'Блок 1'!U208)","v":""},{"$f":"IF('Блок 1'!V208=\"\",\"\",'Блок 1'!V208)","v":""},{"$f":"IF('Блок 1'!W208=\"\",\"\",'Блок 1'!W208)","v":""},{"$f":"IF('Блок 1'!X208=\"\",\"\",'Блок 1'!X208)","v":""},{"$f":"IF('Блок 1'!Y208=\"\",\"\",'Блок 1'!Y208)","v":""},{"$f":"IF('Блок 1'!Z208=\"\",\"\",'Блок 1'!Z208)","v":""},{"$f":"IF('Блок 1'!AA208=\"\",\"\",'Блок 1'!AA208)","v":""},{"$f":"IF('Блок 1'!AB208=\"\",\"\",'Блок 1'!AB208)","v":0},{"$f":"IF('Блок 1'!AC208=\"\",\"\",'Блок 1'!AC208)","v":""},{"$f":"IF('Блок 1'!AD208=\"\",\"\",'Блок 1'!AD208)","v":""},{"$f":"IF('Блок 1'!AE208=\"\",\"\",'Блок 1'!AE208)","v":""},{"$f":"IF('Блок 1'!AF208=\"\",\"\",'Блок 1'!AF208)","v":""},{"$f":"IF('Блок 1'!AG208=\"\",\"\",'Блок 1'!AG208)","v":""},{"$f":"IF('Блок 1'!AH208=\"\",\"\",'Блок 1'!AH208)","v":""},{"$f":"IF('Блок 1'!AI208=\"\",\"\",'Блок 1'!AI208)","v":""},{"$f":"IF('Блок 1'!AJ208=\"\",\"\",'Блок 1'!AJ208)","v":""},{"$f":"IF('Блок 1'!AK208=\"\",\"\",'Блок 1'!AK208)","v":""},{"$f":"IF('Блок 1'!AL208=\"\",\"\",'Блок 1'!AL208)","v":""},{"$f":"IF('Блок 1'!AM208=\"\",\"\",'Блок 1'!AM208)","v":""},{"$f":"IF('Блок 1'!AN208=\"\",\"\",'Блок 1'!AN208)","v":""},{"$f":"IF('Блок 1'!AO208=\"\",\"\",'Блок 1'!AO208)","v":""},{"$f":"IF('Блок 1'!AP208=\"\",\"\",'Блок 1'!AP208)","v":""},{"$f":"IF('Блок 1'!AQ208=\"\",\"\",'Блок 1'!AQ208)","v":""},{"$f":"IF('Блок 1'!AR208=\"\",\"\",'Блок 1'!AR208)","v":""},{"$f":"IF('Блок 1'!AS208=\"\",\"\",'Блок 1'!AS208)","v":""},{"$f":"IF('Блок 1'!AT208=\"\",\"\",'Блок 1'!AT208)","v":""},{"$f":"IF('Блок 1'!AU208=\"\",\"\",'Блок 1'!AU208)","v":""},{"$f":"IF('Блок 1'!AV208=\"\",\"\",'Блок 1'!AV208)","v":""},{"$f":"IF('Блок 1'!AW208=\"\",\"\",'Блок 1'!AW208)","v":""},{"$f":"IF('Блок 1'!AX208=\"\",\"\",'Блок 1'!AX208)","v":""},{"$f":"IF('Блок 1'!AY208=\"\",\"\",'Блок 1'!AY208)","v":""},{"$f":"IF('Блок 1'!AZ208=\"\",\"\",'Блок 1'!AZ208)","v":""},{"$f":"IF('Блок 1'!BA208=\"\",\"\",'Блок 1'!BA208)","v":""},{"$f":"IF('Блок 1'!BB208=\"\",\"\",'Блок 1'!BB208)","v":""},{"$f":"IF('Блок 1'!BC208=\"\",\"\",'Блок 1'!BC208)","v":""},{"$f":"IF('Блок 1'!BD208=\"\",\"\",'Блок 1'!BD208)","v":""},{"$f":"IF('Блок 1'!BE208=\"\",\"\",'Блок 1'!BE208)","v":""},{"$f":"IF('Блок 1'!BF208=\"\",\"\",'Блок 1'!BF208)","v":""},{"$f":"IF('Блок 1'!BG208=\"\",\"\",'Блок 1'!BG208)","v":""},{"$f":"IF('Блок 1'!BH208=\"\",\"\",'Блок 1'!BH208)","v":""}]
[null,{"$f":"IF('Блок 2,3'!B9=\"\",\"\",'Блок 2,3'!B9)","v":"Блок 2"},{"$f":"IF('Блок 2,3'!C9=\"\",\"\",'Блок 2,3'!C9)","v":"Практики, в том числе научно-исследовательская работа (НИР)"},null,null,null,null,null,null,null,null,null,null,null,null,null,null,null,null,null,null,null,{"$f":"IF('Блок 2,3'!W9=\"\",\"\",'Блок 2,3'!W9)","v":""},{"$f":"IF('Блок 2,3'!X9=\"\",\"\",'Блок 2,3'!X9)","v":12},{"$f":"IF('Блок 2,3'!Y9=\"\",\"\",'Блок 2,3'!Y9)","v":0},{"$f":"IF('Блок 2,3'!Z9=\"\",\"\",'Блок 2,3'!Z9)","v":0},{"$f":"IF('Блок 2,3'!W9=\"\",\"\",'Блок 2,3'!W9)","v":""},{"$f":"IF('Блок 2,3'!X9=\"\",\"\",'Блок 2,3'!X9)","v":12},{"$f":"IF('Блок 2,3'!Y9=0,\"\",'Блок 2,3'!Y9)","v":""},{"$f":"IF('Блок 2,3'!Z9=0,\"\",'Блок 2,3'!Z9)","v":""},{"$f":"IF('Блок 2,3'!AA9=0,\"\",'Блок 2,3'!AA9)","v":""},{"$f":"IF('Блок 2,3'!AB9=0,\"\",'Блок 2,3'!AB9)","v":""},{"$f":"IF('Блок 2,3'!AC9=0,\"\",'Блок 2,3'!AC9)","v":""},{"$f":"IF('Блок 2,3'!AD9=0,\"\",'Блок 2,3'!AD9)","v":""},{"$f":"IF('Блок 2,3'!AE9=0,\"\",'Блок 2,3'!AE9)","v":""},{"$f":"IF('Блок 2,3'!AF9=0,\"\",'Блок 2,3'!AF9)","v":""},{"$f":"IF('Блок 2,3'!AG9=0,\"\",'Блок 2,3'!AG9)","v":""},{"$f":"IF('Блок 2,3'!AH9=0,\"\",'Блок 2,3'!AH9)","v":""},{"$f":"IF('Блок 2,3'!AI9=0,\"\",'Блок 2,3'!AI9)","v":""},{"$f":"IF('Блок 2,3'!AJ9=0,\"\",'Блок 2,3'!AJ9)","v":""},{"$f":"IF('Блок 2,3'!AK9=0,\"\",'Блок 2,3'!AK9)","v":""},{"$f":"IF('Блок 2,3'!AL9=0,\"\",'Блок 2,3'!AL9)","v":""},{"$f":"IF('Блок 2,3'!AM9=0,\"\",'Блок 2,3'!AM9)","v":""},{"$f":"IF('Блок 2,3'!AN9=0,\"\",'Блок 2,3'!AN9)","v":""},{"$f":"IF('Блок 2,3'!AO9=0,\"\",'Блок 2,3'!AO9)","v":""},{"$f":"IF('Блок 2,3'!AP9=0,\"\",'Блок 2,3'!AP9)","v":""},{"$f":"IF('Блок 2,3'!AQ9=0,\"\",'Блок 2,3'!AQ9)","v":""},{"$f":"IF('Блок 2,3'!AR9=0,\"\",'Блок 2,3'!AR9)","v":""},{"$f":"IF('Блок 2,3'!AS9=0,\"\",'Блок 2,3'!AS9)","v":""},{"$f":"IF('Блок 2,3'!AT9=0,\"\",'Блок 2,3'!AT9)","v":""},{"$f":"IF('Блок 2,3'!AU9=0,\"\",'Блок 2,3'!AU9)","v":""},{"$f":"IF('Блок 2,3'!AV9=0,\"\",'Блок 2,3'!AV9)","v":""},{"$f":"IF('Блок 2,3'!AW9=0,\"\",'Блок 2,3'!AW9)","v":""},{"$f":"IF('Блок 2,3'!AX9=0,\"\",'Блок 2,3'!AX9)","v":""},{"$f":"IF('Блок 2,3'!AY9=0,\"\",'Блок 2,3'!AY9)","v":""},{"$f":"IF('Блок 2,3'!AZ9=0,\"\",'Блок 2,3'!AZ9)","v":""},{"$f":"IF('Блок 2,3'!BA9=0,\"\",'Блок 2,3'!BA9)","v":""},{"$f":"IF('Блок 2,3'!BB9=0,\"\",'Блок 2,3'!BB9)","v":""},{"$f":"IF('Блок 2,3'!BC9=0,\"\",'Блок 2,3'!BC9)","v":""},{"$f":"IF('Блок 2,3'!BD9=0,\"\",'Блок 2,3'!BD9)","v":""}]
[null,{"$f":"IF('Блок 2,3'!B10=\"\",\"\",'Блок 2,3'!B10)","v":"В.2"},{"$f":"IF('Блок 2,3'!C10=\"\",\"\",'Блок 2,3'!C10)","v":"Вариативная часть"},{"$f":"IF('Блок 2,3'!D10=\"\",\"\",'Блок 2,3'!D10)","v":""},{"$f":"IF('Блок 2,3'!E10=\"\",\"\",'Блок 2,3'!E10)","v":""},{"$f":"IF('Блок 2,3'!F10=\"\",\"\",'Блок 2,3'!F10)","v":""},{"$f":"IF('Блок 2,3'!G10=\"\",\"\",'Блок 2,3'!G10)","v":""},{"$f":"IF('Блок 2,3'!H10=\"\",\"\",'Блок 2,3'!H10)","v":""},{"$f":"IF('Блок 2,3'!I10=\"\",\"\",'Блок 2,3'!I10)","v":""},{"$f":"IF('Блок 2,3'!J10=\"\",\"\",'Блок 2,3'!J10)","v":""},{"$f":"IF('Блок 2,3'!K10=\"\",\"\",'Блок 2,3'!K10)","v":""},{"$f":"IF('Блок 2,3'!L10=\"\",\"\",'Блок 2,3'!L10)","v":""},{"$f":"IF('Блок 2,3'!M10=\"\",\"\",'Блок 2,3'!M10)","v":""},{"$f":"IF('Блок 2,3'!N10=\"\",\"\",'Блок 2,3'!N10)","v":""},{"$f":"IF('Блок 2,3'!O10=\"\",\"\",'Блок 2,3'!O10)","v":""},{"$f":"IF('Блок 2,3'!P10=\"\",\"\",'Блок 2,3'!P10)","v":""},{"$f":"IF('Блок 2,3'!Q10=\"\",\"\",'Блок 2,3'!Q10)","v":""},{"$f":"IF('Блок 2,3'!R10=\"\",\"\",'Блок 2,3'!R10)","v":""},{"$f":"IF('Блок 2,3'!S10=\"\",\"\",'Блок 2,3'!S10)","v":""},{"$f":"IF('Блок 2,3'!T10=\"\",\"\",'Блок 2,3'!T10)","v":""},{"$f":"IF('Блок 2,3'!U10=\"\",\"\",'Блок 2,3'!U10)","v":""},{"$f":"IF('Блок 2,3'!V10=\"\",\"\",'Блок 2,3'!V10)","v":""},{"$f":"IF('Блок 2,3'!W10=\"\",\"\",'Блок 2,3'!W10)","v":""},{"$f":"IF('Блок 2,3'!X10=\"\",\"\",'Блок 2,3'!X10)","v":12},{"$f":"IF('Блок 2,3'!Y10=\"\",\"\",'Блок 2,3'!Y10)","v":0},{"$f":"IF('Блок 2,3'!Z10=\"\",\"\",'Блок 2,3'!Z10)","v":0},{"$f":"IF('Блок 2,3'!W10=\"\",\"\",'Блок 2,3'!W10)","v":""},{"$f":"IF('Блок 2,3'!X10=\"\",\"\",'Блок 2,3'!X10)","v":12},{"$f":"IF('Блок 2,3'!Y10=0,\"\",'Блок 2,3'!Y10)","v":""},{"$f":"IF('Блок 2,3'!Z10=0,\"\",'Блок 2,3'!Z10)","v":""},{"$f":"IF('Блок 2,3'!AA10=0,\"\",'Блок 2,3'!AA10)","v":""},{"$f":"IF('Блок 2,3'!AB10=0,\"\",'Блок 2,3'!AB10)","v":""},{"$f":"IF('Блок 2,3'!AC10=0,\"\",'Блок 2,3'!AC10)","v":""},{"$f":"IF('Блок 2,3'!AD10=0,\"\",'Блок 2,3'!AD10)","v":""},{"$f":"IF('Блок 2,3'!AE10=0,\"\",'Блок 2,3'!AE10)","v":""},{"$f":"IF('Блок 2,3'!AF10=0,\"\",'Блок 2,3'!AF10)","v":""},{"$f":"IF('Блок 2,3'!AG10=0,\"\",'Блок 2,3'!AG10)","v":""},{"$f":"IF('Блок 2,3'!AH10=0,\"\",'Блок 2,3'!AH10)","v":""},{"$f":"IF('Блок 2,3'!AI10=0,\"\",'Блок 2,3'!AI10)","v":""},{"$f":"IF('Блок 2,3'!AJ10=0,\"\",'Блок 2,3'!AJ10)","v":6},{"$f":"IF('Блок 2,3'!AK10=0,\"\",'Блок 2,3'!AK10)","v":""},{"$f":"IF('Блок 2,3'!AL10=0,\"\",'Блок 2,3'!AL10)","v":""},{"$f":"IF('Блок 2,3'!AM10=0,\"\",'Блок 2,3'!AM10)","v":""},{"$f":"IF('Блок 2,3'!AN10=0,\"\",'Блок 2,3'!AN10)","v":6},{"$f":"IF('Блок 2,3'!AO10=0,\"\",'Блок 2,3'!AO10)","v":""},{"$f":"IF('Блок 2,3'!AP10=0,\"\",'Блок 2,3'!AP10)","v":""},{"$f":"IF('Блок 2,3'!AQ10=0,\"\",'Блок 2,3'!AQ10)","v":""},{"$f":"IF('Блок 2,3'!AR10=0,\"\",'Блок 2,3'!AR10)","v":""},{"$f":"IF('Блок 2,3'!AS10=0,\"\",'Блок 2,3'!AS10)","v":""},{"$f":"IF('Блок 2,3'!AT10=0,\"\",'Блок 2,3'!AT10)","v":""},{"$f":"IF('Блок 2,3'!AU10=0,\"\",'Блок 2,3'!AU10)","v":""},{"$f":"IF('Блок 2,3'!AV10=0,\"\",'Блок 2,3'!AV10)","v":""},{"$f":"IF('Блок 2,3'!AW10=0,\"\",'Блок 2,3'!AW10)","v":""},{"$f":"IF('Блок 2,3'!AX10=0,\"\",'Блок 2,3'!AX10)","v":""},{"$f":"IF('Блок 2,3'!AY10=0,\"\",'Блок 2,3'!AY10)","v":""},{"$f":"IF('Блок 2,3'!AZ10=0,\"\",'Блок 2,3'!AZ10)","v":""},{"$f":"IF('Блок 2,3'!BA10=0,\"\",'Блок 2,3'!BA10)","v":""},{"$f":"IF('Блок 2,3'!BB10=0,\"\",'Блок 2,3'!BB10)","v":""},{"$f":"IF('Блок 2,3'!BC10=0,\"\",'Блок 2,3'!BC10)","v":""},{"$f":"IF('Блок 2,3'!BD10=0,\"\",'Блок 2,3'!BD10)","v":""}]
[null,{"$f":"IF('Блок 2,3'!B11=\"\",\"\",'Блок 2,3'!B11)","v":"В.2.01"},{"$f":"IF('Блок 2,3'!C11=\"\",\"\",'Блок 2,3'!C11)","v":"Учебная"},{"$f":"IF('Блок 2,3'!D11=\"\",\"\",'Блок 2,3'!D11)","v":"ВК"},{"$f":"IF('Блок 2,3'!E11=\"\",\"\",'Блок 2,3'!E11)","v":""},{"$f":"IF('Блок 2,3'!F11=\"\",\"\",'Блок 2,3'!F11)","v":""},{"$f":"IF('Блок 2,3'!G11=\"\",\"\",'Блок 2,3'!G11)","v":""},{"$f":"IF('Блок 2,3'!H11=\"\",\"\",'Блок 2,3'!H11)","v":""},{"$f":"IF('Блок 2,3'!I11=\"\",\"\",'Блок 2,3'!I11)","v":""},{"$f":"IF('Блок 2,3'!J11=\"\",\"\",'Блок 2,3'!J11)","v":""},{"$f":"IF('Блок 2,3'!K11=\"\",\"\",'Блок 2,3'!K11)","v":""},{"$f":"IF('Блок 2,3'!L11=\"\",\"\",'Блок 2,3'!L11)","v":""},{"$f":"IF('Блок 2,3'!M11=\"\",\"\",'Блок 2,3'!M11)","v":""},{"$f":"IF('Блок 2,3'!N11=\"\",\"\",'Блок 2,3'!N11)","v":""},null,null,null,null,{"$f":"IF('Блок 2,3'!O11=\"\",\"\",'Блок 2,3'!O11)","v":""},{"$f":"IF('Блок 2,3'!P11=\"\",\"\",'Блок 2,3'!P11)","v":""},{"$f":"IF('Блок 2,3'!Q11=\"\",\"\",'Блок 2,3'!Q11)","v":""},{"$f":"IF('Блок 2,3'!R11=\"\",\"\",'Блок 2,3'!R11)","v":""},{"$f":"IF('Блок 2,3'!S11=\"\",\"\",'Блок 2,3'!S11)","v":""},{"$f":"IF('Блок 2,3'!T11=\"\",\"\",'Блок 2,3'!T11)","v":""},{"$f":"IF('Блок 2,3'!U11=\"\",\"\",'Блок 2,3'!U11)","v":""},{"$f":"IF('Блок 2,3'!V11=\"\",\"\",'Блок 2,3'!V11)","v":""},{"$f":"IF('Блок 2,3'!W11=\"\",\"\",'Блок 2,3'!W11)","v":""},{"$f":"IF('Блок 2,3'!X11=\"\",\"\",'Блок 2,3'!X11)","v":3},{"$f":"IF('Блок 2,3'!Y11=\"\",\"\",'Блок 2,3'!Y11)","v":""},{"$f":"IF('Блок 2,3'!Z11=\"\",\"\",'Блок 2,3'!Z11)","v":""},{"$f":"IF('Блок 2,3'!AA11=\"\",\"\",'Блок 2,3'!AA11)","v":""},{"$f":"IF('Блок 2,3'!AB11=\"\",\"\",'Блок 2,3'!AB11)","v":""},{"$f":"IF('Блок 2,3'!AC11=\"\",\"\",'Блок 2,3'!AC11)","v":""},{"$f":"IF('Блок 2,3'!AD11=\"\",\"\",'Блок 2,3'!AD11)","v":""},{"$f":"IF('Блок 2,3'!AE11=\"\",\"\",'Блок 2,3'!AE11)","v":""},{"$f":"IF('Блок 2,3'!AF11=\"\",\"\",'Блок 2,3'!AF11)","v":""},{"$f":"IF('Блок 2,3'!AG11=\"\",\"\",'Блок 2,3'!AG11)","v":""},{"$f":"IF('Блок 2,3'!AH11=\"\",\"\",'Блок 2,3'!AH11)","v":""},{"$f":"IF('Блок 2,3'!AI11=\"\",\"\",'Блок 2,3'!AI11)","v":""},{"$f":"IF('Блок 2,3'!AJ11=\"\",\"\",'Блок 2,3'!AJ11)","v":3},{"$f":"IF('Блок 2,3'!AK11=\"\",\"\",'Блок 2,3'!AK11)","v":""},{"$f":"IF('Блок 2,3'!AL11=\"\",\"\",'Блок 2,3'!AL11)","v":""},{"$f":"IF('Блок 2,3'!AM11=\"\",\"\",'Блок 2,3'!AM11)","v":""},{"$f":"IF('Блок 2,3'!AN11=\"\",\"\",'Блок 2,3'!AN11)","v":""},{"$f":"IF('Блок 2,3'!AO11=\"\",\"\",'Блок 2,3'!AO11)","v":""},{"$f":"IF('Блок 2,3'!AP11=\"\",\"\",'Блок 2,3'!AP11)","v":""},{"$f":"IF('Блок 2,3'!AQ11=\"\",\"\",'Блок 2,3'!AQ11)","v":""},{"$f":"IF('Блок 2,3'!AR11=\"\",\"\",'Блок 2,3'!AR11)","v":""},{"$f":"IF('Блок 2,3'!AS11=\"\",\"\",'Блок 2,3'!AS11)","v":""},{"$f":"IF('Блок 2,3'!AT11=\"\",\"\",'Блок 2,3'!AT11)","v":""},{"$f":"IF('Блок 2,3'!AU11=\"\",\"\",'Блок 2,3'!AU11)","v":""},{"$f":"IF('Блок 2,3'!AV11=\"\",\"\",'Блок 2,3'!AV11)","v":""},{"$f":"IF('Блок 2,3'!AW11=\"\",\"\",'Блок 2,3'!AW11)","v":""},{"$f":"IF('Блок 2,3'!AX11=\"\",\"\",'Блок 2,3'!AX11)","v":""},{"$f":"IF('Блок 2,3'!AY11=\"\",\"\",'Блок 2,3'!AY11)","v":""},{"$f":"IF('Блок 2,3'!AZ11=\"\",\"\",'Блок 2,3'!AZ11)","v":""},{"$f":"IF('Блок 2,3'!BA11=\"\",\"\",'Блок 2,3'!BA11)","v":""},{"$f":"IF('Блок 2,3'!BB11=\"\",\"\",'Блок 2,3'!BB11)","v":""},{"$f":"IF('Блок 2,3'!BC11=\"\",\"\",'Блок 2,3'!BC11)","v":""},{"$f":"IF('Блок 2,3'!BD11=\"\",\"\",'Блок 2,3'!BD11)","v":""}]
[null,{"$f":"IF('Блок 2,3'!B12=\"\",\"\",'Блок 2,3'!B12)","v":"В.2.02"},{"$f":"IF('Блок 2,3'!C12=\"\",\"\",'Блок 2,3'!C12)","v":"Производственная"},{"$f":"IF('Блок 2,3'!D12=\"\",\"\",'Блок 2,3'!D12)","v":"ВК"},{"$f":"IF('Блок 2,3'!E12=\"\",\"\",'Блок 2,3'!E12)","v":""},{"$f":"IF('Блок 2,3'!F12=\"\",\"\",'Блок 2,3'!F12)","v":""},{"$f":"IF('Блок 2,3'!G12=\"\",\"\",'Блок 2,3'!G12)","v":""},{"$f":"IF('Блок 2,3'!H12=\"\",\"\",'Блок 2,3'!H12)","v":""},{"$f":"IF('Блок 2,3'!I12=\"\",\"\",'Блок 2,3'!I12)","v":""},{"$f":"IF('Блок 2,3'!J12=\"\",\"\",'Блок 2,3'!J12)","v":""},{"$f":"IF('Блок 2,3'!K12=\"\",\"\",'Блок 2,3'!K12)","v":""},{"$f":"IF('Блок 2,3'!L12=\"\",\"\",'Блок 2,3'!L12)","v":""},{"$f":"IF('Блок 2,3'!M12=\"\",\"\",'Блок 2,3'!M12)","v":""},{"$f":"IF('Блок 2,3'!N12=\"\",\"\",'Блок 2,3'!N12)","v":""},null,null,null,null,{"$f":"IF('Блок 2,3'!O12=\"\",\"\",'Блок 2,3'!O12)","v":""},{"$f":"IF('Блок 2,3'!P12=\"\",\"\",'Блок 2,3'!P12)","v":""},{"$f":"IF('Блок 2,3'!Q12=\"\",\"\",'Блок 2,3'!Q12)","v":""},{"$f":"IF('Блок 2,3'!R12=\"\",\"\",'Блок 2,3'!R12)","v":""},{"$f":"IF('Блок 2,3'!S12=\"\",\"\",'Блок 2,3'!S12)","v":""},{"$f":"IF('Блок 2,3'!T12=\"\",\"\",'Блок 2,3'!T12)","v":""},{"$f":"IF('Блок 2,3'!U12=\"\",\"\",'Блок 2,3'!U12)","v":""},{"$f":"IF('Блок 2,3'!V12=\"\",\"\",'Блок 2,3'!V12)","v":""},{"$f":"IF('Блок 2,3'!W12=\"\",\"\",'Блок 2,3'!W12)","v":""},{"$f":"IF('Блок 2,3'!X12=\"\",\"\",'Блок 2,3'!X12)","v":3},{"$f":"IF('Блок 2,3'!Y12=\"\",\"\",'Блок 2,3'!Y12)","v":""},{"$f":"IF('Блок 2,3'!Z12=\"\",\"\",'Блок 2,3'!Z12)","v":""},{"$f":"IF('Блок 2,3'!AA12=\"\",\"\",'Блок 2,3'!AA12)","v":""},{"$f":"IF('Блок 2,3'!AB12=\"\",\"\",'Блок 2,3'!AB12)","v":""},{"$f":"IF('Блок 2,3'!AC12=\"\",\"\",'Блок 2,3'!AC12)","v":""},{"$f":"IF('Блок 2,3'!AD12=\"\",\"\",'Блок 2,3'!AD12)","v":""},{"$f":"IF('Блок 2,3'!AE12=\"\",\"\",'Блок 2,3'!AE12)","v":""},{"$f":"IF('Блок 2,3'!AF12=\"\",\"\",'Блок 2,3'!AF12)","v":""},{"$f":"IF('Блок 2,3'!AG12=\"\",\"\",'Блок 2,3'!AG12)","v":""},{"$f":"IF('Блок 2,3'!AH12=\"\",\"\",'Блок 2,3'!AH12)","v":""},{"$f":"IF('Блок 2,3'!AI12=\"\",\"\",'Блок 2,3'!AI12)","v":""},{"$f":"IF('Блок 2,3'!AJ12=\"\",\"\",'Блок 2,3'!AJ12)","v":3},{"$f":"IF('Блок 2,3'!AK12=\"\",\"\",'Блок 2,3'!AK12)","v":""},{"$f":"IF('Блок 2,3'!AL12=\"\",\"\",'Блок 2,3'!AL12)","v":""},{"$f":"IF('Блок 2,3'!AM12=\"\",\"\",'Блок 2,3'!AM12)","v":""},{"$f":"IF('Блок 2,3'!AN12=\"\",\"\",'Блок 2,3'!AN12)","v":""},{"$f":"IF('Блок 2,3'!AO12=\"\",\"\",'Блок 2,3'!AO12)","v":""},{"$f":"IF('Блок 2,3'!AP12=\"\",\"\",'Блок 2,3'!AP12)","v":""},{"$f":"IF('Блок 2,3'!AQ12=\"\",\"\",'Блок 2,3'!AQ12)","v":""},{"$f":"IF('Блок 2,3'!AR12=\"\",\"\",'Блок 2,3'!AR12)","v":""},{"$f":"IF('Блок 2,3'!AS12=\"\",\"\",'Блок 2,3'!AS12)","v":""},{"$f":"IF('Блок 2,3'!AT12=\"\",\"\",'Блок 2,3'!AT12)","v":""},{"$f":"IF('Блок 2,3'!AU12=\"\",\"\",'Блок 2,3'!AU12)","v":""},{"$f":"IF('Блок 2,3'!AV12=\"\",\"\",'Блок 2,3'!AV12)","v":""},{"$f":"IF('Блок 2,3'!AW12=\"\",\"\",'Блок 2,3'!AW12)","v":""},{"$f":"IF('Блок 2,3'!AX12=\"\",\"\",'Блок 2,3'!AX12)","v":""},{"$f":"IF('Блок 2,3'!AY12=\"\",\"\",'Блок 2,3'!AY12)","v":""},{"$f":"IF('Блок 2,3'!AZ12=\"\",\"\",'Блок 2,3'!AZ12)","v":""},{"$f":"IF('Блок 2,3'!BA12=\"\",\"\",'Блок 2,3'!BA12)","v":""},{"$f":"IF('Блок 2,3'!BB12=\"\",\"\",'Блок 2,3'!BB12)","v":""},{"$f":"IF('Блок 2,3'!BC12=\"\",\"\",'Блок 2,3'!BC12)","v":""},{"$f":"IF('Блок 2,3'!BD12=\"\",\"\",'Блок 2,3'!BD12)","v":""}]
[null,{"$f":"IF('Блок 2,3'!B13=\"\",\"\",'Блок 2,3'!B13)","v":"В.2.03"},{"$f":"IF('Блок 2,3'!C13=\"\",\"\",'Блок 2,3'!C13)","v":"Преддипломная"},{"$f":"IF('Блок 2,3'!D13=\"\",\"\",'Блок 2,3'!D13)","v":"ВК"},{"$f":"IF('Блок 2,3'!E13=\"\",\"\",'Блок 2,3'!E13)","v":""},{"$f":"IF('Блок 2,3'!F13=\"\",\"\",'Блок 2,3'!F13)","v":""},{"$f":"IF('Блок 2,3'!G13=\"\",\"\",'Блок 2,3'!G13)","v":""},{"$f":"IF('Блок 2,3'!H13=\"\",\"\",'Блок 2,3'!H13)","v":""},{"$f":"IF('Блок 2,3'!I13=\"\",\"\",'Блок 2,3'!I13)","v":""},{"$f":"IF('Блок 2,3'!J13=\"\",\"\",'Блок 2,3'!J13)","v":""},{"$f":"IF('Блок 2,3'!K13=\"\",\"\",'Блок 2,3'!K13)","v":""},{"$f":"IF('Блок 2,3'!L13=\"\",\"\",'Блок 2,3'!L13)","v":""},{"$f":"IF('Блок 2,3'!M13=\"\",\"\",'Блок 2,3'!M13)","v":""},{"$f":"IF('Блок 2,3'!N13=\"\",\"\",'Блок 2,3'!N13)","v":""},null,null,null,null,{"$f":"IF('Блок 2,3'!O13=\"\",\"\",'Блок 2,3'!O13)","v":""},{"$f":"IF('Блок 2,3'!P13=\"\",\"\",'Блок 2,3'!P13)","v":""},{"$f":"IF('Блок 2,3'!Q13=\"\",\"\",'Блок 2,3'!Q13)","v":""},{"$f":"IF('Блок 2,3'!R13=\"\",\"\",'Блок 2,3'!R13)","v":""},{"$f":"IF('Блок 2,3'!S13=\"\",\"\",'Блок 2,3'!S13)","v":""},{"$f":"IF('Блок 2,3'!T13=\"\",\"\",'Блок 2,3'!T13)","v":""},{"$f":"IF('Блок 2,3'!U13=\"\",\"\",'Блок 2,3'!U13)","v":""},{"$f":"IF('Блок 2,3'!V13=\"\",\"\",'Блок 2,3'!V13)","v":""},{"$f":"IF('Блок 2,3'!W13=\"\",\"\",'Блок 2,3'!W13)","v":""},{"$f":"IF('Блок 2,3'!X13=\"\",\"\",'Блок 2,3'!X13)","v":6},{"$f":"IF('Блок 2,3'!Y13=\"\",\"\",'Блок 2,3'!Y13)","v":""},{"$f":"IF('Блок 2,3'!Z13=\"\",\"\",'Блок 2,3'!Z13)","v":""},{"$f":"IF('Блок 2,3'!AA13=\"\",\"\",'Блок 2,3'!AA13)","v":""},{"$f":"IF('Блок 2,3'!AB13=\"\",\"\",'Блок 2,3'!AB13)","v":""},{"$f":"IF('Блок 2,3'!AC13=\"\",\"\",'Блок 2,3'!AC13)","v":""},{"$f":"IF('Блок 2,3'!AD13=\"\",\"\",'Блок 2,3'!AD13)","v":""},{"$f":"IF('Блок 2,3'!AE13=\"\",\"\",'Блок 2,3'!AE13)","v":""},{"$f":"IF('Блок 2,3'!AF13=\"\",\"\",'Блок 2,3'!AF13)","v":""},{"$f":"IF('Блок 2,3'!AG13=\"\",\"\",'Блок 2,3'!AG13)","v":""},{"$f":"IF('Блок 2,3'!AH13=\"\",\"\",'Блок 2,3'!AH13)","v":""},{"$f":"IF('Блок 2,3'!AI13=\"\",\"\",'Блок 2,3'!AI13)","v":""},{"$f":"IF('Блок 2,3'!AJ13=\"\",\"\",'Блок 2,3'!AJ13)","v":""},{"$f":"IF('Блок 2,3'!AK13=\"\",\"\",'Блок 2,3'!AK13)","v":""},{"$f":"IF('Блок 2,3'!AL13=\"\",\"\",'Блок 2,3'!AL13)","v":""},{"$f":"IF('Блок 2,3'!AM13=\"\",\"\",'Блок 2,3'!AM13)","v":""},{"$f":"IF('Блок 2,3'!AN13=\"\",\"\",'Блок 2,3'!AN13)","v":6},{"$f":"IF('Блок 2,3'!AO13=\"\",\"\",'Блок 2,3'!AO13)","v":""},{"$f":"IF('Блок 2,3'!AP13=\"\",\"\",'Блок 2,3'!AP13)","v":""},{"$f":"IF('Блок 2,3'!AQ13=\"\",\"\",'Блок 2,3'!AQ13)","v":""},{"$f":"IF('Блок 2,3'!AR13=\"\",\"\",'Блок 2,3'!AR13)","v":""},{"$f":"IF('Блок 2,3'!AS13=\"\",\"\",'Блок 2,3'!AS13)","v":""},{"$f":"IF('Блок 2,3'!AT13=\"\",\"\",'Блок 2,3'!AT13)","v":""},{"$f":"IF('Блок 2,3'!AU13=\"\",\"\",'Блок 2,3'!AU13)","v":""},{"$f":"IF('Блок 2,3'!AV13=\"\",\"\",'Блок 2,3'!AV13)","v":""},{"$f":"IF('Блок 2,3'!AW13=\"\",\"\",'Блок 2,3'!AW13)","v":""},{"$f":"IF('Блок 2,3'!AX13=\"\",\"\",'Блок 2,3'!AX13)","v":""},{"$f":"IF('Блок 2,3'!AY13=\"\",\"\",'Блок 2,3'!AY13)","v":""},{"$f":"IF('Блок 2,3'!AZ13=\"\",\"\",'Блок 2,3'!AZ13)","v":""},{"$f":"IF('Блок 2,3'!BA13=\"\",\"\",'Блок 2,3'!BA13)","v":""},{"$f":"IF('Блок 2,3'!BB13=\"\",\"\",'Блок 2,3'!BB13)","v":""},{"$f":"IF('Блок 2,3'!BC13=\"\",\"\",'Блок 2,3'!BC13)","v":""},{"$f":"IF('Блок 2,3'!BD13=\"\",\"\",'Блок 2,3'!BD13)","v":""}]
[null,{"$f":"IF('Блок 2,3'!B14=\"\",\"\",'Блок 2,3'!B14)","v":"В.2.04"},{"$f":"IF('Блок 2,3'!C14=\"\",\"\",'Блок 2,3'!C14)","v":"Научно-исследовательская работа"},{"$f":"IF('Блок 2,3'!D14=\"\",\"\",'Блок 2,3'!D14)","v":"ВК"},{"$f":"IF('Блок 2,3'!E14=\"\",\"\",'Блок 2,3'!E14)","v":""},{"$f":"IF('Блок 2,3'!F14=\"\",\"\",'Блок 2,3'!F14)","v":""},{"$f":"IF('Блок 2,3'!G14=\"\",\"\",'Блок 2,3'!G14)","v":""},{"$f":"IF('Блок 2,3'!H14=\"\",\"\",'Блок 2,3'!H14)","v":""},{"$f":"IF('Блок 2,3'!I14=\"\",\"\",'Блок 2,3'!I14)","v":""},{"$f":"IF('Блок 2,3'!J14=\"\",\"\",'Блок 2,3'!J14)","v":""},{"$f":"IF('Блок 2,3'!K14=\"\",\"\",'Блок 2,3'!K14)","v":""},{"$f":"IF('Блок 2,3'!L14=\"\",\"\",'Блок 2,3'!L14)","v":""},{"$f":"IF('Блок 2,3'!M14=\"\",\"\",'Блок 2,3'!M14)","v":""},{"$f":"IF('Блок 2,3'!N14=\"\",\"\",'Блок 2,3'!N14)","v":""},null,null,null,null,{"$f":"IF('Блок 2,3'!O14=\"\",\"\",'Блок 2,3'!O14)","v":""},{"$f":"IF('Блок 2,3'!P14=\"\",\"\",'Блок 2,3'!P14)","v":""},{"$f":"IF('Блок 2,3'!Q14=\"\",\"\",'Блок 2,3'!Q14)","v":""},{"$f":"IF('Блок 2,3'!R14=\"\",\"\",'Блок 2,3'!R14)","v":""},{"$f":"IF('Блок 2,3'!S14=\"\",\"\",'Блок 2,3'!S14)","v":""},{"$f":"IF('Блок 2,3'!T14=\"\",\"\",'Блок 2,3'!T14)","v":""},{"$f":"IF('Блок 2,3'!U14=\"\",\"\",'Блок 2,3'!U14)","v":""},{"$f":"IF('Блок 2,3'!V14=\"\",\"\",'Блок 2,3'!V14)","v":""},{"$f":"IF('Блок 2,3'!W14=\"\",\"\",'Блок 2,3'!W14)","v":""},{"$f":"IF('Блок 2,3'!X14=\"\",\"\",'Блок 2,3'!X14)","v":""},{"$f":"IF('Блок 2,3'!Y14=\"\",\"\",'Блок 2,3'!Y14)","v":""},{"$f":"IF('Блок 2,3'!Z14=\"\",\"\",'Блок 2,3'!Z14)","v":""},{"$f":"IF('Блок 2,3'!AA14=\"\",\"\",'Блок 2,3'!AA14)","v":""},{"$f":"IF('Блок 2,3'!AB14=\"\",\"\",'Блок 2,3'!AB14)","v":""},{"$f":"IF('Блок 2,3'!AC14=\"\",\"\",'Блок 2,3'!AC14)","v":""},{"$f":"IF('Блок 2,3'!AD14=\"\",\"\",'Блок 2,3'!AD14)","v":""},{"$f":"IF('Блок 2,3'!AE14=\"\",\"\",'Блок 2,3'!AE14)","v":""},{"$f":"IF('Блок 2,3'!AF14=\"\",\"\",'Блок 2,3'!AF14)","v":""},{"$f":"IF('Блок 2,3'!AG14=\"\",\"\",'Блок 2,3'!AG14)","v":""},{"$f":"IF('Блок 2,3'!AH14=\"\",\"\",'Блок 2,3'!AH14)","v":""},{"$f":"IF('Блок 2,3'!AI14=\"\",\"\",'Блок 2,3'!AI14)","v":""},{"$f":"IF('Блок 2,3'!AJ14=\"\",\"\",'Блок 2,3'!AJ14)","v":""},{"$f":"IF('Блок 2,3'!AK14=\"\",\"\",'Блок 2,3'!AK14)","v":""},{"$f":"IF('Блок 2,3'!AL14=\"\",\"\",'Блок 2,3'!AL14)","v":""},{"$f":"IF('Блок 2,3'!AM14=\"\",\"\",'Блок 2,3'!AM14)","v":""},{"$f":"IF('Блок 2,3'!AN14=\"\",\"\",'Блок 2,3'!AN14)","v":""},{"$f":"IF('Блок 2,3'!AO14=\"\",\"\",'Блок 2,3'!AO14)","v":""},{"$f":"IF('Блок 2,3'!AP14=\"\",\"\",'Блок 2,3'!AP14)","v":""},{"$f":"IF('Блок 2,3'!AQ14=\"\",\"\",'Блок 2,3'!AQ14)","v":""},{"$f":"IF('Блок 2,3'!AR14=\"\",\"\",'Блок 2,3'!AR14)","v":""},{"$f":"IF('Блок 2,3'!AS14=\"\",\"\",'Блок 2,3'!AS14)","v":""},{"$f":"IF('Блок 2,3'!AT14=\"\",\"\",'Блок 2,3'!AT14)","v":""},{"$f":"IF('Блок 2,3'!AU14=\"\",\"\",'Блок 2,3'!AU14)","v":""},{"$f":"IF('Блок 2,3'!AV14=\"\",\"\",'Блок 2,3'!AV14)","v":""},{"$f":"IF('Блок 2,3'!AW14=\"\",\"\",'Блок 2,3'!AW14)","v":""},{"$f":"IF('Блок 2,3'!AX14=\"\",\"\",'Блок 2,3'!AX14)","v":""},{"$f":"IF('Блок 2,3'!AY14=\"\",\"\",'Блок 2,3'!AY14)","v":""},{"$f":"IF('Блок 2,3'!AZ14=\"\",\"\",'Блок 2,3'!AZ14)","v":""},{"$f":"IF('Блок 2,3'!BA14=\"\",\"\",'Блок 2,3'!BA14)","v":""},{"$f":"IF('Блок 2,3'!BB14=\"\",\"\",'Блок 2,3'!BB14)","v":""},{"$f":"IF('Блок 2,3'!BC14=\"\",\"\",'Блок 2,3'!BC14)","v":""},{"$f":"IF('Блок 2,3'!BD14=\"\",\"\",'Блок 2,3'!BD14)","v":""}]
[null,{"$f":"IF('Блок 2,3'!B15=\"\",\"\",'Блок 2,3'!B15)","v":""},{"$f":"IF('Блок 2,3'!C15=\"\",\"\",'Блок 2,3'!C15)","v":""},{"$f":"IF('Блок 2,3'!D15=\"\",\"\",'Блок 2,3'!D15)","v":""},{"$f":"IF('Блок 2,3'!E15=\"\",\"\",'Блок 2,3'!E15)","v":""},{"$f":"IF('Блок 2,3'!F15=\"\",\"\",'Блок 2,3'!F15)","v":""},{"$f":"IF('Блок 2,3'!G15=\"\",\"\",'Блок 2,3'!G15)","v":""},{"$f":"IF('Блок 2,3'!H15=\"\",\"\",'Блок 2,3'!H15)","v":""},{"$f":"IF('Блок 2,3'!I15=\"\",\"\",'Блок 2,3'!I15)","v":""},{"$f":"IF('Блок 2,3'!J15=\"\",\"\",'Блок 2,3'!J15)","v":""},{"$f":"IF('Блок 2,3'!K15=\"\",\"\",'Блок 2,3'!K15)","v":""},{"$f":"IF('Блок 2,3'!L15=\"\",\"\",'Блок 2,3'!L15)","v":""},{"$f":"IF('Блок 2,3'!M15=\"\",\"\",'Блок 2,3'!M15)","v":""},{"$f":"IF('Блок 2,3'!N15=\"\",\"\",'Блок 2,3'!N15)","v":""},null,null,null,null,{"$f":"IF('Блок 2,3'!O15=\"\",\"\",'Блок 2,3'!O15)","v":""},{"$f":"IF('Блок 2,3'!P15=\"\",\"\",'Блок 2,3'!P15)","v":""},{"$f":"IF('Блок 2,3'!Q15=\"\",\"\",'Блок 2,3'!Q15)","v":""},{"$f":"IF('Блок 2,3'!R15=\"\",\"\",'Блок 2,3'!R15)","v":""},{"$f":"IF('Блок 2,3'!S15=\"\",\"\",'Блок 2,3'!S15)","v":""},{"$f":"IF('Блок 2,3'!T15=\"\",\"\",'Блок 2,3'!T15)","v":""},{"$f":"IF('Блок 2,3'!U15=\"\",\"\",'Блок 2,3'!U15)","v":""},{"$f":"IF('Блок 2,3'!V15=\"\",\"\",'Блок 2,3'!V15)","v":""},{"$f":"IF('Блок 2,3'!W15=\"\",\"\",'Блок 2,3'!W15)","v":""},{"$f":"IF('Блок 2,3'!X15=\"\",\"\",'Блок 2,3'!X15)","v":""},{"$f":"IF('Блок 2,3'!Y15=\"\",\"\",'Блок 2,3'!Y15)","v":""},{"$f":"IF('Блок 2,3'!Z15=\"\",\"\",'Блок 2,3'!Z15)","v":""},{"$f":"IF('Блок 2,3'!AA15=\"\",\"\",'Блок 2,3'!AA15)","v":""},{"$f":"IF('Блок 2,3'!AB15=\"\",\"\",'Блок 2,3'!AB15)","v":""},{"$f":"IF('Блок 2,3'!AC15=\"\",\"\",'Блок 2,3'!AC15)","v":""},{"$f":"IF('Блок 2,3'!AD15=\"\",\"\",'Блок 2,3'!AD15)","v":""},{"$f":"IF('Блок 2,3'!AE15=\"\",\"\",'Блок 2,3'!AE15)","v":""},{"$f":"IF('Блок 2,3'!AF15=\"\",\"\",'Блок 2,3'!AF15)","v":""},{"$f":"IF('Блок 2,3'!AG15=\"\",\"\",'Блок 2,3'!AG15)","v":""},{"$f":"IF('Блок 2,3'!AH15=\"\",\"\",'Блок 2,3'!AH15)","v":""},{"$f":"IF('Блок 2,3'!AI15=\"\",\"\",'Блок 2,3'!AI15)","v":""},{"$f":"IF('Блок 2,3'!AJ15=\"\",\"\",'Блок 2,3'!AJ15)","v":""},{"$f":"IF('Блок 2,3'!AK15=\"\",\"\",'Блок 2,3'!AK15)","v":""},{"$f":"IF('Блок 2,3'!AL15=\"\",\"\",'Блок 2,3'!AL15)","v":""},{"$f":"IF('Блок 2,3'!AM15=\"\",\"\",'Блок 2,3'!AM15)","v":""},{"$f":"IF('Блок 2,3'!AN15=\"\",\"\",'Блок 2,3'!AN15)","v":""},{"$f":"IF('Блок 2,3'!AO15=\"\",\"\",'Блок 2,3'!AO15)","v":""},{"$f":"IF('Блок 2,3'!AP15=\"\",\"\",'Блок 2,3'!AP15)","v":""},{"$f":"IF('Блок 2,3'!AQ15=\"\",\"\",'Блок 2,3'!AQ15)","v":""},{"$f":"IF('Блок 2,3'!AR15=\"\",\"\",'Блок 2,3'!AR15)","v":""},{"$f":"IF('Блок 2,3'!AS15=\"\",\"\",'Блок 2,3'!AS15)","v":""},{"$f":"IF('Блок 2,3'!AT15=\"\",\"\",'Блок 2,3'!AT15)","v":""},{"$f":"IF('Блок 2,3'!AU15=\"\",\"\",'Блок 2,3'!AU15)","v":""},{"$f":"IF('Блок 2,3'!AV15=\"\",\"\",'Блок 2,3'!AV15)","v":""},{"$f":"IF('Блок 2,3'!AW15=\"\",\"\",'Блок 2,3'!AW15)","v":""},{"$f":"IF('Блок 2,3'!AX15=\"\",\"\",'Блок 2,3'!AX15)","v":""},{"$f":"IF('Блок 2,3'!AY15=\"\",\"\",'Блок 2,3'!AY15)","v":""},{"$f":"IF('Блок 2,3'!AZ15=\"\",\"\",'Блок 2,3'!AZ15)","v":""},{"$f":"IF('Блок 2,3'!BA15=\"\",\"\",'Блок 2,3'!BA15)","v":""},{"$f":"IF('Блок 2,3'!BB15=\"\",\"\",'Блок 2,3'!BB15)","v":""},{"$f":"IF('Блок 2,3'!BC15=\"\",\"\",'Блок 2,3'!BC15)","v":""},{"$f":"IF('Блок 2,3'!BD15=\"\",\"\",'Блок 2,3'!BD15)","v":""}]
[null,{"$f":"IF('Блок 2,3'!B16=\"\",\"\",'Блок 2,3'!B16)","v":""},{"$f":"IF('Блок 2,3'!C16=\"\",\"\",'Блок 2,3'!C16)","v":""},{"$f":"IF('Блок 2,3'!D16=\"\",\"\",'Блок 2,3'!D16)","v":""},{"$f":"IF('Блок 2,3'!E16=\"\",\"\",'Блок 2,3'!E16)","v":""},{"$f":"IF('Блок 2,3'!F16=\"\",\"\",'Блок 2,3'!F16)","v":""},{"$f":"IF('Блок 2,3'!G16=\"\",\"\",'Блок 2,3'!G16)","v":""},{"$f":"IF('Блок 2,3'!H16=\"\",\"\",'Блок 2,3'!H16)","v":""},{"$f":"IF('Блок 2,3'!I16=\"\",\"\",'Блок 2,3'!I16)","v":""},{"$f":"IF('Блок 2,3'!J16=\"\",\"\",'Блок 2,3'!J16)","v":""},{"$f":"IF('Блок 2,3'!K16=\"\",\"\",'Блок 2,3'!K16)","v":""},{"$f":"IF('Блок 2,3'!L16=\"\",\"\",'Блок 2,3'!L16)","v":""},{"$f":"IF('Блок 2,3'!M16=\"\",\"\",'Блок 2,3'!M16)","v":""},{"$f":"IF('Блок 2,3'!N16=\"\",\"\",'Блок 2,3'!N16)","v":""},null,null,null,null,{"$f":"IF('Блок 2,3'!O16=\"\",\"\",'Блок 2,3'!O16)","v":""},{"$f":"IF('Блок 2,3'!P16=\"\",\"\",'Блок 2,3'!P16)","v":""},{"$f":"IF('Блок 2,3'!Q16=\"\",\"\",'Блок 2,3'!Q16)","v":""},{"$f":"IF('Блок 2,3'!R16=\"\",\"\",'Блок 2,3'!R16)","v":""},{"$f":"IF('Блок 2,3'!S16=\"\",\"\",'Блок 2,3'!S16)","v":""},{"$f":"IF('Блок 2,3'!T16=\"\",\"\",'Блок 2,3'!T16)","v":""},{"$f":"IF('Блок 2,3'!U16=\"\",\"\",'Блок 2,3'!U16)","v":""},{"$f":"IF('Блок 2,3'!V16=\"\",\"\",'Блок 2,3'!V16)","v":""},{"$f":"IF('Блок 2,3'!W16=\"\",\"\",'Блок 2,3'!W16)","v":""},{"$f":"IF('Блок 2,3'!X16=\"\",\"\",'Блок 2,3'!X16)","v":""},{"$f":"IF('Блок 2,3'!Y16=\"\",\"\",'Блок 2,3'!Y16)","v":""},{"$f":"IF('Блок 2,3'!Z16=\"\",\"\",'Блок 2,3'!Z16)","v":""},{"$f":"IF('Блок 2,3'!AA16=\"\",\"\",'Блок 2,3'!AA16)","v":""},{"$f":"IF('Блок 2,3'!AB16=\"\",\"\",'Блок 2,3'!AB16)","v":""},{"$f":"IF('Блок 2,3'!AC16=\"\",\"\",'Блок 2,3'!AC16)","v":""},{"$f":"IF('Блок 2,3'!AD16=\"\",\"\",'Блок 2,3'!AD16)","v":""},{"$f":"IF('Блок 2,3'!AE16=\"\",\"\",'Блок 2,3'!AE16)","v":""},{"$f":"IF('Блок 2,3'!AF16=\"\",\"\",'Блок 2,3'!AF16)","v":""},{"$f":"IF('Блок 2,3'!AG16=\"\",\"\",'Блок 2,3'!AG16)","v":""},{"$f":"IF('Блок 2,3'!AH16=\"\",\"\",'Блок 2,3'!AH16)","v":""},{"$f":"IF('Блок 2,3'!AI16=\"\",\"\",'Блок 2,3'!AI16)","v":""},{"$f":"IF('Блок 2,3'!AJ16=\"\",\"\",'Блок 2,3'!AJ16)","v":""},{"$f":"IF('Блок 2,3'!AK16=\"\",\"\",'Блок 2,3'!AK16)","v":""},{"$f":"IF('Блок 2,3'!AL16=\"\",\"\",'Блок 2,3'!AL16)","v":""},{"$f":"IF('Блок 2,3'!AM16=\"\",\"\",'Блок 2,3'!AM16)","v":""},{"$f":"IF('Блок 2,3'!AN16=\"\",\"\",'Блок 2,3'!AN16)","v":""},{"$f":"IF('Блок 2,3'!AO16=\"\",\"\",'Блок 2,3'!AO16)","v":""},{"$f":"IF('Блок 2,3'!AP16=\"\",\"\",'Блок 2,3'!AP16)","v":""},{"$f":"IF('Блок 2,3'!AQ16=\"\",\"\",'Блок 2,3'!AQ16)","v":""},{"$f":"IF('Блок 2,3'!AR16=\"\",\"\",'Блок 2,3'!AR16)","v":""},{"$f":"IF('Блок 2,3'!AS16=\"\",\"\",'Блок 2,3'!AS16)","v":""},{"$f":"IF('Блок 2,3'!AT16=\"\",\"\",'Блок 2,3'!AT16)","v":""},{"$f":"IF('Блок 2,3'!AU16=\"\",\"\",'Блок 2,3'!AU16)","v":""},{"$f":"IF('Блок 2,3'!AV16=\"\",\"\",'Блок 2,3'!AV16)","v":""},{"$f":"IF('Блок 2,3'!AW16=\"\",\"\",'Блок 2,3'!AW16)","v":""},{"$f":"IF('Блок 2,3'!AX16=\"\",\"\",'Блок 2,3'!AX16)","v":""},{"$f":"IF('Блок 2,3'!AY16=\"\",\"\",'Блок 2,3'!AY16)","v":""},{"$f":"IF('Блок 2,3'!AZ16=\"\",\"\",'Блок 2,3'!AZ16)","v":""},{"$f":"IF('Блок 2,3'!BA16=\"\",\"\",'Блок 2,3'!BA16)","v":""},{"$f":"IF('Блок 2,3'!BB16=\"\",\"\",'Блок 2,3'!BB16)","v":""},{"$f":"IF('Блок 2,3'!BC16=\"\",\"\",'Блок 2,3'!BC16)","v":""},{"$f":"IF('Блок 2,3'!BD16=\"\",\"\",'Блок 2,3'!BD16)","v":""}]
[null,{"$f":"IF('Блок 2,3'!B17=\"\",\"\",'Блок 2,3'!B17)","v":"Блок 3"},{"$f":"IF('Блок 2,3'!C17=\"\",\"\",'Блок 2,3'!C17)","v":"Итоговая аттестация"},null,null,null,null,null,null,null,null,null,null,null,null,null,null,null,null,null,null,null,{"$f":"IF('Блок 2,3'!S17=\"\",\"\",'Блок 2,3'!S17)","v":""},{"$f":"IF('Блок 2,3'!T17=\"\",\"\",'Блок 2,3'!T17)","v":""},{"$f":"IF('Блок 2,3'!U17=\"\",\"\",'Блок 2,3'!U17)","v":""},{"$f":"IF('Блок 2,3'!V17=\"\",\"\",'Блок 2,3'!V17)","v":""},{"$f":"IF('Блок 2,3'!W17=\"\",\"\",'Блок 2,3'!W17)","v":"6-9"},{"$f":"IF('Блок 2,3'!X17=\"\",\"\",'Блок 2,3'!X17)","v":9},{"$f":"IF('Блок 2,3'!Y17=0,\"\",'Блок 2,3'!Y17)","v":""},{"$f":"IF('Блок 2,3'!Z17=0,\"\",'Блок 2,3'!Z17)","v":""},{"$f":"IF('Блок 2,3'!AA17=0,\"\",'Блок 2,3'!AA17)","v":""},{"$f":"IF('Блок 2,3'!AB17=0,\"\",'Блок 2,3'!AB17)","v":""},{"$f":"IF('Блок 2,3'!AC17=0,\"\",'Блок 2,3'!AC17)","v":""},{"$f":"IF('Блок 2,3'!AD17=0,\"\",'Блок 2,3'!AD17)","v":""},{"$f":"IF('Блок 2,3'!AE17=\"\",\"\",'Блок 2,3'!AE17)","v":""},{"$f":"IF('Блок 2,3'!AF17=\"\",\"\",'Блок 2,3'!AF17)","v":""},{"$f":"IF('Блок 2,3'!AG17=\"\",\"\",'Блок 2,3'!AG17)","v":""},{"$f":"IF('Блок 2,3'!AH17=\"\",\"\",'Блок 2,3'!AH17)","v":""},{"$f":"IF('Блок 2,3'!AI17=\"\",\"\",'Блок 2,3'!AI17)","v":""},{"$f":"IF('Блок 2,3'!AJ17=\"\",\"\",'Блок 2,3'!AJ17)","v":""},{"$f":"IF('Блок 2,3'!AK17=\"\",\"\",'Блок 2,3'!AK17)","v":""},{"$f":"IF('Блок 2,3'!AL17=\"\",\"\",'Блок 2,3'!AL17)","v":""},{"$f":"IF('Блок 2,3'!AM17=\"\",\"\",'Блок 2,3'!AM17)","v":""},{"$f":"IF('Блок 2,3'!AN17=\"\",\"\",'Блок 2,3'!AN17)","v":""},{"$f":"IF('Блок 2,3'!AO17=\"\",\"\",'Блок 2,3'!AO17)","v":""},{"$f":"IF('Блок 2,3'!AP17=\"\",\"\",'Блок 2,3'!AP17)","v":""},{"$f":"IF('Блок 2,3'!AQ17=\"\",\"\",'Блок 2,3'!AQ17)","v":""},{"$f":"IF('Блок 2,3'!AR17=\"\",\"\",'Блок 2,3'!AR17)","v":""},{"$f":"IF('Блок 2,3'!AS17=\"\",\"\",'Блок 2,3'!AS17)","v":""},{"$f":"IF('Блок 2,3'!AT17=\"\",\"\",'Блок 2,3'!AT17)","v":""},{"$f":"IF('Блок 2,3'!AU17=\"\",\"\",'Блок 2,3'!AU17)","v":""},{"$f":"IF('Блок 2,3'!AV17=\"\",\"\",'Блок 2,3'!AV17)","v":""},{"$f":"IF('Блок 2,3'!AW17=\"\",\"\",'Блок 2,3'!AW17)","v":""},{"$f":"IF('Блок 2,3'!AX17=\"\",\"\",'Блок 2,3'!AX17)","v":""},{"$f":"IF('Блок 2,3'!AY17=\"\",\"\",'Блок 2,3'!AY17)","v":""},{"$f":"IF('Блок 2,3'!AZ17=\"\",\"\",'Блок 2,3'!AZ17)","v":""},{"$f":"IF('Блок 2,3'!BA17=\"\",\"\",'Блок 2,3'!BA17)","v":""},{"$f":"IF('Блок 2,3'!BB17=\"\",\"\",'Блок 2,3'!BB17)","v":""},{"$f":"IF('Блок 2,3'!BC17=\"\",\"\",'Блок 2,3'!BC17)","v":""},{"$f":"IF('Блок 2,3'!BD17=\"\",\"\",'Блок 2,3'!BD17)","v":""}]
[null,{"$f":"IF('Блок 2,3'!B18=\"\",\"\",'Блок 2,3'!B18)","v":"Б.3"},{"$f":"IF('Блок 2,3'!C18=\"\",\"\",'Блок 2,3'!C18)","v":"Базовая часть"},{"$f":"IF('Блок 2,3'!D18=\"\",\"\",'Блок 2,3'!D18)","v":""},{"$f":"IF('Блок 2,3'!E18=\"\",\"\",'Блок 2,3'!E18)","v":""},{"$f":"IF('Блок 2,3'!F18=\"\",\"\",'Блок 2,3'!F18)","v":""},{"$f":"IF('Блок 2,3'!G18=\"\",\"\",'Блок 2,3'!G18)","v":""},{"$f":"IF('Блок 2,3'!H18=\"\",\"\",'Блок 2,3'!H18)","v":""},{"$f":"IF('Блок 2,3'!I18=\"\",\"\",'Блок 2,3'!I18)","v":""},{"$f":"IF('Блок 2,3'!J18=\"\",\"\",'Блок 2,3'!J18)","v":""},{"$f":"IF('Блок 2,3'!K18=\"\",\"\",'Блок 2,3'!K18)","v":""},{"$f":"IF('Блок 2,3'!L18=\"\",\"\",'Блок 2,3'!L18)","v":""},{"$f":"IF('Блок 2,3'!M18=\"\",\"\",'Блок 2,3'!M18)","v":""},{"$f":"IF('Блок 2,3'!N18=\"\",\"\",'Блок 2,3'!N18)","v":""},null,null,null,null,{"$f":"IF('Блок 2,3'!O18=\"\",\"\",'Блок 2,3'!O18)","v":""},{"$f":"IF('Блок 2,3'!P18=\"\",\"\",'Блок 2,3'!P18)","v":""},{"$f":"IF('Блок 2,3'!Q18=\"\",\"\",'Блок 2,3'!Q18)","v":""},{"$f":"IF('Блок 2,3'!R18=\"\",\"\",'Блок 2,3'!R18)","v":""},{"$f":"IF('Блок 2,3'!S18=\"\",\"\",'Блок 2,3'!S18)","v":""},{"$f":"IF('Блок 2,3'!T18=\"\",\"\",'Блок 2,3'!T18)","v":""},{"$f":"IF('Блок 2,3'!U18=\"\",\"\",'Блок 2,3'!U18)","v":""},{"$f":"IF('Блок 2,3'!V18=\"\",\"\",'Блок 2,3'!V18)","v":""},{"$f":"IF('Блок 2,3'!W18=\"\",\"\",'Блок 2,3'!W18)","v":"6-9"},{"$f":"IF('Блок 2,3'!X18=\"\",\"\",'Блок 2,3'!X18)","v":9},{"$f":"IF('Блок 2,3'!Y18=0,\"\",'Блок 2,3'!Y18)","v":""},{"$f":"IF('Блок 2,3'!Z18=0,\"\",'Блок 2,3'!Z18)","v":""},{"$f":"IF('Блок 2,3'!AA18=0,\"\",'Блок 2,3'!AA18)","v":""},{"$f":"IF('Блок 2,3'!AB18=0,\"\",'Блок 2,3'!AB18)","v":""},{"$f":"IF('Блок 2,3'!AC18=0,\"\",'Блок 2,3'!AC18)","v":""},{"$f":"IF('Блок 2,3'!AD18=0,\"\",'Блок 2,3'!AD18)","v":""},{"$f":"IF('Блок 2,3'!AE18=\"\",\"\",'Блок 2,3'!AE18)","v":""},{"$f":"IF('Блок 2,3'!AF18=\"\",\"\",'Блок 2,3'!AF18)","v":""},{"$f":"IF('Блок 2,3'!AG18=\"\",\"\",'Блок 2,3'!AG18)","v":0},{"$f":"IF('Блок 2,3'!AH18=\"\",\"\",'Блок 2,3'!AH18)","v":0},{"$f":"IF('Блок 2,3'!AI18=\"\",\"\",'Блок 2,3'!AI18)","v":0},{"$f":"IF('Блок 2,3'!AJ18=\"\",\"\",'Блок 2,3'!AJ18)","v":0},{"$f":"IF('Блок 2,3'!AK18=\"\",\"\",'Блок 2,3'!AK18)","v":0},{"$f":"IF('Блок 2,3'!AL18=\"\",\"\",'Блок 2,3'!AL18)","v":0},{"$f":"IF('Блок 2,3'!AM18=\"\",\"\",'Блок 2,3'!AM18)","v":0},{"$f":"IF('Блок 2,3'!AN18=\"\",\"\",'Блок 2,3'!AN18)","v":9},{"$f":"IF('Блок 2,3'!AO18=\"\",\"\",'Блок 2,3'!AO18)","v":0},{"$f":"IF('Блок 2,3'!AP18=\"\",\"\",'Блок 2,3'!AP18)","v":0},{"$f":"IF('Блок 2,3'!AQ18=\"\",\"\",'Блок 2,3'!AQ18)","v":0},{"$f":"IF('Блок 2,3'!AR18=\"\",\"\",'Блок 2,3'!AR18)","v":0},{"$f":"IF('Блок 2,3'!AS18=\"\",\"\",'Блок 2,3'!AS18)","v":0},{"$f":"IF('Блок 2,3'!AT18=\"\",\"\",'Блок 2,3'!AT18)","v":0},{"$f":"IF('Блок 2,3'!AU18=\"\",\"\",'Блок 2,3'!AU18)","v":0},{"$f":"IF('Блок 2,3'!AV18=\"\",\"\",'Блок 2,3'!AV18)","v":0},{"$f":"IF('Блок 2,3'!AW18=\"\",\"\",'Блок 2,3'!AW18)","v":0},{"$f":"IF('Блок 2,3'!AX18=\"\",\"\",'Блок 2,3'!AX18)","v":0},{"$f":"IF('Блок 2,3'!AY18=\"\",\"\",'Блок 2,3'!AY18)","v":0},{"$f":"IF('Блок 2,3'!AZ18=\"\",\"\",'Блок 2,3'!AZ18)","v":0},{"$f":"IF('Блок 2,3'!BA18=\"\",\"\",'Блок 2,3'!BA18)","v":0},{"$f":"IF('Блок 2,3'!BB18=\"\",\"\",'Блок 2,3'!BB18)","v":0},{"$f":"IF('Блок 2,3'!BC18=\"\",\"\",'Блок 2,3'!BC18)","v":0},{"$f":"IF('Блок 2,3'!BD18=\"\",\"\",'Блок 2,3'!BD18)","v":0}]
[null,{"$f":"IF('Блок 2,3'!B19=\"\",\"\",'Блок 2,3'!B19)","v":"Б.3.01"},{"$f":"IF('Блок 2,3'!C19=\"\",\"\",'Блок 2,3'!C19)","v":"Государственный экзамен"},{"$f":"IF('Блок 2,3'!D19=\"\",\"\",'Блок 2,3'!D19)","v":"ВК"},{"$f":"IF('Блок 2,3'!E19=\"\",\"\",'Блок 2,3'!E19)","v":""},{"$f":"IF('Блок 2,3'!F19=\"\",\"\",'Блок 2,3'!F19)","v":""},{"$f":"IF('Блок 2,3'!G19=\"\",\"\",'Блок 2,3'!G19)","v":""},{"$f":"IF('Блок 2,3'!H19=\"\",\"\",'Блок 2,3'!H19)","v":""},{"$f":"IF('Блок 2,3'!I19=\"\",\"\",'Блок 2,3'!I19)","v":""},{"$f":"IF('Блок 2,3'!J19=\"\",\"\",'Блок 2,3'!J19)","v":""},{"$f":"IF('Блок 2,3'!K19=\"\",\"\",'Блок 2,3'!K19)","v":""},{"$f":"IF('Блок 2,3'!L19=\"\",\"\",'Блок 2,3'!L19)","v":""},{"$f":"IF('Блок 2,3'!M19=\"\",\"\",'Блок 2,3'!M19)","v":""},{"$f":"IF('Блок 2,3'!N19=\"\",\"\",'Блок 2,3'!N19)","v":""},null,null,null,null,{"$f":"IF('Блок 2,3'!O19=\"\",\"\",'Блок 2,3'!O19)","v":""},{"$f":"IF('Блок 2,3'!P19=\"\",\"\",'Блок 2,3'!P19)","v":""},{"$f":"IF('Блок 2,3'!Q19=\"\",\"\",'Блок 2,3'!Q19)","v":""},{"$f":"IF('Блок 2,3'!R19=\"\",\"\",'Блок 2,3'!R19)","v":""},{"$f":"IF('Блок 2,3'!S19=\"\",\"\",'Блок 2,3'!S19)","v":""},{"$f":"IF('Блок 2,3'!T19=\"\",\"\",'Блок 2,3'!T19)","v":""},{"$f":"IF('Блок 2,3'!U19=\"\",\"\",'Блок 2,3'!U19)","v":""},{"$f":"IF('Блок 2,3'!V19=\"\",\"\",'Блок 2,3'!V19)","v":""},{"$f":"IF('Блок 2,3'!W19=\"\",\"\",'Блок 2,3'!W19)","v":""},{"$f":"IF('Блок 2,3'!X19=\"\",\"\",'Блок 2,3'!X19)","v":3},{"$f":"IF('Блок 2,3'!Y19=\"\",\"\",'Блок 2,3'!Y19)","v":""},{"$f":"IF('Блок 2,3'!Z19=\"\",\"\",'Блок 2,3'!Z19)","v":""},{"$f":"IF('Блок 2,3'!AA19=\"\",\"\",'Блок 2,3'!AA19)","v":""},{"$f":"IF('Блок 2,3'!AB19=\"\",\"\",'Блок 2,3'!AB19)","v":""},{"$f":"IF('Блок 2,3'!AC19=\"\",\"\",'Блок 2,3'!AC19)","v":""},{"$f":"IF('Блок 2,3'!AD19=\"\",\"\",'Блок 2,3'!AD19)","v":""},{"$f":"IF('Блок 2,3'!AE19=\"\",\"\",'Блок 2,3'!AE19)","v":""},{"$f":"IF('Блок 2,3'!AF19=\"\",\"\",'Блок 2,3'!AF19)","v":""},{"$f":"IF('Блок 2,3'!AG19=\"\",\"\",'Блок 2,3'!AG19)","v":""},{"$f":"IF('Блок 2,3'!AH19=\"\",\"\",'Блок 2,3'!AH19)","v":""},{"$f":"IF('Блок 2,3'!AI19=\"\",\"\",'Блок 2,3'!AI19)","v":""},{"$f":"IF('Блок 2,3'!AJ19=\"\",\"\",'Блок 2,3'!AJ19)","v":""},{"$f":"IF('Блок 2,3'!AK19=\"\",\"\",'Блок 2,3'!AK19)","v":""},{"$f":"IF('Блок 2,3'!AL19=\"\",\"\",'Блок 2,3'!AL19)","v":""},{"$f":"IF('Блок 2,3'!AM19=\"\",\"\",'Блок 2,3'!AM19)","v":""},{"$f":"IF('Блок 2,3'!AN19=\"\",\"\",'Блок 2,3'!AN19)","v":3},{"$f":"IF('Блок 2,3'!AO19=\"\",\"\",'Блок 2,3'!AO19)","v":""},{"$f":"IF('Блок 2,3'!AP19=\"\",\"\",'Блок 2,3'!AP19)","v":""},{"$f":"IF('Блок 2,3'!AQ19=\"\",\"\",'Блок 2,3'!AQ19)","v":""},{"$f":"IF('Блок 2,3'!AR19=\"\",\"\",'Блок 2,3'!AR19)","v":""},{"$f":"IF('Блок 2,3'!AS19=\"\",\"\",'Блок 2,3'!AS19)","v":""},{"$f":"IF('Блок 2,3'!AT19=\"\",\"\",'Блок 2,3'!AT19)","v":""},{"$f":"IF('Блок 2,3'!AU19=\"\",\"\",'Блок 2,3'!AU19)","v":""},{"$f":"IF('Блок 2,3'!AV19=\"\",\"\",'Блок 2,3'!AV19)","v":""},{"$f":"IF('Блок 2,3'!AW19=\"\",\"\",'Блок 2,3'!AW19)","v":""},{"$f":"IF('Блок 2,3'!AX19=\"\",\"\",'Блок 2,3'!AX19)","v":""},{"$f":"IF('Блок 2,3'!AY19=\"\",\"\",'Блок 2,3'!AY19)","v":""},{"$f":"IF('Блок 2,3'!AZ19=\"\",\"\",'Блок 2,3'!AZ19)","v":""},{"$f":"IF('Блок 2,3'!BA19=\"\",\"\",'Блок 2,3'!BA19)","v":""},{"$f":"IF('Блок 2,3'!BB19=\"\",\"\",'Блок 2,3'!BB19)","v":""},{"$f":"IF('Блок 2,3'!BC19=\"\",\"\",'Блок 2,3'!BC19)","v":""},{"$f":"IF('Блок 2,3'!BD19=\"\",\"\",'Блок 2,3'!BD19)","v":""}]
[null,{"$f":"IF('Блок 2,3'!B20=\"\",\"\",'Блок 2,3'!B20)","v":"Б.3.02"},{"$f":"IF('Блок 2,3'!C20=\"\",\"\",'Блок 2,3'!C20)","v":"Защита выпускной квалификационной работы"},{"$f":"IF('Блок 2,3'!D20=\"\",\"\",'Блок 2,3'!D20)","v":"ВК"},{"$f":"IF('Блок 2,3'!E20=\"\",\"\",'Блок 2,3'!E20)","v":""},{"$f":"IF('Блок 2,3'!F20=\"\",\"\",'Блок 2,3'!F20)","v":""},{"$f":"IF('Блок 2,3'!G20=\"\",\"\",'Блок 2,3'!G20)","v":""},{"$f":"IF('Блок 2,3'!H20=\"\",\"\",'Блок 2,3'!H20)","v":""},{"$f":"IF('Блок 2,3'!I20=\"\",\"\",'Блок 2,3'!I20)","v":""},{"$f":"IF('Блок 2,3'!J20=\"\",\"\",'Блок 2,3'!J20)","v":""},{"$f":"IF('Блок 2,3'!K20=\"\",\"\",'Блок 2,3'!K20)","v":""},{"$f":"IF('Блок 2,3'!L20=\"\",\"\",'Блок 2,3'!L20)","v":""},{"$f":"IF('Блок 2,3'!M20=\"\",\"\",'Блок 2,3'!M20)","v":""},{"$f":"IF('Блок 2,3'!N20=\"\",\"\",'Блок 2,3'!N20)","v":""},null,null,null,null,{"$f":"IF('Блок 2,3'!O20=\"\",\"\",'Блок 2,3'!O20)","v":""},{"$f":"IF('Блок 2,3'!P20=\"\",\"\",'Блок 2,3'!P20)","v":""},{"$f":"IF('Блок 2,3'!Q20=\"\",\"\",'Блок 2,3'!Q20)","v":""},{"$f":"IF('Блок 2,3'!R20=\"\",\"\",'Блок 2,3'!R20)","v":""},{"$f":"IF('Блок 2,3'!S20=\"\",\"\",'Блок 2,3'!S20)","v":""},{"$f":"IF('Блок 2,3'!T20=\"\",\"\",'Блок 2,3'!T20)","v":""},{"$f":"IF('Блок 2,3'!U20=\"\",\"\",'Блок 2,3'!U20)","v":""},{"$f":"IF('Блок 2,3'!V20=\"\",\"\",'Блок 2,3'!V20)","v":""},{"$f":"IF('Блок 2,3'!W20=\"\",\"\",'Блок 2,3'!W20)","v":""},{"$f":"IF('Блок 2,3'!X20=\"\",\"\",'Блок 2,3'!X20)","v":6},{"$f":"IF('Блок 2,3'!Y20=\"\",\"\",'Блок 2,3'!Y20)","v":""},{"$f":"IF('Блок 2,3'!Z20=\"\",\"\",'Блок 2,3'!Z20)","v":""},{"$f":"IF('Блок 2,3'!AA20=\"\",\"\",'Блок 2,3'!AA20)","v":""},{"$f":"IF('Блок 2,3'!AB20=\"\",\"\",'Блок 2,3'!AB20)","v":""},{"$f":"IF('Блок 2,3'!AC20=\"\",\"\",'Блок 2,3'!AC20)","v":""},{"$f":"IF('Блок 2,3'!AD20=\"\",\"\",'Блок 2,3'!AD20)","v":""},{"$f":"IF('Блок 2,3'!AE20=\"\",\"\",'Блок 2,3'!AE20)","v":""},{"$f":"IF('Блок 2,3'!AF20=\"\",\"\",'Блок 2,3'!AF20)","v":""},{"$f":"IF('Блок 2,3'!AG20=\"\",\"\",'Блок 2,3'!AG20)","v":""},{"$f":"IF('Блок 2,3'!AH20=\"\",\"\",'Блок 2,3'!AH20)","v":""},{"$f":"IF('Блок 2,3'!AI20=\"\",\"\",'Блок 2,3'!AI20)","v":""},{"$f":"IF('Блок 2,3'!AJ20=\"\",\"\",'Блок 2,3'!AJ20)","v":""},{"$f":"IF('Блок 2,3'!AK20=\"\",\"\",'Блок 2,3'!AK20)","v":""},{"$f":"IF('Блок 2,3'!AL20=\"\",\"\",'Блок 2,3'!AL20)","v":""},{"$f":"IF('Блок 2,3'!AM20=\"\",\"\",'Блок 2,3'!AM20)","v":""},{"$f":"IF('Блок 2,3'!AN20=\"\",\"\",'Блок 2,3'!AN20)","v":6},{"$f":"IF('Блок 2,3'!AO20=\"\",\"\",'Блок 2,3'!AO20)","v":""},{"$f":"IF('Блок 2,3'!AP20=\"\",\"\",'Блок 2,3'!AP20)","v":""},{"$f":"IF('Блок 2,3'!AQ20=\"\",\"\",'Блок 2,3'!AQ20)","v":""},{"$f":"IF('Блок 2,3'!AR20=\"\",\"\",'Блок 2,3'!AR20)","v":""},{"$f":"IF('Блок 2,3'!AS20=\"\",\"\",'Блок 2,3'!AS20)","v":""},{"$f":"IF('Блок 2,3'!AT20=\"\",\"\",'Блок 2,3'!AT20)","v":""},{"$f":"IF('Блок 2,3'!AU20=\"\",\"\",'Блок 2,3'!AU20)","v":""},{"$f":"IF('Блок 2,3'!AV20=\"\",\"\",'Блок 2,3'!AV20)","v":""},{"$f":"IF('Блок 2,3'!AW20=\"\",\"\",'Блок 2,3'!AW20)","v":""},{"$f":"IF('Блок 2,3'!AX20=\"\",\"\",'Блок 2,3'!AX20)","v":""},{"$f":"IF('Блок 2,3'!AY20=\"\",\"\",'Блок 2,3'!AY20)","v":""},{"$f":"IF('Блок 2,3'!AZ20=\"\",\"\",'Блок 2,3'!AZ20)","v":""},{"$f":"IF('Блок 2,3'!BA20=\"\",\"\",'Блок 2,3'!BA20)","v":""},{"$f":"IF('Блок 2,3'!BB20=\"\",\"\",'Блок 2,3'!BB20)","v":""},{"$f":"IF('Блок 2,3'!BC20=\"\",\"\",'Блок 2,3'!BC20)","v":""},{"$f":"IF('Блок 2,3'!BD20=\"\",\"\",'Блок 2,3'!BD20)","v":""}]
[null,{"$f":"IF('Блок 2,3'!B21=\"\",\"\",'Блок 2,3'!B21)","v":""},{"$f":"IF('Блок 2,3'!C21=\"\",\"\",'Блок 2,3'!C21)","v":""},{"$f":"IF('Блок 2,3'!D21=\"\",\"\",'Блок 2,3'!D21)","v":""},{"$f":"IF('Блок 2,3'!E21=\"\",\"\",'Блок 2,3'!E21)","v":""},{"$f":"IF('Блок 2,3'!F21=\"\",\"\",'Блок 2,3'!F21)","v":""},{"$f":"IF('Блок 2,3'!G21=\"\",\"\",'Блок 2,3'!G21)","v":""},{"$f":"IF('Блок 2,3'!H21=\"\",\"\",'Блок 2,3'!H21)","v":""},{"$f":"IF('Блок 2,3'!I21=\"\",\"\",'Блок 2,3'!I21)","v":""},{"$f":"IF('Блок 2,3'!J21=\"\",\"\",'Блок 2,3'!J21)","v":""},{"$f":"IF('Блок 2,3'!K21=\"\",\"\",'Блок 2,3'!K21)","v":""},{"$f":"IF('Блок 2,3'!L21=\"\",\"\",'Блок 2,3'!L21)","v":""},{"$f":"IF('Блок 2,3'!M21=\"\",\"\",'Блок 2,3'!M21)","v":""},{"$f":"IF('Блок 2,3'!N21=\"\",\"\",'Блок 2,3'!N21)","v":""},null,null,null,null,{"$f":"IF('Блок 2,3'!O21=\"\",\"\",'Блок 2,3'!O21)","v":""},{"$f":"IF('Блок 2,3'!P21=\"\",\"\",'Блок 2,3'!P21)","v":""},{"$f":"IF('Блок 2,3'!Q21=\"\",\"\",'Блок 2,3'!Q21)","v":""},{"$f":"IF('Блок 2,3'!R21=\"\",\"\",'Блок 2,3'!R21)","v":""},{"$f":"IF('Блок 2,3'!S21=\"\",\"\",'Блок 2,3'!S21)","v":""},{"$f":"IF('Блок 2,3'!T21=\"\",\"\",'Блок 2,3'!T21)","v":""},{"$f":"IF('Блок 2,3'!U21=\"\",\"\",'Блок 2,3'!U21)","v":""},{"$f":"IF('Блок 2,3'!V21=\"\",\"\",'Блок 2,3'!V21)","v":""},{"$f":"IF('Блок 2,3'!W21=\"\",\"\",'Блок 2,3'!W21)","v":""},{"$f":"IF('Блок 2,3'!X21=\"\",\"\",'Блок 2,3'!X21)","v":""},{"$f":"IF('Блок 2,3'!Y21=\"\",\"\",'Блок 2,3'!Y21)","v":""},{"$f":"IF('Блок 2,3'!Z21=\"\",\"\",'Блок 2,3'!Z21)","v":""},{"$f":"IF('Блок 2,3'!AA21=\"\",\"\",'Блок 2,3'!AA21)","v":""},{"$f":"IF('Блок 2,3'!AB21=\"\",\"\",'Блок 2,3'!AB21)","v":""},{"$f":"IF('Блок 2,3'!AC21=\"\",\"\",'Блок 2,3'!AC21)","v":""},{"$f":"IF('Блок 2,3'!AD21=\"\",\"\",'Блок 2,3'!AD21)","v":""},{"$f":"IF('Блок 2,3'!AE21=\"\",\"\",'Блок 2,3'!AE21)","v":""},{"$f":"IF('Блок 2,3'!AF21=\"\",\"\",'Блок 2,3'!AF21)","v":""},{"$f":"IF('Блок 2,3'!AG21=\"\",\"\",'Блок 2,3'!AG21)","v":""},{"$f":"IF('Блок 2,3'!AH21=\"\",\"\",'Блок 2,3'!AH21)","v":""},{"$f":"IF('Блок 2,3'!AI21=\"\",\"\",'Блок 2,3'!AI21)","v":""},{"$f":"IF('Блок 2,3'!AJ21=\"\",\"\",'Блок 2,3'!AJ21)","v":""},{"$f":"IF('Блок 2,3'!AK21=\"\",\"\",'Блок 2,3'!AK21)","v":""},{"$f":"IF('Блок 2,3'!AL21=\"\",\"\",'Блок 2,3'!AL21)","v":""},{"$f":"IF('Блок 2,3'!AM21=\"\",\"\",'Блок 2,3'!AM21)","v":""},{"$f":"IF('Блок 2,3'!AN21=\"\",\"\",'Блок 2,3'!AN21)","v":""},{"$f":"IF('Блок 2,3'!AO21=\"\",\"\",'Блок 2,3'!AO21)","v":""},{"$f":"IF('Блок 2,3'!AP21=\"\",\"\",'Блок 2,3'!AP21)","v":""},{"$f":"IF('Блок 2,3'!AQ21=\"\",\"\",'Блок 2,3'!AQ21)","v":""},{"$f":"IF('Блок 2,3'!AR21=\"\",\"\",'Блок 2,3'!AR21)","v":""},{"$f":"IF('Блок 2,3'!AS21=\"\",\"\",'Блок 2,3'!AS21)","v":""},{"$f":"IF('Блок 2,3'!AT21=\"\",\"\",'Блок 2,3'!AT21)","v":""},{"$f":"IF('Блок 2,3'!AU21=\"\",\"\",'Блок 2,3'!AU21)","v":""},{"$f":"IF('Блок 2,3'!AV21=\"\",\"\",'Блок 2,3'!AV21)","v":""},{"$f":"IF('Блок 2,3'!AW21=\"\",\"\",'Блок 2,3'!AW21)","v":""},{"$f":"IF('Блок 2,3'!AX21=\"\",\"\",'Блок 2,3'!AX21)","v":""},{"$f":"IF('Блок 2,3'!AY21=\"\",\"\",'Блок 2,3'!AY21)","v":""},{"$f":"IF('Блок 2,3'!AZ21=\"\",\"\",'Блок 2,3'!AZ21)","v":""},{"$f":"IF('Блок 2,3'!BA21=\"\",\"\",'Блок 2,3'!BA21)","v":""},{"$f":"IF('Блок 2,3'!BB21=\"\",\"\",'Блок 2,3'!BB21)","v":""},{"$f":"IF('Блок 2,3'!BC21=\"\",\"\",'Блок 2,3'!BC21)","v":""},{"$f":"IF('Блок 2,3'!BD21=\"\",\"\",'Блок 2,3'!BD21)","v":""}]
[null,{"$f":"IF('Блок 2,3'!B22=\"\",\"\",'Блок 2,3'!B22)","v":""},{"$f":"IF('Блок 2,3'!C22=\"\",\"\",'Блок 2,3'!C22)","v":""},{"$f":"IF('Блок 2,3'!D22=\"\",\"\",'Блок 2,3'!D22)","v":""},{"$f":"IF('Блок 2,3'!E22=\"\",\"\",'Блок 2,3'!E22)","v":""},{"$f":"IF('Блок 2,3'!F22=\"\",\"\",'Блок 2,3'!F22)","v":""},{"$f":"IF('Блок 2,3'!G22=\"\",\"\",'Блок 2,3'!G22)","v":""},{"$f":"IF('Блок 2,3'!H22=\"\",\"\",'Блок 2,3'!H22)","v":""},{"$f":"IF('Блок 2,3'!I22=\"\",\"\",'Блок 2,3'!I22)","v":""},{"$f":"IF('Блок 2,3'!J22=\"\",\"\",'Блок 2,3'!J22)","v":""},{"$f":"IF('Блок 2,3'!K22=\"\",\"\",'Блок 2,3'!K22)","v":""},{"$f":"IF('Блок 2,3'!L22=\"\",\"\",'Блок 2,3'!L22)","v":""},{"$f":"IF('Блок 2,3'!M22=\"\",\"\",'Блок 2,3'!M22)","v":""},{"$f":"IF('Блок 2,3'!N22=\"\",\"\",'Блок 2,3'!N22)","v":""},null,null,null,null,{"$f":"IF('Блок 2,3'!O22=\"\",\"\",'Блок 2,3'!O22)","v":""},{"$f":"IF('Блок 2,3'!P22=\"\",\"\",'Блок 2,3'!P22)","v":""},{"$f":"IF('Блок 2,3'!Q22=\"\",\"\",'Блок 2,3'!Q22)","v":""},{"$f":"IF('Блок 2,3'!R22=\"\",\"\",'Блок 2,3'!R22)","v":""},{"$f":"IF('Блок 2,3'!S22=\"\",\"\",'Блок 2,3'!S22)","v":""},{"$f":"IF('Блок 2,3'!T22=\"\",\"\",'Блок 2,3'!T22)","v":""},{"$f":"IF('Блок 2,3'!U22=\"\",\"\",'Блок 2,3'!U22)","v":""},{"$f":"IF('Блок 2,3'!V22=\"\",\"\",'Блок 2,3'!V22)","v":""},{"$f":"IF('Блок 2,3'!W22=\"\",\"\",'Блок 2,3'!W22)","v":""},{"$f":"IF('Блок 2,3'!X22=\"\",\"\",'Блок 2,3'!X22)","v":""},{"$f":"IF('Блок 2,3'!Y22=\"\",\"\",'Блок 2,3'!Y22)","v":""},{"$f":"IF('Блок 2,3'!Z22=\"\",\"\",'Блок 2,3'!Z22)","v":""},{"$f":"IF('Блок 2,3'!AA22=\"\",\"\",'Блок 2,3'!AA22)","v":""},{"$f":"IF('Блок 2,3'!AB22=\"\",\"\",'Блок 2,3'!AB22)","v":""},{"$f":"IF('Блок 2,3'!AC22=\"\",\"\",'Блок 2,3'!AC22)","v":""},{"$f":"IF('Блок 2,3'!AD22=\"\",\"\",'Блок 2,3'!AD22)","v":""},{"$f":"IF('Блок 2,3'!AE22=\"\",\"\",'Блок 2,3'!AE22)","v":""},{"$f":"IF('Блок 2,3'!AF22=\"\",\"\",'Блок 2,3'!AF22)","v":""},{"$f":"IF('Блок 2,3'!AG22=\"\",\"\",'Блок 2,3'!AG22)","v":""},{"$f":"IF('Блок 2,3'!AH22=\"\",\"\",'Блок 2,3'!AH22)","v":""},{"$f":"IF('Блок 2,3'!AI22=\"\",\"\",'Блок 2,3'!AI22)","v":""},{"$f":"IF('Блок 2,3'!AJ22=\"\",\"\",'Блок 2,3'!AJ22)","v":""},{"$f":"IF('Блок 2,3'!AK22=\"\",\"\",'Блок 2,3'!AK22)","v":""},{"$f":"IF('Блок 2,3'!AL22=\"\",\"\",'Блок 2,3'!AL22)","v":""},{"$f":"IF('Блок 2,3'!AM22=\"\",\"\",'Блок 2,3'!AM22)","v":""},{"$f":"IF('Блок 2,3'!AN22=\"\",\"\",'Блок 2,3'!AN22)","v":""},{"$f":"IF('Блок 2,3'!AO22=\"\",\"\",'Блок 2,3'!AO22)","v":""},{"$f":"IF('Блок 2,3'!AP22=\"\",\"\",'Блок 2,3'!AP22)","v":""},{"$f":"IF('Блок 2,3'!AQ22=\"\",\"\",'Блок 2,3'!AQ22)","v":""},{"$f":"IF('Блок 2,3'!AR22=\"\",\"\",'Блок 2,3'!AR22)","v":""},{"$f":"IF('Блок 2,3'!AS22=\"\",\"\",'Блок 2,3'!AS22)","v":""},{"$f":"IF('Блок 2,3'!AT22=\"\",\"\",'Блок 2,3'!AT22)","v":""},{"$f":"IF('Блок 2,3'!AU22=\"\",\"\",'Блок 2,3'!AU22)","v":""},{"$f":"IF('Блок 2,3'!AV22=\"\",\"\",'Блок 2,3'!AV22)","v":""},{"$f":"IF('Блок 2,3'!AW22=\"\",\"\",'Блок 2,3'!AW22)","v":""},{"$f":"IF('Блок 2,3'!AX22=\"\",\"\",'Блок 2,3'!AX22)","v":""},{"$f":"IF('Блок 2,3'!AY22=\"\",\"\",'Блок 2,3'!AY22)","v":""},{"$f":"IF('Блок 2,3'!AZ22=\"\",\"\",'Блок 2,3'!AZ22)","v":""},{"$f":"IF('Блок 2,3'!BA22=\"\",\"\",'Блок 2,3'!BA22)","v":""},{"$f":"IF('Блок 2,3'!BB22=\"\",\"\",'Блок 2,3'!BB22)","v":""},{"$f":"IF('Блок 2,3'!BC22=\"\",\"\",'Блок 2,3'!BC22)","v":""},{"$f":"IF('Блок 2,3'!BD22=\"\",\"\",'Блок 2,3'!BD22)","v":""}]
[null,{"$f":"IF('Блок 2,3'!B23=\"\",\"\",'Блок 2,3'!B23)","v":""},{"$f":"IF('Блок 2,3'!C23=\"\",\"\",'Блок 2,3'!C23)","v":""},{"$f":"IF('Блок 2,3'!D23=\"\",\"\",'Блок 2,3'!D23)","v":""},{"$f":"IF('Блок 2,3'!E23=\"\",\"\",'Блок 2,3'!E23)","v":""},{"$f":"IF('Блок 2,3'!F23=\"\",\"\",'Блок 2,3'!F23)","v":""},{"$f":"IF('Блок 2,3'!G23=\"\",\"\",'Блок 2,3'!G23)","v":""},{"$f":"IF('Блок 2,3'!H23=\"\",\"\",'Блок 2,3'!H23)","v":""},{"$f":"IF('Блок 2,3'!I23=\"\",\"\",'Блок 2,3'!I23)","v":""},{"$f":"IF('Блок 2,3'!J23=\"\",\"\",'Блок 2,3'!J23)","v":""},{"$f":"IF('Блок 2,3'!K23=\"\",\"\",'Блок 2,3'!K23)","v":""},{"$f":"IF('Блок 2,3'!L23=\"\",\"\",'Блок 2,3'!L23)","v":""},{"$f":"IF('Блок 2,3'!M23=\"\",\"\",'Блок 2,3'!M23)","v":""},{"$f":"IF('Блок 2,3'!N23=\"\",\"\",'Блок 2,3'!N23)","v":""},null,null,null,null,{"$f":"IF('Блок 2,3'!O23=\"\",\"\",'Блок 2,3'!O23)","v":""},{"$f":"IF('Блок 2,3'!P23=\"\",\"\",'Блок 2,3'!P23)","v":""},{"$f":"IF('Блок 2,3'!Q23=\"\",\"\",'Блок 2,3'!Q23)","v":""},{"$f":"IF('Блок 2,3'!R23=\"\",\"\",'Блок 2,3'!R23)","v":""},{"$f":"IF('Блок 2,3'!S23=\"\",\"\",'Блок 2,3'!S23)","v":""},{"$f":"IF('Блок 2,3'!T23=\"\",\"\",'Блок 2,3'!T23)","v":""},{"$f":"IF('Блок 2,3'!U23=\"\",\"\",'Блок 2,3'!U23)","v":""},{"$f":"IF('Блок 2,3'!V23=\"\",\"\",'Блок 2,3'!V23)","v":""},{"$f":"IF('Блок 2,3'!W23=\"\",\"\",'Блок 2,3'!W23)","v":""},{"$f":"IF('Блок 2,3'!X23=\"\",\"\",'Блок 2,3'!X23)","v":""},{"$f":"IF('Блок 2,3'!Y23=\"\",\"\",'Блок 2,3'!Y23)","v":""},{"$f":"IF('Блок 2,3'!Z23=\"\",\"\",'Блок 2,3'!Z23)","v":""},{"$f":"IF('Блок 2,3'!AA23=\"\",\"\",'Блок 2,3'!AA23)","v":""},{"$f":"IF('Блок 2,3'!AB23=\"\",\"\",'Блок 2,3'!AB23)","v":""},{"$f":"IF('Блок 2,3'!AC23=\"\",\"\",'Блок 2,3'!AC23)","v":""},{"$f":"IF('Блок 2,3'!AD23=\"\",\"\",'Блок 2,3'!AD23)","v":""},{"$f":"IF('Блок 2,3'!AE23=\"\",\"\",'Блок 2,3'!AE23)","v":""},{"$f":"IF('Блок 2,3'!AF23=\"\",\"\",'Блок 2,3'!AF23)","v":""},{"$f":"IF('Блок 2,3'!AG23=\"\",\"\",'Блок 2,3'!AG23)","v":""},{"$f":"IF('Блок 2,3'!AH23=\"\",\"\",'Блок 2,3'!AH23)","v":""},{"$f":"IF('Блок 2,3'!AI23=\"\",\"\",'Блок 2,3'!AI23)","v":""},{"$f":"IF('Блок 2,3'!AJ23=\"\",\"\",'Блок 2,3'!AJ23)","v":""},{"$f":"IF('Блок 2,3'!AK23=\"\",\"\",'Блок 2,3'!AK23)","v":""},{"$f":"IF('Блок 2,3'!AL23=\"\",\"\",'Блок 2,3'!AL23)","v":""},{"$f":"IF('Блок 2,3'!AM23=\"\",\"\",'Блок 2,3'!AM23)","v":""},{"$f":"IF('Блок 2,3'!AN23=\"\",\"\",'Блок 2,3'!AN23)","v":""},{"$f":"IF('Блок 2,3'!AO23=\"\",\"\",'Блок 2,3'!AO23)","v":""},{"$f":"IF('Блок 2,3'!AP23=\"\",\"\",'Блок 2,3'!AP23)","v":""},{"$f":"IF('Блок 2,3'!AQ23=\"\",\"\",'Блок 2,3'!AQ23)","v":""},{"$f":"IF('Блок 2,3'!AR23=\"\",\"\",'Блок 2,3'!AR23)","v":""},{"$f":"IF('Блок 2,3'!AS23=\"\",\"\",'Блок 2,3'!AS23)","v":""},{"$f":"IF('Блок 2,3'!AT23=\"\",\"\",'Блок 2,3'!AT23)","v":""},{"$f":"IF('Блок 2,3'!AU23=\"\",\"\",'Блок 2,3'!AU23)","v":""},{"$f":"IF('Блок 2,3'!AV23=\"\",\"\",'Блок 2,3'!AV23)","v":""},{"$f":"IF('Блок 2,3'!AW23=\"\",\"\",'Блок 2,3'!AW23)","v":""},{"$f":"IF('Блок 2,3'!AX23=\"\",\"\",'Блок 2,3'!AX23)","v":""},{"$f":"IF('Блок 2,3'!AY23=\"\",\"\",'Блок 2,3'!AY23)","v":""},{"$f":"IF('Блок 2,3'!AZ23=\"\",\"\",'Блок 2,3'!AZ23)","v":""},{"$f":"IF('Блок 2,3'!BA23=\"\",\"\",'Блок 2,3'!BA23)","v":""},{"$f":"IF('Блок 2,3'!BB23=\"\",\"\",'Блок 2,3'!BB23)","v":""},{"$f":"IF('Блок 2,3'!BC23=\"\",\"\",'Блок 2,3'!BC23)","v":""},{"$f":"IF('Блок 2,3'!BD23=\"\",\"\",'Блок 2,3'!BD23)","v":""}]
[null,null,"*****"]
[null,null,"Всего часов, ЗЕ, включая практики и гос. аттестацию",null,null,null,null,null,null,null,null,null,null,null,null,null,null,null,null,null,null,null,null,null,null,null,{"$f":"IF('Блок 2,3'!W27=0,\"\",'Блок 2,3'!W27)","v":120},{"$f":"IF('Блок 2,3'!X27=0,\"\",'Блок 2,3'!X27)","v":31},{"$f":"IF('Блок 2,3'!Y25=0,\"\",'Блок 2,3'!Y25)","v":360},{"$f":"IF('Блок 2,3'!Z25=0,\"\",'Блок 2,3'!Z25)","v":180},{"$f":"IF('Блок 2,3'!AA25=0,\"\",'Блок 2,3'!AA25)","v":54},{"$f":"IF('Блок 2,3'!AB25=0,\"\",'Блок 2,3'!AB25)","v":126},{"$f":"IF('Блок 2,3'!AC25=0,\"\",'Блок 2,3'!AC25)","v":""},{"$f":"IF('Блок 2,3'!AD25=0,\"\",'Блок 2,3'!AD25)","v":180},{"$f":"IF('Блок 2,3'!AE25=0,\"\",'Блок 2,3'!AE25)","v":""},{"$f":"IF('Блок 2,3'!AF25=0,\"\",'Блок 2,3'!AF25)","v":""},{"$f":"IF('Блок 2,3'!AG25=0,\"\",'Блок 2,3'!AG25)","v":4},{"$f":"IF('Блок 2,3'!AH27=0,\"\",'Блок 2,3'!AH27)","v":4},{"$f":"IF('Блок 2,3'!AI25=0,\"\",'Блок 2,3'!AI25)","v":6},{"$f":"IF('Блок 2,3'!AJ27=0,\"\",'Блок 2,3'!AJ27)","v":12},{"$f":"IF('Блок 2,3'!AK25=0,\"\",'Блок 2,3'!AK25)","v":""},{"$f":"IF('Блок 2,3'!AL27=0,\"\",'Блок 2,3'!AL27)","v":""},{"$f":"IF('Блок 2,3'!AM25=0,\"\",'Блок 2,3'!AM25)","v":""},{"$f":"IF('Блок 2,3'!AN27=0,\"\",'Блок 2,3'!AN27)","v":15},{"$f":"IF('Блок 2,3'!AO25=0,\"\",'Блок 2,3'!AO25)","v":""},{"$f":"IF('Блок 2,3'!AP27=0,\"\",'Блок 2,3'!AP27)","v":""},{"$f":"IF('Блок 2,3'!AQ25=0,\"\",'Блок 2,3'!AQ25)","v":""},{"$f":"IF('Блок 2,3'!AR27=0,\"\",'Блок 2,3'!AR27)","v":""},{"$f":"IF('Блок 2,3'!AS25=0,\"\",'Блок 2,3'!AS25)","v":""},{"$f":"IF('Блок 2,3'!AT27=0,\"\",'Блок 2,3'!AT27)","v":""},{"$f":"IF('Блок 2,3'!AU25=0,\"\",'Блок 2,3'!AU25)","v":""},{"$f":"IF('Блок 2,3'!AV27=0,\"\",'Блок 2,3'!AV27)","v":""},{"$f":"IF('Блок 2,3'!AW25=0,\"\",'Блок 2,3'!AW25)","v":""},{"$f":"IF('Блок 2,3'!AX25=0,\"\",'Блок 2,3'!AX25)","v":""},{"$f":"IF('Блок 2,3'!AY25=0,\"\",'Блок 2,3'!AY25)","v":""},{"$f":"IF('Блок 2,3'!AZ25=0,\"\",'Блок 2,3'!AZ25)","v":""},{"$f":"IF('Блок 2,3'!BA25=0,\"\",'Блок 2,3'!BA25)","v":""},{"$f":"IF('Блок 2,3'!BB25=0,\"\",'Блок 2,3'!BB25)","v":""},{"$f":"IF('Блок 2,3'!BC25=0,\"\",'Блок 2,3'!BC25)","v":""},{"$f":"IF('Блок 2,3'!BD25=0,\"\",'Блок 2,3'!BD25)","v":""}]
[null,null,null,null,null,null,null,null,null,null,null,null,null,null,null,null,null,null,null,null,null,null,null,null,null,null,{"$f":"IF('Блок 2,3'!W26=0,\"\",'Блок 2,3'!W26)","v":""},{"$f":"IF('Блок 2,3'!X26=0,\"\",'Блок 2,3'!X26)","v":""},{"$f":"IF('Блок 2,3'!Y26=0,\"\",'Блок 2,3'!Y26)","v":360},{"$f":"IF('Блок 2,3'!Z26=0,\"\",'Блок 2,3'!Z26)","v":{"$error":"#VALUE!"}},{"$f":"IF('Блок 2,3'!AA26=0,\"\",'Блок 2,3'!AA26)","v":""},{"$f":"IF('Блок 2,3'!AB26=0,\"\",'Блок 2,3'!AB26)","v":""},{"$f":"IF('Блок 2,3'!AC26=0,\"\",'Блок 2,3'!AC26)","v":""},{"$f":"IF('Блок 2,3'!AD26=0,\"\",'Блок 2,3'!AD26)","v":""},{"$f":"IF('Блок 2,3'!AE26=0,\"\",'Блок 2,3'!AE26)","v":""},{"$f":"IF('Блок 2,3'!AF26=0,\"\",'Блок 2,3'!AF26)","v":""},{"$f":"IF('Блок 2,3'!AG26=0,\"\",'Блок 2,3'!AG26)","v":4},{"$f":"IF('Блок 2,3'!AH26=0,\"\",'Блок 2,3'!AH26)","v":""},{"$f":"IF('Блок 2,3'!AI26=0,\"\",'Блок 2,3'!AI26)","v":6},{"$f":"IF('Блок 2,3'!AJ26=0,\"\",'Блок 2,3'!AJ26)","v":""},{"$f":"IF('Блок 2,3'!AK26=0,\"\",'Блок 2,3'!AK26)","v":""},{"$f":"IF('Блок 2,3'!AL26=0,\"\",'Блок 2,3'!AL26)","v":""},{"$f":"IF('Блок 2,3'!AM26=0,\"\",'Блок 2,3'!AM26)","v":""},{"$f":"IF('Блок 2,3'!AN26=0,\"\",'Блок 2,3'!AN26)","v":""},{"$f":"IF('Блок 2,3'!AO26=0,\"\",'Блок 2,3'!AO26)","v":""},{"$f":"IF('Блок 2,3'!AP26=0,\"\",'Блок 2,3'!AP26)","v":""},{"$f":"IF('Блок 2,3'!AQ26=0,\"\",'Блок 2,3'!AQ26)","v":""},{"$f":"IF('Блок 2,3'!AR26=0,\"\",'Блок 2,3'!AR26)","v":""},{"$f":"IF('Блок 2,3'!AS26=0,\"\",'Блок 2,3'!AS26)","v":""},{"$f":"IF('Блок 2,3'!AT26=0,\"\",'Блок 2,3'!AT26)","v":""},{"$f":"IF('Блок 2,3'!AU26=0,\"\",'Блок 2,3'!AU26)","v":""},{"$f":"IF('Блок 2,3'!AV26=0,\"\",'Блок 2,3'!AV26)","v":""},{"$f":"IF('Блок 2,3'!AW26=0,\"\",'Блок 2,3'!AW26)","v":""},{"$f":"IF('Блок 2,3'!AX26=0,\"\",'Блок 2,3'!AX26)","v":""},{"$f":"IF('Блок 2,3'!AY26=0,\"\",'Блок 2,3'!AY26)","v":""},{"$f":"IF('Блок 2,3'!AZ26=0,\"\",'Блок 2,3'!AZ26)","v":""},{"$f":"IF('Блок 2,3'!BA26=0,\"\",'Блок 2,3'!BA26)","v":""},{"$f":"IF('Блок 2,3'!BB26=0,\"\",'Блок 2,3'!BB26)","v":""},{"$f":"IF('Блок 2,3'!BC26=0,\"\",'Блок 2,3'!BC26)","v":""},{"$f":"IF('Блок 2,3'!BD26=0,\"\",'Блок 2,3'!BD26)","v":""}]
[null,null,"Число курсовых проектов",null,null,null,null,null,null,null,null,null,null,null,null,null,null,null,null,null,null,null,null,null,null,null,{"$f":"IF('Блок 2,3'!W28=0,\"\",'Блок 2,3'!W28)","v":""},{"$f":"IF('Блок 2,3'!X28=0,\"\",'Блок 2,3'!X28)","v":""},{"$f":"IF('Блок 2,3'!Y28=0,\"\",'Блок 2,3'!Y28)","v":""},{"$f":"IF('Блок 2,3'!Z28=0,\"\",'Блок 2,3'!Z28)","v":""},{"$f":"IF('Блок 2,3'!AA28=0,\"\",'Блок 2,3'!AA28)","v":""},{"$f":"IF('Блок 2,3'!AB28=0,\"\",'Блок 2,3'!AB28)","v":""},{"$f":"IF('Блок 2,3'!AC28=0,\"\",'Блок 2,3'!AC28)","v":""},{"$f":"IF('Блок 2,3'!AD28=0,\"\",'Блок 2,3'!AD28)","v":""},{"$f":"IF('Блок 2,3'!AE28=0,\"\",'Блок 2,3'!AE28)","v":""},{"$f":"IF('Блок 2,3'!AF28=0,\"\",'Блок 2,3'!AF28)","v":""},{"$f":"IF('Блок 2,3'!AG28=0,\"\",'Блок 2,3'!AG28)","v":""},{"$f":"IF('Блок 2,3'!AH28=0,\"\",'Блок 2,3'!AH28)","v":""},{"$f":"IF('Блок 2,3'!AI28=0,\"\",'Блок 2,3'!AI28)","v":""},{"$f":"IF('Блок 2,3'!AJ28=0,\"\",'Блок 2,3'!AJ28)","v":""},{"$f":"IF('Блок 2,3'!AK28=0,\"\",'Блок 2,3'!AK28)","v":""},{"$f":"IF('Блок 2,3'!AL28=0,\"\",'Блок 2,3'!AL28)","v":""},{"$f":"IF('Блок 2,3'!AM28=0,\"\",'Блок 2,3'!AM28)","v":""},{"$f":"IF('Блок 2,3'!AN28=0,\"\",'Блок 2,3'!AN28)","v":""},{"$f":"IF('Блок 2,3'!AO28=0,\"\",'Блок 2,3'!AO28)","v":""},{"$f":"IF('Блок 2,3'!AP28=0,\"\",'Блок 2,3'!AP28)","v":""},{"$f":"IF('Блок 2,3'!AQ28=0,\"\",'Блок 2,3'!AQ28)","v":""},{"$f":"IF('Блок 2,3'!AR28=0,\"\",'Блок 2,3'!AR28)","v":""},{"$f":"IF('Блок 2,3'!AS28=0,\"\",'Блок 2,3'!AS28)","v":""},{"$f":"IF('Блок 2,3'!AT28=0,\"\",'Блок 2,3'!AT28)","v":""},{"$f":"IF('Блок 2,3'!AU28=0,\"\",'Блок 2,3'!AU28)","v":""},{"$f":"IF('Блок 2,3'!AV28=0,\"\",'Блок 2,3'!AV28)","v":""},{"$f":"IF('Блок 2,3'!AW28=0,\"\",'Блок 2,3'!AW28)","v":""},{"$f":"IF('Блок 2,3'!AX28=0,\"\",'Блок 2,3'!AX28)","v":""},{"$f":"IF('Блок 2,3'!AY28=0,\"\",'Блок 2,3'!AY28)","v":""},{"$f":"IF('Блок 2,3'!AZ28=0,\"\",'Блок 2,3'!AZ28)","v":""},{"$f":"IF('Блок 2,3'!BA28=0,\"\",'Блок 2,3'!BA28)","v":""},{"$f":"IF('Блок 2,3'!BB28=0,\"\",'Блок 2,3'!BB28)","v":""},{"$f":"IF('Блок 2,3'!BC28=0,\"\",'Блок 2,3'!BC28)","v":""},{"$f":"IF('Блок 2,3'!BD28=0,\"\",'Блок 2,3'!BD28)","v":""}]
[null,null,"Число курсовых работ",null,null,null,null,null,null,null,null,null,null,null,null,null,null,null,null,null,null,null,null,null,null,null,{"$f":"IF('Блок 2,3'!W29=0,\"\",'Блок 2,3'!W29)","v":""},{"$f":"IF('Блок 2,3'!X29=0,\"\",'Блок 2,3'!X29)","v":""},{"$f":"IF('Блок 2,3'!Y29=0,\"\",'Блок 2,3'!Y29)","v":""},{"$f":"IF('Блок 2,3'!Z29=0,\"\",'Блок 2,3'!Z29)","v":""},{"$f":"IF('Блок 2,3'!AA29=0,\"\",'Блок 2,3'!AA29)","v":""},{"$f":"IF('Блок 2,3'!AB29=0,\"\",'Блок 2,3'!AB29)","v":""},{"$f":"IF('Блок 2,3'!AC29=0,\"\",'Блок 2,3'!AC29)","v":""},{"$f":"IF('Блок 2,3'!AD29=0,\"\",'Блок 2,3'!AD29)","v":""},{"$f":"IF('Блок 2,3'!AE29=0,\"\",'Блок 2,3'!AE29)","v":""},{"$f":"IF('Блок 2,3'!AF29=0,\"\",'Блок 2,3'!AF29)","v":""},{"$f":"IF('Блок 2,3'!AG29=0,\"\",'Блок 2,3'!AG29)","v":""},{"$f":"IF('Блок 2,3'!AH29=0,\"\",'Блок 2,3'!AH29)","v":""},{"$f":"IF('Блок 2,3'!AI29=0,\"\",'Блок 2,3'!AI29)","v":""},{"$f":"IF('Блок 2,3'!AJ29=0,\"\",'Блок 2,3'!AJ29)","v":""},{"$f":"IF('Блок 2,3'!AK29=0,\"\",'Блок 2,3'!AK29)","v":""},{"$f":"IF('Блок 2,3'!AL29=0,\"\",'Блок 2,3'!AL29)","v":""},{"$f":"IF('Блок 2,3'!AM29=0,\"\",'Блок 2,3'!AM29)","v":""},{"$f":"IF('Блок 2,3'!AN29=0,\"\",'Блок 2,3'!AN29)","v":""},{"$f":"IF('Блок 2,3'!AO29=0,\"\",'Блок 2,3'!AO29)","v":""},{"$f":"IF('Блок 2,3'!AP29=0,\"\",'Блок 2,3'!AP29)","v":""},{"$f":"IF('Блок 2,3'!AQ29=0,\"\",'Блок 2,3'!AQ29)","v":""},{"$f":"IF('Блок 2,3'!AR29=0,\"\",'Блок 2,3'!AR29)","v":""},{"$f":"IF('Блок 2,3'!AS29=0,\"\",'Блок 2,3'!AS29)","v":""},{"$f":"IF('Блок 2,3'!AT29=0,\"\",'Блок 2,3'!AT29)","v":""},{"$f":"IF('Блок 2,3'!AU29=0,\"\",'Блок 2,3'!AU29)","v":""},{"$f":"IF('Блок 2,3'!AV29=0,\"\",'Блок 2,3'!AV29)","v":""},{"$f":"IF('Блок 2,3'!AW29=0,\"\",'Блок 2,3'!AW29)","v":""},{"$f":"IF('Блок 2,3'!AX29=0,\"\",'Блок 2,3'!AX29)","v":""},{"$f":"IF('Блок 2,3'!AY29=0,\"\",'Блок 2,3'!AY29)","v":""},{"$f":"IF('Блок 2,3'!AZ29=0,\"\",'Блок 2,3'!AZ29)","v":""},{"$f":"IF('Блок 2,3'!BA29=0,\"\",'Блок 2,3'!BA29)","v":""},{"$f":"IF('Блок 2,3'!BB29=0,\"\",'Блок 2,3'!BB29)","v":""},{"$f":"IF('Блок 2,3'!BC29=0,\"\",'Блок 2,3'!BC29)","v":""},{"$f":"IF('Блок 2,3'!BD29=0,\"\",'Блок 2,3'!BD29)","v":""}]
[null,null,"Число экзаменов ",null,null,null,null,null,null,null,null,null,null,null,null,null,null,null,null,null,null,null,null,null,null,null,{"$f":"IF('Блок 2,3'!W30=0,\"\",'Блок 2,3'!W30)","v":""},{"$f":"IF('Блок 2,3'!X30=0,\"\",'Блок 2,3'!X30)","v":""},{"$f":"IF('Блок 2,3'!Y30=0,\"\",'Блок 2,3'!Y30)","v":""},{"$f":"IF('Блок 2,3'!Z30=0,\"\",'Блок 2,3'!Z30)","v":""},{"$f":"IF('Блок 2,3'!AA30=0,\"\",'Блок 2,3'!AA30)","v":""},{"$f":"IF('Блок 2,3'!AB30=0,\"\",'Блок 2,3'!AB30)","v":""},{"$f":"IF('Блок 2,3'!AC30=0,\"\",'Блок 2,3'!AC30)","v":""},{"$f":"IF('Блок 2,3'!AD30=0,\"\",'Блок 2,3'!AD30)","v":""},{"$f":"IF('Блок 2,3'!AE30=0,\"\",'Блок 2,3'!AE30)","v":""},{"$f":"IF('Блок 2,3'!AF30=0,\"\",'Блок 2,3'!AF30)","v":""},{"$f":"IF('Блок 2,3'!AG30=0,\"\",'Блок 2,3'!AG30)","v":""},{"$f":"IF('Блок 2,3'!AH30=0,\"\",'Блок 2,3'!AH30)","v":""},{"$f":"IF('Блок 2,3'!AI30=0,\"\",'Блок 2,3'!AI30)","v":1},{"$f":"IF('Блок 2,3'!AJ30=0,\"\",'Блок 2,3'!AJ30)","v":""},{"$f":"IF('Блок 2,3'!AK30=0,\"\",'Блок 2,3'!AK30)","v":""},{"$f":"IF('Блок 2,3'!AL30=0,\"\",'Блок 2,3'!AL30)","v":""},{"$f":"IF('Блок 2,3'!AM30=0,\"\",'Блок 2,3'!AM30)","v":""},{"$f":"IF('Блок 2,3'!AN30=0,\"\",'Блок 2,3'!AN30)","v":""},{"$f":"IF('Блок 2,3'!AO30=0,\"\",'Блок 2,3'!AO30)","v":""},{"$f":"IF('Блок 2,3'!AP30=0,\"\",'Блок 2,3'!AP30)","v":""},{"$f":"IF('Блок 2,3'!AQ30=0,\"\",'Блок 2,3'!AQ30)","v":""},{"$f":"IF('Блок 2,3'!AR30=0,\"\",'Блок 2,3'!AR30)","v":""},{"$f":"IF('Блок 2,3'!AS30=0,\"\",'Блок 2,3'!AS30)","v":""},{"$f":"IF('Блок 2,3'!AT30=0,\"\",'Блок 2,3'!AT30)","v":""},{"$f":"IF('Блок 2,3'!AU30=0,\"\",'Блок 2,3'!AU30)","v":""},{"$f":"IF('Блок 2,3'!AV30=0,\"\",'Блок 2,3'!AV30)","v":""},{"$f":"IF('Блок 2,3'!AW30=0,\"\",'Блок 2,3'!AW30)","v":""},{"$f":"IF('Блок 2,3'!AX30=0,\"\",'Блок 2,3'!AX30)","v":""},{"$f":"IF('Блок 2,3'!AY30=0,\"\",'Блок 2,3'!AY30)","v":""},{"$f":"IF('Блок 2,3'!AZ30=0,\"\",'Блок 2,3'!AZ30)","v":""},{"$f":"IF('Блок 2,3'!BA30=0,\"\",'Блок 2,3'!BA30)","v":""},{"$f":"IF('Блок 2,3'!BB30=0,\"\",'Блок 2,3'!BB30)","v":""},{"$f":"IF('Блок 2,3'!BC30=0,\"\",'Блок 2,3'!BC30)","v":""},{"$f":"IF('Блок 2,3'!BD30=0,\"\",'Блок 2,3'!BD30)","v":""}]
[null,null,"Число зачетов, в том числе диф.зачетов",null,null,null,null,null,null,null,null,null,null,null,null,null,null,null,null,null,null,null,null,null,null,null,{"$f":"IF('Блок 2,3'!W31=0,\"\",'Блок 2,3'!W31)","v":""},{"$f":"IF('Блок 2,3'!X31=0,\"\",'Блок 2,3'!X31)","v":""},{"$f":"IF('Блок 2,3'!Y31=0,\"\",'Блок 2,3'!Y31)","v":""},{"$f":"IF('Блок 2,3'!Z31=0,\"\",'Блок 2,3'!Z31)","v":""},{"$f":"IF('Блок 2,3'!AA31=0,\"\",'Блок 2,3'!AA31)","v":""},{"$f":"IF('Блок 2,3'!AB31=0,\"\",'Блок 2,3'!AB31)","v":""},{"$f":"IF('Блок 2,3'!AC31=0,\"\",'Блок 2,3'!AC31)","v":""},{"$f":"IF('Блок 2,3'!AD31=0,\"\",'Блок 2,3'!AD31)","v":""},{"$f":"IF('Блок 2,3'!AE31=0,\"\",'Блок 2,3'!AE31)","v":""},{"$f":"IF('Блок 2,3'!AF31=0,\"\",'Блок 2,3'!AF31)","v":""},{"$f":"IF('Блок 2,3'!AG31=0,\"\",'Блок 2,3'!AG31)","v":2},{"$f":"IF('Блок 2,3'!AH31=0,\"\",'Блок 2,3'!AH31)","v":""},{"$f":"IF('Блок 2,3'!AI31=0,\"\",'Блок 2,3'!AI31)","v":2},{"$f":"IF('Блок 2,3'!AJ31=0,\"\",'Блок 2,3'!AJ31)","v":""},{"$f":"IF('Блок 2,3'!AK31=0,\"\",'Блок 2,3'!AK31)","v":""},{"$f":"IF('Блок 2,3'!AL31=0,\"\",'Блок 2,3'!AL31)","v":""},{"$f":"IF('Блок 2,3'!AM31=0,\"\",'Блок 2,3'!AM31)","v":""},{"$f":"IF('Блок 2,3'!AN31=0,\"\",'Блок 2,3'!AN31)","v":""},{"$f":"IF('Блок 2,3'!AO31=0,\"\",'Блок 2,3'!AO31)","v":""},{"$f":"IF('Блок 2,3'!AP31=0,\"\",'Блок 2,3'!AP31)","v":""},{"$f":"IF('Блок 2,3'!AQ31=0,\"\",'Блок 2,3'!AQ31)","v":""},{"$f":"IF('Блок 2,3'!AR31=0,\"\",'Блок 2,3'!AR31)","v":""},{"$f":"IF('Блок 2,3'!AS31=0,\"\",'Блок 2,3'!AS31)","v":""},{"$f":"IF('Блок 2,3'!AT31=0,\"\",'Блок 2,3'!AT31)","v":""},{"$f":"IF('Блок 2,3'!AU31=0,\"\",'Блок 2,3'!AU31)","v":""},{"$f":"IF('Блок 2,3'!AV31=0,\"\",'Блок 2,3'!AV31)","v":""},{"$f":"IF('Блок 2,3'!AW31=0,\"\",'Блок 2,3'!AW31)","v":""},{"$f":"IF('Блок 2,3'!AX31=0,\"\",'Блок 2,3'!AX31)","v":""},{"$f":"IF('Блок 2,3'!AY31=0,\"\",'Блок 2,3'!AY31)","v":""},{"$f":"IF('Блок 2,3'!AZ31=0,\"\",'Блок 2,3'!AZ31)","v":""},{"$f":"IF('Блок 2,3'!BA31=0,\"\",'Блок 2,3'!BA31)","v":""},{"$f":"IF('Блок 2,3'!BB31=0,\"\",'Блок 2,3'!BB31)","v":""},{"$f":"IF('Блок 2,3'!BC31=0,\"\",'Блок 2,3'!BC31)","v":""},{"$f":"IF('Блок 2,3'!BD31=0,\"\",'Блок 2,3'!BD31)","v":""}]
[null,null,0]
[null,null,0]
[null,null,0]
[]
[]
[]
[]
[null,null,{"$f":"'Блок 2,3'!C41","v":"Блок 2. Практики: 8 нед.:"},{"$f":"'Блок 2,3'!D41","v":"форма контроля"},{"$f":"'Блок 2,3'!E41","v":"сем."},{"$f":"'Блок 2,3'!F41","v":0},{"$f":"'Блок 2,3'!G41","v":"нед."},{"$f":"'Блок 2,3'!H41","v":0},{"$f":"'Блок 2,3'!I41","v":"ЗЕ"},{"$f":"'Блок 2,3'!J41","v":0},{"$f":"'Блок 2,3'!L41","v":"Блок 3. Итоговая аттестация: 4 нед.:"},null,null,null,null,null,null,null,null,null,null,null,null,null,null,null,null,null,null,{"$f":"'Блок 2,3'!AD41","v":"сем."},{"$f":"IF('Блок 2,3'!AG41=\"\",\"\",'Блок 2,3'!AG41)","v":"нед."},{"$f":"IF('Блок 2,3'!AI41=\"\",\"\",'Блок 2,3'!AI41)","v":"ЗЕ"}]
[null,null,{"$f":"IF('Блок 2,3'!C42=\"\",\"\",'Блок 2,3'!C42)","v":"Учебная"},{"$f":"IF('Блок 2,3'!D42=\"\",\"\",'Блок 2,3'!D42)","v":"оценка"},{"$f":"IF('Блок 2,3'!E42=\"\",\"\",'Блок 2,3'!E42)","v":2},{"$f":"IF('Блок 2,3'!F42=\"\",\"\",'Блок 2,3'!F42)","v":""},{"$f":"IF('Блок 2,3'!G42=\"\",\"\",'Блок 2,3'!G42)","v":2},{"$f":"IF('Блок 2,3'!H42=\"\",\"\",'Блок 2,3'!H42)","v":""},{"$f":"IF('Блок 2,3'!I42=\"\",\"\",'Блок 2,3'!I42)","v":3},{"$f":"IF('Блок 2,3'!J42=\"\",\"\",'Блок 2,3'!J42)","v":""},{"$f":"IF('Блок 2,3'!K42=\"\",\"\",'Блок 2,3'!K42)","v":"Государственный экзамен"},{"$f":"IF('Блок 2,3'!L42=\"\",\"\",'Блок 2,3'!L42)","v":""},{"$f":"IF('Блок 2,3'!M42=\"\",\"\",'Блок 2,3'!M42)","v":""},{"$f":"IF('Блок 2,3'!N42=\"\",\"\",'Блок 2,3'!N42)","v":""},{"$f":"IF('Блок 2,3'!O42=\"\",\"\",'Блок 2,3'!O42)","v":""},{"$f":"IF('Блок 2,3'!P42=\"\",\"\",'Блок 2,3'!P42)","v":""},{"$f":"IF('Блок 2,3'!Q42=\"\",\"\",'Блок 2,3'!Q42)","v":""},{"$f":"IF('Блок 2,3'!R42=\"\",\"\",'Блок 2,3'!R42)","v":""},{"$f":"IF('Блок 2,3'!S42=\"\",\"\",'Блок 2,3'!S42)","v":""},{"$f":"IF('Блок 2,3'!T42=\"\",\"\",'Блок 2,3'!T42)","v":""},{"$f":"IF('Блок 2,3'!U42=\"\",\"\",'Блок 2,3'!U42)","v":""},{"$f":"IF('Блок 2,3'!V42=\"\",\"\",'Блок 2,3'!V42)","v":""},{"$f":"IF('Блок 2,3'!W42=\"\",\"\",'Блок 2,3'!W42)","v":""},{"$f":"IF('Блок 2,3'!X42=\"\",\"\",'Блок 2,3'!X42)","v":""},{"$f":"IF('Блок 2,3'!Y42=\"\",\"\",'Блок 2,3'!Y42)","v":""},{"$f":"IF('Блок 2,3'!Z42=\"\",\"\",'Блок 2,3'!Z42)","v":""},{"$f":"IF('Блок 2,3'!AA42=\"\",\"\",'Блок 2,3'!AA42)","v":""},{"$f":"IF('Блок 2,3'!AB42=\"\",\"\",'Блок 2,3'!AB42)","v":""},{"$f":"IF('Блок 2,3'!AC42=\"\",\"\",'Блок 2,3'!AC42)","v":""},{"$f":"IF('Блок 2,3'!AD42=\"\",\"\",'Блок 2,3'!AD42)","v":4},{"$f":"IF('Блок 2,3'!AG42=\"\",\"\",'Блок 2,3'!AG42)","v":2},{"$f":"IF('Блок 2,3'!AI42=\"\",\"\",'Блок 2,3'!AI42)","v":3}]
[null,null,{"$f":"IF('Блок 2,3'!C43=\"\",\"\",'Блок 2,3'!C43)","v":"Производственная"},{"$f":"IF('Блок 2,3'!D43=\"\",\"\",'Блок 2,3'!D43)","v":"оценка"},{"$f":"IF('Блок 2,3'!E43=\"\",\"\",'Блок 2,3'!E43)","v":2},{"$f":"IF('Блок 2,3'!F43=\"\",\"\",'Блок 2,3'!F43)","v":""},{"$f":"IF('Блок 2,3'!G43=\"\",\"\",'Блок 2,3'!G43)","v":2},{"$f":"IF('Блок 2,3'!H43=\"\",\"\",'Блок 2,3'!H43)","v":""},{"$f":"IF('Блок 2,3'!I43=\"\",\"\",'Блок 2,3'!I43)","v":3},{"$f":"IF('Блок 2,3'!J43=\"\",\"\",'Блок 2,3'!J43)","v":""},{"$f":"IF('Блок 2,3'!K43=\"\",\"\",'Блок 2,3'!K43)","v":"Защита выпускной квалификационной работы"},{"$f":"IF('Блок 2,3'!L43=\"\",\"\",'Блок 2,3'!L43)","v":""},{"$f":"IF('Блок 2,3'!M43=\"\",\"\",'Блок 2,3'!M43)","v":""},{"$f":"IF('Блок 2,3'!N43=\"\",\"\",'Блок 2,3'!N43)","v":""},{"$f":"IF('Блок 2,3'!O43=\"\",\"\",'Блок 2,3'!O43)","v":""},{"$f":"IF('Блок 2,3'!P43=\"\",\"\",'Блок 2,3'!P43)","v":""},{"$f":"IF('Блок 2,3'!Q43=\"\",\"\",'Блок 2,3'!Q43)","v":""},{"$f":"IF('Блок 2,3'!R43=\"\",\"\",'Блок 2,3'!R43)","v":""},{"$f":"IF('Блок 2,3'!S43=\"\",\"\",'Блок 2,3'!S43)","v":""},{"$f":"IF('Блок 2,3'!T43=\"\",\"\",'Блок 2,3'!T43)","v":""},{"$f":"IF('Блок 2,3'!U43=\"\",\"\",'Блок 2,3'!U43)","v":""},{"$f":"IF('Блок 2,3'!V43=\"\",\"\",'Блок 2,3'!V43)","v":""},{"$f":"IF('Блок 2,3'!W43=\"\",\"\",'Блок 2,3'!W43)","v":""},{"$f":"IF('Блок 2,3'!X43=\"\",\"\",'Блок 2,3'!X43)","v":""},{"$f":"IF('Блок 2,3'!Y43=\"\",\"\",'Блок 2,3'!Y43)","v":""},{"$f":"IF('Блок 2,3'!Z43=\"\",\"\",'Блок 2,3'!Z43)","v":""},{"$f":"IF('Блок 2,3'!AA43=\"\",\"\",'Блок 2,3'!AA43)","v":""},{"$f":"IF('Блок 2,3'!AB43=\"\",\"\",'Блок 2,3'!AB43)","v":""},{"$f":"IF('Блок 2,3'!AC43=\"\",\"\",'Блок 2,3'!AC43)","v":""},{"$f":"'Блок 2,3'!AD43","v":4},{"$f":"IF('Блок 2,3'!AG43=\"\",\"\",'Блок 2,3'!AG43)","v":2},{"$f":"IF('Блок 2,3'!AI43=\"\",\"\",'Блок 2,3'!AI43)","v":6}]
[null,null,{"$f":"IF('Блок 2,3'!C44=\"\",\"\",'Блок 2,3'!C44)","v":"Преддипломная"},{"$f":"IF('Блок 2,3'!D44=\"\",\"\",'Блок 2,3'!D44)","v":"оценка"},{"$f":"IF('Блок 2,3'!E44=\"\",\"\",'Блок 2,3'!E44)","v":4},{"$f":"IF('Блок 2,3'!F44=\"\",\"\",'Блок 2,3'!F44)","v":""},{"$f":"IF('Блок 2,3'!G44=\"\",\"\",'Блок 2,3'!G44)","v":4},{"$f":"IF('Блок 2,3'!H44=\"\",\"\",'Блок 2,3'!H44)","v":""},{"$f":"IF('Блок 2,3'!I44=\"\",\"\",'Блок 2,3'!I44)","v":6},{"$f":"IF('Блок 2,3'!J44=\"\",\"\",'Блок 2,3'!J44)","v":""},{"$f":"IF('Блок 2,3'!K44=\"\",\"\",'Блок 2,3'!K44)","v":""},{"$f":"IF('Блок 2,3'!L44=\"\",\"\",'Блок 2,3'!L44)","v":""},{"$f":"IF('Блок 2,3'!M44=\"\",\"\",'Блок 2,3'!M44)","v":""},{"$f":"IF('Блок 2,3'!N44=\"\",\"\",'Блок 2,3'!N44)","v":""},{"$f":"IF('Блок 2,3'!O44=\"\",\"\",'Блок 2,3'!O44)","v":""},{"$f":"IF('Блок 2,3'!P44=\"\",\"\",'Блок 2,3'!P44)","v":""},{"$f":"IF('Блок 2,3'!Q44=\"\",\"\",'Блок 2,3'!Q44)","v":""},{"$f":"IF('Блок 2,3'!R44=\"\",\"\",'Блок 2,3'!R44)","v":""},{"$f":"IF('Блок 2,3'!S44=\"\",\"\",'Блок 2,3'!S44)","v":""},{"$f":"IF('Блок 2,3'!T44=\"\",\"\",'Блок 2,3'!T44)","v":""},{"$f":"IF('Блок 2,3'!U44=\"\",\"\",'Блок 2,3'!U44)","v":""},{"$f":"IF('Блок 2,3'!V44=\"\",\"\",'Блок 2,3'!V44)","v":""},{"$f":"IF('Блок 2,3'!W44=\"\",\"\",'Блок 2,3'!W44)","v":""},{"$f":"IF('Блок 2,3'!X44=\"\",\"\",'Блок 2,3'!X44)","v":""},{"$f":"IF('Блок 2,3'!Y44=\"\",\"\",'Блок 2,3'!Y44)","v":""},{"$f":"IF('Блок 2,3'!Z44=\"\",\"\",'Блок 2,3'!Z44)","v":""},{"$f":"IF('Блок 2,3'!AA44=\"\",\"\",'Блок 2,3'!AA44)","v":""},{"$f":"IF('Блок 2,3'!AB44=\"\",\"\",'Блок 2,3'!AB44)","v":""},{"$f":"IF('Блок 2,3'!AC44=\"\",\"\",'Блок 2,3'!AC44)","v":""},null,{"$f":"IF('Блок 2,3'!AG44=\"\",\"\",'Блок 2,3'!AG44)","v":""},{"$f":"IF('Блок 2,3'!AI44=\"\",\"\",'Блок 2,3'!AI44)","v":""}]
[null,null,{"$f":"IF('Блок 2,3'!C45=\"\",\"\",'Блок 2,3'!C45)","v":""},{"$f":"IF('Блок 2,3'!D45=\"\",\"\",'Блок 2,3'!D45)","v":""},{"$f":"IF('Блок 2,3'!E45=\"\",\"\",'Блок 2,3'!E45)","v":""},{"$f":"IF('Блок 2,3'!F45=\"\",\"\",'Блок 2,3'!F45)","v":""},{"$f":"IF('Блок 2,3'!G45=\"\",\"\",'Блок 2,3'!G45)","v":""},{"$f":"IF('Блок 2,3'!H45=\"\",\"\",'Блок 2,3'!H45)","v":""},{"$f":"IF('Блок 2,3'!I45=\"\",\"\",'Блок 2,3'!I45)","v":""},{"$f":"IF('Блок 2,3'!J45=\"\",\"\",'Блок 2,3'!J45)","v":""},{"$f":"IF('Блок 2,3'!K45=\"\",\"\",'Блок 2,3'!K45)","v":""},{"$f":"IF('Блок 2,3'!L45=\"\",\"\",'Блок 2,3'!L45)","v":""},{"$f":"IF('Блок 2,3'!M45=\"\",\"\",'Блок 2,3'!M45)","v":""},{"$f":"IF('Блок 2,3'!N45=\"\",\"\",'Блок 2,3'!N45)","v":""},{"$f":"IF('Блок 2,3'!O45=\"\",\"\",'Блок 2,3'!O45)","v":""},{"$f":"IF('Блок 2,3'!P45=\"\",\"\",'Блок 2,3'!P45)","v":""},{"$f":"IF('Блок 2,3'!Q45=\"\",\"\",'Блок 2,3'!Q45)","v":""},{"$f":"IF('Блок 2,3'!R45=\"\",\"\",'Блок 2,3'!R45)","v":""},{"$f":"IF('Блок 2,3'!S45=\"\",\"\",'Блок 2,3'!S45)","v":""},{"$f":"IF('Блок 2,3'!T45=\"\",\"\",'Блок 2,3'!T45)","v":""},{"$f":"IF('Блок 2,3'!U45=\"\",\"\",'Блок 2,3'!U45)","v":""},{"$f":"IF('Блок 2,3'!V45=\"\",\"\",'Блок 2,3'!V45)","v":""},{"$f":"IF('Блок 2,3'!W45=\"\",\"\",'Блок 2,3'!W45)","v":""},{"$f":"IF('Блок 2,3'!X45=\"\",\"\",'Блок 2,3'!X45)","v":""},{"$f":"IF('Блок 2,3'!Y45=\"\",\"\",'Блок 2,3'!Y45)","v":""},{"$f":"IF('Блок 2,3'!Z45=\"\",\"\",'Блок 2,3'!Z45)","v":""},{"$f":"IF('Блок 2,3'!AA45=\"\",\"\",'Блок 2,3'!AA45)","v":""},{"$f":"IF('Блок 2,3'!AB45=\"\",\"\",'Блок 2,3'!AB45)","v":""},{"$f":"IF('Блок 2,3'!AC45=\"\",\"\",'Блок 2,3'!AC45)","v":""},null,{"$f":"IF('Блок 2,3'!AG45=\"\",\"\",'Блок 2,3'!AG45)","v":""},{"$f":"IF('Блок 2,3'!AI45=\"\",\"\",'Блок 2,3'!AI45)","v":""}]
[null,null,{"$f":"IF('Блок 2,3'!C46=\"\",\"\",'Блок 2,3'!C46)","v":""},{"$f":"IF('Блок 2,3'!D46=\"\",\"\",'Блок 2,3'!D46)","v":""},{"$f":"IF('Блок 2,3'!E46=\"\",\"\",'Блок 2,3'!E46)","v":""},{"$f":"IF('Блок 2,3'!F46=\"\",\"\",'Блок 2,3'!F46)","v":""},{"$f":"IF('Блок 2,3'!G46=\"\",\"\",'Блок 2,3'!G46)","v":""},{"$f":"IF('Блок 2,3'!H46=\"\",\"\",'Блок 2,3'!H46)","v":""},{"$f":"IF('Блок 2,3'!I46=\"\",\"\",'Блок 2,3'!I46)","v":""},{"$f":"IF('Блок 2,3'!J46=\"\",\"\",'Блок 2,3'!J46)","v":""},{"$f":"IF('Блок 2,3'!K46=\"\",\"\",'Блок 2,3'!K46)","v":""},{"$f":"IF('Блок 2,3'!L46=\"\",\"\",'Блок 2,3'!L46)","v":""},{"$f":"IF('Блок 2,3'!M46=\"\",\"\",'Блок 2,3'!M46)","v":""},{"$f":"IF('Блок 2,3'!N46=\"\",\"\",'Блок 2,3'!N46)","v":""},{"$f":"IF('Блок 2,3'!O46=\"\",\"\",'Блок 2,3'!O46)","v":""},{"$f":"IF('Блок 2,3'!P46=\"\",\"\",'Блок 2,3'!P46)","v":""},{"$f":"IF('Блок 2,3'!Q46=\"\",\"\",'Блок 2,3'!Q46)","v":""},{"$f":"IF('Блок 2,3'!R46=\"\",\"\",'Блок 2,3'!R46)","v":""},{"$f":"IF('Блок 2,3'!S46=\"\",\"\",'Блок 2,3'!S46)","v":""},{"$f":"IF('Блок 2,3'!T46=\"\",\"\",'Блок 2,3'!T46)","v":""},{"$f":"IF('Блок 2,3'!U46=\"\",\"\",'Блок 2,3'!U46)","v":""},{"$f":"IF('Блок 2,3'!V46=\"\",\"\",'Блок 2,3'!V46)","v":""},{"$f":"IF('Блок 2,3'!W46=\"\",\"\",'Блок 2,3'!W46)","v":""},{"$f":"IF('Блок 2,3'!X46=\"\",\"\",'Блок 2,3'!X46)","v":""},{"$f":"IF('Блок 2,3'!Y46=\"\",\"\",'Блок 2,3'!Y46)","v":""},{"$f":"IF('Блок 2,3'!Z46=\"\",\"\",'Блок 2,3'!Z46)","v":""},{"$f":"IF('Блок 2,3'!AA46=\"\",\"\",'Блок 2,3'!AA46)","v":""},{"$f":"IF('Блок 2,3'!AB46=\"\",\"\",'Блок 2,3'!AB46)","v":""},{"$f":"IF('Блок 2,3'!AC46=\"\",\"\",'Блок 2,3'!AC46)","v":""},null,{"$f":"IF('Блок 2,3'!AG46=\"\",\"\",'Блок 2,3'!AG46)","v":""},{"$f":"IF('Блок 2,3'!AI46=\"\",\"\",'Блок 2,3'!AI46)","v":""}]
[null,null,{"$f":"IF('Блок 2,3'!C47=\"\",\"\",'Блок 2,3'!C47)","v":""},{"$f":"IF('Блок 2,3'!D47=\"\",\"\",'Блок 2,3'!D47)","v":""},{"$f":"IF('Блок 2,3'!E47=\"\",\"\",'Блок 2,3'!E47)","v":""},{"$f":"IF('Блок 2,3'!F47=\"\",\"\",'Блок 2,3'!F47)","v":""},{"$f":"IF('Блок 2,3'!G47=\"\",\"\",'Блок 2,3'!G47)","v":""},{"$f":"IF('Блок 2,3'!H47=\"\",\"\",'Блок 2,3'!H47)","v":""},{"$f":"IF('Блок 2,3'!I47=\"\",\"\",'Блок 2,3'!I47)","v":""},{"$f":"IF('Блок 2,3'!J47=\"\",\"\",'Блок 2,3'!J47)","v":""},{"$f":"IF('Блок 2,3'!K47=\"\",\"\",'Блок 2,3'!K47)","v":""},{"$f":"IF('Блок 2,3'!L47=\"\",\"\",'Блок 2,3'!L47)","v":""},{"$f":"IF('Блок 2,3'!M47=\"\",\"\",'Блок 2,3'!M47)","v":""},{"$f":"IF('Блок 2,3'!N47=\"\",\"\",'Блок 2,3'!N47)","v":""},{"$f":"IF('Блок 2,3'!O47=\"\",\"\",'Блок 2,3'!O47)","v":""},{"$f":"IF('Блок 2,3'!P47=\"\",\"\",'Блок 2,3'!P47)","v":""},{"$f":"IF('Блок 2,3'!Q47=\"\",\"\",'Блок 2,3'!Q47)","v":""},{"$f":"IF('Блок 2,3'!R47=\"\",\"\",'Блок 2,3'!R47)","v":""},{"$f":"IF('Блок 2,3'!S47=\"\",\"\",'Блок 2,3'!S47)","v":""},{"$f":"IF('Блок 2,3'!T47=\"\",\"\",'Блок 2,3'!T47)","v":""},{"$f":"IF('Блок 2,3'!U47=\"\",\"\",'Блок 2,3'!U47)","v":""},{"$f":"IF('Блок 2,3'!V47=\"\",\"\",'Блок 2,3'!V47)","v":""},{"$f":"IF('Блок 2,3'!W47=\"\",\"\",'Блок 2,3'!W47)","v":""},{"$f":"IF('Блок 2,3'!X47=\"\",\"\",'Блок 2,3'!X47)","v":""},{"$f":"IF('Блок 2,3'!Y47=\"\",\"\",'Блок 2,3'!Y47)","v":""},{"$f":"IF('Блок 2,3'!Z47=\"\",\"\",'Блок 2,3'!Z47)","v":""},{"$f":"IF('Блок 2,3'!AA47=\"\",\"\",'Блок 2,3'!AA47)","v":""},{"$f":"IF('Блок 2,3'!AB47=\"\",\"\",'Блок 2,3'!AB47)","v":""},{"$f":"IF('Блок 2,3'!AC47=\"\",\"\",'Блок 2,3'!AC47)","v":""},null,{"$f":"IF('Блок 2,3'!AG47=\"\",\"\",'Блок 2,3'!AG47)","v":""},{"$f":"IF('Блок 2,3'!AI47=\"\",\"\",'Блок 2,3'!AI47)","v":""}]
[null,null,{"$f":"'Блок 2,3'!C48","v":"*"},{"$f":"'Блок 2,3'!D48","v":"итого"},null,null,{"$f":"'Блок 2,3'!G48","v":8},{"$f":"'Блок 2,3'!H48","v":0},{"$f":"'Блок 2,3'!I48","v":12},{"$f":"'Блок 2,3'!J48","v":0},null,null,null,null,null,null,null,null,null,null,null,null,null,null,null,null,null,null,{"$f":"'Блок 2,3'!AC48","v":"итого"},null,{"$f":"IF('Блок 2,3'!AG48=\"\",\"\",'Блок 2,3'!AG48)","v":4},{"$f":"IF('Блок 2,3'!AI48=\"\",\"\",'Блок 2,3'!AI48)","v":9}]
[]
[null,null,{"$f":"IF('Блок 2,3'!C50=\"\",\"\",'Блок 2,3'!C50)","v":""},{"$f":"IF('Блок 2,3'!D50=\"\",\"\",'Блок 2,3'!D50)","v":""},{"$f":"IF('Блок 2,3'!E50=\"\",\"\",'Блок 2,3'!E50)","v":""},{"$f":"IF('Блок 2,3'!F50=\"\",\"\",'Блок 2,3'!F50)","v":""},{"$f":"IF('Блок 2,3'!G50=\"\",\"\",'Блок 2,3'!G50)","v":""},{"$f":"IF('Блок 2,3'!H50=\"\",\"\",'Блок 2,3'!H50)","v":""},{"$f":"IF('Блок 2,3'!I50=\"\",\"\",'Блок 2,3'!I50)","v":""},{"$f":"IF('Блок 2,3'!J50=\"\",\"\",'Блок 2,3'!J50)","v":""},{"$f":"IF('Блок 2,3'!K50=\"\",\"\",'Блок 2,3'!K50)","v":""},{"$f":"IF('Блок 2,3'!L50=\"\",\"\",'Блок 2,3'!L50)","v":""},{"$f":"IF('Блок 2,3'!M50=\"\",\"\",'Блок 2,3'!M50)","v":""},{"$f":"IF('Блок 2,3'!N50=\"\",\"\",'Блок 2,3'!N50)","v":""},{"$f":"IF('Блок 2,3'!O50=\"\",\"\",'Блок 2,3'!O50)","v":""},{"$f":"IF('Блок 2,3'!P50=\"\",\"\",'Блок 2,3'!P50)","v":""},{"$f":"IF('Блок 2,3'!Q50=\"\",\"\",'Блок 2,3'!Q50)","v":""},{"$f":"IF('Блок 2,3'!R50=\"\",\"\",'Блок 2,3'!R50)","v":""},{"$f":"IF('Блок 2,3'!S50=\"\",\"\",'Блок 2,3'!S50)","v":""},{"$f":"IF('Блок 2,3'!T50=\"\",\"\",'Блок 2,3'!T50)","v":""},{"$f":"IF('Блок 2,3'!U50=\"\",\"\",'Блок 2,3'!U50)","v":""},{"$f":"IF('Блок 2,3'!V50=\"\",\"\",'Блок 2,3'!V50)","v":""},{"$f":"IF('Блок 2,3'!W50=\"\",\"\",'Блок 2,3'!W50)","v":""},{"$f":"IF('Блок 2,3'!X50=\"\",\"\",'Блок 2,3'!X50)","v":""},{"$f":"IF('Блок 2,3'!Y50=\"\",\"\",'Блок 2,3'!Y50)","v":""},{"$f":"IF('Блок 2,3'!Z50=\"\",\"\",'Блок 2,3'!Z50)","v":""},{"$f":"IF('Блок 2,3'!AA50=\"\",\"\",'Блок 2,3'!AA50)","v":""},{"$f":"IF('Блок 2,3'!AB50=\"\",\"\",'Блок 2,3'!AB50)","v":""},{"$f":"IF('Блок 2,3'!AC50=\"\",\"\",'Блок 2,3'!AC50)","v":""},{"$f":"IF('Блок 2,3'!AD50=\"\",\"\",'Блок 2,3'!AD50)","v":""},{"$f":"IF('Блок 2,3'!AE50=\"\",\"\",'Блок 2,3'!AE50)","v":""},{"$f":"IF('Блок 2,3'!AF50=\"\",\"\",'Блок 2,3'!AF50)","v":""},{"$f":"IF('Блок 2,3'!AG50=\"\",\"\",'Блок 2,3'!AG50)","v":""},{"$f":"IF('Блок 2,3'!AH50=\"\",\"\",'Блок 2,3'!AH50)","v":""},{"$f":"IF('Блок 2,3'!AI50=\"\",\"\",'Блок 2,3'!AI50)","v":""},{"$f":"IF('Блок 2,3'!AJ50=\"\",\"\",'Блок 2,3'!AJ50)","v":""},{"$f":"IF('Блок 2,3'!AK50=\"\",\"\",'Блок 2,3'!AK50)","v":""},{"$f":"IF('Блок 2,3'!AL50=\"\",\"\",'Блок 2,3'!AL50)","v":""},{"$f":"IF('Блок 2,3'!AM50=\"\",\"\",'Блок 2,3'!AM50)","v":""},{"$f":"IF('Блок 2,3'!AN50=\"\",\"\",'Блок 2,3'!AN50)","v":""},{"$f":"IF('Блок 2,3'!AO50=\"\",\"\",'Блок 2,3'!AO50)","v":""},{"$f":"IF('Блок 2,3'!AP50=\"\",\"\",'Блок 2,3'!AP50)","v":""},{"$f":"IF('Блок 2,3'!AQ50=\"\",\"\",'Блок 2,3'!AQ50)","v":""},{"$f":"IF('Блок 2,3'!AR50=\"\",\"\",'Блок 2,3'!AR50)","v":""},{"$f":"IF('Блок 2,3'!AS50=\"\",\"\",'Блок 2,3'!AS50)","v":""},{"$f":"IF('Блок 2,3'!AT50=\"\",\"\",'Блок 2,3'!AT50)","v":""},{"$f":"IF('Блок 2,3'!AU50=\"\",\"\",'Блок 2,3'!AU50)","v":""},{"$f":"IF('Блок 2,3'!AV50=\"\",\"\",'Блок 2,3'!AV50)","v":""},{"$f":"IF('Блок 2,3'!AW50=\"\",\"\",'Блок 2,3'!AW50)","v":""},{"$f":"IF('Блок 2,3'!AX50=\"\",\"\",'Блок 2,3'!AX50)","v":""},{"$f":"IF('Блок 2,3'!AY50=\"\",\"\",'Блок 2,3'!AY50)","v":""},{"$f":"IF('Блок 2,3'!AZ50=\"\",\"\",'Блок 2,3'!AZ50)","v":""},{"$f":"IF('Блок 2,3'!BA50=\"\",\"\",'Блок 2,3'!BA50)","v":""},{"$f":"IF('Блок 2,3'!BB50=\"\",\"\",'Блок 2,3'!BB50)","v":""},{"$f":"IF('Блок 2,3'!BC50=\"\",\"\",'Блок 2,3'!BC50)","v":""},{"$f":"IF('Блок 2,3'!BD50=\"\",\"\",'Блок 2,3'!BD50)","v":""},{"$f":"IF('Блок 2,3'!BE50=\"\",\"\",'Блок 2,3'!BE50)","v":""},{"$f":"IF('Блок 2,3'!BF50=\"\",\"\",'Блок 2,3'!BF50)","v":""},{"$f":"IF('Блок 2,3'!BG50=\"\",\"\",'Блок 2,3'!BG50)","v":""},{"$f":"IF('Блок 2,3'!BH50=\"\",\"\",'Блок 2,3'!BH50)","v":""}]
[null,null,{"$f":"IF('Блок 2,3'!C51=\"\",\"\",'Блок 2,3'!C51)","v":"Начальник ОАУУП"},null,null,null,null,{"$f":"IF('Блок 2,3'!H51=\"\",\"\",'Блок 2,3'!H51)","v":"______________________________ С.С. Никифоров"},null,null,null,null,null,null,null,null,null,null,null,null,null,null,null,null,null,null,null,null,null,{"$f":"IF('Блок 2,3'!AD51=\"\",\"\",'Блок 2,3'!AD51)","v":""}]
[null,null,{"$f":"IF('Блок 2,3'!C52=\"\",\"\",'Блок 2,3'!C52)","v":""},null,null,null,null,{"$f":"IF('Блок 2,3'!H52=\"\",\"\",'Блок 2,3'!H52)","v":""}]
[null,null,{"$f":"IF('Блок 2,3'!C53=\"\",\"\",'Блок 2,3'!C53)","v":""},null,null,null,null,{"$f":"IF('Блок 2,3'!H53=\"\",\"\",'Блок 2,3'!H53)","v":""},null,null,null,null,null,null,null,null,null,null,null,null,null,null,null,null,null,null,null,null,null,{"$f":"IF('Блок 2,3'!AD53=\"\",\"\",'Блок 2,3'!AD53)","v":""}]
[null,null,{"$f":"IF('Блок 2,3'!C54=\"\",\"\",'Блок 2,3'!C54)","v":""},null,null,null,null,{"$f":"IF('Блок 2,3'!H54=\"\",\"\",'Блок 2,3'!H54)","v":""}]
[null,null,{"$f":"IF('Блок 2,3'!C55=\"\",\"\",'Блок 2,3'!C55)","v":"Декан . факультета"},null,null,null,null,{"$f":"IF('Блок 2,3'!H55=\"\",\"\",'Блок 2,3'!H55)","v":"______________________________ ."},null,null,null,null,null,null,null,null,null,null,null,null,null,null,null,null,null,null,null,null,null,{"$f":"IF('Блок 2,3'!AD52=\"\",\"\",'Блок 2,3'!AD52)","v":""}]
[null,null,{"$f":"IF('Блок 2,3'!C56=\"\",\"\",'Блок 2,3'!C56)","v":""},null,null,null,null,{"$f":"IF('Блок 2,3'!H56=\"\",\"\",'Блок 2,3'!H56)","v":""}]
[null,null,{"$f":"IF('Блок 2,3'!C57=\"\",\"\",'Блок 2,3'!C57)","v":"Руководитель магистерской программы"},null,null,null,null,{"$f":"IF('Блок 2,3'!H57=\"\",\"\",'Блок 2,3'!H57)","v":"______________________________ ."}]
[null,null,{"$f":"IF('Блок 2,3'!C58=\"\",\"\",'Блок 2,3'!C58)","v":""},null,null,null,null,{"$f":"IF('Блок 2,3'!H58=\"\",\"\",'Блок 2,3'!H58)","v":""}]
[null,null,{"$f":"IF('Блок 2,3'!C59=\"\",\"\",'Блок 2,3'!C59)","v":"Зав. кафедрой ."},null,null,null,null,{"$f":"IF('Блок 2,3'!H59=\"\",\"\",'Блок 2,3'!H59)","v":"______________________________ ."},null,null,null,null,null,null,null,null,null,null,null,null,null,null,null,null,null,null,null,null,null,{"$f":"IF('Блок 2,3'!AD54=\"\",\"\",'Блок 2,3'!AD54)","v":""}]
[null,null,{"$f":"IF('Блок 2,3'!C60=\"\",\"\",'Блок 2,3'!C60)","v":""},null,null,null,null,{"$f":"IF('Блок 2,3'!H60=\"\",\"\",'Блок 2,3'!H60)","v":""}]
[null,null,{"$f":"IF('Блок 2,3'!C61=\"\",\"\",'Блок 2,3'!C61)","v":""},null,null,null,null,{"$f":"IF('Блок 2,3'!H61=\"\",\"\",'Блок 2,3'!H61)","v":""}]
[null,null,{"$f":"IF('Блок 2,3'!C62=\"\",\"\",'Блок 2,3'!C62)","v":"Исполнитель"},null,null,null,null,{"$f":"IF('Блок 2,3'!H62=\"\",\"\",'Блок 2,3'!H62)","v":""}]